BEGIN:VCALENDAR
VERSION:2.0
PRODID:-//Calvary Chapel of the Oley Valley - ECPv6.15.20//NONSGML v1.0//EN
CALSCALE:GREGORIAN
METHOD:PUBLISH
X-ORIGINAL-URL:https://ccoley.com
X-WR-CALDESC:Events for Calvary Chapel of the Oley Valley
REFRESH-INTERVAL;VALUE=DURATION:PT1H
X-Robots-Tag:noindex
X-PUBLISHED-TTL:PT1H
BEGIN:VTIMEZONE
TZID:America/New_York
BEGIN:DAYLIGHT
TZOFFSETFROM:-0500
TZOFFSETTO:-0400
TZNAME:EDT
DTSTART:20190310T070000
END:DAYLIGHT
BEGIN:STANDARD
TZOFFSETFROM:-0400
TZOFFSETTO:-0500
TZNAME:EST
DTSTART:20191103T060000
END:STANDARD
BEGIN:DAYLIGHT
TZOFFSETFROM:-0500
TZOFFSETTO:-0400
TZNAME:EDT
DTSTART:20200308T070000
END:DAYLIGHT
BEGIN:STANDARD
TZOFFSETFROM:-0400
TZOFFSETTO:-0500
TZNAME:EST
DTSTART:20201101T060000
END:STANDARD
BEGIN:DAYLIGHT
TZOFFSETFROM:-0500
TZOFFSETTO:-0400
TZNAME:EDT
DTSTART:20210314T070000
END:DAYLIGHT
BEGIN:STANDARD
TZOFFSETFROM:-0400
TZOFFSETTO:-0500
TZNAME:EST
DTSTART:20211107T060000
END:STANDARD
END:VTIMEZONE
BEGIN:VEVENT
DTSTART;TZID=America/New_York:20201225T183000
DTEND;TZID=America/New_York:20201225T193000
DTSTAMP:20260425T183622
CREATED:20201115T190830Z
LAST-MODIFIED:20201115T190830Z
UID:10002418-1608921000-1608924600@ccoley.com
SUMMARY:Sign Language Class
DESCRIPTION:This is a beginner’s class. The course is 6:30 pm on Friday evenings. It runs from Dec. 4 through Dec. 18 and picks back up Jan. 8.
URL:https://ccoley.com/event/sign-language-class/2020-12-25/
LOCATION:Sandy Houck\, 1117 Powder Mill Hollow Rd.\, Boyertown\, PA\, 19512\, United States
CATEGORIES:Evangelism and Outreach
ORGANIZER;CN="Sandy Houck":MAILTO:skhouck@dejazzd.com
GEO:40.3302731;-75.7128775
X-APPLE-STRUCTURED-LOCATION;VALUE=URI;X-ADDRESS=Sandy Houck 1117 Powder Mill Hollow Rd. Boyertown PA 19512 United States;X-APPLE-RADIUS=500;X-TITLE=1117 Powder Mill Hollow Rd.:geo:-75.7128775,40.3302731
END:VEVENT
BEGIN:VEVENT
DTSTART;TZID=America/New_York:20201218T183000
DTEND;TZID=America/New_York:20201218T193000
DTSTAMP:20260425T183622
CREATED:20201115T190830Z
LAST-MODIFIED:20201115T190830Z
UID:10002417-1608316200-1608319800@ccoley.com
SUMMARY:Sign Language Class
DESCRIPTION:This is a beginner’s class. The course is 6:30 pm on Friday evenings. It runs from Dec. 4 through Dec. 18 and picks back up Jan. 8.
URL:https://ccoley.com/event/sign-language-class/2020-12-18/
LOCATION:Sandy Houck\, 1117 Powder Mill Hollow Rd.\, Boyertown\, PA\, 19512\, United States
CATEGORIES:Evangelism and Outreach
ORGANIZER;CN="Sandy Houck":MAILTO:skhouck@dejazzd.com
GEO:40.3302731;-75.7128775
X-APPLE-STRUCTURED-LOCATION;VALUE=URI;X-ADDRESS=Sandy Houck 1117 Powder Mill Hollow Rd. Boyertown PA 19512 United States;X-APPLE-RADIUS=500;X-TITLE=1117 Powder Mill Hollow Rd.:geo:-75.7128775,40.3302731
END:VEVENT
BEGIN:VEVENT
DTSTART;TZID=America/New_York:20201211T183000
DTEND;TZID=America/New_York:20201211T193000
DTSTAMP:20260425T183622
CREATED:20201115T190830Z
LAST-MODIFIED:20201115T190830Z
UID:10002416-1607711400-1607715000@ccoley.com
SUMMARY:Sign Language Class
DESCRIPTION:This is a beginner’s class. The course is 6:30 pm on Friday evenings. It runs from Dec. 4 through Dec. 18 and picks back up Jan. 8.
URL:https://ccoley.com/event/sign-language-class/2020-12-11/
LOCATION:Sandy Houck\, 1117 Powder Mill Hollow Rd.\, Boyertown\, PA\, 19512\, United States
CATEGORIES:Evangelism and Outreach
ORGANIZER;CN="Sandy Houck":MAILTO:skhouck@dejazzd.com
GEO:40.3302731;-75.7128775
X-APPLE-STRUCTURED-LOCATION;VALUE=URI;X-ADDRESS=Sandy Houck 1117 Powder Mill Hollow Rd. Boyertown PA 19512 United States;X-APPLE-RADIUS=500;X-TITLE=1117 Powder Mill Hollow Rd.:geo:-75.7128775,40.3302731
END:VEVENT
BEGIN:VEVENT
DTSTART;TZID=America/New_York:20201204T183000
DTEND;TZID=America/New_York:20201204T193000
DTSTAMP:20260425T183622
CREATED:20201115T190830Z
LAST-MODIFIED:20201115T190830Z
UID:10002415-1607106600-1607110200@ccoley.com
SUMMARY:Sign Language Class
DESCRIPTION:This is a beginner’s class. The course is 6:30 pm on Friday evenings. It runs from Dec. 4 through Dec. 18 and picks back up Jan. 8.
URL:https://ccoley.com/event/sign-language-class/2020-12-04/
LOCATION:Sandy Houck\, 1117 Powder Mill Hollow Rd.\, Boyertown\, PA\, 19512\, United States
CATEGORIES:Evangelism and Outreach
ORGANIZER;CN="Sandy Houck":MAILTO:skhouck@dejazzd.com
GEO:40.3302731;-75.7128775
X-APPLE-STRUCTURED-LOCATION;VALUE=URI;X-ADDRESS=Sandy Houck 1117 Powder Mill Hollow Rd. Boyertown PA 19512 United States;X-APPLE-RADIUS=500;X-TITLE=1117 Powder Mill Hollow Rd.:geo:-75.7128775,40.3302731
END:VEVENT
END:VCALENDAR