BEGIN:VCALENDAR
VERSION:2.0
PRODID:-//Calvary Chapel of the Oley Valley - ECPv6.15.20//NONSGML v1.0//EN
CALSCALE:GREGORIAN
METHOD:PUBLISH
X-ORIGINAL-URL:https://ccoley.com
X-WR-CALDESC:Events for Calvary Chapel of the Oley Valley
REFRESH-INTERVAL;VALUE=DURATION:PT1H
X-Robots-Tag:noindex
X-PUBLISHED-TTL:PT1H
BEGIN:VTIMEZONE
TZID:America/New_York
BEGIN:DAYLIGHT
TZOFFSETFROM:-0500
TZOFFSETTO:-0400
TZNAME:EDT
DTSTART:20210314T070000
END:DAYLIGHT
BEGIN:STANDARD
TZOFFSETFROM:-0400
TZOFFSETTO:-0500
TZNAME:EST
DTSTART:20211107T060000
END:STANDARD
BEGIN:DAYLIGHT
TZOFFSETFROM:-0500
TZOFFSETTO:-0400
TZNAME:EDT
DTSTART:20220313T070000
END:DAYLIGHT
BEGIN:STANDARD
TZOFFSETFROM:-0400
TZOFFSETTO:-0500
TZNAME:EST
DTSTART:20221106T060000
END:STANDARD
BEGIN:DAYLIGHT
TZOFFSETFROM:-0500
TZOFFSETTO:-0400
TZNAME:EDT
DTSTART:20230312T070000
END:DAYLIGHT
BEGIN:STANDARD
TZOFFSETFROM:-0400
TZOFFSETTO:-0500
TZNAME:EST
DTSTART:20231105T060000
END:STANDARD
END:VTIMEZONE
BEGIN:VEVENT
DTSTART;TZID=America/New_York:20220916T183000
DTEND;TZID=America/New_York:20220916T193000
DTSTAMP:20260422T185355
CREATED:20201115T190830Z
LAST-MODIFIED:20201115T190830Z
UID:10002508-1663353000-1663356600@ccoley.com
SUMMARY:Sign Language Class
DESCRIPTION:This is a beginner’s class. The course is 6:30 pm on Friday evenings. It runs from Dec. 4 through Dec. 18 and picks back up Jan. 8.
URL:https://ccoley.com/event/sign-language-class/2022-09-16/
LOCATION:Sandy Houck\, 1117 Powder Mill Hollow Rd.\, Boyertown\, PA\, 19512\, United States
CATEGORIES:Evangelism and Outreach
ORGANIZER;CN="Sandy Houck":MAILTO:skhouck@dejazzd.com
GEO:40.3302731;-75.7128775
X-APPLE-STRUCTURED-LOCATION;VALUE=URI;X-ADDRESS=Sandy Houck 1117 Powder Mill Hollow Rd. Boyertown PA 19512 United States;X-APPLE-RADIUS=500;X-TITLE=1117 Powder Mill Hollow Rd.:geo:-75.7128775,40.3302731
END:VEVENT
BEGIN:VEVENT
DTSTART;TZID=America/New_York:20220909T183000
DTEND;TZID=America/New_York:20220909T193000
DTSTAMP:20260422T185355
CREATED:20201115T190830Z
LAST-MODIFIED:20201115T190830Z
UID:10002507-1662748200-1662751800@ccoley.com
SUMMARY:Sign Language Class
DESCRIPTION:This is a beginner’s class. The course is 6:30 pm on Friday evenings. It runs from Dec. 4 through Dec. 18 and picks back up Jan. 8.
URL:https://ccoley.com/event/sign-language-class/2022-09-09/
LOCATION:Sandy Houck\, 1117 Powder Mill Hollow Rd.\, Boyertown\, PA\, 19512\, United States
CATEGORIES:Evangelism and Outreach
ORGANIZER;CN="Sandy Houck":MAILTO:skhouck@dejazzd.com
GEO:40.3302731;-75.7128775
X-APPLE-STRUCTURED-LOCATION;VALUE=URI;X-ADDRESS=Sandy Houck 1117 Powder Mill Hollow Rd. Boyertown PA 19512 United States;X-APPLE-RADIUS=500;X-TITLE=1117 Powder Mill Hollow Rd.:geo:-75.7128775,40.3302731
END:VEVENT
BEGIN:VEVENT
DTSTART;TZID=America/New_York:20220902T183000
DTEND;TZID=America/New_York:20220902T193000
DTSTAMP:20260422T185355
CREATED:20201115T190830Z
LAST-MODIFIED:20201115T190830Z
UID:10002506-1662143400-1662147000@ccoley.com
SUMMARY:Sign Language Class
DESCRIPTION:This is a beginner’s class. The course is 6:30 pm on Friday evenings. It runs from Dec. 4 through Dec. 18 and picks back up Jan. 8.
URL:https://ccoley.com/event/sign-language-class/2022-09-02/
LOCATION:Sandy Houck\, 1117 Powder Mill Hollow Rd.\, Boyertown\, PA\, 19512\, United States
CATEGORIES:Evangelism and Outreach
ORGANIZER;CN="Sandy Houck":MAILTO:skhouck@dejazzd.com
GEO:40.3302731;-75.7128775
X-APPLE-STRUCTURED-LOCATION;VALUE=URI;X-ADDRESS=Sandy Houck 1117 Powder Mill Hollow Rd. Boyertown PA 19512 United States;X-APPLE-RADIUS=500;X-TITLE=1117 Powder Mill Hollow Rd.:geo:-75.7128775,40.3302731
END:VEVENT
BEGIN:VEVENT
DTSTART;TZID=America/New_York:20220826T183000
DTEND;TZID=America/New_York:20220826T193000
DTSTAMP:20260422T185355
CREATED:20201115T190830Z
LAST-MODIFIED:20201115T190830Z
UID:10002505-1661538600-1661542200@ccoley.com
SUMMARY:Sign Language Class
DESCRIPTION:This is a beginner’s class. The course is 6:30 pm on Friday evenings. It runs from Dec. 4 through Dec. 18 and picks back up Jan. 8.
URL:https://ccoley.com/event/sign-language-class/2022-08-26/
LOCATION:Sandy Houck\, 1117 Powder Mill Hollow Rd.\, Boyertown\, PA\, 19512\, United States
CATEGORIES:Evangelism and Outreach
ORGANIZER;CN="Sandy Houck":MAILTO:skhouck@dejazzd.com
GEO:40.3302731;-75.7128775
X-APPLE-STRUCTURED-LOCATION;VALUE=URI;X-ADDRESS=Sandy Houck 1117 Powder Mill Hollow Rd. Boyertown PA 19512 United States;X-APPLE-RADIUS=500;X-TITLE=1117 Powder Mill Hollow Rd.:geo:-75.7128775,40.3302731
END:VEVENT
BEGIN:VEVENT
DTSTART;TZID=America/New_York:20220819T183000
DTEND;TZID=America/New_York:20220819T193000
DTSTAMP:20260422T185355
CREATED:20201115T190830Z
LAST-MODIFIED:20201115T190830Z
UID:10002504-1660933800-1660937400@ccoley.com
SUMMARY:Sign Language Class
DESCRIPTION:This is a beginner’s class. The course is 6:30 pm on Friday evenings. It runs from Dec. 4 through Dec. 18 and picks back up Jan. 8.
URL:https://ccoley.com/event/sign-language-class/2022-08-19/
LOCATION:Sandy Houck\, 1117 Powder Mill Hollow Rd.\, Boyertown\, PA\, 19512\, United States
CATEGORIES:Evangelism and Outreach
ORGANIZER;CN="Sandy Houck":MAILTO:skhouck@dejazzd.com
GEO:40.3302731;-75.7128775
X-APPLE-STRUCTURED-LOCATION;VALUE=URI;X-ADDRESS=Sandy Houck 1117 Powder Mill Hollow Rd. Boyertown PA 19512 United States;X-APPLE-RADIUS=500;X-TITLE=1117 Powder Mill Hollow Rd.:geo:-75.7128775,40.3302731
END:VEVENT
BEGIN:VEVENT
DTSTART;TZID=America/New_York:20220812T183000
DTEND;TZID=America/New_York:20220812T193000
DTSTAMP:20260422T185355
CREATED:20201115T190830Z
LAST-MODIFIED:20201115T190830Z
UID:10002503-1660329000-1660332600@ccoley.com
SUMMARY:Sign Language Class
DESCRIPTION:This is a beginner’s class. The course is 6:30 pm on Friday evenings. It runs from Dec. 4 through Dec. 18 and picks back up Jan. 8.
URL:https://ccoley.com/event/sign-language-class/2022-08-12/
LOCATION:Sandy Houck\, 1117 Powder Mill Hollow Rd.\, Boyertown\, PA\, 19512\, United States
CATEGORIES:Evangelism and Outreach
ORGANIZER;CN="Sandy Houck":MAILTO:skhouck@dejazzd.com
GEO:40.3302731;-75.7128775
X-APPLE-STRUCTURED-LOCATION;VALUE=URI;X-ADDRESS=Sandy Houck 1117 Powder Mill Hollow Rd. Boyertown PA 19512 United States;X-APPLE-RADIUS=500;X-TITLE=1117 Powder Mill Hollow Rd.:geo:-75.7128775,40.3302731
END:VEVENT
BEGIN:VEVENT
DTSTART;TZID=America/New_York:20220805T183000
DTEND;TZID=America/New_York:20220805T193000
DTSTAMP:20260422T185355
CREATED:20201115T190830Z
LAST-MODIFIED:20201115T190830Z
UID:10002502-1659724200-1659727800@ccoley.com
SUMMARY:Sign Language Class
DESCRIPTION:This is a beginner’s class. The course is 6:30 pm on Friday evenings. It runs from Dec. 4 through Dec. 18 and picks back up Jan. 8.
URL:https://ccoley.com/event/sign-language-class/2022-08-05/
LOCATION:Sandy Houck\, 1117 Powder Mill Hollow Rd.\, Boyertown\, PA\, 19512\, United States
CATEGORIES:Evangelism and Outreach
ORGANIZER;CN="Sandy Houck":MAILTO:skhouck@dejazzd.com
GEO:40.3302731;-75.7128775
X-APPLE-STRUCTURED-LOCATION;VALUE=URI;X-ADDRESS=Sandy Houck 1117 Powder Mill Hollow Rd. Boyertown PA 19512 United States;X-APPLE-RADIUS=500;X-TITLE=1117 Powder Mill Hollow Rd.:geo:-75.7128775,40.3302731
END:VEVENT
BEGIN:VEVENT
DTSTART;TZID=America/New_York:20220729T183000
DTEND;TZID=America/New_York:20220729T193000
DTSTAMP:20260422T185355
CREATED:20201115T190830Z
LAST-MODIFIED:20201115T190830Z
UID:10002501-1659119400-1659123000@ccoley.com
SUMMARY:Sign Language Class
DESCRIPTION:This is a beginner’s class. The course is 6:30 pm on Friday evenings. It runs from Dec. 4 through Dec. 18 and picks back up Jan. 8.
URL:https://ccoley.com/event/sign-language-class/2022-07-29/
LOCATION:Sandy Houck\, 1117 Powder Mill Hollow Rd.\, Boyertown\, PA\, 19512\, United States
CATEGORIES:Evangelism and Outreach
ORGANIZER;CN="Sandy Houck":MAILTO:skhouck@dejazzd.com
GEO:40.3302731;-75.7128775
X-APPLE-STRUCTURED-LOCATION;VALUE=URI;X-ADDRESS=Sandy Houck 1117 Powder Mill Hollow Rd. Boyertown PA 19512 United States;X-APPLE-RADIUS=500;X-TITLE=1117 Powder Mill Hollow Rd.:geo:-75.7128775,40.3302731
END:VEVENT
BEGIN:VEVENT
DTSTART;TZID=America/New_York:20220722T183000
DTEND;TZID=America/New_York:20220722T193000
DTSTAMP:20260422T185355
CREATED:20201115T190830Z
LAST-MODIFIED:20201115T190830Z
UID:10002500-1658514600-1658518200@ccoley.com
SUMMARY:Sign Language Class
DESCRIPTION:This is a beginner’s class. The course is 6:30 pm on Friday evenings. It runs from Dec. 4 through Dec. 18 and picks back up Jan. 8.
URL:https://ccoley.com/event/sign-language-class/2022-07-22/
LOCATION:Sandy Houck\, 1117 Powder Mill Hollow Rd.\, Boyertown\, PA\, 19512\, United States
CATEGORIES:Evangelism and Outreach
ORGANIZER;CN="Sandy Houck":MAILTO:skhouck@dejazzd.com
GEO:40.3302731;-75.7128775
X-APPLE-STRUCTURED-LOCATION;VALUE=URI;X-ADDRESS=Sandy Houck 1117 Powder Mill Hollow Rd. Boyertown PA 19512 United States;X-APPLE-RADIUS=500;X-TITLE=1117 Powder Mill Hollow Rd.:geo:-75.7128775,40.3302731
END:VEVENT
BEGIN:VEVENT
DTSTART;TZID=America/New_York:20220715T183000
DTEND;TZID=America/New_York:20220715T193000
DTSTAMP:20260422T185355
CREATED:20201115T190830Z
LAST-MODIFIED:20201115T190830Z
UID:10002499-1657909800-1657913400@ccoley.com
SUMMARY:Sign Language Class
DESCRIPTION:This is a beginner’s class. The course is 6:30 pm on Friday evenings. It runs from Dec. 4 through Dec. 18 and picks back up Jan. 8.
URL:https://ccoley.com/event/sign-language-class/2022-07-15/
LOCATION:Sandy Houck\, 1117 Powder Mill Hollow Rd.\, Boyertown\, PA\, 19512\, United States
CATEGORIES:Evangelism and Outreach
ORGANIZER;CN="Sandy Houck":MAILTO:skhouck@dejazzd.com
GEO:40.3302731;-75.7128775
X-APPLE-STRUCTURED-LOCATION;VALUE=URI;X-ADDRESS=Sandy Houck 1117 Powder Mill Hollow Rd. Boyertown PA 19512 United States;X-APPLE-RADIUS=500;X-TITLE=1117 Powder Mill Hollow Rd.:geo:-75.7128775,40.3302731
END:VEVENT
BEGIN:VEVENT
DTSTART;TZID=America/New_York:20220708T183000
DTEND;TZID=America/New_York:20220708T193000
DTSTAMP:20260422T185355
CREATED:20201115T190830Z
LAST-MODIFIED:20201115T190830Z
UID:10002498-1657305000-1657308600@ccoley.com
SUMMARY:Sign Language Class
DESCRIPTION:This is a beginner’s class. The course is 6:30 pm on Friday evenings. It runs from Dec. 4 through Dec. 18 and picks back up Jan. 8.
URL:https://ccoley.com/event/sign-language-class/2022-07-08/
LOCATION:Sandy Houck\, 1117 Powder Mill Hollow Rd.\, Boyertown\, PA\, 19512\, United States
CATEGORIES:Evangelism and Outreach
ORGANIZER;CN="Sandy Houck":MAILTO:skhouck@dejazzd.com
GEO:40.3302731;-75.7128775
X-APPLE-STRUCTURED-LOCATION;VALUE=URI;X-ADDRESS=Sandy Houck 1117 Powder Mill Hollow Rd. Boyertown PA 19512 United States;X-APPLE-RADIUS=500;X-TITLE=1117 Powder Mill Hollow Rd.:geo:-75.7128775,40.3302731
END:VEVENT
BEGIN:VEVENT
DTSTART;TZID=America/New_York:20220701T183000
DTEND;TZID=America/New_York:20220701T193000
DTSTAMP:20260422T185355
CREATED:20201115T190830Z
LAST-MODIFIED:20201115T190830Z
UID:10002497-1656700200-1656703800@ccoley.com
SUMMARY:Sign Language Class
DESCRIPTION:This is a beginner’s class. The course is 6:30 pm on Friday evenings. It runs from Dec. 4 through Dec. 18 and picks back up Jan. 8.
URL:https://ccoley.com/event/sign-language-class/2022-07-01/
LOCATION:Sandy Houck\, 1117 Powder Mill Hollow Rd.\, Boyertown\, PA\, 19512\, United States
CATEGORIES:Evangelism and Outreach
ORGANIZER;CN="Sandy Houck":MAILTO:skhouck@dejazzd.com
GEO:40.3302731;-75.7128775
X-APPLE-STRUCTURED-LOCATION;VALUE=URI;X-ADDRESS=Sandy Houck 1117 Powder Mill Hollow Rd. Boyertown PA 19512 United States;X-APPLE-RADIUS=500;X-TITLE=1117 Powder Mill Hollow Rd.:geo:-75.7128775,40.3302731
END:VEVENT
BEGIN:VEVENT
DTSTART;TZID=America/New_York:20220624T183000
DTEND;TZID=America/New_York:20220624T193000
DTSTAMP:20260422T185355
CREATED:20201115T190830Z
LAST-MODIFIED:20201115T190830Z
UID:10002496-1656095400-1656099000@ccoley.com
SUMMARY:Sign Language Class
DESCRIPTION:This is a beginner’s class. The course is 6:30 pm on Friday evenings. It runs from Dec. 4 through Dec. 18 and picks back up Jan. 8.
URL:https://ccoley.com/event/sign-language-class/2022-06-24/
LOCATION:Sandy Houck\, 1117 Powder Mill Hollow Rd.\, Boyertown\, PA\, 19512\, United States
CATEGORIES:Evangelism and Outreach
ORGANIZER;CN="Sandy Houck":MAILTO:skhouck@dejazzd.com
GEO:40.3302731;-75.7128775
X-APPLE-STRUCTURED-LOCATION;VALUE=URI;X-ADDRESS=Sandy Houck 1117 Powder Mill Hollow Rd. Boyertown PA 19512 United States;X-APPLE-RADIUS=500;X-TITLE=1117 Powder Mill Hollow Rd.:geo:-75.7128775,40.3302731
END:VEVENT
BEGIN:VEVENT
DTSTART;TZID=America/New_York:20220617T183000
DTEND;TZID=America/New_York:20220617T193000
DTSTAMP:20260422T185355
CREATED:20201115T190830Z
LAST-MODIFIED:20201115T190830Z
UID:10002495-1655490600-1655494200@ccoley.com
SUMMARY:Sign Language Class
DESCRIPTION:This is a beginner’s class. The course is 6:30 pm on Friday evenings. It runs from Dec. 4 through Dec. 18 and picks back up Jan. 8.
URL:https://ccoley.com/event/sign-language-class/2022-06-17/
LOCATION:Sandy Houck\, 1117 Powder Mill Hollow Rd.\, Boyertown\, PA\, 19512\, United States
CATEGORIES:Evangelism and Outreach
ORGANIZER;CN="Sandy Houck":MAILTO:skhouck@dejazzd.com
GEO:40.3302731;-75.7128775
X-APPLE-STRUCTURED-LOCATION;VALUE=URI;X-ADDRESS=Sandy Houck 1117 Powder Mill Hollow Rd. Boyertown PA 19512 United States;X-APPLE-RADIUS=500;X-TITLE=1117 Powder Mill Hollow Rd.:geo:-75.7128775,40.3302731
END:VEVENT
BEGIN:VEVENT
DTSTART;TZID=America/New_York:20220610T183000
DTEND;TZID=America/New_York:20220610T193000
DTSTAMP:20260422T185355
CREATED:20201115T190830Z
LAST-MODIFIED:20201115T190830Z
UID:10002494-1654885800-1654889400@ccoley.com
SUMMARY:Sign Language Class
DESCRIPTION:This is a beginner’s class. The course is 6:30 pm on Friday evenings. It runs from Dec. 4 through Dec. 18 and picks back up Jan. 8.
URL:https://ccoley.com/event/sign-language-class/2022-06-10/
LOCATION:Sandy Houck\, 1117 Powder Mill Hollow Rd.\, Boyertown\, PA\, 19512\, United States
CATEGORIES:Evangelism and Outreach
ORGANIZER;CN="Sandy Houck":MAILTO:skhouck@dejazzd.com
GEO:40.3302731;-75.7128775
X-APPLE-STRUCTURED-LOCATION;VALUE=URI;X-ADDRESS=Sandy Houck 1117 Powder Mill Hollow Rd. Boyertown PA 19512 United States;X-APPLE-RADIUS=500;X-TITLE=1117 Powder Mill Hollow Rd.:geo:-75.7128775,40.3302731
END:VEVENT
BEGIN:VEVENT
DTSTART;TZID=America/New_York:20220603T183000
DTEND;TZID=America/New_York:20220603T193000
DTSTAMP:20260422T185355
CREATED:20201115T190830Z
LAST-MODIFIED:20201115T190830Z
UID:10002493-1654281000-1654284600@ccoley.com
SUMMARY:Sign Language Class
DESCRIPTION:This is a beginner’s class. The course is 6:30 pm on Friday evenings. It runs from Dec. 4 through Dec. 18 and picks back up Jan. 8.
URL:https://ccoley.com/event/sign-language-class/2022-06-03/
LOCATION:Sandy Houck\, 1117 Powder Mill Hollow Rd.\, Boyertown\, PA\, 19512\, United States
CATEGORIES:Evangelism and Outreach
ORGANIZER;CN="Sandy Houck":MAILTO:skhouck@dejazzd.com
GEO:40.3302731;-75.7128775
X-APPLE-STRUCTURED-LOCATION;VALUE=URI;X-ADDRESS=Sandy Houck 1117 Powder Mill Hollow Rd. Boyertown PA 19512 United States;X-APPLE-RADIUS=500;X-TITLE=1117 Powder Mill Hollow Rd.:geo:-75.7128775,40.3302731
END:VEVENT
BEGIN:VEVENT
DTSTART;TZID=America/New_York:20220527T183000
DTEND;TZID=America/New_York:20220527T193000
DTSTAMP:20260422T185355
CREATED:20201115T190830Z
LAST-MODIFIED:20201115T190830Z
UID:10002492-1653676200-1653679800@ccoley.com
SUMMARY:Sign Language Class
DESCRIPTION:This is a beginner’s class. The course is 6:30 pm on Friday evenings. It runs from Dec. 4 through Dec. 18 and picks back up Jan. 8.
URL:https://ccoley.com/event/sign-language-class/2022-05-27/
LOCATION:Sandy Houck\, 1117 Powder Mill Hollow Rd.\, Boyertown\, PA\, 19512\, United States
CATEGORIES:Evangelism and Outreach
ORGANIZER;CN="Sandy Houck":MAILTO:skhouck@dejazzd.com
GEO:40.3302731;-75.7128775
X-APPLE-STRUCTURED-LOCATION;VALUE=URI;X-ADDRESS=Sandy Houck 1117 Powder Mill Hollow Rd. Boyertown PA 19512 United States;X-APPLE-RADIUS=500;X-TITLE=1117 Powder Mill Hollow Rd.:geo:-75.7128775,40.3302731
END:VEVENT
BEGIN:VEVENT
DTSTART;TZID=America/New_York:20220520T183000
DTEND;TZID=America/New_York:20220520T193000
DTSTAMP:20260422T185355
CREATED:20201115T190830Z
LAST-MODIFIED:20201115T190830Z
UID:10002491-1653071400-1653075000@ccoley.com
SUMMARY:Sign Language Class
DESCRIPTION:This is a beginner’s class. The course is 6:30 pm on Friday evenings. It runs from Dec. 4 through Dec. 18 and picks back up Jan. 8.
URL:https://ccoley.com/event/sign-language-class/2022-05-20/
LOCATION:Sandy Houck\, 1117 Powder Mill Hollow Rd.\, Boyertown\, PA\, 19512\, United States
CATEGORIES:Evangelism and Outreach
ORGANIZER;CN="Sandy Houck":MAILTO:skhouck@dejazzd.com
GEO:40.3302731;-75.7128775
X-APPLE-STRUCTURED-LOCATION;VALUE=URI;X-ADDRESS=Sandy Houck 1117 Powder Mill Hollow Rd. Boyertown PA 19512 United States;X-APPLE-RADIUS=500;X-TITLE=1117 Powder Mill Hollow Rd.:geo:-75.7128775,40.3302731
END:VEVENT
BEGIN:VEVENT
DTSTART;TZID=America/New_York:20220513T183000
DTEND;TZID=America/New_York:20220513T193000
DTSTAMP:20260422T185355
CREATED:20201115T190830Z
LAST-MODIFIED:20201115T190830Z
UID:10002490-1652466600-1652470200@ccoley.com
SUMMARY:Sign Language Class
DESCRIPTION:This is a beginner’s class. The course is 6:30 pm on Friday evenings. It runs from Dec. 4 through Dec. 18 and picks back up Jan. 8.
URL:https://ccoley.com/event/sign-language-class/2022-05-13/
LOCATION:Sandy Houck\, 1117 Powder Mill Hollow Rd.\, Boyertown\, PA\, 19512\, United States
CATEGORIES:Evangelism and Outreach
ORGANIZER;CN="Sandy Houck":MAILTO:skhouck@dejazzd.com
GEO:40.3302731;-75.7128775
X-APPLE-STRUCTURED-LOCATION;VALUE=URI;X-ADDRESS=Sandy Houck 1117 Powder Mill Hollow Rd. Boyertown PA 19512 United States;X-APPLE-RADIUS=500;X-TITLE=1117 Powder Mill Hollow Rd.:geo:-75.7128775,40.3302731
END:VEVENT
BEGIN:VEVENT
DTSTART;TZID=America/New_York:20220506T183000
DTEND;TZID=America/New_York:20220506T193000
DTSTAMP:20260422T185355
CREATED:20201115T190830Z
LAST-MODIFIED:20201115T190830Z
UID:10002489-1651861800-1651865400@ccoley.com
SUMMARY:Sign Language Class
DESCRIPTION:This is a beginner’s class. The course is 6:30 pm on Friday evenings. It runs from Dec. 4 through Dec. 18 and picks back up Jan. 8.
URL:https://ccoley.com/event/sign-language-class/2022-05-06/
LOCATION:Sandy Houck\, 1117 Powder Mill Hollow Rd.\, Boyertown\, PA\, 19512\, United States
CATEGORIES:Evangelism and Outreach
ORGANIZER;CN="Sandy Houck":MAILTO:skhouck@dejazzd.com
GEO:40.3302731;-75.7128775
X-APPLE-STRUCTURED-LOCATION;VALUE=URI;X-ADDRESS=Sandy Houck 1117 Powder Mill Hollow Rd. Boyertown PA 19512 United States;X-APPLE-RADIUS=500;X-TITLE=1117 Powder Mill Hollow Rd.:geo:-75.7128775,40.3302731
END:VEVENT
BEGIN:VEVENT
DTSTART;TZID=America/New_York:20220429T183000
DTEND;TZID=America/New_York:20220429T193000
DTSTAMP:20260422T185355
CREATED:20201115T190830Z
LAST-MODIFIED:20201115T190830Z
UID:10002488-1651257000-1651260600@ccoley.com
SUMMARY:Sign Language Class
DESCRIPTION:This is a beginner’s class. The course is 6:30 pm on Friday evenings. It runs from Dec. 4 through Dec. 18 and picks back up Jan. 8.
URL:https://ccoley.com/event/sign-language-class/2022-04-29/
LOCATION:Sandy Houck\, 1117 Powder Mill Hollow Rd.\, Boyertown\, PA\, 19512\, United States
CATEGORIES:Evangelism and Outreach
ORGANIZER;CN="Sandy Houck":MAILTO:skhouck@dejazzd.com
GEO:40.3302731;-75.7128775
X-APPLE-STRUCTURED-LOCATION;VALUE=URI;X-ADDRESS=Sandy Houck 1117 Powder Mill Hollow Rd. Boyertown PA 19512 United States;X-APPLE-RADIUS=500;X-TITLE=1117 Powder Mill Hollow Rd.:geo:-75.7128775,40.3302731
END:VEVENT
BEGIN:VEVENT
DTSTART;TZID=America/New_York:20220422T183000
DTEND;TZID=America/New_York:20220422T193000
DTSTAMP:20260422T185355
CREATED:20201115T190830Z
LAST-MODIFIED:20201115T190830Z
UID:10002487-1650652200-1650655800@ccoley.com
SUMMARY:Sign Language Class
DESCRIPTION:This is a beginner’s class. The course is 6:30 pm on Friday evenings. It runs from Dec. 4 through Dec. 18 and picks back up Jan. 8.
URL:https://ccoley.com/event/sign-language-class/2022-04-22/
LOCATION:Sandy Houck\, 1117 Powder Mill Hollow Rd.\, Boyertown\, PA\, 19512\, United States
CATEGORIES:Evangelism and Outreach
ORGANIZER;CN="Sandy Houck":MAILTO:skhouck@dejazzd.com
GEO:40.3302731;-75.7128775
X-APPLE-STRUCTURED-LOCATION;VALUE=URI;X-ADDRESS=Sandy Houck 1117 Powder Mill Hollow Rd. Boyertown PA 19512 United States;X-APPLE-RADIUS=500;X-TITLE=1117 Powder Mill Hollow Rd.:geo:-75.7128775,40.3302731
END:VEVENT
BEGIN:VEVENT
DTSTART;TZID=America/New_York:20220415T183000
DTEND;TZID=America/New_York:20220415T193000
DTSTAMP:20260422T185355
CREATED:20201115T190830Z
LAST-MODIFIED:20201115T190830Z
UID:10002486-1650047400-1650051000@ccoley.com
SUMMARY:Sign Language Class
DESCRIPTION:This is a beginner’s class. The course is 6:30 pm on Friday evenings. It runs from Dec. 4 through Dec. 18 and picks back up Jan. 8.
URL:https://ccoley.com/event/sign-language-class/2022-04-15/
LOCATION:Sandy Houck\, 1117 Powder Mill Hollow Rd.\, Boyertown\, PA\, 19512\, United States
CATEGORIES:Evangelism and Outreach
ORGANIZER;CN="Sandy Houck":MAILTO:skhouck@dejazzd.com
GEO:40.3302731;-75.7128775
X-APPLE-STRUCTURED-LOCATION;VALUE=URI;X-ADDRESS=Sandy Houck 1117 Powder Mill Hollow Rd. Boyertown PA 19512 United States;X-APPLE-RADIUS=500;X-TITLE=1117 Powder Mill Hollow Rd.:geo:-75.7128775,40.3302731
END:VEVENT
BEGIN:VEVENT
DTSTART;TZID=America/New_York:20220408T183000
DTEND;TZID=America/New_York:20220408T193000
DTSTAMP:20260422T185355
CREATED:20201115T190830Z
LAST-MODIFIED:20201115T190830Z
UID:10002485-1649442600-1649446200@ccoley.com
SUMMARY:Sign Language Class
DESCRIPTION:This is a beginner’s class. The course is 6:30 pm on Friday evenings. It runs from Dec. 4 through Dec. 18 and picks back up Jan. 8.
URL:https://ccoley.com/event/sign-language-class/2022-04-08/
LOCATION:Sandy Houck\, 1117 Powder Mill Hollow Rd.\, Boyertown\, PA\, 19512\, United States
CATEGORIES:Evangelism and Outreach
ORGANIZER;CN="Sandy Houck":MAILTO:skhouck@dejazzd.com
GEO:40.3302731;-75.7128775
X-APPLE-STRUCTURED-LOCATION;VALUE=URI;X-ADDRESS=Sandy Houck 1117 Powder Mill Hollow Rd. Boyertown PA 19512 United States;X-APPLE-RADIUS=500;X-TITLE=1117 Powder Mill Hollow Rd.:geo:-75.7128775,40.3302731
END:VEVENT
BEGIN:VEVENT
DTSTART;TZID=America/New_York:20220401T183000
DTEND;TZID=America/New_York:20220401T193000
DTSTAMP:20260422T185355
CREATED:20201115T190830Z
LAST-MODIFIED:20201115T190830Z
UID:10002484-1648837800-1648841400@ccoley.com
SUMMARY:Sign Language Class
DESCRIPTION:This is a beginner’s class. The course is 6:30 pm on Friday evenings. It runs from Dec. 4 through Dec. 18 and picks back up Jan. 8.
URL:https://ccoley.com/event/sign-language-class/2022-04-01/
LOCATION:Sandy Houck\, 1117 Powder Mill Hollow Rd.\, Boyertown\, PA\, 19512\, United States
CATEGORIES:Evangelism and Outreach
ORGANIZER;CN="Sandy Houck":MAILTO:skhouck@dejazzd.com
GEO:40.3302731;-75.7128775
X-APPLE-STRUCTURED-LOCATION;VALUE=URI;X-ADDRESS=Sandy Houck 1117 Powder Mill Hollow Rd. Boyertown PA 19512 United States;X-APPLE-RADIUS=500;X-TITLE=1117 Powder Mill Hollow Rd.:geo:-75.7128775,40.3302731
END:VEVENT
BEGIN:VEVENT
DTSTART;TZID=America/New_York:20220325T183000
DTEND;TZID=America/New_York:20220325T193000
DTSTAMP:20260422T185355
CREATED:20201115T190830Z
LAST-MODIFIED:20201115T190830Z
UID:10002483-1648233000-1648236600@ccoley.com
SUMMARY:Sign Language Class
DESCRIPTION:This is a beginner’s class. The course is 6:30 pm on Friday evenings. It runs from Dec. 4 through Dec. 18 and picks back up Jan. 8.
URL:https://ccoley.com/event/sign-language-class/2022-03-25/
LOCATION:Sandy Houck\, 1117 Powder Mill Hollow Rd.\, Boyertown\, PA\, 19512\, United States
CATEGORIES:Evangelism and Outreach
ORGANIZER;CN="Sandy Houck":MAILTO:skhouck@dejazzd.com
GEO:40.3302731;-75.7128775
X-APPLE-STRUCTURED-LOCATION;VALUE=URI;X-ADDRESS=Sandy Houck 1117 Powder Mill Hollow Rd. Boyertown PA 19512 United States;X-APPLE-RADIUS=500;X-TITLE=1117 Powder Mill Hollow Rd.:geo:-75.7128775,40.3302731
END:VEVENT
BEGIN:VEVENT
DTSTART;TZID=America/New_York:20220318T183000
DTEND;TZID=America/New_York:20220318T193000
DTSTAMP:20260422T185355
CREATED:20201115T190830Z
LAST-MODIFIED:20201115T190830Z
UID:10002482-1647628200-1647631800@ccoley.com
SUMMARY:Sign Language Class
DESCRIPTION:This is a beginner’s class. The course is 6:30 pm on Friday evenings. It runs from Dec. 4 through Dec. 18 and picks back up Jan. 8.
URL:https://ccoley.com/event/sign-language-class/2022-03-18/
LOCATION:Sandy Houck\, 1117 Powder Mill Hollow Rd.\, Boyertown\, PA\, 19512\, United States
CATEGORIES:Evangelism and Outreach
ORGANIZER;CN="Sandy Houck":MAILTO:skhouck@dejazzd.com
GEO:40.3302731;-75.7128775
X-APPLE-STRUCTURED-LOCATION;VALUE=URI;X-ADDRESS=Sandy Houck 1117 Powder Mill Hollow Rd. Boyertown PA 19512 United States;X-APPLE-RADIUS=500;X-TITLE=1117 Powder Mill Hollow Rd.:geo:-75.7128775,40.3302731
END:VEVENT
BEGIN:VEVENT
DTSTART;TZID=America/New_York:20220311T183000
DTEND;TZID=America/New_York:20220311T193000
DTSTAMP:20260422T185355
CREATED:20201115T190830Z
LAST-MODIFIED:20201115T190830Z
UID:10002481-1647023400-1647027000@ccoley.com
SUMMARY:Sign Language Class
DESCRIPTION:This is a beginner’s class. The course is 6:30 pm on Friday evenings. It runs from Dec. 4 through Dec. 18 and picks back up Jan. 8.
URL:https://ccoley.com/event/sign-language-class/2022-03-11/
LOCATION:Sandy Houck\, 1117 Powder Mill Hollow Rd.\, Boyertown\, PA\, 19512\, United States
CATEGORIES:Evangelism and Outreach
ORGANIZER;CN="Sandy Houck":MAILTO:skhouck@dejazzd.com
GEO:40.3302731;-75.7128775
X-APPLE-STRUCTURED-LOCATION;VALUE=URI;X-ADDRESS=Sandy Houck 1117 Powder Mill Hollow Rd. Boyertown PA 19512 United States;X-APPLE-RADIUS=500;X-TITLE=1117 Powder Mill Hollow Rd.:geo:-75.7128775,40.3302731
END:VEVENT
BEGIN:VEVENT
DTSTART;TZID=America/New_York:20220304T183000
DTEND;TZID=America/New_York:20220304T193000
DTSTAMP:20260422T185355
CREATED:20201115T190830Z
LAST-MODIFIED:20201115T190830Z
UID:10002480-1646418600-1646422200@ccoley.com
SUMMARY:Sign Language Class
DESCRIPTION:This is a beginner’s class. The course is 6:30 pm on Friday evenings. It runs from Dec. 4 through Dec. 18 and picks back up Jan. 8.
URL:https://ccoley.com/event/sign-language-class/2022-03-04/
LOCATION:Sandy Houck\, 1117 Powder Mill Hollow Rd.\, Boyertown\, PA\, 19512\, United States
CATEGORIES:Evangelism and Outreach
ORGANIZER;CN="Sandy Houck":MAILTO:skhouck@dejazzd.com
GEO:40.3302731;-75.7128775
X-APPLE-STRUCTURED-LOCATION;VALUE=URI;X-ADDRESS=Sandy Houck 1117 Powder Mill Hollow Rd. Boyertown PA 19512 United States;X-APPLE-RADIUS=500;X-TITLE=1117 Powder Mill Hollow Rd.:geo:-75.7128775,40.3302731
END:VEVENT
BEGIN:VEVENT
DTSTART;TZID=America/New_York:20220225T183000
DTEND;TZID=America/New_York:20220225T193000
DTSTAMP:20260422T185355
CREATED:20201115T190830Z
LAST-MODIFIED:20201115T190830Z
UID:10002479-1645813800-1645817400@ccoley.com
SUMMARY:Sign Language Class
DESCRIPTION:This is a beginner’s class. The course is 6:30 pm on Friday evenings. It runs from Dec. 4 through Dec. 18 and picks back up Jan. 8.
URL:https://ccoley.com/event/sign-language-class/2022-02-25/
LOCATION:Sandy Houck\, 1117 Powder Mill Hollow Rd.\, Boyertown\, PA\, 19512\, United States
CATEGORIES:Evangelism and Outreach
ORGANIZER;CN="Sandy Houck":MAILTO:skhouck@dejazzd.com
GEO:40.3302731;-75.7128775
X-APPLE-STRUCTURED-LOCATION;VALUE=URI;X-ADDRESS=Sandy Houck 1117 Powder Mill Hollow Rd. Boyertown PA 19512 United States;X-APPLE-RADIUS=500;X-TITLE=1117 Powder Mill Hollow Rd.:geo:-75.7128775,40.3302731
END:VEVENT
END:VCALENDAR