BEGIN:VCALENDAR
VERSION:2.0
PRODID:-//Calvary Chapel of the Oley Valley - ECPv6.15.20//NONSGML v1.0//EN
CALSCALE:GREGORIAN
METHOD:PUBLISH
X-WR-CALNAME:Calvary Chapel of the Oley Valley
X-ORIGINAL-URL:https://ccoley.com
X-WR-CALDESC:Events for Calvary Chapel of the Oley Valley
REFRESH-INTERVAL;VALUE=DURATION:PT1H
X-Robots-Tag:noindex
X-PUBLISHED-TTL:PT1H
BEGIN:VTIMEZONE
TZID:America/New_York
BEGIN:DAYLIGHT
TZOFFSETFROM:-0500
TZOFFSETTO:-0400
TZNAME:EDT
DTSTART:20180311T070000
END:DAYLIGHT
BEGIN:STANDARD
TZOFFSETFROM:-0400
TZOFFSETTO:-0500
TZNAME:EST
DTSTART:20181104T060000
END:STANDARD
BEGIN:DAYLIGHT
TZOFFSETFROM:-0500
TZOFFSETTO:-0400
TZNAME:EDT
DTSTART:20190310T070000
END:DAYLIGHT
BEGIN:STANDARD
TZOFFSETFROM:-0400
TZOFFSETTO:-0500
TZNAME:EST
DTSTART:20191103T060000
END:STANDARD
BEGIN:DAYLIGHT
TZOFFSETFROM:-0500
TZOFFSETTO:-0400
TZNAME:EDT
DTSTART:20200308T070000
END:DAYLIGHT
BEGIN:STANDARD
TZOFFSETFROM:-0400
TZOFFSETTO:-0500
TZNAME:EST
DTSTART:20201101T060000
END:STANDARD
END:VTIMEZONE
BEGIN:VEVENT
DTSTART;TZID=America/New_York:20190112T190000
DTEND;TZID=America/New_York:20190112T200000
DTSTAMP:20260422T205011
CREATED:20181230T192808Z
LAST-MODIFIED:20181230T192808Z
UID:10000144-1547319600-1547323200@ccoley.com
SUMMARY:Salem Christian School - An Evening of Worship
DESCRIPTION:Salem Christian School’s senior class is hosting “An Evening of Worship with the class of 2019.”  Tickets are $10 (children 12 and under are free).
URL:https://ccoley.com/event/salem-christian-school-an-evening-of-worship/
LOCATION:Salem Christian School\, 8031 Salem Bible Church Rd.\, Macungie\, PA\, 18062\, United States
ORGANIZER;CN="Kristen Cawood":MAILTO:kristentanis@gmail.com
GEO:40.473944;-75.573601
X-APPLE-STRUCTURED-LOCATION;VALUE=URI;X-ADDRESS=Salem Christian School 8031 Salem Bible Church Rd. Macungie PA 18062 United States;X-APPLE-RADIUS=500;X-TITLE=8031 Salem Bible Church Rd.:geo:-75.573601,40.473944
END:VEVENT
END:VCALENDAR