BEGIN:VCALENDAR
VERSION:2.0
PRODID:-//Calvary Chapel of the Oley Valley - ECPv6.15.20//NONSGML v1.0//EN
CALSCALE:GREGORIAN
METHOD:PUBLISH
X-WR-CALNAME:Calvary Chapel of the Oley Valley
X-ORIGINAL-URL:https://ccoley.com
X-WR-CALDESC:Events for Calvary Chapel of the Oley Valley
REFRESH-INTERVAL;VALUE=DURATION:PT1H
X-Robots-Tag:noindex
X-PUBLISHED-TTL:PT1H
BEGIN:VTIMEZONE
TZID:America/New_York
BEGIN:DAYLIGHT
TZOFFSETFROM:-0500
TZOFFSETTO:-0400
TZNAME:EDT
DTSTART:20180311T070000
END:DAYLIGHT
BEGIN:STANDARD
TZOFFSETFROM:-0400
TZOFFSETTO:-0500
TZNAME:EST
DTSTART:20181104T060000
END:STANDARD
BEGIN:DAYLIGHT
TZOFFSETFROM:-0500
TZOFFSETTO:-0400
TZNAME:EDT
DTSTART:20190310T070000
END:DAYLIGHT
BEGIN:STANDARD
TZOFFSETFROM:-0400
TZOFFSETTO:-0500
TZNAME:EST
DTSTART:20191103T060000
END:STANDARD
BEGIN:DAYLIGHT
TZOFFSETFROM:-0500
TZOFFSETTO:-0400
TZNAME:EDT
DTSTART:20200308T070000
END:DAYLIGHT
BEGIN:STANDARD
TZOFFSETFROM:-0400
TZOFFSETTO:-0500
TZNAME:EST
DTSTART:20201101T060000
END:STANDARD
END:VTIMEZONE
BEGIN:VEVENT
DTSTART;TZID=America/New_York:20190728T090000
DTEND;TZID=America/New_York:20190728T100000
DTSTAMP:20260425T202439
CREATED:20190707T123454Z
LAST-MODIFIED:20190707T123454Z
UID:10001704-1564304400-1564308000@ccoley.com
SUMMARY:Sunday Bible Study
DESCRIPTION:Bob Brunette will be teaching a seven-week Bible study series entitled “The Jewish Question.”  It will be a verse by verse study of Romans Chapters 9\, 10\, 11 (90 verses in all).
URL:https://ccoley.com/event/sunday-bible-study-3/2019-07-28/
LOCATION:Oley Valley Elementary School\, 3247 Friedensburg Road\, Oley\, PA\, 19547\, United States
ORGANIZER;CN="Pastor Fred Bell":MAILTO:pastorfred@ccoley.com
GEO:40.379717;-75.799139
X-APPLE-STRUCTURED-LOCATION;VALUE=URI;X-ADDRESS=Oley Valley Elementary School 3247 Friedensburg Road Oley PA 19547 United States;X-APPLE-RADIUS=500;X-TITLE=3247 Friedensburg Road:geo:-75.799139,40.379717
END:VEVENT
BEGIN:VEVENT
DTSTART;TZID=America/New_York:20190721T113000
DTEND;TZID=America/New_York:20190721T130000
DTSTAMP:20260425T202439
CREATED:20181002T152826Z
LAST-MODIFIED:20220618T232200Z
UID:10000616-1563708600-1563714000@ccoley.com
SUMMARY:Sunday Fellowship
DESCRIPTION:Enjoy fellowship after the service.
URL:https://ccoley.com/event/sunday-fellowship/2019-07-21/
LOCATION:Oley Valley Elementary School\, 3247 Friedensburg Road\, Oley\, PA\, 19547\, United States
CATEGORIES:Family
ORGANIZER;CN="Pastor Fred Bell":MAILTO:pastorfred@ccoley.com
GEO:40.379717;-75.799139
X-APPLE-STRUCTURED-LOCATION;VALUE=URI;X-ADDRESS=Oley Valley Elementary School 3247 Friedensburg Road Oley PA 19547 United States;X-APPLE-RADIUS=500;X-TITLE=3247 Friedensburg Road:geo:-75.799139,40.379717
END:VEVENT
BEGIN:VEVENT
DTSTART;TZID=America/New_York:20190721T100000
DTEND;TZID=America/New_York:20190721T113000
DTSTAMP:20260425T202439
CREATED:20150315T185919Z
LAST-MODIFIED:20220919T003711Z
UID:10001514-1563703200-1563708600@ccoley.com
SUMMARY:Worship Service
DESCRIPTION:We are currently studying 1 Corinthians.
URL:https://ccoley.com/event/worship-service/2019-07-21/
LOCATION:Oley Valley Elementary School\, 3247 Friedensburg Road\, Oley\, PA\, 19547\, United States
CATEGORIES:Worship Service
ORGANIZER;CN="Pastor Fred Bell":MAILTO:pastorfred@ccoley.com
GEO:40.379717;-75.799139
X-APPLE-STRUCTURED-LOCATION;VALUE=URI;X-ADDRESS=Oley Valley Elementary School 3247 Friedensburg Road Oley PA 19547 United States;X-APPLE-RADIUS=500;X-TITLE=3247 Friedensburg Road:geo:-75.799139,40.379717
END:VEVENT
BEGIN:VEVENT
DTSTART;TZID=America/New_York:20190721T090000
DTEND;TZID=America/New_York:20190721T100000
DTSTAMP:20260425T202439
CREATED:20190707T123454Z
LAST-MODIFIED:20190707T123454Z
UID:10001703-1563699600-1563703200@ccoley.com
SUMMARY:Sunday Bible Study
DESCRIPTION:Bob Brunette will be teaching a seven-week Bible study series entitled “The Jewish Question.”  It will be a verse by verse study of Romans Chapters 9\, 10\, 11 (90 verses in all).
URL:https://ccoley.com/event/sunday-bible-study-3/2019-07-21/
LOCATION:Oley Valley Elementary School\, 3247 Friedensburg Road\, Oley\, PA\, 19547\, United States
ORGANIZER;CN="Pastor Fred Bell":MAILTO:pastorfred@ccoley.com
GEO:40.379717;-75.799139
X-APPLE-STRUCTURED-LOCATION;VALUE=URI;X-ADDRESS=Oley Valley Elementary School 3247 Friedensburg Road Oley PA 19547 United States;X-APPLE-RADIUS=500;X-TITLE=3247 Friedensburg Road:geo:-75.799139,40.379717
END:VEVENT
BEGIN:VEVENT
DTSTART;TZID=America/New_York:20190714T113000
DTEND;TZID=America/New_York:20190714T130000
DTSTAMP:20260425T202439
CREATED:20181002T152826Z
LAST-MODIFIED:20220618T232200Z
UID:10000615-1563103800-1563109200@ccoley.com
SUMMARY:Sunday Fellowship
DESCRIPTION:Enjoy fellowship after the service.
URL:https://ccoley.com/event/sunday-fellowship/2019-07-14/
LOCATION:Oley Valley Elementary School\, 3247 Friedensburg Road\, Oley\, PA\, 19547\, United States
CATEGORIES:Family
ORGANIZER;CN="Pastor Fred Bell":MAILTO:pastorfred@ccoley.com
GEO:40.379717;-75.799139
X-APPLE-STRUCTURED-LOCATION;VALUE=URI;X-ADDRESS=Oley Valley Elementary School 3247 Friedensburg Road Oley PA 19547 United States;X-APPLE-RADIUS=500;X-TITLE=3247 Friedensburg Road:geo:-75.799139,40.379717
END:VEVENT
BEGIN:VEVENT
DTSTART;TZID=America/New_York:20190714T100000
DTEND;TZID=America/New_York:20190714T113000
DTSTAMP:20260425T202439
CREATED:20150315T185919Z
LAST-MODIFIED:20220919T003711Z
UID:10001513-1563098400-1563103800@ccoley.com
SUMMARY:Worship Service
DESCRIPTION:We are currently studying 1 Corinthians.
URL:https://ccoley.com/event/worship-service/2019-07-14/
LOCATION:Oley Valley Elementary School\, 3247 Friedensburg Road\, Oley\, PA\, 19547\, United States
CATEGORIES:Worship Service
ORGANIZER;CN="Pastor Fred Bell":MAILTO:pastorfred@ccoley.com
GEO:40.379717;-75.799139
X-APPLE-STRUCTURED-LOCATION;VALUE=URI;X-ADDRESS=Oley Valley Elementary School 3247 Friedensburg Road Oley PA 19547 United States;X-APPLE-RADIUS=500;X-TITLE=3247 Friedensburg Road:geo:-75.799139,40.379717
END:VEVENT
BEGIN:VEVENT
DTSTART;TZID=America/New_York:20190714T090000
DTEND;TZID=America/New_York:20190714T100000
DTSTAMP:20260425T202439
CREATED:20190707T123454Z
LAST-MODIFIED:20190707T123454Z
UID:10001702-1563094800-1563098400@ccoley.com
SUMMARY:Sunday Bible Study
DESCRIPTION:Bob Brunette will be teaching a seven-week Bible study series entitled “The Jewish Question.”  It will be a verse by verse study of Romans Chapters 9\, 10\, 11 (90 verses in all).
URL:https://ccoley.com/event/sunday-bible-study-3/2019-07-14/
LOCATION:Oley Valley Elementary School\, 3247 Friedensburg Road\, Oley\, PA\, 19547\, United States
ORGANIZER;CN="Pastor Fred Bell":MAILTO:pastorfred@ccoley.com
GEO:40.379717;-75.799139
X-APPLE-STRUCTURED-LOCATION;VALUE=URI;X-ADDRESS=Oley Valley Elementary School 3247 Friedensburg Road Oley PA 19547 United States;X-APPLE-RADIUS=500;X-TITLE=3247 Friedensburg Road:geo:-75.799139,40.379717
END:VEVENT
BEGIN:VEVENT
DTSTART;TZID=America/New_York:20190707T113000
DTEND;TZID=America/New_York:20190707T130000
DTSTAMP:20260425T202439
CREATED:20181002T152826Z
LAST-MODIFIED:20220618T232200Z
UID:10000614-1562499000-1562504400@ccoley.com
SUMMARY:Sunday Fellowship
DESCRIPTION:Enjoy fellowship after the service.
URL:https://ccoley.com/event/sunday-fellowship/2019-07-07/
LOCATION:Oley Valley Elementary School\, 3247 Friedensburg Road\, Oley\, PA\, 19547\, United States
CATEGORIES:Family
ORGANIZER;CN="Pastor Fred Bell":MAILTO:pastorfred@ccoley.com
GEO:40.379717;-75.799139
X-APPLE-STRUCTURED-LOCATION;VALUE=URI;X-ADDRESS=Oley Valley Elementary School 3247 Friedensburg Road Oley PA 19547 United States;X-APPLE-RADIUS=500;X-TITLE=3247 Friedensburg Road:geo:-75.799139,40.379717
END:VEVENT
BEGIN:VEVENT
DTSTART;TZID=America/New_York:20190707T100000
DTEND;TZID=America/New_York:20190707T113000
DTSTAMP:20260425T202439
CREATED:20150315T185919Z
LAST-MODIFIED:20220919T003711Z
UID:10001512-1562493600-1562499000@ccoley.com
SUMMARY:Worship Service
DESCRIPTION:We are currently studying 1 Corinthians.
URL:https://ccoley.com/event/worship-service/2019-07-07/
LOCATION:Oley Valley Elementary School\, 3247 Friedensburg Road\, Oley\, PA\, 19547\, United States
CATEGORIES:Worship Service
ORGANIZER;CN="Pastor Fred Bell":MAILTO:pastorfred@ccoley.com
GEO:40.379717;-75.799139
X-APPLE-STRUCTURED-LOCATION;VALUE=URI;X-ADDRESS=Oley Valley Elementary School 3247 Friedensburg Road Oley PA 19547 United States;X-APPLE-RADIUS=500;X-TITLE=3247 Friedensburg Road:geo:-75.799139,40.379717
END:VEVENT
BEGIN:VEVENT
DTSTART;TZID=America/New_York:20190707T090000
DTEND;TZID=America/New_York:20190707T100000
DTSTAMP:20260425T202439
CREATED:20190707T123454Z
LAST-MODIFIED:20190707T123454Z
UID:10001701-1562490000-1562493600@ccoley.com
SUMMARY:Sunday Bible Study
DESCRIPTION:Bob Brunette will be teaching a seven-week Bible study series entitled “The Jewish Question.”  It will be a verse by verse study of Romans Chapters 9\, 10\, 11 (90 verses in all).
URL:https://ccoley.com/event/sunday-bible-study-3/2019-07-07/
LOCATION:Oley Valley Elementary School\, 3247 Friedensburg Road\, Oley\, PA\, 19547\, United States
ORGANIZER;CN="Pastor Fred Bell":MAILTO:pastorfred@ccoley.com
GEO:40.379717;-75.799139
X-APPLE-STRUCTURED-LOCATION;VALUE=URI;X-ADDRESS=Oley Valley Elementary School 3247 Friedensburg Road Oley PA 19547 United States;X-APPLE-RADIUS=500;X-TITLE=3247 Friedensburg Road:geo:-75.799139,40.379717
END:VEVENT
BEGIN:VEVENT
DTSTART;TZID=America/New_York:20190630T113000
DTEND;TZID=America/New_York:20190630T130000
DTSTAMP:20260425T202439
CREATED:20181002T152826Z
LAST-MODIFIED:20220618T232200Z
UID:10000613-1561894200-1561899600@ccoley.com
SUMMARY:Sunday Fellowship
DESCRIPTION:Enjoy fellowship after the service.
URL:https://ccoley.com/event/sunday-fellowship/2019-06-30/
LOCATION:Oley Valley Elementary School\, 3247 Friedensburg Road\, Oley\, PA\, 19547\, United States
CATEGORIES:Family
ORGANIZER;CN="Pastor Fred Bell":MAILTO:pastorfred@ccoley.com
GEO:40.379717;-75.799139
X-APPLE-STRUCTURED-LOCATION;VALUE=URI;X-ADDRESS=Oley Valley Elementary School 3247 Friedensburg Road Oley PA 19547 United States;X-APPLE-RADIUS=500;X-TITLE=3247 Friedensburg Road:geo:-75.799139,40.379717
END:VEVENT
BEGIN:VEVENT
DTSTART;TZID=America/New_York:20190630T100000
DTEND;TZID=America/New_York:20190630T113000
DTSTAMP:20260425T202439
CREATED:20150315T185919Z
LAST-MODIFIED:20220919T003711Z
UID:10001511-1561888800-1561894200@ccoley.com
SUMMARY:Worship Service
DESCRIPTION:We are currently studying 1 Corinthians.
URL:https://ccoley.com/event/worship-service/2019-06-30/
LOCATION:Oley Valley Elementary School\, 3247 Friedensburg Road\, Oley\, PA\, 19547\, United States
CATEGORIES:Worship Service
ORGANIZER;CN="Pastor Fred Bell":MAILTO:pastorfred@ccoley.com
GEO:40.379717;-75.799139
X-APPLE-STRUCTURED-LOCATION;VALUE=URI;X-ADDRESS=Oley Valley Elementary School 3247 Friedensburg Road Oley PA 19547 United States;X-APPLE-RADIUS=500;X-TITLE=3247 Friedensburg Road:geo:-75.799139,40.379717
END:VEVENT
BEGIN:VEVENT
DTSTART;TZID=America/New_York:20190630T090000
DTEND;TZID=America/New_York:20190630T100000
DTSTAMP:20260425T202439
CREATED:20181002T151904Z
LAST-MODIFIED:20190603T013257Z
UID:10001022-1561885200-1561888800@ccoley.com
SUMMARY:Sunday Bible Study
DESCRIPTION:We are currently studying the Book of Matthew and will be starting 2 Peter.
URL:https://ccoley.com/event/sunday-bible-study-2/2019-06-30/
LOCATION:Oley Valley Elementary School\, 3247 Friedensburg Road\, Oley\, PA\, 19547\, United States
CATEGORIES:Sunday Bible Study
ORGANIZER;CN="Oskars Rieksts":MAILTO:rieksts385@yahoo.com
GEO:40.379717;-75.799139
X-APPLE-STRUCTURED-LOCATION;VALUE=URI;X-ADDRESS=Oley Valley Elementary School 3247 Friedensburg Road Oley PA 19547 United States;X-APPLE-RADIUS=500;X-TITLE=3247 Friedensburg Road:geo:-75.799139,40.379717
END:VEVENT
BEGIN:VEVENT
DTSTART;TZID=America/New_York:20190623T113000
DTEND;TZID=America/New_York:20190623T130000
DTSTAMP:20260425T202439
CREATED:20181002T152826Z
LAST-MODIFIED:20220618T232200Z
UID:10000612-1561289400-1561294800@ccoley.com
SUMMARY:Sunday Fellowship
DESCRIPTION:Enjoy fellowship after the service.
URL:https://ccoley.com/event/sunday-fellowship/2019-06-23/
LOCATION:Oley Valley Elementary School\, 3247 Friedensburg Road\, Oley\, PA\, 19547\, United States
CATEGORIES:Family
ORGANIZER;CN="Pastor Fred Bell":MAILTO:pastorfred@ccoley.com
GEO:40.379717;-75.799139
X-APPLE-STRUCTURED-LOCATION;VALUE=URI;X-ADDRESS=Oley Valley Elementary School 3247 Friedensburg Road Oley PA 19547 United States;X-APPLE-RADIUS=500;X-TITLE=3247 Friedensburg Road:geo:-75.799139,40.379717
END:VEVENT
BEGIN:VEVENT
DTSTART;TZID=America/New_York:20190623T100000
DTEND;TZID=America/New_York:20190623T113000
DTSTAMP:20260425T202439
CREATED:20150315T185919Z
LAST-MODIFIED:20220919T003711Z
UID:10001510-1561284000-1561289400@ccoley.com
SUMMARY:Worship Service
DESCRIPTION:We are currently studying 1 Corinthians.
URL:https://ccoley.com/event/worship-service/2019-06-23/
LOCATION:Oley Valley Elementary School\, 3247 Friedensburg Road\, Oley\, PA\, 19547\, United States
CATEGORIES:Worship Service
ORGANIZER;CN="Pastor Fred Bell":MAILTO:pastorfred@ccoley.com
GEO:40.379717;-75.799139
X-APPLE-STRUCTURED-LOCATION;VALUE=URI;X-ADDRESS=Oley Valley Elementary School 3247 Friedensburg Road Oley PA 19547 United States;X-APPLE-RADIUS=500;X-TITLE=3247 Friedensburg Road:geo:-75.799139,40.379717
END:VEVENT
BEGIN:VEVENT
DTSTART;TZID=America/New_York:20190623T090000
DTEND;TZID=America/New_York:20190623T100000
DTSTAMP:20260425T202439
CREATED:20181002T151904Z
LAST-MODIFIED:20190603T013257Z
UID:10001021-1561280400-1561284000@ccoley.com
SUMMARY:Sunday Bible Study
DESCRIPTION:We are currently studying the Book of Matthew and will be starting 2 Peter.
URL:https://ccoley.com/event/sunday-bible-study-2/2019-06-23/
LOCATION:Oley Valley Elementary School\, 3247 Friedensburg Road\, Oley\, PA\, 19547\, United States
CATEGORIES:Sunday Bible Study
ORGANIZER;CN="Oskars Rieksts":MAILTO:rieksts385@yahoo.com
GEO:40.379717;-75.799139
X-APPLE-STRUCTURED-LOCATION;VALUE=URI;X-ADDRESS=Oley Valley Elementary School 3247 Friedensburg Road Oley PA 19547 United States;X-APPLE-RADIUS=500;X-TITLE=3247 Friedensburg Road:geo:-75.799139,40.379717
END:VEVENT
BEGIN:VEVENT
DTSTART;TZID=America/New_York:20190616T113000
DTEND;TZID=America/New_York:20190616T130000
DTSTAMP:20260425T202440
CREATED:20181002T152826Z
LAST-MODIFIED:20220618T232200Z
UID:10000611-1560684600-1560690000@ccoley.com
SUMMARY:Sunday Fellowship
DESCRIPTION:Enjoy fellowship after the service.
URL:https://ccoley.com/event/sunday-fellowship/2019-06-16/
LOCATION:Oley Valley Elementary School\, 3247 Friedensburg Road\, Oley\, PA\, 19547\, United States
CATEGORIES:Family
ORGANIZER;CN="Pastor Fred Bell":MAILTO:pastorfred@ccoley.com
GEO:40.379717;-75.799139
X-APPLE-STRUCTURED-LOCATION;VALUE=URI;X-ADDRESS=Oley Valley Elementary School 3247 Friedensburg Road Oley PA 19547 United States;X-APPLE-RADIUS=500;X-TITLE=3247 Friedensburg Road:geo:-75.799139,40.379717
END:VEVENT
BEGIN:VEVENT
DTSTART;TZID=America/New_York:20190616T100000
DTEND;TZID=America/New_York:20190616T113000
DTSTAMP:20260425T202440
CREATED:20150315T185919Z
LAST-MODIFIED:20220919T003711Z
UID:10001509-1560679200-1560684600@ccoley.com
SUMMARY:Worship Service
DESCRIPTION:We are currently studying 1 Corinthians.
URL:https://ccoley.com/event/worship-service/2019-06-16/
LOCATION:Oley Valley Elementary School\, 3247 Friedensburg Road\, Oley\, PA\, 19547\, United States
CATEGORIES:Worship Service
ORGANIZER;CN="Pastor Fred Bell":MAILTO:pastorfred@ccoley.com
GEO:40.379717;-75.799139
X-APPLE-STRUCTURED-LOCATION;VALUE=URI;X-ADDRESS=Oley Valley Elementary School 3247 Friedensburg Road Oley PA 19547 United States;X-APPLE-RADIUS=500;X-TITLE=3247 Friedensburg Road:geo:-75.799139,40.379717
END:VEVENT
BEGIN:VEVENT
DTSTART;TZID=America/New_York:20190616T090000
DTEND;TZID=America/New_York:20190616T100000
DTSTAMP:20260425T202440
CREATED:20181002T151904Z
LAST-MODIFIED:20190603T013257Z
UID:10001020-1560675600-1560679200@ccoley.com
SUMMARY:Sunday Bible Study
DESCRIPTION:We are currently studying the Book of Matthew and will be starting 2 Peter.
URL:https://ccoley.com/event/sunday-bible-study-2/2019-06-16/
LOCATION:Oley Valley Elementary School\, 3247 Friedensburg Road\, Oley\, PA\, 19547\, United States
CATEGORIES:Sunday Bible Study
ORGANIZER;CN="Oskars Rieksts":MAILTO:rieksts385@yahoo.com
GEO:40.379717;-75.799139
X-APPLE-STRUCTURED-LOCATION;VALUE=URI;X-ADDRESS=Oley Valley Elementary School 3247 Friedensburg Road Oley PA 19547 United States;X-APPLE-RADIUS=500;X-TITLE=3247 Friedensburg Road:geo:-75.799139,40.379717
END:VEVENT
BEGIN:VEVENT
DTSTART;TZID=America/New_York:20190609T113000
DTEND;TZID=America/New_York:20190609T130000
DTSTAMP:20260425T202440
CREATED:20181002T152826Z
LAST-MODIFIED:20220618T232200Z
UID:10000610-1560079800-1560085200@ccoley.com
SUMMARY:Sunday Fellowship
DESCRIPTION:Enjoy fellowship after the service.
URL:https://ccoley.com/event/sunday-fellowship/2019-06-09/
LOCATION:Oley Valley Elementary School\, 3247 Friedensburg Road\, Oley\, PA\, 19547\, United States
CATEGORIES:Family
ORGANIZER;CN="Pastor Fred Bell":MAILTO:pastorfred@ccoley.com
GEO:40.379717;-75.799139
X-APPLE-STRUCTURED-LOCATION;VALUE=URI;X-ADDRESS=Oley Valley Elementary School 3247 Friedensburg Road Oley PA 19547 United States;X-APPLE-RADIUS=500;X-TITLE=3247 Friedensburg Road:geo:-75.799139,40.379717
END:VEVENT
BEGIN:VEVENT
DTSTART;TZID=America/New_York:20190609T100000
DTEND;TZID=America/New_York:20190609T113000
DTSTAMP:20260425T202440
CREATED:20150315T185919Z
LAST-MODIFIED:20220919T003711Z
UID:10001508-1560074400-1560079800@ccoley.com
SUMMARY:Worship Service
DESCRIPTION:We are currently studying 1 Corinthians.
URL:https://ccoley.com/event/worship-service/2019-06-09/
LOCATION:Oley Valley Elementary School\, 3247 Friedensburg Road\, Oley\, PA\, 19547\, United States
CATEGORIES:Worship Service
ORGANIZER;CN="Pastor Fred Bell":MAILTO:pastorfred@ccoley.com
GEO:40.379717;-75.799139
X-APPLE-STRUCTURED-LOCATION;VALUE=URI;X-ADDRESS=Oley Valley Elementary School 3247 Friedensburg Road Oley PA 19547 United States;X-APPLE-RADIUS=500;X-TITLE=3247 Friedensburg Road:geo:-75.799139,40.379717
END:VEVENT
BEGIN:VEVENT
DTSTART;TZID=America/New_York:20190609T090000
DTEND;TZID=America/New_York:20190609T100000
DTSTAMP:20260425T202440
CREATED:20181002T151904Z
LAST-MODIFIED:20190603T013257Z
UID:10001019-1560070800-1560074400@ccoley.com
SUMMARY:Sunday Bible Study
DESCRIPTION:We are currently studying the Book of Matthew and will be starting 2 Peter.
URL:https://ccoley.com/event/sunday-bible-study-2/2019-06-09/
LOCATION:Oley Valley Elementary School\, 3247 Friedensburg Road\, Oley\, PA\, 19547\, United States
CATEGORIES:Sunday Bible Study
ORGANIZER;CN="Oskars Rieksts":MAILTO:rieksts385@yahoo.com
GEO:40.379717;-75.799139
X-APPLE-STRUCTURED-LOCATION;VALUE=URI;X-ADDRESS=Oley Valley Elementary School 3247 Friedensburg Road Oley PA 19547 United States;X-APPLE-RADIUS=500;X-TITLE=3247 Friedensburg Road:geo:-75.799139,40.379717
END:VEVENT
BEGIN:VEVENT
DTSTART;TZID=America/New_York:20190602T113000
DTEND;TZID=America/New_York:20190602T130000
DTSTAMP:20260425T202440
CREATED:20181002T152826Z
LAST-MODIFIED:20220618T232200Z
UID:10000609-1559475000-1559480400@ccoley.com
SUMMARY:Sunday Fellowship
DESCRIPTION:Enjoy fellowship after the service.
URL:https://ccoley.com/event/sunday-fellowship/2019-06-02/
LOCATION:Oley Valley Elementary School\, 3247 Friedensburg Road\, Oley\, PA\, 19547\, United States
CATEGORIES:Family
ORGANIZER;CN="Pastor Fred Bell":MAILTO:pastorfred@ccoley.com
GEO:40.379717;-75.799139
X-APPLE-STRUCTURED-LOCATION;VALUE=URI;X-ADDRESS=Oley Valley Elementary School 3247 Friedensburg Road Oley PA 19547 United States;X-APPLE-RADIUS=500;X-TITLE=3247 Friedensburg Road:geo:-75.799139,40.379717
END:VEVENT
BEGIN:VEVENT
DTSTART;TZID=America/New_York:20190602T100000
DTEND;TZID=America/New_York:20190602T113000
DTSTAMP:20260425T202440
CREATED:20150315T185919Z
LAST-MODIFIED:20220919T003711Z
UID:10001507-1559469600-1559475000@ccoley.com
SUMMARY:Worship Service
DESCRIPTION:We are currently studying 1 Corinthians.
URL:https://ccoley.com/event/worship-service/2019-06-02/
LOCATION:Oley Valley Elementary School\, 3247 Friedensburg Road\, Oley\, PA\, 19547\, United States
CATEGORIES:Worship Service
ORGANIZER;CN="Pastor Fred Bell":MAILTO:pastorfred@ccoley.com
GEO:40.379717;-75.799139
X-APPLE-STRUCTURED-LOCATION;VALUE=URI;X-ADDRESS=Oley Valley Elementary School 3247 Friedensburg Road Oley PA 19547 United States;X-APPLE-RADIUS=500;X-TITLE=3247 Friedensburg Road:geo:-75.799139,40.379717
END:VEVENT
BEGIN:VEVENT
DTSTART;TZID=America/New_York:20190602T090000
DTEND;TZID=America/New_York:20190602T100000
DTSTAMP:20260425T202440
CREATED:20181002T151904Z
LAST-MODIFIED:20190603T013257Z
UID:10001018-1559466000-1559469600@ccoley.com
SUMMARY:Sunday Bible Study
DESCRIPTION:We are currently studying the Book of Matthew and will be starting 2 Peter.
URL:https://ccoley.com/event/sunday-bible-study-2/2019-06-02/
LOCATION:Oley Valley Elementary School\, 3247 Friedensburg Road\, Oley\, PA\, 19547\, United States
CATEGORIES:Sunday Bible Study
ORGANIZER;CN="Oskars Rieksts":MAILTO:rieksts385@yahoo.com
GEO:40.379717;-75.799139
X-APPLE-STRUCTURED-LOCATION;VALUE=URI;X-ADDRESS=Oley Valley Elementary School 3247 Friedensburg Road Oley PA 19547 United States;X-APPLE-RADIUS=500;X-TITLE=3247 Friedensburg Road:geo:-75.799139,40.379717
END:VEVENT
BEGIN:VEVENT
DTSTART;TZID=America/New_York:20190526T113000
DTEND;TZID=America/New_York:20190526T130000
DTSTAMP:20260425T202440
CREATED:20181002T152826Z
LAST-MODIFIED:20220618T232200Z
UID:10000608-1558870200-1558875600@ccoley.com
SUMMARY:Sunday Fellowship
DESCRIPTION:Enjoy fellowship after the service.
URL:https://ccoley.com/event/sunday-fellowship/2019-05-26/
LOCATION:Oley Valley Elementary School\, 3247 Friedensburg Road\, Oley\, PA\, 19547\, United States
CATEGORIES:Family
ORGANIZER;CN="Pastor Fred Bell":MAILTO:pastorfred@ccoley.com
GEO:40.379717;-75.799139
X-APPLE-STRUCTURED-LOCATION;VALUE=URI;X-ADDRESS=Oley Valley Elementary School 3247 Friedensburg Road Oley PA 19547 United States;X-APPLE-RADIUS=500;X-TITLE=3247 Friedensburg Road:geo:-75.799139,40.379717
END:VEVENT
BEGIN:VEVENT
DTSTART;TZID=America/New_York:20190526T100000
DTEND;TZID=America/New_York:20190526T113000
DTSTAMP:20260425T202440
CREATED:20150315T185919Z
LAST-MODIFIED:20220919T003711Z
UID:10001506-1558864800-1558870200@ccoley.com
SUMMARY:Worship Service
DESCRIPTION:We are currently studying 1 Corinthians.
URL:https://ccoley.com/event/worship-service/2019-05-26/
LOCATION:Oley Valley Elementary School\, 3247 Friedensburg Road\, Oley\, PA\, 19547\, United States
CATEGORIES:Worship Service
ORGANIZER;CN="Pastor Fred Bell":MAILTO:pastorfred@ccoley.com
GEO:40.379717;-75.799139
X-APPLE-STRUCTURED-LOCATION;VALUE=URI;X-ADDRESS=Oley Valley Elementary School 3247 Friedensburg Road Oley PA 19547 United States;X-APPLE-RADIUS=500;X-TITLE=3247 Friedensburg Road:geo:-75.799139,40.379717
END:VEVENT
BEGIN:VEVENT
DTSTART;TZID=America/New_York:20190526T090000
DTEND;TZID=America/New_York:20190526T100000
DTSTAMP:20260425T202440
CREATED:20181002T151904Z
LAST-MODIFIED:20190603T013257Z
UID:10001017-1558861200-1558864800@ccoley.com
SUMMARY:Sunday Bible Study
DESCRIPTION:We are currently studying the Book of Matthew and will be starting 2 Peter.
URL:https://ccoley.com/event/sunday-bible-study-2/2019-05-26/
LOCATION:Oley Valley Elementary School\, 3247 Friedensburg Road\, Oley\, PA\, 19547\, United States
CATEGORIES:Sunday Bible Study
ORGANIZER;CN="Oskars Rieksts":MAILTO:rieksts385@yahoo.com
GEO:40.379717;-75.799139
X-APPLE-STRUCTURED-LOCATION;VALUE=URI;X-ADDRESS=Oley Valley Elementary School 3247 Friedensburg Road Oley PA 19547 United States;X-APPLE-RADIUS=500;X-TITLE=3247 Friedensburg Road:geo:-75.799139,40.379717
END:VEVENT
BEGIN:VEVENT
DTSTART;TZID=America/New_York:20190519T113000
DTEND;TZID=America/New_York:20190519T130000
DTSTAMP:20260425T202440
CREATED:20181002T152826Z
LAST-MODIFIED:20220618T232200Z
UID:10000607-1558265400-1558270800@ccoley.com
SUMMARY:Sunday Fellowship
DESCRIPTION:Enjoy fellowship after the service.
URL:https://ccoley.com/event/sunday-fellowship/2019-05-19/
LOCATION:Oley Valley Elementary School\, 3247 Friedensburg Road\, Oley\, PA\, 19547\, United States
CATEGORIES:Family
ORGANIZER;CN="Pastor Fred Bell":MAILTO:pastorfred@ccoley.com
GEO:40.379717;-75.799139
X-APPLE-STRUCTURED-LOCATION;VALUE=URI;X-ADDRESS=Oley Valley Elementary School 3247 Friedensburg Road Oley PA 19547 United States;X-APPLE-RADIUS=500;X-TITLE=3247 Friedensburg Road:geo:-75.799139,40.379717
END:VEVENT
BEGIN:VEVENT
DTSTART;TZID=America/New_York:20190519T100000
DTEND;TZID=America/New_York:20190519T113000
DTSTAMP:20260425T202440
CREATED:20150315T185919Z
LAST-MODIFIED:20220919T003711Z
UID:10001505-1558260000-1558265400@ccoley.com
SUMMARY:Worship Service
DESCRIPTION:We are currently studying 1 Corinthians.
URL:https://ccoley.com/event/worship-service/2019-05-19/
LOCATION:Oley Valley Elementary School\, 3247 Friedensburg Road\, Oley\, PA\, 19547\, United States
CATEGORIES:Worship Service
ORGANIZER;CN="Pastor Fred Bell":MAILTO:pastorfred@ccoley.com
GEO:40.379717;-75.799139
X-APPLE-STRUCTURED-LOCATION;VALUE=URI;X-ADDRESS=Oley Valley Elementary School 3247 Friedensburg Road Oley PA 19547 United States;X-APPLE-RADIUS=500;X-TITLE=3247 Friedensburg Road:geo:-75.799139,40.379717
END:VEVENT
END:VCALENDAR