BEGIN:VCALENDAR
VERSION:2.0
PRODID:-//Calvary Chapel of the Oley Valley - ECPv6.15.20//NONSGML v1.0//EN
CALSCALE:GREGORIAN
METHOD:PUBLISH
X-WR-CALNAME:Calvary Chapel of the Oley Valley
X-ORIGINAL-URL:https://ccoley.com
X-WR-CALDESC:Events for Calvary Chapel of the Oley Valley
REFRESH-INTERVAL;VALUE=DURATION:PT1H
X-Robots-Tag:noindex
X-PUBLISHED-TTL:PT1H
BEGIN:VTIMEZONE
TZID:America/New_York
BEGIN:DAYLIGHT
TZOFFSETFROM:-0500
TZOFFSETTO:-0400
TZNAME:EDT
DTSTART:20170312T070000
END:DAYLIGHT
BEGIN:STANDARD
TZOFFSETFROM:-0400
TZOFFSETTO:-0500
TZNAME:EST
DTSTART:20171105T060000
END:STANDARD
BEGIN:DAYLIGHT
TZOFFSETFROM:-0500
TZOFFSETTO:-0400
TZNAME:EDT
DTSTART:20180311T070000
END:DAYLIGHT
BEGIN:STANDARD
TZOFFSETFROM:-0400
TZOFFSETTO:-0500
TZNAME:EST
DTSTART:20181104T060000
END:STANDARD
BEGIN:DAYLIGHT
TZOFFSETFROM:-0500
TZOFFSETTO:-0400
TZNAME:EDT
DTSTART:20190310T070000
END:DAYLIGHT
BEGIN:STANDARD
TZOFFSETFROM:-0400
TZOFFSETTO:-0500
TZNAME:EST
DTSTART:20191103T060000
END:STANDARD
END:VTIMEZONE
BEGIN:VEVENT
DTSTART;TZID=America/New_York:20180519T170000
DTEND;TZID=America/New_York:20180519T193000
DTSTAMP:20260422T221648
CREATED:20180516T121230Z
LAST-MODIFIED:20180516T121230Z
UID:10000141-1526749200-1526758200@ccoley.com
SUMMARY:Spaghetti Dinner and Silent Auction
DESCRIPTION:This event will help raise funds for the Swartzentruber family’s mission trip to Guatemala this summer.  Donations for the Silent Auction are welcome.  All proceed benefit Field of Harvest Missions Guatemala.
URL:https://ccoley.com/event/spaghetti-dinner-and-silent-auction/
LOCATION:Macungie Christian Community Church\, 126 S. Church St.\, Macungie\, PA\, 18062\, United States
GEO:40.5118816;-75.556472
X-APPLE-STRUCTURED-LOCATION;VALUE=URI;X-ADDRESS=Macungie Christian Community Church 126 S. Church St. Macungie PA 18062 United States;X-APPLE-RADIUS=500;X-TITLE=126 S. Church St.:geo:-75.556472,40.5118816
END:VEVENT
END:VCALENDAR