BEGIN:VCALENDAR
VERSION:2.0
PRODID:-//Calvary Chapel of the Oley Valley - ECPv6.15.20//NONSGML v1.0//EN
CALSCALE:GREGORIAN
METHOD:PUBLISH
X-WR-CALNAME:Calvary Chapel of the Oley Valley
X-ORIGINAL-URL:https://ccoley.com
X-WR-CALDESC:Events for Calvary Chapel of the Oley Valley
REFRESH-INTERVAL;VALUE=DURATION:PT1H
X-Robots-Tag:noindex
X-PUBLISHED-TTL:PT1H
BEGIN:VTIMEZONE
TZID:America/New_York
BEGIN:DAYLIGHT
TZOFFSETFROM:-0500
TZOFFSETTO:-0400
TZNAME:EDT
DTSTART:20170312T070000
END:DAYLIGHT
BEGIN:STANDARD
TZOFFSETFROM:-0400
TZOFFSETTO:-0500
TZNAME:EST
DTSTART:20171105T060000
END:STANDARD
BEGIN:DAYLIGHT
TZOFFSETFROM:-0500
TZOFFSETTO:-0400
TZNAME:EDT
DTSTART:20180311T070000
END:DAYLIGHT
BEGIN:STANDARD
TZOFFSETFROM:-0400
TZOFFSETTO:-0500
TZNAME:EST
DTSTART:20181104T060000
END:STANDARD
BEGIN:DAYLIGHT
TZOFFSETFROM:-0500
TZOFFSETTO:-0400
TZNAME:EDT
DTSTART:20190310T070000
END:DAYLIGHT
BEGIN:STANDARD
TZOFFSETFROM:-0400
TZOFFSETTO:-0500
TZNAME:EST
DTSTART:20191103T060000
END:STANDARD
BEGIN:DAYLIGHT
TZOFFSETFROM:-0500
TZOFFSETTO:-0400
TZNAME:EDT
DTSTART:20200308T070000
END:DAYLIGHT
BEGIN:STANDARD
TZOFFSETFROM:-0400
TZOFFSETTO:-0500
TZNAME:EST
DTSTART:20201101T060000
END:STANDARD
END:VTIMEZONE
BEGIN:VEVENT
DTSTART;TZID=America/New_York:20190314T190000
DTEND;TZID=America/New_York:20190314T203000
DTSTAMP:20260423T033005
CREATED:20181002T151620Z
LAST-MODIFIED:20220919T005251Z
UID:10001045-1552590000-1552595400@ccoley.com
SUMMARY:Youth Group Bible Study
DESCRIPTION:Please let Steve Shirey know if you would like to be part of a youth group that takes God’s Word seriously in knowing how to live as believers in an ever-changing culture. \nSteve will continue in the Book of 1 John.
URL:https://ccoley.com/event/youth-group-3/2019-03-14/
LOCATION:Pastor Fred’s Office\, 603 Main Street\, Oley\, PA\, 19547\, United States
CATEGORIES:Youth Group Bible Study
ORGANIZER;CN="Steve Shirey":MAILTO:ssbirdman71@yahoo.com
GEO:40.385459;-75.785408
X-APPLE-STRUCTURED-LOCATION;VALUE=URI;X-ADDRESS=Pastor Fred’s Office 603 Main Street Oley PA 19547 United States;X-APPLE-RADIUS=500;X-TITLE=603 Main Street:geo:-75.785408,40.385459
END:VEVENT
BEGIN:VEVENT
DTSTART;TZID=America/New_York:20190307T190000
DTEND;TZID=America/New_York:20190307T203000
DTSTAMP:20260423T033005
CREATED:20181002T151620Z
LAST-MODIFIED:20220919T005251Z
UID:10001044-1551985200-1551990600@ccoley.com
SUMMARY:Youth Group Bible Study
DESCRIPTION:Please let Steve Shirey know if you would like to be part of a youth group that takes God’s Word seriously in knowing how to live as believers in an ever-changing culture. \nSteve will continue in the Book of 1 John.
URL:https://ccoley.com/event/youth-group-3/2019-03-07/
LOCATION:Pastor Fred’s Office\, 603 Main Street\, Oley\, PA\, 19547\, United States
CATEGORIES:Youth Group Bible Study
ORGANIZER;CN="Steve Shirey":MAILTO:ssbirdman71@yahoo.com
GEO:40.385459;-75.785408
X-APPLE-STRUCTURED-LOCATION;VALUE=URI;X-ADDRESS=Pastor Fred’s Office 603 Main Street Oley PA 19547 United States;X-APPLE-RADIUS=500;X-TITLE=603 Main Street:geo:-75.785408,40.385459
END:VEVENT
BEGIN:VEVENT
DTSTART;TZID=America/New_York:20190228T190000
DTEND;TZID=America/New_York:20190228T203000
DTSTAMP:20260423T033005
CREATED:20181002T151620Z
LAST-MODIFIED:20220919T005251Z
UID:10001043-1551380400-1551385800@ccoley.com
SUMMARY:Youth Group Bible Study
DESCRIPTION:Please let Steve Shirey know if you would like to be part of a youth group that takes God’s Word seriously in knowing how to live as believers in an ever-changing culture. \nSteve will continue in the Book of 1 John.
URL:https://ccoley.com/event/youth-group-3/2019-02-28/
LOCATION:Pastor Fred’s Office\, 603 Main Street\, Oley\, PA\, 19547\, United States
CATEGORIES:Youth Group Bible Study
ORGANIZER;CN="Steve Shirey":MAILTO:ssbirdman71@yahoo.com
GEO:40.385459;-75.785408
X-APPLE-STRUCTURED-LOCATION;VALUE=URI;X-ADDRESS=Pastor Fred’s Office 603 Main Street Oley PA 19547 United States;X-APPLE-RADIUS=500;X-TITLE=603 Main Street:geo:-75.785408,40.385459
END:VEVENT
BEGIN:VEVENT
DTSTART;TZID=America/New_York:20190221T190000
DTEND;TZID=America/New_York:20190221T203000
DTSTAMP:20260423T033005
CREATED:20181002T151620Z
LAST-MODIFIED:20220919T005251Z
UID:10001042-1550775600-1550781000@ccoley.com
SUMMARY:Youth Group Bible Study
DESCRIPTION:Please let Steve Shirey know if you would like to be part of a youth group that takes God’s Word seriously in knowing how to live as believers in an ever-changing culture. \nSteve will continue in the Book of 1 John.
URL:https://ccoley.com/event/youth-group-3/2019-02-21/
LOCATION:Pastor Fred’s Office\, 603 Main Street\, Oley\, PA\, 19547\, United States
CATEGORIES:Youth Group Bible Study
ORGANIZER;CN="Steve Shirey":MAILTO:ssbirdman71@yahoo.com
GEO:40.385459;-75.785408
X-APPLE-STRUCTURED-LOCATION;VALUE=URI;X-ADDRESS=Pastor Fred’s Office 603 Main Street Oley PA 19547 United States;X-APPLE-RADIUS=500;X-TITLE=603 Main Street:geo:-75.785408,40.385459
END:VEVENT
BEGIN:VEVENT
DTSTART;TZID=America/New_York:20190214T190000
DTEND;TZID=America/New_York:20190214T203000
DTSTAMP:20260423T033005
CREATED:20181002T151620Z
LAST-MODIFIED:20220919T005251Z
UID:10001041-1550170800-1550176200@ccoley.com
SUMMARY:Youth Group Bible Study
DESCRIPTION:Please let Steve Shirey know if you would like to be part of a youth group that takes God’s Word seriously in knowing how to live as believers in an ever-changing culture. \nSteve will continue in the Book of 1 John.
URL:https://ccoley.com/event/youth-group-3/2019-02-14/
LOCATION:Pastor Fred’s Office\, 603 Main Street\, Oley\, PA\, 19547\, United States
CATEGORIES:Youth Group Bible Study
ORGANIZER;CN="Steve Shirey":MAILTO:ssbirdman71@yahoo.com
GEO:40.385459;-75.785408
X-APPLE-STRUCTURED-LOCATION;VALUE=URI;X-ADDRESS=Pastor Fred’s Office 603 Main Street Oley PA 19547 United States;X-APPLE-RADIUS=500;X-TITLE=603 Main Street:geo:-75.785408,40.385459
END:VEVENT
BEGIN:VEVENT
DTSTART;TZID=America/New_York:20190207T190000
DTEND;TZID=America/New_York:20190207T203000
DTSTAMP:20260423T033005
CREATED:20181002T151620Z
LAST-MODIFIED:20220919T005251Z
UID:10001040-1549566000-1549571400@ccoley.com
SUMMARY:Youth Group Bible Study
DESCRIPTION:Please let Steve Shirey know if you would like to be part of a youth group that takes God’s Word seriously in knowing how to live as believers in an ever-changing culture. \nSteve will continue in the Book of 1 John.
URL:https://ccoley.com/event/youth-group-3/2019-02-07/
LOCATION:Pastor Fred’s Office\, 603 Main Street\, Oley\, PA\, 19547\, United States
CATEGORIES:Youth Group Bible Study
ORGANIZER;CN="Steve Shirey":MAILTO:ssbirdman71@yahoo.com
GEO:40.385459;-75.785408
X-APPLE-STRUCTURED-LOCATION;VALUE=URI;X-ADDRESS=Pastor Fred’s Office 603 Main Street Oley PA 19547 United States;X-APPLE-RADIUS=500;X-TITLE=603 Main Street:geo:-75.785408,40.385459
END:VEVENT
BEGIN:VEVENT
DTSTART;TZID=America/New_York:20190131T190000
DTEND;TZID=America/New_York:20190131T203000
DTSTAMP:20260423T033005
CREATED:20181002T151620Z
LAST-MODIFIED:20220919T005251Z
UID:10001039-1548961200-1548966600@ccoley.com
SUMMARY:Youth Group Bible Study
DESCRIPTION:Please let Steve Shirey know if you would like to be part of a youth group that takes God’s Word seriously in knowing how to live as believers in an ever-changing culture. \nSteve will continue in the Book of 1 John.
URL:https://ccoley.com/event/youth-group-3/2019-01-31/
LOCATION:Pastor Fred’s Office\, 603 Main Street\, Oley\, PA\, 19547\, United States
CATEGORIES:Youth Group Bible Study
ORGANIZER;CN="Steve Shirey":MAILTO:ssbirdman71@yahoo.com
GEO:40.385459;-75.785408
X-APPLE-STRUCTURED-LOCATION;VALUE=URI;X-ADDRESS=Pastor Fred’s Office 603 Main Street Oley PA 19547 United States;X-APPLE-RADIUS=500;X-TITLE=603 Main Street:geo:-75.785408,40.385459
END:VEVENT
BEGIN:VEVENT
DTSTART;TZID=America/New_York:20190124T190000
DTEND;TZID=America/New_York:20190124T203000
DTSTAMP:20260423T033005
CREATED:20181002T151620Z
LAST-MODIFIED:20220919T005251Z
UID:10001038-1548356400-1548361800@ccoley.com
SUMMARY:Youth Group Bible Study
DESCRIPTION:Please let Steve Shirey know if you would like to be part of a youth group that takes God’s Word seriously in knowing how to live as believers in an ever-changing culture. \nSteve will continue in the Book of 1 John.
URL:https://ccoley.com/event/youth-group-3/2019-01-24/
LOCATION:Pastor Fred’s Office\, 603 Main Street\, Oley\, PA\, 19547\, United States
CATEGORIES:Youth Group Bible Study
ORGANIZER;CN="Steve Shirey":MAILTO:ssbirdman71@yahoo.com
GEO:40.385459;-75.785408
X-APPLE-STRUCTURED-LOCATION;VALUE=URI;X-ADDRESS=Pastor Fred’s Office 603 Main Street Oley PA 19547 United States;X-APPLE-RADIUS=500;X-TITLE=603 Main Street:geo:-75.785408,40.385459
END:VEVENT
BEGIN:VEVENT
DTSTART;TZID=America/New_York:20190117T190000
DTEND;TZID=America/New_York:20190117T203000
DTSTAMP:20260423T033005
CREATED:20181002T151620Z
LAST-MODIFIED:20220919T005251Z
UID:10001037-1547751600-1547757000@ccoley.com
SUMMARY:Youth Group Bible Study
DESCRIPTION:Please let Steve Shirey know if you would like to be part of a youth group that takes God’s Word seriously in knowing how to live as believers in an ever-changing culture. \nSteve will continue in the Book of 1 John.
URL:https://ccoley.com/event/youth-group-3/2019-01-17/
LOCATION:Pastor Fred’s Office\, 603 Main Street\, Oley\, PA\, 19547\, United States
CATEGORIES:Youth Group Bible Study
ORGANIZER;CN="Steve Shirey":MAILTO:ssbirdman71@yahoo.com
GEO:40.385459;-75.785408
X-APPLE-STRUCTURED-LOCATION;VALUE=URI;X-ADDRESS=Pastor Fred’s Office 603 Main Street Oley PA 19547 United States;X-APPLE-RADIUS=500;X-TITLE=603 Main Street:geo:-75.785408,40.385459
END:VEVENT
BEGIN:VEVENT
DTSTART;TZID=America/New_York:20190110T190000
DTEND;TZID=America/New_York:20190110T203000
DTSTAMP:20260423T033005
CREATED:20181002T151620Z
LAST-MODIFIED:20220919T005251Z
UID:10001036-1547146800-1547152200@ccoley.com
SUMMARY:Youth Group Bible Study
DESCRIPTION:Please let Steve Shirey know if you would like to be part of a youth group that takes God’s Word seriously in knowing how to live as believers in an ever-changing culture. \nSteve will continue in the Book of 1 John.
URL:https://ccoley.com/event/youth-group-3/2019-01-10/
LOCATION:Pastor Fred’s Office\, 603 Main Street\, Oley\, PA\, 19547\, United States
CATEGORIES:Youth Group Bible Study
ORGANIZER;CN="Steve Shirey":MAILTO:ssbirdman71@yahoo.com
GEO:40.385459;-75.785408
X-APPLE-STRUCTURED-LOCATION;VALUE=URI;X-ADDRESS=Pastor Fred’s Office 603 Main Street Oley PA 19547 United States;X-APPLE-RADIUS=500;X-TITLE=603 Main Street:geo:-75.785408,40.385459
END:VEVENT
BEGIN:VEVENT
DTSTART;TZID=America/New_York:20181220T190000
DTEND;TZID=America/New_York:20181220T203000
DTSTAMP:20260423T033005
CREATED:20181002T151620Z
LAST-MODIFIED:20220919T005251Z
UID:10001035-1545332400-1545337800@ccoley.com
SUMMARY:Youth Group Bible Study
DESCRIPTION:Please let Steve Shirey know if you would like to be part of a youth group that takes God’s Word seriously in knowing how to live as believers in an ever-changing culture. \nSteve will continue in the Book of 1 John.
URL:https://ccoley.com/event/youth-group-3/2018-12-20/
LOCATION:Pastor Fred’s Office\, 603 Main Street\, Oley\, PA\, 19547\, United States
CATEGORIES:Youth Group Bible Study
ORGANIZER;CN="Steve Shirey":MAILTO:ssbirdman71@yahoo.com
GEO:40.385459;-75.785408
X-APPLE-STRUCTURED-LOCATION;VALUE=URI;X-ADDRESS=Pastor Fred’s Office 603 Main Street Oley PA 19547 United States;X-APPLE-RADIUS=500;X-TITLE=603 Main Street:geo:-75.785408,40.385459
END:VEVENT
BEGIN:VEVENT
DTSTART;TZID=America/New_York:20181213T190000
DTEND;TZID=America/New_York:20181213T203000
DTSTAMP:20260423T033005
CREATED:20181002T151620Z
LAST-MODIFIED:20220919T005251Z
UID:10001034-1544727600-1544733000@ccoley.com
SUMMARY:Youth Group Bible Study
DESCRIPTION:Please let Steve Shirey know if you would like to be part of a youth group that takes God’s Word seriously in knowing how to live as believers in an ever-changing culture. \nSteve will continue in the Book of 1 John.
URL:https://ccoley.com/event/youth-group-3/2018-12-13/
LOCATION:Pastor Fred’s Office\, 603 Main Street\, Oley\, PA\, 19547\, United States
CATEGORIES:Youth Group Bible Study
ORGANIZER;CN="Steve Shirey":MAILTO:ssbirdman71@yahoo.com
GEO:40.385459;-75.785408
X-APPLE-STRUCTURED-LOCATION;VALUE=URI;X-ADDRESS=Pastor Fred’s Office 603 Main Street Oley PA 19547 United States;X-APPLE-RADIUS=500;X-TITLE=603 Main Street:geo:-75.785408,40.385459
END:VEVENT
BEGIN:VEVENT
DTSTART;TZID=America/New_York:20181206T190000
DTEND;TZID=America/New_York:20181206T203000
DTSTAMP:20260423T033005
CREATED:20181002T151620Z
LAST-MODIFIED:20220919T005251Z
UID:10001033-1544122800-1544128200@ccoley.com
SUMMARY:Youth Group Bible Study
DESCRIPTION:Please let Steve Shirey know if you would like to be part of a youth group that takes God’s Word seriously in knowing how to live as believers in an ever-changing culture. \nSteve will continue in the Book of 1 John.
URL:https://ccoley.com/event/youth-group-3/2018-12-06/
LOCATION:Pastor Fred’s Office\, 603 Main Street\, Oley\, PA\, 19547\, United States
CATEGORIES:Youth Group Bible Study
ORGANIZER;CN="Steve Shirey":MAILTO:ssbirdman71@yahoo.com
GEO:40.385459;-75.785408
X-APPLE-STRUCTURED-LOCATION;VALUE=URI;X-ADDRESS=Pastor Fred’s Office 603 Main Street Oley PA 19547 United States;X-APPLE-RADIUS=500;X-TITLE=603 Main Street:geo:-75.785408,40.385459
END:VEVENT
BEGIN:VEVENT
DTSTART;TZID=America/New_York:20181129T190000
DTEND;TZID=America/New_York:20181129T203000
DTSTAMP:20260423T033005
CREATED:20181002T151620Z
LAST-MODIFIED:20220919T005251Z
UID:10001032-1543518000-1543523400@ccoley.com
SUMMARY:Youth Group Bible Study
DESCRIPTION:Please let Steve Shirey know if you would like to be part of a youth group that takes God’s Word seriously in knowing how to live as believers in an ever-changing culture. \nSteve will continue in the Book of 1 John.
URL:https://ccoley.com/event/youth-group-3/2018-11-29/
LOCATION:Pastor Fred’s Office\, 603 Main Street\, Oley\, PA\, 19547\, United States
CATEGORIES:Youth Group Bible Study
ORGANIZER;CN="Steve Shirey":MAILTO:ssbirdman71@yahoo.com
GEO:40.385459;-75.785408
X-APPLE-STRUCTURED-LOCATION;VALUE=URI;X-ADDRESS=Pastor Fred’s Office 603 Main Street Oley PA 19547 United States;X-APPLE-RADIUS=500;X-TITLE=603 Main Street:geo:-75.785408,40.385459
END:VEVENT
BEGIN:VEVENT
DTSTART;TZID=America/New_York:20181122T190000
DTEND;TZID=America/New_York:20181122T203000
DTSTAMP:20260423T033005
CREATED:20181002T151620Z
LAST-MODIFIED:20220919T005251Z
UID:10001031-1542913200-1542918600@ccoley.com
SUMMARY:Youth Group Bible Study
DESCRIPTION:Please let Steve Shirey know if you would like to be part of a youth group that takes God’s Word seriously in knowing how to live as believers in an ever-changing culture. \nSteve will continue in the Book of 1 John.
URL:https://ccoley.com/event/youth-group-3/2018-11-22/
LOCATION:Pastor Fred’s Office\, 603 Main Street\, Oley\, PA\, 19547\, United States
CATEGORIES:Youth Group Bible Study
ORGANIZER;CN="Steve Shirey":MAILTO:ssbirdman71@yahoo.com
GEO:40.385459;-75.785408
X-APPLE-STRUCTURED-LOCATION;VALUE=URI;X-ADDRESS=Pastor Fred’s Office 603 Main Street Oley PA 19547 United States;X-APPLE-RADIUS=500;X-TITLE=603 Main Street:geo:-75.785408,40.385459
END:VEVENT
BEGIN:VEVENT
DTSTART;TZID=America/New_York:20181115T190000
DTEND;TZID=America/New_York:20181115T203000
DTSTAMP:20260423T033005
CREATED:20181002T151620Z
LAST-MODIFIED:20220919T005251Z
UID:10001030-1542308400-1542313800@ccoley.com
SUMMARY:Youth Group Bible Study
DESCRIPTION:Please let Steve Shirey know if you would like to be part of a youth group that takes God’s Word seriously in knowing how to live as believers in an ever-changing culture. \nSteve will continue in the Book of 1 John.
URL:https://ccoley.com/event/youth-group-3/2018-11-15/
LOCATION:Pastor Fred’s Office\, 603 Main Street\, Oley\, PA\, 19547\, United States
CATEGORIES:Youth Group Bible Study
ORGANIZER;CN="Steve Shirey":MAILTO:ssbirdman71@yahoo.com
GEO:40.385459;-75.785408
X-APPLE-STRUCTURED-LOCATION;VALUE=URI;X-ADDRESS=Pastor Fred’s Office 603 Main Street Oley PA 19547 United States;X-APPLE-RADIUS=500;X-TITLE=603 Main Street:geo:-75.785408,40.385459
END:VEVENT
BEGIN:VEVENT
DTSTART;TZID=America/New_York:20181108T190000
DTEND;TZID=America/New_York:20181108T203000
DTSTAMP:20260423T033005
CREATED:20181002T151620Z
LAST-MODIFIED:20220919T005251Z
UID:10001029-1541703600-1541709000@ccoley.com
SUMMARY:Youth Group Bible Study
DESCRIPTION:Please let Steve Shirey know if you would like to be part of a youth group that takes God’s Word seriously in knowing how to live as believers in an ever-changing culture. \nSteve will continue in the Book of 1 John.
URL:https://ccoley.com/event/youth-group-3/2018-11-08/
LOCATION:Pastor Fred’s Office\, 603 Main Street\, Oley\, PA\, 19547\, United States
CATEGORIES:Youth Group Bible Study
ORGANIZER;CN="Steve Shirey":MAILTO:ssbirdman71@yahoo.com
GEO:40.385459;-75.785408
X-APPLE-STRUCTURED-LOCATION;VALUE=URI;X-ADDRESS=Pastor Fred’s Office 603 Main Street Oley PA 19547 United States;X-APPLE-RADIUS=500;X-TITLE=603 Main Street:geo:-75.785408,40.385459
END:VEVENT
BEGIN:VEVENT
DTSTART;TZID=America/New_York:20181101T190000
DTEND;TZID=America/New_York:20181101T203000
DTSTAMP:20260423T033005
CREATED:20181002T151620Z
LAST-MODIFIED:20220919T005251Z
UID:10001028-1541098800-1541104200@ccoley.com
SUMMARY:Youth Group Bible Study
DESCRIPTION:Please let Steve Shirey know if you would like to be part of a youth group that takes God’s Word seriously in knowing how to live as believers in an ever-changing culture. \nSteve will continue in the Book of 1 John.
URL:https://ccoley.com/event/youth-group-3/2018-11-01/
LOCATION:Pastor Fred’s Office\, 603 Main Street\, Oley\, PA\, 19547\, United States
CATEGORIES:Youth Group Bible Study
ORGANIZER;CN="Steve Shirey":MAILTO:ssbirdman71@yahoo.com
GEO:40.385459;-75.785408
X-APPLE-STRUCTURED-LOCATION;VALUE=URI;X-ADDRESS=Pastor Fred’s Office 603 Main Street Oley PA 19547 United States;X-APPLE-RADIUS=500;X-TITLE=603 Main Street:geo:-75.785408,40.385459
END:VEVENT
BEGIN:VEVENT
DTSTART;TZID=America/New_York:20181025T190000
DTEND;TZID=America/New_York:20181025T203000
DTSTAMP:20260423T033005
CREATED:20181002T151620Z
LAST-MODIFIED:20220919T005251Z
UID:10001027-1540494000-1540499400@ccoley.com
SUMMARY:Youth Group Bible Study
DESCRIPTION:Please let Steve Shirey know if you would like to be part of a youth group that takes God’s Word seriously in knowing how to live as believers in an ever-changing culture. \nSteve will continue in the Book of 1 John.
URL:https://ccoley.com/event/youth-group-3/2018-10-25/
LOCATION:Pastor Fred’s Office\, 603 Main Street\, Oley\, PA\, 19547\, United States
CATEGORIES:Youth Group Bible Study
ORGANIZER;CN="Steve Shirey":MAILTO:ssbirdman71@yahoo.com
GEO:40.385459;-75.785408
X-APPLE-STRUCTURED-LOCATION;VALUE=URI;X-ADDRESS=Pastor Fred’s Office 603 Main Street Oley PA 19547 United States;X-APPLE-RADIUS=500;X-TITLE=603 Main Street:geo:-75.785408,40.385459
END:VEVENT
BEGIN:VEVENT
DTSTART;TZID=America/New_York:20181018T190000
DTEND;TZID=America/New_York:20181018T203000
DTSTAMP:20260423T033005
CREATED:20181002T151620Z
LAST-MODIFIED:20220919T005251Z
UID:10001026-1539889200-1539894600@ccoley.com
SUMMARY:Youth Group Bible Study
DESCRIPTION:Please let Steve Shirey know if you would like to be part of a youth group that takes God’s Word seriously in knowing how to live as believers in an ever-changing culture. \nSteve will continue in the Book of 1 John.
URL:https://ccoley.com/event/youth-group-3/2018-10-18/
LOCATION:Pastor Fred’s Office\, 603 Main Street\, Oley\, PA\, 19547\, United States
CATEGORIES:Youth Group Bible Study
ORGANIZER;CN="Steve Shirey":MAILTO:ssbirdman71@yahoo.com
GEO:40.385459;-75.785408
X-APPLE-STRUCTURED-LOCATION;VALUE=URI;X-ADDRESS=Pastor Fred’s Office 603 Main Street Oley PA 19547 United States;X-APPLE-RADIUS=500;X-TITLE=603 Main Street:geo:-75.785408,40.385459
END:VEVENT
BEGIN:VEVENT
DTSTART;TZID=America/New_York:20181011T190000
DTEND;TZID=America/New_York:20181011T203000
DTSTAMP:20260423T033005
CREATED:20181002T151620Z
LAST-MODIFIED:20220919T005251Z
UID:10001025-1539284400-1539289800@ccoley.com
SUMMARY:Youth Group Bible Study
DESCRIPTION:Please let Steve Shirey know if you would like to be part of a youth group that takes God’s Word seriously in knowing how to live as believers in an ever-changing culture. \nSteve will continue in the Book of 1 John.
URL:https://ccoley.com/event/youth-group-3/2018-10-11/
LOCATION:Pastor Fred’s Office\, 603 Main Street\, Oley\, PA\, 19547\, United States
CATEGORIES:Youth Group Bible Study
ORGANIZER;CN="Steve Shirey":MAILTO:ssbirdman71@yahoo.com
GEO:40.385459;-75.785408
X-APPLE-STRUCTURED-LOCATION;VALUE=URI;X-ADDRESS=Pastor Fred’s Office 603 Main Street Oley PA 19547 United States;X-APPLE-RADIUS=500;X-TITLE=603 Main Street:geo:-75.785408,40.385459
END:VEVENT
BEGIN:VEVENT
DTSTART;TZID=America/New_York:20181004T190000
DTEND;TZID=America/New_York:20181004T203000
DTSTAMP:20260423T033005
CREATED:20181002T151620Z
LAST-MODIFIED:20220919T005251Z
UID:10001024-1538679600-1538685000@ccoley.com
SUMMARY:Youth Group Bible Study
DESCRIPTION:Please let Steve Shirey know if you would like to be part of a youth group that takes God’s Word seriously in knowing how to live as believers in an ever-changing culture. \nSteve will continue in the Book of 1 John.
URL:https://ccoley.com/event/youth-group-3/2018-10-04/
LOCATION:Pastor Fred’s Office\, 603 Main Street\, Oley\, PA\, 19547\, United States
CATEGORIES:Youth Group Bible Study
ORGANIZER;CN="Steve Shirey":MAILTO:ssbirdman71@yahoo.com
GEO:40.385459;-75.785408
X-APPLE-STRUCTURED-LOCATION;VALUE=URI;X-ADDRESS=Pastor Fred’s Office 603 Main Street Oley PA 19547 United States;X-APPLE-RADIUS=500;X-TITLE=603 Main Street:geo:-75.785408,40.385459
END:VEVENT
BEGIN:VEVENT
DTSTART;TZID=America/New_York:20180927T190000
DTEND;TZID=America/New_York:20180927T203000
DTSTAMP:20260423T033005
CREATED:20181002T151620Z
LAST-MODIFIED:20220919T005251Z
UID:10001023-1538074800-1538080200@ccoley.com
SUMMARY:Youth Group Bible Study
DESCRIPTION:Please let Steve Shirey know if you would like to be part of a youth group that takes God’s Word seriously in knowing how to live as believers in an ever-changing culture. \nSteve will continue in the Book of 1 John.
URL:https://ccoley.com/event/youth-group-3/2018-09-27/
LOCATION:Pastor Fred’s Office\, 603 Main Street\, Oley\, PA\, 19547\, United States
CATEGORIES:Youth Group Bible Study
ORGANIZER;CN="Steve Shirey":MAILTO:ssbirdman71@yahoo.com
GEO:40.385459;-75.785408
X-APPLE-STRUCTURED-LOCATION;VALUE=URI;X-ADDRESS=Pastor Fred’s Office 603 Main Street Oley PA 19547 United States;X-APPLE-RADIUS=500;X-TITLE=603 Main Street:geo:-75.785408,40.385459
END:VEVENT
BEGIN:VEVENT
DTSTART;TZID=America/New_York:20180524T190000
DTEND;TZID=America/New_York:20180524T203000
DTSTAMP:20260423T033005
CREATED:20171226T211744Z
LAST-MODIFIED:20220919T003225Z
UID:10000138-1527188400-1527193800@ccoley.com
SUMMARY:Youth Group
DESCRIPTION:Please let Steve Shirey know if you would like to be part of a youth group that takes God’s Word seriously in knowing how to live as believers in an ever-changing culture. \nSteve will be teaching through the book of 1st John
URL:https://ccoley.com/event/youth-group-2/2018-05-24/
LOCATION:Pastor Fred’s Office\, 603 Main Street\, Oley\, PA\, 19547\, United States
CATEGORIES:Youth Group Bible Study
ORGANIZER;CN="Steve Shirey":MAILTO:ssbirdman71@yahoo.com
GEO:40.385459;-75.785408
X-APPLE-STRUCTURED-LOCATION;VALUE=URI;X-ADDRESS=Pastor Fred’s Office 603 Main Street Oley PA 19547 United States;X-APPLE-RADIUS=500;X-TITLE=603 Main Street:geo:-75.785408,40.385459
END:VEVENT
BEGIN:VEVENT
DTSTART;TZID=America/New_York:20180517T190000
DTEND;TZID=America/New_York:20180517T203000
DTSTAMP:20260423T033005
CREATED:20171226T211744Z
LAST-MODIFIED:20220919T003225Z
UID:10000137-1526583600-1526589000@ccoley.com
SUMMARY:Youth Group
DESCRIPTION:Please let Steve Shirey know if you would like to be part of a youth group that takes God’s Word seriously in knowing how to live as believers in an ever-changing culture. \nSteve will be teaching through the book of 1st John
URL:https://ccoley.com/event/youth-group-2/2018-05-17/
LOCATION:Pastor Fred’s Office\, 603 Main Street\, Oley\, PA\, 19547\, United States
CATEGORIES:Youth Group Bible Study
ORGANIZER;CN="Steve Shirey":MAILTO:ssbirdman71@yahoo.com
GEO:40.385459;-75.785408
X-APPLE-STRUCTURED-LOCATION;VALUE=URI;X-ADDRESS=Pastor Fred’s Office 603 Main Street Oley PA 19547 United States;X-APPLE-RADIUS=500;X-TITLE=603 Main Street:geo:-75.785408,40.385459
END:VEVENT
BEGIN:VEVENT
DTSTART;TZID=America/New_York:20180510T190000
DTEND;TZID=America/New_York:20180510T203000
DTSTAMP:20260423T033005
CREATED:20171226T211744Z
LAST-MODIFIED:20220919T003225Z
UID:10000136-1525978800-1525984200@ccoley.com
SUMMARY:Youth Group
DESCRIPTION:Please let Steve Shirey know if you would like to be part of a youth group that takes God’s Word seriously in knowing how to live as believers in an ever-changing culture. \nSteve will be teaching through the book of 1st John
URL:https://ccoley.com/event/youth-group-2/2018-05-10/
LOCATION:Pastor Fred’s Office\, 603 Main Street\, Oley\, PA\, 19547\, United States
CATEGORIES:Youth Group Bible Study
ORGANIZER;CN="Steve Shirey":MAILTO:ssbirdman71@yahoo.com
GEO:40.385459;-75.785408
X-APPLE-STRUCTURED-LOCATION;VALUE=URI;X-ADDRESS=Pastor Fred’s Office 603 Main Street Oley PA 19547 United States;X-APPLE-RADIUS=500;X-TITLE=603 Main Street:geo:-75.785408,40.385459
END:VEVENT
BEGIN:VEVENT
DTSTART;TZID=America/New_York:20180503T190000
DTEND;TZID=America/New_York:20180503T203000
DTSTAMP:20260423T033005
CREATED:20171226T211744Z
LAST-MODIFIED:20220919T003225Z
UID:10000135-1525374000-1525379400@ccoley.com
SUMMARY:Youth Group
DESCRIPTION:Please let Steve Shirey know if you would like to be part of a youth group that takes God’s Word seriously in knowing how to live as believers in an ever-changing culture. \nSteve will be teaching through the book of 1st John
URL:https://ccoley.com/event/youth-group-2/2018-05-03/
LOCATION:Pastor Fred’s Office\, 603 Main Street\, Oley\, PA\, 19547\, United States
CATEGORIES:Youth Group Bible Study
ORGANIZER;CN="Steve Shirey":MAILTO:ssbirdman71@yahoo.com
GEO:40.385459;-75.785408
X-APPLE-STRUCTURED-LOCATION;VALUE=URI;X-ADDRESS=Pastor Fred’s Office 603 Main Street Oley PA 19547 United States;X-APPLE-RADIUS=500;X-TITLE=603 Main Street:geo:-75.785408,40.385459
END:VEVENT
BEGIN:VEVENT
DTSTART;TZID=America/New_York:20180426T190000
DTEND;TZID=America/New_York:20180426T203000
DTSTAMP:20260423T033005
CREATED:20171226T211744Z
LAST-MODIFIED:20220919T003225Z
UID:10000134-1524769200-1524774600@ccoley.com
SUMMARY:Youth Group
DESCRIPTION:Please let Steve Shirey know if you would like to be part of a youth group that takes God’s Word seriously in knowing how to live as believers in an ever-changing culture. \nSteve will be teaching through the book of 1st John
URL:https://ccoley.com/event/youth-group-2/2018-04-26/
LOCATION:Pastor Fred’s Office\, 603 Main Street\, Oley\, PA\, 19547\, United States
CATEGORIES:Youth Group Bible Study
ORGANIZER;CN="Steve Shirey":MAILTO:ssbirdman71@yahoo.com
GEO:40.385459;-75.785408
X-APPLE-STRUCTURED-LOCATION;VALUE=URI;X-ADDRESS=Pastor Fred’s Office 603 Main Street Oley PA 19547 United States;X-APPLE-RADIUS=500;X-TITLE=603 Main Street:geo:-75.785408,40.385459
END:VEVENT
BEGIN:VEVENT
DTSTART;TZID=America/New_York:20180419T190000
DTEND;TZID=America/New_York:20180419T203000
DTSTAMP:20260423T033005
CREATED:20171226T211744Z
LAST-MODIFIED:20220919T003225Z
UID:10000133-1524164400-1524169800@ccoley.com
SUMMARY:Youth Group
DESCRIPTION:Please let Steve Shirey know if you would like to be part of a youth group that takes God’s Word seriously in knowing how to live as believers in an ever-changing culture. \nSteve will be teaching through the book of 1st John
URL:https://ccoley.com/event/youth-group-2/2018-04-19/
LOCATION:Pastor Fred’s Office\, 603 Main Street\, Oley\, PA\, 19547\, United States
CATEGORIES:Youth Group Bible Study
ORGANIZER;CN="Steve Shirey":MAILTO:ssbirdman71@yahoo.com
GEO:40.385459;-75.785408
X-APPLE-STRUCTURED-LOCATION;VALUE=URI;X-ADDRESS=Pastor Fred’s Office 603 Main Street Oley PA 19547 United States;X-APPLE-RADIUS=500;X-TITLE=603 Main Street:geo:-75.785408,40.385459
END:VEVENT
BEGIN:VEVENT
DTSTART;TZID=America/New_York:20180412T190000
DTEND;TZID=America/New_York:20180412T203000
DTSTAMP:20260423T033005
CREATED:20171226T211744Z
LAST-MODIFIED:20220919T003225Z
UID:10000132-1523559600-1523565000@ccoley.com
SUMMARY:Youth Group
DESCRIPTION:Please let Steve Shirey know if you would like to be part of a youth group that takes God’s Word seriously in knowing how to live as believers in an ever-changing culture. \nSteve will be teaching through the book of 1st John
URL:https://ccoley.com/event/youth-group-2/2018-04-12/
LOCATION:Pastor Fred’s Office\, 603 Main Street\, Oley\, PA\, 19547\, United States
CATEGORIES:Youth Group Bible Study
ORGANIZER;CN="Steve Shirey":MAILTO:ssbirdman71@yahoo.com
GEO:40.385459;-75.785408
X-APPLE-STRUCTURED-LOCATION;VALUE=URI;X-ADDRESS=Pastor Fred’s Office 603 Main Street Oley PA 19547 United States;X-APPLE-RADIUS=500;X-TITLE=603 Main Street:geo:-75.785408,40.385459
END:VEVENT
END:VCALENDAR