BEGIN:VCALENDAR
VERSION:2.0
PRODID:-//Calvary Chapel of the Oley Valley - ECPv6.15.20//NONSGML v1.0//EN
CALSCALE:GREGORIAN
METHOD:PUBLISH
X-WR-CALNAME:Calvary Chapel of the Oley Valley
X-ORIGINAL-URL:https://ccoley.com
X-WR-CALDESC:Events for Calvary Chapel of the Oley Valley
REFRESH-INTERVAL;VALUE=DURATION:PT1H
X-Robots-Tag:noindex
X-PUBLISHED-TTL:PT1H
BEGIN:VTIMEZONE
TZID:America/New_York
BEGIN:DAYLIGHT
TZOFFSETFROM:-0500
TZOFFSETTO:-0400
TZNAME:EDT
DTSTART:20180311T070000
END:DAYLIGHT
BEGIN:STANDARD
TZOFFSETFROM:-0400
TZOFFSETTO:-0500
TZNAME:EST
DTSTART:20181104T060000
END:STANDARD
BEGIN:DAYLIGHT
TZOFFSETFROM:-0500
TZOFFSETTO:-0400
TZNAME:EDT
DTSTART:20190310T070000
END:DAYLIGHT
BEGIN:STANDARD
TZOFFSETFROM:-0400
TZOFFSETTO:-0500
TZNAME:EST
DTSTART:20191103T060000
END:STANDARD
BEGIN:DAYLIGHT
TZOFFSETFROM:-0500
TZOFFSETTO:-0400
TZNAME:EDT
DTSTART:20200308T070000
END:DAYLIGHT
BEGIN:STANDARD
TZOFFSETFROM:-0400
TZOFFSETTO:-0500
TZNAME:EST
DTSTART:20201101T060000
END:STANDARD
BEGIN:DAYLIGHT
TZOFFSETFROM:-0500
TZOFFSETTO:-0400
TZNAME:EDT
DTSTART:20210314T070000
END:DAYLIGHT
BEGIN:STANDARD
TZOFFSETFROM:-0400
TZOFFSETTO:-0500
TZNAME:EST
DTSTART:20211107T060000
END:STANDARD
END:VTIMEZONE
BEGIN:VEVENT
DTSTART;TZID=America/New_York:20200130T190000
DTEND;TZID=America/New_York:20200130T203000
DTSTAMP:20260422T214639
CREATED:20190901T165039Z
LAST-MODIFIED:20220919T115317Z
UID:10001823-1580410800-1580416200@ccoley.com
SUMMARY:Youth Group Bible Study
DESCRIPTION:Please let Steve Shirey know if you would like to be part of a youth group that takes God’s Word seriously in knowing how to live as believers in an ever-changing culture
URL:https://ccoley.com/event/youth-group-bible-study/2020-01-30/
LOCATION:Pastor Fred’s Office\, 603 Main Street\, Oley\, PA\, 19547\, United States
CATEGORIES:Youth Group Bible Study
ORGANIZER;CN="Steve Shirey":MAILTO:ssbirdman71@yahoo.com
GEO:40.385459;-75.785408
X-APPLE-STRUCTURED-LOCATION;VALUE=URI;X-ADDRESS=Pastor Fred’s Office 603 Main Street Oley PA 19547 United States;X-APPLE-RADIUS=500;X-TITLE=603 Main Street:geo:-75.785408,40.385459
END:VEVENT
BEGIN:VEVENT
DTSTART;TZID=America/New_York:20200123T190000
DTEND;TZID=America/New_York:20200123T203000
DTSTAMP:20260422T214639
CREATED:20190901T165039Z
LAST-MODIFIED:20220919T115317Z
UID:10001822-1579806000-1579811400@ccoley.com
SUMMARY:Youth Group Bible Study
DESCRIPTION:Please let Steve Shirey know if you would like to be part of a youth group that takes God’s Word seriously in knowing how to live as believers in an ever-changing culture
URL:https://ccoley.com/event/youth-group-bible-study/2020-01-23/
LOCATION:Pastor Fred’s Office\, 603 Main Street\, Oley\, PA\, 19547\, United States
CATEGORIES:Youth Group Bible Study
ORGANIZER;CN="Steve Shirey":MAILTO:ssbirdman71@yahoo.com
GEO:40.385459;-75.785408
X-APPLE-STRUCTURED-LOCATION;VALUE=URI;X-ADDRESS=Pastor Fred’s Office 603 Main Street Oley PA 19547 United States;X-APPLE-RADIUS=500;X-TITLE=603 Main Street:geo:-75.785408,40.385459
END:VEVENT
BEGIN:VEVENT
DTSTART;TZID=America/New_York:20200116T190000
DTEND;TZID=America/New_York:20200116T203000
DTSTAMP:20260422T214639
CREATED:20190901T165039Z
LAST-MODIFIED:20220919T115317Z
UID:10001821-1579201200-1579206600@ccoley.com
SUMMARY:Youth Group Bible Study
DESCRIPTION:Please let Steve Shirey know if you would like to be part of a youth group that takes God’s Word seriously in knowing how to live as believers in an ever-changing culture
URL:https://ccoley.com/event/youth-group-bible-study/2020-01-16/
LOCATION:Pastor Fred’s Office\, 603 Main Street\, Oley\, PA\, 19547\, United States
CATEGORIES:Youth Group Bible Study
ORGANIZER;CN="Steve Shirey":MAILTO:ssbirdman71@yahoo.com
GEO:40.385459;-75.785408
X-APPLE-STRUCTURED-LOCATION;VALUE=URI;X-ADDRESS=Pastor Fred’s Office 603 Main Street Oley PA 19547 United States;X-APPLE-RADIUS=500;X-TITLE=603 Main Street:geo:-75.785408,40.385459
END:VEVENT
BEGIN:VEVENT
DTSTART;TZID=America/New_York:20200109T190000
DTEND;TZID=America/New_York:20200109T203000
DTSTAMP:20260422T214639
CREATED:20190901T165039Z
LAST-MODIFIED:20220919T115317Z
UID:10001820-1578596400-1578601800@ccoley.com
SUMMARY:Youth Group Bible Study
DESCRIPTION:Please let Steve Shirey know if you would like to be part of a youth group that takes God’s Word seriously in knowing how to live as believers in an ever-changing culture
URL:https://ccoley.com/event/youth-group-bible-study/2020-01-09/
LOCATION:Pastor Fred’s Office\, 603 Main Street\, Oley\, PA\, 19547\, United States
CATEGORIES:Youth Group Bible Study
ORGANIZER;CN="Steve Shirey":MAILTO:ssbirdman71@yahoo.com
GEO:40.385459;-75.785408
X-APPLE-STRUCTURED-LOCATION;VALUE=URI;X-ADDRESS=Pastor Fred’s Office 603 Main Street Oley PA 19547 United States;X-APPLE-RADIUS=500;X-TITLE=603 Main Street:geo:-75.785408,40.385459
END:VEVENT
BEGIN:VEVENT
DTSTART;TZID=America/New_York:20200102T190000
DTEND;TZID=America/New_York:20200102T203000
DTSTAMP:20260422T214639
CREATED:20190901T165039Z
LAST-MODIFIED:20220919T115317Z
UID:10001819-1577991600-1577997000@ccoley.com
SUMMARY:Youth Group Bible Study
DESCRIPTION:Please let Steve Shirey know if you would like to be part of a youth group that takes God’s Word seriously in knowing how to live as believers in an ever-changing culture
URL:https://ccoley.com/event/youth-group-bible-study/2020-01-02/
LOCATION:Pastor Fred’s Office\, 603 Main Street\, Oley\, PA\, 19547\, United States
CATEGORIES:Youth Group Bible Study
ORGANIZER;CN="Steve Shirey":MAILTO:ssbirdman71@yahoo.com
GEO:40.385459;-75.785408
X-APPLE-STRUCTURED-LOCATION;VALUE=URI;X-ADDRESS=Pastor Fred’s Office 603 Main Street Oley PA 19547 United States;X-APPLE-RADIUS=500;X-TITLE=603 Main Street:geo:-75.785408,40.385459
END:VEVENT
BEGIN:VEVENT
DTSTART;TZID=America/New_York:20191226T190000
DTEND;TZID=America/New_York:20191226T203000
DTSTAMP:20260422T214639
CREATED:20190901T165039Z
LAST-MODIFIED:20220919T115317Z
UID:10001818-1577386800-1577392200@ccoley.com
SUMMARY:Youth Group Bible Study
DESCRIPTION:Please let Steve Shirey know if you would like to be part of a youth group that takes God’s Word seriously in knowing how to live as believers in an ever-changing culture
URL:https://ccoley.com/event/youth-group-bible-study/2019-12-26/
LOCATION:Pastor Fred’s Office\, 603 Main Street\, Oley\, PA\, 19547\, United States
CATEGORIES:Youth Group Bible Study
ORGANIZER;CN="Steve Shirey":MAILTO:ssbirdman71@yahoo.com
GEO:40.385459;-75.785408
X-APPLE-STRUCTURED-LOCATION;VALUE=URI;X-ADDRESS=Pastor Fred’s Office 603 Main Street Oley PA 19547 United States;X-APPLE-RADIUS=500;X-TITLE=603 Main Street:geo:-75.785408,40.385459
END:VEVENT
BEGIN:VEVENT
DTSTART;TZID=America/New_York:20191219T190000
DTEND;TZID=America/New_York:20191219T203000
DTSTAMP:20260422T214639
CREATED:20190901T165039Z
LAST-MODIFIED:20220919T115317Z
UID:10001817-1576782000-1576787400@ccoley.com
SUMMARY:Youth Group Bible Study
DESCRIPTION:Please let Steve Shirey know if you would like to be part of a youth group that takes God’s Word seriously in knowing how to live as believers in an ever-changing culture
URL:https://ccoley.com/event/youth-group-bible-study/2019-12-19/
LOCATION:Pastor Fred’s Office\, 603 Main Street\, Oley\, PA\, 19547\, United States
CATEGORIES:Youth Group Bible Study
ORGANIZER;CN="Steve Shirey":MAILTO:ssbirdman71@yahoo.com
GEO:40.385459;-75.785408
X-APPLE-STRUCTURED-LOCATION;VALUE=URI;X-ADDRESS=Pastor Fred’s Office 603 Main Street Oley PA 19547 United States;X-APPLE-RADIUS=500;X-TITLE=603 Main Street:geo:-75.785408,40.385459
END:VEVENT
BEGIN:VEVENT
DTSTART;TZID=America/New_York:20191212T190000
DTEND;TZID=America/New_York:20191212T203000
DTSTAMP:20260422T214639
CREATED:20190901T165039Z
LAST-MODIFIED:20220919T115317Z
UID:10001816-1576177200-1576182600@ccoley.com
SUMMARY:Youth Group Bible Study
DESCRIPTION:Please let Steve Shirey know if you would like to be part of a youth group that takes God’s Word seriously in knowing how to live as believers in an ever-changing culture
URL:https://ccoley.com/event/youth-group-bible-study/2019-12-12/
LOCATION:Pastor Fred’s Office\, 603 Main Street\, Oley\, PA\, 19547\, United States
CATEGORIES:Youth Group Bible Study
ORGANIZER;CN="Steve Shirey":MAILTO:ssbirdman71@yahoo.com
GEO:40.385459;-75.785408
X-APPLE-STRUCTURED-LOCATION;VALUE=URI;X-ADDRESS=Pastor Fred’s Office 603 Main Street Oley PA 19547 United States;X-APPLE-RADIUS=500;X-TITLE=603 Main Street:geo:-75.785408,40.385459
END:VEVENT
BEGIN:VEVENT
DTSTART;TZID=America/New_York:20191205T190000
DTEND;TZID=America/New_York:20191205T203000
DTSTAMP:20260422T214639
CREATED:20190901T165039Z
LAST-MODIFIED:20220919T115317Z
UID:10001815-1575572400-1575577800@ccoley.com
SUMMARY:Youth Group Bible Study
DESCRIPTION:Please let Steve Shirey know if you would like to be part of a youth group that takes God’s Word seriously in knowing how to live as believers in an ever-changing culture
URL:https://ccoley.com/event/youth-group-bible-study/2019-12-05/
LOCATION:Pastor Fred’s Office\, 603 Main Street\, Oley\, PA\, 19547\, United States
CATEGORIES:Youth Group Bible Study
ORGANIZER;CN="Steve Shirey":MAILTO:ssbirdman71@yahoo.com
GEO:40.385459;-75.785408
X-APPLE-STRUCTURED-LOCATION;VALUE=URI;X-ADDRESS=Pastor Fred’s Office 603 Main Street Oley PA 19547 United States;X-APPLE-RADIUS=500;X-TITLE=603 Main Street:geo:-75.785408,40.385459
END:VEVENT
BEGIN:VEVENT
DTSTART;TZID=America/New_York:20191128T190000
DTEND;TZID=America/New_York:20191128T203000
DTSTAMP:20260422T214639
CREATED:20190901T165039Z
LAST-MODIFIED:20220919T115317Z
UID:10001814-1574967600-1574973000@ccoley.com
SUMMARY:Youth Group Bible Study
DESCRIPTION:Please let Steve Shirey know if you would like to be part of a youth group that takes God’s Word seriously in knowing how to live as believers in an ever-changing culture
URL:https://ccoley.com/event/youth-group-bible-study/2019-11-28/
LOCATION:Pastor Fred’s Office\, 603 Main Street\, Oley\, PA\, 19547\, United States
CATEGORIES:Youth Group Bible Study
ORGANIZER;CN="Steve Shirey":MAILTO:ssbirdman71@yahoo.com
GEO:40.385459;-75.785408
X-APPLE-STRUCTURED-LOCATION;VALUE=URI;X-ADDRESS=Pastor Fred’s Office 603 Main Street Oley PA 19547 United States;X-APPLE-RADIUS=500;X-TITLE=603 Main Street:geo:-75.785408,40.385459
END:VEVENT
BEGIN:VEVENT
DTSTART;TZID=America/New_York:20191121T190000
DTEND;TZID=America/New_York:20191121T203000
DTSTAMP:20260422T214639
CREATED:20190901T165039Z
LAST-MODIFIED:20220919T115317Z
UID:10001813-1574362800-1574368200@ccoley.com
SUMMARY:Youth Group Bible Study
DESCRIPTION:Please let Steve Shirey know if you would like to be part of a youth group that takes God’s Word seriously in knowing how to live as believers in an ever-changing culture
URL:https://ccoley.com/event/youth-group-bible-study/2019-11-21/
LOCATION:Pastor Fred’s Office\, 603 Main Street\, Oley\, PA\, 19547\, United States
CATEGORIES:Youth Group Bible Study
ORGANIZER;CN="Steve Shirey":MAILTO:ssbirdman71@yahoo.com
GEO:40.385459;-75.785408
X-APPLE-STRUCTURED-LOCATION;VALUE=URI;X-ADDRESS=Pastor Fred’s Office 603 Main Street Oley PA 19547 United States;X-APPLE-RADIUS=500;X-TITLE=603 Main Street:geo:-75.785408,40.385459
END:VEVENT
BEGIN:VEVENT
DTSTART;TZID=America/New_York:20191114T190000
DTEND;TZID=America/New_York:20191114T203000
DTSTAMP:20260422T214639
CREATED:20190901T165039Z
LAST-MODIFIED:20220919T115317Z
UID:10001812-1573758000-1573763400@ccoley.com
SUMMARY:Youth Group Bible Study
DESCRIPTION:Please let Steve Shirey know if you would like to be part of a youth group that takes God’s Word seriously in knowing how to live as believers in an ever-changing culture
URL:https://ccoley.com/event/youth-group-bible-study/2019-11-14/
LOCATION:Pastor Fred’s Office\, 603 Main Street\, Oley\, PA\, 19547\, United States
CATEGORIES:Youth Group Bible Study
ORGANIZER;CN="Steve Shirey":MAILTO:ssbirdman71@yahoo.com
GEO:40.385459;-75.785408
X-APPLE-STRUCTURED-LOCATION;VALUE=URI;X-ADDRESS=Pastor Fred’s Office 603 Main Street Oley PA 19547 United States;X-APPLE-RADIUS=500;X-TITLE=603 Main Street:geo:-75.785408,40.385459
END:VEVENT
BEGIN:VEVENT
DTSTART;TZID=America/New_York:20191107T190000
DTEND;TZID=America/New_York:20191107T203000
DTSTAMP:20260422T214639
CREATED:20190901T165039Z
LAST-MODIFIED:20220919T115317Z
UID:10001811-1573153200-1573158600@ccoley.com
SUMMARY:Youth Group Bible Study
DESCRIPTION:Please let Steve Shirey know if you would like to be part of a youth group that takes God’s Word seriously in knowing how to live as believers in an ever-changing culture
URL:https://ccoley.com/event/youth-group-bible-study/2019-11-07/
LOCATION:Pastor Fred’s Office\, 603 Main Street\, Oley\, PA\, 19547\, United States
CATEGORIES:Youth Group Bible Study
ORGANIZER;CN="Steve Shirey":MAILTO:ssbirdman71@yahoo.com
GEO:40.385459;-75.785408
X-APPLE-STRUCTURED-LOCATION;VALUE=URI;X-ADDRESS=Pastor Fred’s Office 603 Main Street Oley PA 19547 United States;X-APPLE-RADIUS=500;X-TITLE=603 Main Street:geo:-75.785408,40.385459
END:VEVENT
BEGIN:VEVENT
DTSTART;TZID=America/New_York:20191031T190000
DTEND;TZID=America/New_York:20191031T203000
DTSTAMP:20260422T214639
CREATED:20190901T165039Z
LAST-MODIFIED:20220919T115317Z
UID:10001810-1572548400-1572553800@ccoley.com
SUMMARY:Youth Group Bible Study
DESCRIPTION:Please let Steve Shirey know if you would like to be part of a youth group that takes God’s Word seriously in knowing how to live as believers in an ever-changing culture
URL:https://ccoley.com/event/youth-group-bible-study/2019-10-31/
LOCATION:Pastor Fred’s Office\, 603 Main Street\, Oley\, PA\, 19547\, United States
CATEGORIES:Youth Group Bible Study
ORGANIZER;CN="Steve Shirey":MAILTO:ssbirdman71@yahoo.com
GEO:40.385459;-75.785408
X-APPLE-STRUCTURED-LOCATION;VALUE=URI;X-ADDRESS=Pastor Fred’s Office 603 Main Street Oley PA 19547 United States;X-APPLE-RADIUS=500;X-TITLE=603 Main Street:geo:-75.785408,40.385459
END:VEVENT
BEGIN:VEVENT
DTSTART;TZID=America/New_York:20191024T190000
DTEND;TZID=America/New_York:20191024T203000
DTSTAMP:20260422T214639
CREATED:20190901T165039Z
LAST-MODIFIED:20220919T115317Z
UID:10001809-1571943600-1571949000@ccoley.com
SUMMARY:Youth Group Bible Study
DESCRIPTION:Please let Steve Shirey know if you would like to be part of a youth group that takes God’s Word seriously in knowing how to live as believers in an ever-changing culture
URL:https://ccoley.com/event/youth-group-bible-study/2019-10-24/
LOCATION:Pastor Fred’s Office\, 603 Main Street\, Oley\, PA\, 19547\, United States
CATEGORIES:Youth Group Bible Study
ORGANIZER;CN="Steve Shirey":MAILTO:ssbirdman71@yahoo.com
GEO:40.385459;-75.785408
X-APPLE-STRUCTURED-LOCATION;VALUE=URI;X-ADDRESS=Pastor Fred’s Office 603 Main Street Oley PA 19547 United States;X-APPLE-RADIUS=500;X-TITLE=603 Main Street:geo:-75.785408,40.385459
END:VEVENT
BEGIN:VEVENT
DTSTART;TZID=America/New_York:20191017T190000
DTEND;TZID=America/New_York:20191017T203000
DTSTAMP:20260422T214639
CREATED:20190901T165039Z
LAST-MODIFIED:20220919T115317Z
UID:10001808-1571338800-1571344200@ccoley.com
SUMMARY:Youth Group Bible Study
DESCRIPTION:Please let Steve Shirey know if you would like to be part of a youth group that takes God’s Word seriously in knowing how to live as believers in an ever-changing culture
URL:https://ccoley.com/event/youth-group-bible-study/2019-10-17/
LOCATION:Pastor Fred’s Office\, 603 Main Street\, Oley\, PA\, 19547\, United States
CATEGORIES:Youth Group Bible Study
ORGANIZER;CN="Steve Shirey":MAILTO:ssbirdman71@yahoo.com
GEO:40.385459;-75.785408
X-APPLE-STRUCTURED-LOCATION;VALUE=URI;X-ADDRESS=Pastor Fred’s Office 603 Main Street Oley PA 19547 United States;X-APPLE-RADIUS=500;X-TITLE=603 Main Street:geo:-75.785408,40.385459
END:VEVENT
BEGIN:VEVENT
DTSTART;TZID=America/New_York:20191010T190000
DTEND;TZID=America/New_York:20191010T203000
DTSTAMP:20260422T214639
CREATED:20190901T165039Z
LAST-MODIFIED:20220919T115317Z
UID:10001807-1570734000-1570739400@ccoley.com
SUMMARY:Youth Group Bible Study
DESCRIPTION:Please let Steve Shirey know if you would like to be part of a youth group that takes God’s Word seriously in knowing how to live as believers in an ever-changing culture
URL:https://ccoley.com/event/youth-group-bible-study/2019-10-10/
LOCATION:Pastor Fred’s Office\, 603 Main Street\, Oley\, PA\, 19547\, United States
CATEGORIES:Youth Group Bible Study
ORGANIZER;CN="Steve Shirey":MAILTO:ssbirdman71@yahoo.com
GEO:40.385459;-75.785408
X-APPLE-STRUCTURED-LOCATION;VALUE=URI;X-ADDRESS=Pastor Fred’s Office 603 Main Street Oley PA 19547 United States;X-APPLE-RADIUS=500;X-TITLE=603 Main Street:geo:-75.785408,40.385459
END:VEVENT
BEGIN:VEVENT
DTSTART;TZID=America/New_York:20191003T190000
DTEND;TZID=America/New_York:20191003T203000
DTSTAMP:20260422T214639
CREATED:20190901T165039Z
LAST-MODIFIED:20220919T115317Z
UID:10001806-1570129200-1570134600@ccoley.com
SUMMARY:Youth Group Bible Study
DESCRIPTION:Please let Steve Shirey know if you would like to be part of a youth group that takes God’s Word seriously in knowing how to live as believers in an ever-changing culture
URL:https://ccoley.com/event/youth-group-bible-study/2019-10-03/
LOCATION:Pastor Fred’s Office\, 603 Main Street\, Oley\, PA\, 19547\, United States
CATEGORIES:Youth Group Bible Study
ORGANIZER;CN="Steve Shirey":MAILTO:ssbirdman71@yahoo.com
GEO:40.385459;-75.785408
X-APPLE-STRUCTURED-LOCATION;VALUE=URI;X-ADDRESS=Pastor Fred’s Office 603 Main Street Oley PA 19547 United States;X-APPLE-RADIUS=500;X-TITLE=603 Main Street:geo:-75.785408,40.385459
END:VEVENT
BEGIN:VEVENT
DTSTART;TZID=America/New_York:20190926T190000
DTEND;TZID=America/New_York:20190926T203000
DTSTAMP:20260422T214639
CREATED:20190901T165039Z
LAST-MODIFIED:20220919T115317Z
UID:10001805-1569524400-1569529800@ccoley.com
SUMMARY:Youth Group Bible Study
DESCRIPTION:Please let Steve Shirey know if you would like to be part of a youth group that takes God’s Word seriously in knowing how to live as believers in an ever-changing culture
URL:https://ccoley.com/event/youth-group-bible-study/2019-09-26/
LOCATION:Pastor Fred’s Office\, 603 Main Street\, Oley\, PA\, 19547\, United States
CATEGORIES:Youth Group Bible Study
ORGANIZER;CN="Steve Shirey":MAILTO:ssbirdman71@yahoo.com
GEO:40.385459;-75.785408
X-APPLE-STRUCTURED-LOCATION;VALUE=URI;X-ADDRESS=Pastor Fred’s Office 603 Main Street Oley PA 19547 United States;X-APPLE-RADIUS=500;X-TITLE=603 Main Street:geo:-75.785408,40.385459
END:VEVENT
BEGIN:VEVENT
DTSTART;TZID=America/New_York:20190530T190000
DTEND;TZID=America/New_York:20190530T203000
DTSTAMP:20260422T214639
CREATED:20181002T151620Z
LAST-MODIFIED:20220919T005251Z
UID:10001056-1559242800-1559248200@ccoley.com
SUMMARY:Youth Group Bible Study
DESCRIPTION:Please let Steve Shirey know if you would like to be part of a youth group that takes God’s Word seriously in knowing how to live as believers in an ever-changing culture. \nSteve will continue in the Book of 1 John.
URL:https://ccoley.com/event/youth-group-3/2019-05-30/
LOCATION:Pastor Fred’s Office\, 603 Main Street\, Oley\, PA\, 19547\, United States
CATEGORIES:Youth Group Bible Study
ORGANIZER;CN="Steve Shirey":MAILTO:ssbirdman71@yahoo.com
GEO:40.385459;-75.785408
X-APPLE-STRUCTURED-LOCATION;VALUE=URI;X-ADDRESS=Pastor Fred’s Office 603 Main Street Oley PA 19547 United States;X-APPLE-RADIUS=500;X-TITLE=603 Main Street:geo:-75.785408,40.385459
END:VEVENT
BEGIN:VEVENT
DTSTART;TZID=America/New_York:20190523T190000
DTEND;TZID=America/New_York:20190523T203000
DTSTAMP:20260422T214639
CREATED:20181002T151620Z
LAST-MODIFIED:20220919T005251Z
UID:10001055-1558638000-1558643400@ccoley.com
SUMMARY:Youth Group Bible Study
DESCRIPTION:Please let Steve Shirey know if you would like to be part of a youth group that takes God’s Word seriously in knowing how to live as believers in an ever-changing culture. \nSteve will continue in the Book of 1 John.
URL:https://ccoley.com/event/youth-group-3/2019-05-23/
LOCATION:Pastor Fred’s Office\, 603 Main Street\, Oley\, PA\, 19547\, United States
CATEGORIES:Youth Group Bible Study
ORGANIZER;CN="Steve Shirey":MAILTO:ssbirdman71@yahoo.com
GEO:40.385459;-75.785408
X-APPLE-STRUCTURED-LOCATION;VALUE=URI;X-ADDRESS=Pastor Fred’s Office 603 Main Street Oley PA 19547 United States;X-APPLE-RADIUS=500;X-TITLE=603 Main Street:geo:-75.785408,40.385459
END:VEVENT
BEGIN:VEVENT
DTSTART;TZID=America/New_York:20190516T190000
DTEND;TZID=America/New_York:20190516T203000
DTSTAMP:20260422T214639
CREATED:20181002T151620Z
LAST-MODIFIED:20220919T005251Z
UID:10001054-1558033200-1558038600@ccoley.com
SUMMARY:Youth Group Bible Study
DESCRIPTION:Please let Steve Shirey know if you would like to be part of a youth group that takes God’s Word seriously in knowing how to live as believers in an ever-changing culture. \nSteve will continue in the Book of 1 John.
URL:https://ccoley.com/event/youth-group-3/2019-05-16/
LOCATION:Pastor Fred’s Office\, 603 Main Street\, Oley\, PA\, 19547\, United States
CATEGORIES:Youth Group Bible Study
ORGANIZER;CN="Steve Shirey":MAILTO:ssbirdman71@yahoo.com
GEO:40.385459;-75.785408
X-APPLE-STRUCTURED-LOCATION;VALUE=URI;X-ADDRESS=Pastor Fred’s Office 603 Main Street Oley PA 19547 United States;X-APPLE-RADIUS=500;X-TITLE=603 Main Street:geo:-75.785408,40.385459
END:VEVENT
BEGIN:VEVENT
DTSTART;TZID=America/New_York:20190509T190000
DTEND;TZID=America/New_York:20190509T203000
DTSTAMP:20260422T214639
CREATED:20181002T151620Z
LAST-MODIFIED:20220919T005251Z
UID:10001053-1557428400-1557433800@ccoley.com
SUMMARY:Youth Group Bible Study
DESCRIPTION:Please let Steve Shirey know if you would like to be part of a youth group that takes God’s Word seriously in knowing how to live as believers in an ever-changing culture. \nSteve will continue in the Book of 1 John.
URL:https://ccoley.com/event/youth-group-3/2019-05-09/
LOCATION:Pastor Fred’s Office\, 603 Main Street\, Oley\, PA\, 19547\, United States
CATEGORIES:Youth Group Bible Study
ORGANIZER;CN="Steve Shirey":MAILTO:ssbirdman71@yahoo.com
GEO:40.385459;-75.785408
X-APPLE-STRUCTURED-LOCATION;VALUE=URI;X-ADDRESS=Pastor Fred’s Office 603 Main Street Oley PA 19547 United States;X-APPLE-RADIUS=500;X-TITLE=603 Main Street:geo:-75.785408,40.385459
END:VEVENT
BEGIN:VEVENT
DTSTART;TZID=America/New_York:20190502T190000
DTEND;TZID=America/New_York:20190502T203000
DTSTAMP:20260422T214639
CREATED:20181002T151620Z
LAST-MODIFIED:20220919T005251Z
UID:10001052-1556823600-1556829000@ccoley.com
SUMMARY:Youth Group Bible Study
DESCRIPTION:Please let Steve Shirey know if you would like to be part of a youth group that takes God’s Word seriously in knowing how to live as believers in an ever-changing culture. \nSteve will continue in the Book of 1 John.
URL:https://ccoley.com/event/youth-group-3/2019-05-02/
LOCATION:Pastor Fred’s Office\, 603 Main Street\, Oley\, PA\, 19547\, United States
CATEGORIES:Youth Group Bible Study
ORGANIZER;CN="Steve Shirey":MAILTO:ssbirdman71@yahoo.com
GEO:40.385459;-75.785408
X-APPLE-STRUCTURED-LOCATION;VALUE=URI;X-ADDRESS=Pastor Fred’s Office 603 Main Street Oley PA 19547 United States;X-APPLE-RADIUS=500;X-TITLE=603 Main Street:geo:-75.785408,40.385459
END:VEVENT
BEGIN:VEVENT
DTSTART;TZID=America/New_York:20190425T190000
DTEND;TZID=America/New_York:20190425T203000
DTSTAMP:20260422T214639
CREATED:20181002T151620Z
LAST-MODIFIED:20220919T005251Z
UID:10001051-1556218800-1556224200@ccoley.com
SUMMARY:Youth Group Bible Study
DESCRIPTION:Please let Steve Shirey know if you would like to be part of a youth group that takes God’s Word seriously in knowing how to live as believers in an ever-changing culture. \nSteve will continue in the Book of 1 John.
URL:https://ccoley.com/event/youth-group-3/2019-04-25/
LOCATION:Pastor Fred’s Office\, 603 Main Street\, Oley\, PA\, 19547\, United States
CATEGORIES:Youth Group Bible Study
ORGANIZER;CN="Steve Shirey":MAILTO:ssbirdman71@yahoo.com
GEO:40.385459;-75.785408
X-APPLE-STRUCTURED-LOCATION;VALUE=URI;X-ADDRESS=Pastor Fred’s Office 603 Main Street Oley PA 19547 United States;X-APPLE-RADIUS=500;X-TITLE=603 Main Street:geo:-75.785408,40.385459
END:VEVENT
BEGIN:VEVENT
DTSTART;TZID=America/New_York:20190418T190000
DTEND;TZID=America/New_York:20190418T203000
DTSTAMP:20260422T214639
CREATED:20181002T151620Z
LAST-MODIFIED:20220919T005251Z
UID:10001050-1555614000-1555619400@ccoley.com
SUMMARY:Youth Group Bible Study
DESCRIPTION:Please let Steve Shirey know if you would like to be part of a youth group that takes God’s Word seriously in knowing how to live as believers in an ever-changing culture. \nSteve will continue in the Book of 1 John.
URL:https://ccoley.com/event/youth-group-3/2019-04-18/
LOCATION:Pastor Fred’s Office\, 603 Main Street\, Oley\, PA\, 19547\, United States
CATEGORIES:Youth Group Bible Study
ORGANIZER;CN="Steve Shirey":MAILTO:ssbirdman71@yahoo.com
GEO:40.385459;-75.785408
X-APPLE-STRUCTURED-LOCATION;VALUE=URI;X-ADDRESS=Pastor Fred’s Office 603 Main Street Oley PA 19547 United States;X-APPLE-RADIUS=500;X-TITLE=603 Main Street:geo:-75.785408,40.385459
END:VEVENT
BEGIN:VEVENT
DTSTART;TZID=America/New_York:20190411T190000
DTEND;TZID=America/New_York:20190411T203000
DTSTAMP:20260422T214639
CREATED:20181002T151620Z
LAST-MODIFIED:20220919T005251Z
UID:10001049-1555009200-1555014600@ccoley.com
SUMMARY:Youth Group Bible Study
DESCRIPTION:Please let Steve Shirey know if you would like to be part of a youth group that takes God’s Word seriously in knowing how to live as believers in an ever-changing culture. \nSteve will continue in the Book of 1 John.
URL:https://ccoley.com/event/youth-group-3/2019-04-11/
LOCATION:Pastor Fred’s Office\, 603 Main Street\, Oley\, PA\, 19547\, United States
CATEGORIES:Youth Group Bible Study
ORGANIZER;CN="Steve Shirey":MAILTO:ssbirdman71@yahoo.com
GEO:40.385459;-75.785408
X-APPLE-STRUCTURED-LOCATION;VALUE=URI;X-ADDRESS=Pastor Fred’s Office 603 Main Street Oley PA 19547 United States;X-APPLE-RADIUS=500;X-TITLE=603 Main Street:geo:-75.785408,40.385459
END:VEVENT
BEGIN:VEVENT
DTSTART;TZID=America/New_York:20190404T190000
DTEND;TZID=America/New_York:20190404T203000
DTSTAMP:20260422T214639
CREATED:20181002T151620Z
LAST-MODIFIED:20220919T005251Z
UID:10001048-1554404400-1554409800@ccoley.com
SUMMARY:Youth Group Bible Study
DESCRIPTION:Please let Steve Shirey know if you would like to be part of a youth group that takes God’s Word seriously in knowing how to live as believers in an ever-changing culture. \nSteve will continue in the Book of 1 John.
URL:https://ccoley.com/event/youth-group-3/2019-04-04/
LOCATION:Pastor Fred’s Office\, 603 Main Street\, Oley\, PA\, 19547\, United States
CATEGORIES:Youth Group Bible Study
ORGANIZER;CN="Steve Shirey":MAILTO:ssbirdman71@yahoo.com
GEO:40.385459;-75.785408
X-APPLE-STRUCTURED-LOCATION;VALUE=URI;X-ADDRESS=Pastor Fred’s Office 603 Main Street Oley PA 19547 United States;X-APPLE-RADIUS=500;X-TITLE=603 Main Street:geo:-75.785408,40.385459
END:VEVENT
BEGIN:VEVENT
DTSTART;TZID=America/New_York:20190328T190000
DTEND;TZID=America/New_York:20190328T203000
DTSTAMP:20260422T214639
CREATED:20181002T151620Z
LAST-MODIFIED:20220919T005251Z
UID:10001047-1553799600-1553805000@ccoley.com
SUMMARY:Youth Group Bible Study
DESCRIPTION:Please let Steve Shirey know if you would like to be part of a youth group that takes God’s Word seriously in knowing how to live as believers in an ever-changing culture. \nSteve will continue in the Book of 1 John.
URL:https://ccoley.com/event/youth-group-3/2019-03-28/
LOCATION:Pastor Fred’s Office\, 603 Main Street\, Oley\, PA\, 19547\, United States
CATEGORIES:Youth Group Bible Study
ORGANIZER;CN="Steve Shirey":MAILTO:ssbirdman71@yahoo.com
GEO:40.385459;-75.785408
X-APPLE-STRUCTURED-LOCATION;VALUE=URI;X-ADDRESS=Pastor Fred’s Office 603 Main Street Oley PA 19547 United States;X-APPLE-RADIUS=500;X-TITLE=603 Main Street:geo:-75.785408,40.385459
END:VEVENT
BEGIN:VEVENT
DTSTART;TZID=America/New_York:20190321T190000
DTEND;TZID=America/New_York:20190321T203000
DTSTAMP:20260422T214639
CREATED:20181002T151620Z
LAST-MODIFIED:20220919T005251Z
UID:10001046-1553194800-1553200200@ccoley.com
SUMMARY:Youth Group Bible Study
DESCRIPTION:Please let Steve Shirey know if you would like to be part of a youth group that takes God’s Word seriously in knowing how to live as believers in an ever-changing culture. \nSteve will continue in the Book of 1 John.
URL:https://ccoley.com/event/youth-group-3/2019-03-21/
LOCATION:Pastor Fred’s Office\, 603 Main Street\, Oley\, PA\, 19547\, United States
CATEGORIES:Youth Group Bible Study
ORGANIZER;CN="Steve Shirey":MAILTO:ssbirdman71@yahoo.com
GEO:40.385459;-75.785408
X-APPLE-STRUCTURED-LOCATION;VALUE=URI;X-ADDRESS=Pastor Fred’s Office 603 Main Street Oley PA 19547 United States;X-APPLE-RADIUS=500;X-TITLE=603 Main Street:geo:-75.785408,40.385459
END:VEVENT
END:VCALENDAR