BEGIN:VCALENDAR
VERSION:2.0
PRODID:-//Calvary Chapel of the Oley Valley - ECPv6.15.20//NONSGML v1.0//EN
CALSCALE:GREGORIAN
METHOD:PUBLISH
X-ORIGINAL-URL:https://ccoley.com
X-WR-CALDESC:Events for Calvary Chapel of the Oley Valley
REFRESH-INTERVAL;VALUE=DURATION:PT1H
X-Robots-Tag:noindex
X-PUBLISHED-TTL:PT1H
BEGIN:VTIMEZONE
TZID:America/New_York
BEGIN:DAYLIGHT
TZOFFSETFROM:-0500
TZOFFSETTO:-0400
TZNAME:EDT
DTSTART:20240310T070000
END:DAYLIGHT
BEGIN:STANDARD
TZOFFSETFROM:-0400
TZOFFSETTO:-0500
TZNAME:EST
DTSTART:20241103T060000
END:STANDARD
BEGIN:DAYLIGHT
TZOFFSETFROM:-0500
TZOFFSETTO:-0400
TZNAME:EDT
DTSTART:20250309T070000
END:DAYLIGHT
BEGIN:STANDARD
TZOFFSETFROM:-0400
TZOFFSETTO:-0500
TZNAME:EST
DTSTART:20251102T060000
END:STANDARD
BEGIN:DAYLIGHT
TZOFFSETFROM:-0500
TZOFFSETTO:-0400
TZNAME:EDT
DTSTART:20260308T070000
END:DAYLIGHT
BEGIN:STANDARD
TZOFFSETFROM:-0400
TZOFFSETTO:-0500
TZNAME:EST
DTSTART:20261101T060000
END:STANDARD
BEGIN:DAYLIGHT
TZOFFSETFROM:-0500
TZOFFSETTO:-0400
TZNAME:EDT
DTSTART:20270314T070000
END:DAYLIGHT
BEGIN:STANDARD
TZOFFSETFROM:-0400
TZOFFSETTO:-0500
TZNAME:EST
DTSTART:20271107T060000
END:STANDARD
END:VTIMEZONE
BEGIN:VEVENT
DTSTART;TZID=America/New_York:20260208T090000
DTEND;TZID=America/New_York:20260208T100000
DTSTAMP:20260422T160839
CREATED:20241110T182654Z
LAST-MODIFIED:20260329T183928Z
UID:10004493-1770541200-1770544800@ccoley.com
SUMMARY:Sunday Bible Study
DESCRIPTION:Oskars Rieksts will be studying through the book of Psalms.
URL:https://ccoley.com/event/sunday-bible-study-17/2026-02-08/
LOCATION:Oley Fairgrounds\, 26 Jefferson St\, Oley\, PA\, 19547\, United States
CATEGORIES:Sunday Bible Study
ORGANIZER;CN="Oskars Rieksts":MAILTO:rieksts385@yahoo.com
GEO:40.3866624;-75.7846798
X-APPLE-STRUCTURED-LOCATION;VALUE=URI;X-ADDRESS=Oley Fairgrounds 26 Jefferson St Oley PA 19547 United States;X-APPLE-RADIUS=500;X-TITLE=26 Jefferson St:geo:-75.7846798,40.3866624
END:VEVENT
BEGIN:VEVENT
DTSTART;TZID=America/New_York:20260201T090000
DTEND;TZID=America/New_York:20260201T100000
DTSTAMP:20260422T160839
CREATED:20241110T182654Z
LAST-MODIFIED:20260329T183928Z
UID:10004492-1769936400-1769940000@ccoley.com
SUMMARY:Sunday Bible Study
DESCRIPTION:Oskars Rieksts will be studying through the book of Psalms.
URL:https://ccoley.com/event/sunday-bible-study-17/2026-02-01/
LOCATION:Oley Fairgrounds\, 26 Jefferson St\, Oley\, PA\, 19547\, United States
CATEGORIES:Sunday Bible Study
ORGANIZER;CN="Oskars Rieksts":MAILTO:rieksts385@yahoo.com
GEO:40.3866624;-75.7846798
X-APPLE-STRUCTURED-LOCATION;VALUE=URI;X-ADDRESS=Oley Fairgrounds 26 Jefferson St Oley PA 19547 United States;X-APPLE-RADIUS=500;X-TITLE=26 Jefferson St:geo:-75.7846798,40.3866624
END:VEVENT
BEGIN:VEVENT
DTSTART;TZID=America/New_York:20260125T090000
DTEND;TZID=America/New_York:20260125T100000
DTSTAMP:20260422T160839
CREATED:20241110T182654Z
LAST-MODIFIED:20260329T183928Z
UID:10004491-1769331600-1769335200@ccoley.com
SUMMARY:Sunday Bible Study
DESCRIPTION:Oskars Rieksts will be studying through the book of Psalms.
URL:https://ccoley.com/event/sunday-bible-study-17/2026-01-25/
LOCATION:Oley Fairgrounds\, 26 Jefferson St\, Oley\, PA\, 19547\, United States
CATEGORIES:Sunday Bible Study
ORGANIZER;CN="Oskars Rieksts":MAILTO:rieksts385@yahoo.com
GEO:40.3866624;-75.7846798
X-APPLE-STRUCTURED-LOCATION;VALUE=URI;X-ADDRESS=Oley Fairgrounds 26 Jefferson St Oley PA 19547 United States;X-APPLE-RADIUS=500;X-TITLE=26 Jefferson St:geo:-75.7846798,40.3866624
END:VEVENT
BEGIN:VEVENT
DTSTART;TZID=America/New_York:20260118T090000
DTEND;TZID=America/New_York:20260118T100000
DTSTAMP:20260422T160839
CREATED:20241110T182654Z
LAST-MODIFIED:20260329T183928Z
UID:10004490-1768726800-1768730400@ccoley.com
SUMMARY:Sunday Bible Study
DESCRIPTION:Oskars Rieksts will be studying through the book of Psalms.
URL:https://ccoley.com/event/sunday-bible-study-17/2026-01-18/
LOCATION:Oley Fairgrounds\, 26 Jefferson St\, Oley\, PA\, 19547\, United States
CATEGORIES:Sunday Bible Study
ORGANIZER;CN="Oskars Rieksts":MAILTO:rieksts385@yahoo.com
GEO:40.3866624;-75.7846798
X-APPLE-STRUCTURED-LOCATION;VALUE=URI;X-ADDRESS=Oley Fairgrounds 26 Jefferson St Oley PA 19547 United States;X-APPLE-RADIUS=500;X-TITLE=26 Jefferson St:geo:-75.7846798,40.3866624
END:VEVENT
BEGIN:VEVENT
DTSTART;TZID=America/New_York:20260111T090000
DTEND;TZID=America/New_York:20260111T100000
DTSTAMP:20260422T160839
CREATED:20241110T182654Z
LAST-MODIFIED:20260329T183928Z
UID:10004489-1768122000-1768125600@ccoley.com
SUMMARY:Sunday Bible Study
DESCRIPTION:Oskars Rieksts will be studying through the book of Psalms.
URL:https://ccoley.com/event/sunday-bible-study-17/2026-01-11/
LOCATION:Oley Fairgrounds\, 26 Jefferson St\, Oley\, PA\, 19547\, United States
CATEGORIES:Sunday Bible Study
ORGANIZER;CN="Oskars Rieksts":MAILTO:rieksts385@yahoo.com
GEO:40.3866624;-75.7846798
X-APPLE-STRUCTURED-LOCATION;VALUE=URI;X-ADDRESS=Oley Fairgrounds 26 Jefferson St Oley PA 19547 United States;X-APPLE-RADIUS=500;X-TITLE=26 Jefferson St:geo:-75.7846798,40.3866624
END:VEVENT
BEGIN:VEVENT
DTSTART;TZID=America/New_York:20260104T090000
DTEND;TZID=America/New_York:20260104T100000
DTSTAMP:20260422T160839
CREATED:20241110T182654Z
LAST-MODIFIED:20260329T183928Z
UID:10004488-1767517200-1767520800@ccoley.com
SUMMARY:Sunday Bible Study
DESCRIPTION:Oskars Rieksts will be studying through the book of Psalms.
URL:https://ccoley.com/event/sunday-bible-study-17/2026-01-04/
LOCATION:Oley Fairgrounds\, 26 Jefferson St\, Oley\, PA\, 19547\, United States
CATEGORIES:Sunday Bible Study
ORGANIZER;CN="Oskars Rieksts":MAILTO:rieksts385@yahoo.com
GEO:40.3866624;-75.7846798
X-APPLE-STRUCTURED-LOCATION;VALUE=URI;X-ADDRESS=Oley Fairgrounds 26 Jefferson St Oley PA 19547 United States;X-APPLE-RADIUS=500;X-TITLE=26 Jefferson St:geo:-75.7846798,40.3866624
END:VEVENT
BEGIN:VEVENT
DTSTART;TZID=America/New_York:20251228T090000
DTEND;TZID=America/New_York:20251228T100000
DTSTAMP:20260422T160839
CREATED:20241110T182654Z
LAST-MODIFIED:20260329T183928Z
UID:10004487-1766912400-1766916000@ccoley.com
SUMMARY:Sunday Bible Study
DESCRIPTION:Oskars Rieksts will be studying through the book of Psalms.
URL:https://ccoley.com/event/sunday-bible-study-17/2025-12-28/
LOCATION:Oley Fairgrounds\, 26 Jefferson St\, Oley\, PA\, 19547\, United States
CATEGORIES:Sunday Bible Study
ORGANIZER;CN="Oskars Rieksts":MAILTO:rieksts385@yahoo.com
GEO:40.3866624;-75.7846798
X-APPLE-STRUCTURED-LOCATION;VALUE=URI;X-ADDRESS=Oley Fairgrounds 26 Jefferson St Oley PA 19547 United States;X-APPLE-RADIUS=500;X-TITLE=26 Jefferson St:geo:-75.7846798,40.3866624
END:VEVENT
BEGIN:VEVENT
DTSTART;TZID=America/New_York:20251221T090000
DTEND;TZID=America/New_York:20251221T100000
DTSTAMP:20260422T160839
CREATED:20241110T182654Z
LAST-MODIFIED:20260329T183928Z
UID:10004486-1766307600-1766311200@ccoley.com
SUMMARY:Sunday Bible Study
DESCRIPTION:Oskars Rieksts will be studying through the book of Psalms.
URL:https://ccoley.com/event/sunday-bible-study-17/2025-12-21/
LOCATION:Oley Fairgrounds\, 26 Jefferson St\, Oley\, PA\, 19547\, United States
CATEGORIES:Sunday Bible Study
ORGANIZER;CN="Oskars Rieksts":MAILTO:rieksts385@yahoo.com
GEO:40.3866624;-75.7846798
X-APPLE-STRUCTURED-LOCATION;VALUE=URI;X-ADDRESS=Oley Fairgrounds 26 Jefferson St Oley PA 19547 United States;X-APPLE-RADIUS=500;X-TITLE=26 Jefferson St:geo:-75.7846798,40.3866624
END:VEVENT
BEGIN:VEVENT
DTSTART;TZID=America/New_York:20251214T090000
DTEND;TZID=America/New_York:20251214T100000
DTSTAMP:20260422T160839
CREATED:20241110T182654Z
LAST-MODIFIED:20260329T183928Z
UID:10004485-1765702800-1765706400@ccoley.com
SUMMARY:Sunday Bible Study
DESCRIPTION:Oskars Rieksts will be studying through the book of Psalms.
URL:https://ccoley.com/event/sunday-bible-study-17/2025-12-14/
LOCATION:Oley Fairgrounds\, 26 Jefferson St\, Oley\, PA\, 19547\, United States
CATEGORIES:Sunday Bible Study
ORGANIZER;CN="Oskars Rieksts":MAILTO:rieksts385@yahoo.com
GEO:40.3866624;-75.7846798
X-APPLE-STRUCTURED-LOCATION;VALUE=URI;X-ADDRESS=Oley Fairgrounds 26 Jefferson St Oley PA 19547 United States;X-APPLE-RADIUS=500;X-TITLE=26 Jefferson St:geo:-75.7846798,40.3866624
END:VEVENT
BEGIN:VEVENT
DTSTART;TZID=America/New_York:20251207T090000
DTEND;TZID=America/New_York:20251207T100000
DTSTAMP:20260422T160839
CREATED:20241110T182654Z
LAST-MODIFIED:20260329T183928Z
UID:10004484-1765098000-1765101600@ccoley.com
SUMMARY:Sunday Bible Study
DESCRIPTION:Oskars Rieksts will be studying through the book of Psalms.
URL:https://ccoley.com/event/sunday-bible-study-17/2025-12-07/
LOCATION:Oley Fairgrounds\, 26 Jefferson St\, Oley\, PA\, 19547\, United States
CATEGORIES:Sunday Bible Study
ORGANIZER;CN="Oskars Rieksts":MAILTO:rieksts385@yahoo.com
GEO:40.3866624;-75.7846798
X-APPLE-STRUCTURED-LOCATION;VALUE=URI;X-ADDRESS=Oley Fairgrounds 26 Jefferson St Oley PA 19547 United States;X-APPLE-RADIUS=500;X-TITLE=26 Jefferson St:geo:-75.7846798,40.3866624
END:VEVENT
BEGIN:VEVENT
DTSTART;TZID=America/New_York:20251130T090000
DTEND;TZID=America/New_York:20251130T100000
DTSTAMP:20260422T160839
CREATED:20241110T182654Z
LAST-MODIFIED:20260329T183928Z
UID:10004483-1764493200-1764496800@ccoley.com
SUMMARY:Sunday Bible Study
DESCRIPTION:Oskars Rieksts will be studying through the book of Psalms.
URL:https://ccoley.com/event/sunday-bible-study-17/2025-11-30/
LOCATION:Oley Fairgrounds\, 26 Jefferson St\, Oley\, PA\, 19547\, United States
CATEGORIES:Sunday Bible Study
ORGANIZER;CN="Oskars Rieksts":MAILTO:rieksts385@yahoo.com
GEO:40.3866624;-75.7846798
X-APPLE-STRUCTURED-LOCATION;VALUE=URI;X-ADDRESS=Oley Fairgrounds 26 Jefferson St Oley PA 19547 United States;X-APPLE-RADIUS=500;X-TITLE=26 Jefferson St:geo:-75.7846798,40.3866624
END:VEVENT
BEGIN:VEVENT
DTSTART;TZID=America/New_York:20251123T090000
DTEND;TZID=America/New_York:20251123T100000
DTSTAMP:20260422T160839
CREATED:20241110T182654Z
LAST-MODIFIED:20260329T183928Z
UID:10004482-1763888400-1763892000@ccoley.com
SUMMARY:Sunday Bible Study
DESCRIPTION:Oskars Rieksts will be studying through the book of Psalms.
URL:https://ccoley.com/event/sunday-bible-study-17/2025-11-23/
LOCATION:Oley Fairgrounds\, 26 Jefferson St\, Oley\, PA\, 19547\, United States
CATEGORIES:Sunday Bible Study
ORGANIZER;CN="Oskars Rieksts":MAILTO:rieksts385@yahoo.com
GEO:40.3866624;-75.7846798
X-APPLE-STRUCTURED-LOCATION;VALUE=URI;X-ADDRESS=Oley Fairgrounds 26 Jefferson St Oley PA 19547 United States;X-APPLE-RADIUS=500;X-TITLE=26 Jefferson St:geo:-75.7846798,40.3866624
END:VEVENT
BEGIN:VEVENT
DTSTART;TZID=America/New_York:20251116T090000
DTEND;TZID=America/New_York:20251116T100000
DTSTAMP:20260422T160839
CREATED:20251109T184840Z
LAST-MODIFIED:20251109T184840Z
UID:10005620-1763283600-1763287200@ccoley.com
SUMMARY:Sunday Bible Study
DESCRIPTION:Oskars Rieksts will be studying through the book of Psalms.
URL:https://ccoley.com/event/sunday-bible-study-24/
LOCATION:Camp Manatawny\, 33 Camp Rd\, Douglasville\, PA\, 19518\, United States
CATEGORIES:Sunday Bible Study
ORGANIZER;CN="Oskars Rieksts":MAILTO:rieksts385@yahoo.com
GEO:40.3236028;-75.7358234
X-APPLE-STRUCTURED-LOCATION;VALUE=URI;X-ADDRESS=Camp Manatawny 33 Camp Rd Douglasville PA 19518 United States;X-APPLE-RADIUS=500;X-TITLE=33 Camp Rd:geo:-75.7358234,40.3236028
END:VEVENT
BEGIN:VEVENT
DTSTART;TZID=America/New_York:20251109T090000
DTEND;TZID=America/New_York:20251109T100000
DTSTAMP:20260422T160839
CREATED:20241110T182654Z
LAST-MODIFIED:20260329T183928Z
UID:10004480-1762678800-1762682400@ccoley.com
SUMMARY:Sunday Bible Study
DESCRIPTION:Oskars Rieksts will be studying through the book of Psalms.
URL:https://ccoley.com/event/sunday-bible-study-17/2025-11-09/
LOCATION:Oley Fairgrounds\, 26 Jefferson St\, Oley\, PA\, 19547\, United States
CATEGORIES:Sunday Bible Study
ORGANIZER;CN="Oskars Rieksts":MAILTO:rieksts385@yahoo.com
GEO:40.3866624;-75.7846798
X-APPLE-STRUCTURED-LOCATION;VALUE=URI;X-ADDRESS=Oley Fairgrounds 26 Jefferson St Oley PA 19547 United States;X-APPLE-RADIUS=500;X-TITLE=26 Jefferson St:geo:-75.7846798,40.3866624
END:VEVENT
BEGIN:VEVENT
DTSTART;TZID=America/New_York:20251102T090000
DTEND;TZID=America/New_York:20251102T100000
DTSTAMP:20260422T160839
CREATED:20241110T182654Z
LAST-MODIFIED:20260329T183928Z
UID:10004479-1762074000-1762077600@ccoley.com
SUMMARY:Sunday Bible Study
DESCRIPTION:Oskars Rieksts will be studying through the book of Psalms.
URL:https://ccoley.com/event/sunday-bible-study-17/2025-11-02/
LOCATION:Oley Fairgrounds\, 26 Jefferson St\, Oley\, PA\, 19547\, United States
CATEGORIES:Sunday Bible Study
ORGANIZER;CN="Oskars Rieksts":MAILTO:rieksts385@yahoo.com
GEO:40.3866624;-75.7846798
X-APPLE-STRUCTURED-LOCATION;VALUE=URI;X-ADDRESS=Oley Fairgrounds 26 Jefferson St Oley PA 19547 United States;X-APPLE-RADIUS=500;X-TITLE=26 Jefferson St:geo:-75.7846798,40.3866624
END:VEVENT
BEGIN:VEVENT
DTSTART;TZID=America/New_York:20251026T090000
DTEND;TZID=America/New_York:20251026T100000
DTSTAMP:20260422T160839
CREATED:20251025T192658Z
LAST-MODIFIED:20251025T192658Z
UID:10005286-1761469200-1761472800@ccoley.com
SUMMARY:Sunday Bible Study
DESCRIPTION:Oskars Rieksts will be studying through the book of Psalms.
URL:https://ccoley.com/event/sunday-bible-study-23/
LOCATION:Camp Manatawny\, 33 Camp Rd\, Douglasville\, PA\, 19518\, United States
CATEGORIES:Sunday Bible Study
ORGANIZER;CN="Oskars Rieksts":MAILTO:rieksts385@yahoo.com
GEO:40.3236028;-75.7358234
X-APPLE-STRUCTURED-LOCATION;VALUE=URI;X-ADDRESS=Camp Manatawny 33 Camp Rd Douglasville PA 19518 United States;X-APPLE-RADIUS=500;X-TITLE=33 Camp Rd:geo:-75.7358234,40.3236028
END:VEVENT
BEGIN:VEVENT
DTSTART;TZID=America/New_York:20251019T090000
DTEND;TZID=America/New_York:20251019T100000
DTSTAMP:20260422T160839
CREATED:20241110T182654Z
LAST-MODIFIED:20260329T183928Z
UID:10004477-1760864400-1760868000@ccoley.com
SUMMARY:Sunday Bible Study
DESCRIPTION:Oskars Rieksts will be studying through the book of Psalms.
URL:https://ccoley.com/event/sunday-bible-study-17/2025-10-19/
LOCATION:Oley Fairgrounds\, 26 Jefferson St\, Oley\, PA\, 19547\, United States
CATEGORIES:Sunday Bible Study
ORGANIZER;CN="Oskars Rieksts":MAILTO:rieksts385@yahoo.com
GEO:40.3866624;-75.7846798
X-APPLE-STRUCTURED-LOCATION;VALUE=URI;X-ADDRESS=Oley Fairgrounds 26 Jefferson St Oley PA 19547 United States;X-APPLE-RADIUS=500;X-TITLE=26 Jefferson St:geo:-75.7846798,40.3866624
END:VEVENT
BEGIN:VEVENT
DTSTART;TZID=America/New_York:20251012T090000
DTEND;TZID=America/New_York:20251012T100000
DTSTAMP:20260422T160839
CREATED:20241110T182654Z
LAST-MODIFIED:20260329T183928Z
UID:10004476-1760259600-1760263200@ccoley.com
SUMMARY:Sunday Bible Study
DESCRIPTION:Oskars Rieksts will be studying through the book of Psalms.
URL:https://ccoley.com/event/sunday-bible-study-17/2025-10-12/
LOCATION:Oley Fairgrounds\, 26 Jefferson St\, Oley\, PA\, 19547\, United States
CATEGORIES:Sunday Bible Study
ORGANIZER;CN="Oskars Rieksts":MAILTO:rieksts385@yahoo.com
GEO:40.3866624;-75.7846798
X-APPLE-STRUCTURED-LOCATION;VALUE=URI;X-ADDRESS=Oley Fairgrounds 26 Jefferson St Oley PA 19547 United States;X-APPLE-RADIUS=500;X-TITLE=26 Jefferson St:geo:-75.7846798,40.3866624
END:VEVENT
BEGIN:VEVENT
DTSTART;TZID=America/New_York:20251005T090000
DTEND;TZID=America/New_York:20251005T100000
DTSTAMP:20260422T160839
CREATED:20241110T182654Z
LAST-MODIFIED:20260329T183928Z
UID:10004475-1759654800-1759658400@ccoley.com
SUMMARY:Sunday Bible Study
DESCRIPTION:Oskars Rieksts will be studying through the book of Psalms.
URL:https://ccoley.com/event/sunday-bible-study-17/2025-10-05/
LOCATION:Oley Fairgrounds\, 26 Jefferson St\, Oley\, PA\, 19547\, United States
CATEGORIES:Sunday Bible Study
ORGANIZER;CN="Oskars Rieksts":MAILTO:rieksts385@yahoo.com
GEO:40.3866624;-75.7846798
X-APPLE-STRUCTURED-LOCATION;VALUE=URI;X-ADDRESS=Oley Fairgrounds 26 Jefferson St Oley PA 19547 United States;X-APPLE-RADIUS=500;X-TITLE=26 Jefferson St:geo:-75.7846798,40.3866624
END:VEVENT
BEGIN:VEVENT
DTSTART;TZID=America/New_York:20250928T090000
DTEND;TZID=America/New_York:20250928T100000
DTSTAMP:20260422T160839
CREATED:20241110T182654Z
LAST-MODIFIED:20260329T183928Z
UID:10004474-1759050000-1759053600@ccoley.com
SUMMARY:Sunday Bible Study
DESCRIPTION:Oskars Rieksts will be studying through the book of Psalms.
URL:https://ccoley.com/event/sunday-bible-study-17/2025-09-28/
LOCATION:Oley Fairgrounds\, 26 Jefferson St\, Oley\, PA\, 19547\, United States
CATEGORIES:Sunday Bible Study
ORGANIZER;CN="Oskars Rieksts":MAILTO:rieksts385@yahoo.com
GEO:40.3866624;-75.7846798
X-APPLE-STRUCTURED-LOCATION;VALUE=URI;X-ADDRESS=Oley Fairgrounds 26 Jefferson St Oley PA 19547 United States;X-APPLE-RADIUS=500;X-TITLE=26 Jefferson St:geo:-75.7846798,40.3866624
END:VEVENT
BEGIN:VEVENT
DTSTART;TZID=America/New_York:20250921T090000
DTEND;TZID=America/New_York:20250921T100000
DTSTAMP:20260422T160839
CREATED:20250713T172634Z
LAST-MODIFIED:20250713T172634Z
UID:10005119-1758445200-1758448800@ccoley.com
SUMMARY:Sunday Bible Study
DESCRIPTION:Oskars Rieksts will be studying through the book of Psalms.
URL:https://ccoley.com/event/sunday-bible-study-22/
LOCATION:Camp Manatawny\, 33 Camp Rd\, Douglasville\, PA\, 19518\, United States
CATEGORIES:Sunday Bible Study
ORGANIZER;CN="Oskars Rieksts":MAILTO:rieksts385@yahoo.com
GEO:40.3236028;-75.7358234
X-APPLE-STRUCTURED-LOCATION;VALUE=URI;X-ADDRESS=Camp Manatawny 33 Camp Rd Douglasville PA 19518 United States;X-APPLE-RADIUS=500;X-TITLE=33 Camp Rd:geo:-75.7358234,40.3236028
END:VEVENT
BEGIN:VEVENT
DTSTART;TZID=America/New_York:20250914T090000
DTEND;TZID=America/New_York:20250914T100000
DTSTAMP:20260422T160839
CREATED:20250713T172608Z
LAST-MODIFIED:20250713T172608Z
UID:10005118-1757840400-1757844000@ccoley.com
SUMMARY:Sunday Bible Study
DESCRIPTION:Oskars Rieksts will be studying through the book of Psalms.
URL:https://ccoley.com/event/sunday-bible-study-21/
LOCATION:Camp Manatawny\, 33 Camp Rd\, Douglasville\, PA\, 19518\, United States
CATEGORIES:Sunday Bible Study
ORGANIZER;CN="Oskars Rieksts":MAILTO:rieksts385@yahoo.com
GEO:40.3236028;-75.7358234
X-APPLE-STRUCTURED-LOCATION;VALUE=URI;X-ADDRESS=Camp Manatawny 33 Camp Rd Douglasville PA 19518 United States;X-APPLE-RADIUS=500;X-TITLE=33 Camp Rd:geo:-75.7358234,40.3236028
END:VEVENT
BEGIN:VEVENT
DTSTART;TZID=America/New_York:20250907T090000
DTEND;TZID=America/New_York:20250907T100000
DTSTAMP:20260422T160839
CREATED:20250713T172520Z
LAST-MODIFIED:20250713T172520Z
UID:10005117-1757235600-1757239200@ccoley.com
SUMMARY:Sunday Bible Study
DESCRIPTION:Oskars Rieksts will be studying through the book of Psalms.
URL:https://ccoley.com/event/sunday-bible-study-20/
LOCATION:Camp Manatawny\, 33 Camp Rd\, Douglasville\, PA\, 19518\, United States
CATEGORIES:Sunday Bible Study
ORGANIZER;CN="Oskars Rieksts":MAILTO:rieksts385@yahoo.com
GEO:40.3236028;-75.7358234
X-APPLE-STRUCTURED-LOCATION;VALUE=URI;X-ADDRESS=Camp Manatawny 33 Camp Rd Douglasville PA 19518 United States;X-APPLE-RADIUS=500;X-TITLE=33 Camp Rd:geo:-75.7358234,40.3236028
END:VEVENT
BEGIN:VEVENT
DTSTART;TZID=America/New_York:20250831T090000
DTEND;TZID=America/New_York:20250831T100000
DTSTAMP:20260422T160839
CREATED:20241110T182654Z
LAST-MODIFIED:20260329T183928Z
UID:10004470-1756630800-1756634400@ccoley.com
SUMMARY:Sunday Bible Study
DESCRIPTION:Oskars Rieksts will be studying through the book of Psalms.
URL:https://ccoley.com/event/sunday-bible-study-17/2025-08-31/
LOCATION:Oley Fairgrounds\, 26 Jefferson St\, Oley\, PA\, 19547\, United States
CATEGORIES:Sunday Bible Study
ORGANIZER;CN="Oskars Rieksts":MAILTO:rieksts385@yahoo.com
GEO:40.3866624;-75.7846798
X-APPLE-STRUCTURED-LOCATION;VALUE=URI;X-ADDRESS=Oley Fairgrounds 26 Jefferson St Oley PA 19547 United States;X-APPLE-RADIUS=500;X-TITLE=26 Jefferson St:geo:-75.7846798,40.3866624
END:VEVENT
BEGIN:VEVENT
DTSTART;TZID=America/New_York:20250824T090000
DTEND;TZID=America/New_York:20250824T100000
DTSTAMP:20260422T160839
CREATED:20241110T182654Z
LAST-MODIFIED:20260329T183928Z
UID:10004469-1756026000-1756029600@ccoley.com
SUMMARY:Sunday Bible Study
DESCRIPTION:Oskars Rieksts will be studying through the book of Psalms.
URL:https://ccoley.com/event/sunday-bible-study-17/2025-08-24/
LOCATION:Oley Fairgrounds\, 26 Jefferson St\, Oley\, PA\, 19547\, United States
CATEGORIES:Sunday Bible Study
ORGANIZER;CN="Oskars Rieksts":MAILTO:rieksts385@yahoo.com
GEO:40.3866624;-75.7846798
X-APPLE-STRUCTURED-LOCATION;VALUE=URI;X-ADDRESS=Oley Fairgrounds 26 Jefferson St Oley PA 19547 United States;X-APPLE-RADIUS=500;X-TITLE=26 Jefferson St:geo:-75.7846798,40.3866624
END:VEVENT
BEGIN:VEVENT
DTSTART;TZID=America/New_York:20250817T090000
DTEND;TZID=America/New_York:20250817T100000
DTSTAMP:20260422T160839
CREATED:20241110T182654Z
LAST-MODIFIED:20260329T183928Z
UID:10004468-1755421200-1755424800@ccoley.com
SUMMARY:Sunday Bible Study
DESCRIPTION:Oskars Rieksts will be studying through the book of Psalms.
URL:https://ccoley.com/event/sunday-bible-study-17/2025-08-17/
LOCATION:Oley Fairgrounds\, 26 Jefferson St\, Oley\, PA\, 19547\, United States
CATEGORIES:Sunday Bible Study
ORGANIZER;CN="Oskars Rieksts":MAILTO:rieksts385@yahoo.com
GEO:40.3866624;-75.7846798
X-APPLE-STRUCTURED-LOCATION;VALUE=URI;X-ADDRESS=Oley Fairgrounds 26 Jefferson St Oley PA 19547 United States;X-APPLE-RADIUS=500;X-TITLE=26 Jefferson St:geo:-75.7846798,40.3866624
END:VEVENT
BEGIN:VEVENT
DTSTART;TZID=America/New_York:20250810T090000
DTEND;TZID=America/New_York:20250810T100000
DTSTAMP:20260422T160839
CREATED:20241110T182654Z
LAST-MODIFIED:20260329T183928Z
UID:10004467-1754816400-1754820000@ccoley.com
SUMMARY:Sunday Bible Study
DESCRIPTION:Oskars Rieksts will be studying through the book of Psalms.
URL:https://ccoley.com/event/sunday-bible-study-17/2025-08-10/
LOCATION:Oley Fairgrounds\, 26 Jefferson St\, Oley\, PA\, 19547\, United States
CATEGORIES:Sunday Bible Study
ORGANIZER;CN="Oskars Rieksts":MAILTO:rieksts385@yahoo.com
GEO:40.3866624;-75.7846798
X-APPLE-STRUCTURED-LOCATION;VALUE=URI;X-ADDRESS=Oley Fairgrounds 26 Jefferson St Oley PA 19547 United States;X-APPLE-RADIUS=500;X-TITLE=26 Jefferson St:geo:-75.7846798,40.3866624
END:VEVENT
BEGIN:VEVENT
DTSTART;TZID=America/New_York:20250803T090000
DTEND;TZID=America/New_York:20250803T100000
DTSTAMP:20260422T160839
CREATED:20241110T182654Z
LAST-MODIFIED:20260329T183928Z
UID:10004466-1754211600-1754215200@ccoley.com
SUMMARY:Sunday Bible Study
DESCRIPTION:Oskars Rieksts will be studying through the book of Psalms.
URL:https://ccoley.com/event/sunday-bible-study-17/2025-08-03/
LOCATION:Oley Fairgrounds\, 26 Jefferson St\, Oley\, PA\, 19547\, United States
CATEGORIES:Sunday Bible Study
ORGANIZER;CN="Oskars Rieksts":MAILTO:rieksts385@yahoo.com
GEO:40.3866624;-75.7846798
X-APPLE-STRUCTURED-LOCATION;VALUE=URI;X-ADDRESS=Oley Fairgrounds 26 Jefferson St Oley PA 19547 United States;X-APPLE-RADIUS=500;X-TITLE=26 Jefferson St:geo:-75.7846798,40.3866624
END:VEVENT
BEGIN:VEVENT
DTSTART;TZID=America/New_York:20250727T090000
DTEND;TZID=America/New_York:20250727T100000
DTSTAMP:20260422T160839
CREATED:20241110T182654Z
LAST-MODIFIED:20260329T183928Z
UID:10004465-1753606800-1753610400@ccoley.com
SUMMARY:Sunday Bible Study
DESCRIPTION:Oskars Rieksts will be studying through the book of Psalms.
URL:https://ccoley.com/event/sunday-bible-study-17/2025-07-27/
LOCATION:Oley Fairgrounds\, 26 Jefferson St\, Oley\, PA\, 19547\, United States
CATEGORIES:Sunday Bible Study
ORGANIZER;CN="Oskars Rieksts":MAILTO:rieksts385@yahoo.com
GEO:40.3866624;-75.7846798
X-APPLE-STRUCTURED-LOCATION;VALUE=URI;X-ADDRESS=Oley Fairgrounds 26 Jefferson St Oley PA 19547 United States;X-APPLE-RADIUS=500;X-TITLE=26 Jefferson St:geo:-75.7846798,40.3866624
END:VEVENT
BEGIN:VEVENT
DTSTART;TZID=America/New_York:20250720T090000
DTEND;TZID=America/New_York:20250720T100000
DTSTAMP:20260422T160839
CREATED:20241110T182654Z
LAST-MODIFIED:20260329T183928Z
UID:10004464-1753002000-1753005600@ccoley.com
SUMMARY:Sunday Bible Study
DESCRIPTION:Oskars Rieksts will be studying through the book of Psalms.
URL:https://ccoley.com/event/sunday-bible-study-17/2025-07-20/
LOCATION:Oley Fairgrounds\, 26 Jefferson St\, Oley\, PA\, 19547\, United States
CATEGORIES:Sunday Bible Study
ORGANIZER;CN="Oskars Rieksts":MAILTO:rieksts385@yahoo.com
GEO:40.3866624;-75.7846798
X-APPLE-STRUCTURED-LOCATION;VALUE=URI;X-ADDRESS=Oley Fairgrounds 26 Jefferson St Oley PA 19547 United States;X-APPLE-RADIUS=500;X-TITLE=26 Jefferson St:geo:-75.7846798,40.3866624
END:VEVENT
END:VCALENDAR