BEGIN:VCALENDAR
VERSION:2.0
PRODID:-//Calvary Chapel of the Oley Valley - ECPv6.15.20//NONSGML v1.0//EN
CALSCALE:GREGORIAN
METHOD:PUBLISH
X-ORIGINAL-URL:https://ccoley.com
X-WR-CALDESC:Events for Calvary Chapel of the Oley Valley
REFRESH-INTERVAL;VALUE=DURATION:PT1H
X-Robots-Tag:noindex
X-PUBLISHED-TTL:PT1H
BEGIN:VTIMEZONE
TZID:America/New_York
BEGIN:DAYLIGHT
TZOFFSETFROM:-0500
TZOFFSETTO:-0400
TZNAME:EDT
DTSTART:20220313T070000
END:DAYLIGHT
BEGIN:STANDARD
TZOFFSETFROM:-0400
TZOFFSETTO:-0500
TZNAME:EST
DTSTART:20221106T060000
END:STANDARD
BEGIN:DAYLIGHT
TZOFFSETFROM:-0500
TZOFFSETTO:-0400
TZNAME:EDT
DTSTART:20230312T070000
END:DAYLIGHT
BEGIN:STANDARD
TZOFFSETFROM:-0400
TZOFFSETTO:-0500
TZNAME:EST
DTSTART:20231105T060000
END:STANDARD
BEGIN:DAYLIGHT
TZOFFSETFROM:-0500
TZOFFSETTO:-0400
TZNAME:EDT
DTSTART:20240310T070000
END:DAYLIGHT
BEGIN:STANDARD
TZOFFSETFROM:-0400
TZOFFSETTO:-0500
TZNAME:EST
DTSTART:20241103T060000
END:STANDARD
BEGIN:DAYLIGHT
TZOFFSETFROM:-0500
TZOFFSETTO:-0400
TZNAME:EDT
DTSTART:20250309T070000
END:DAYLIGHT
BEGIN:STANDARD
TZOFFSETFROM:-0400
TZOFFSETTO:-0500
TZNAME:EST
DTSTART:20251102T060000
END:STANDARD
END:VTIMEZONE
BEGIN:VEVENT
DTSTART;TZID=America/New_York:20240303T090000
DTEND;TZID=America/New_York:20240303T100000
DTSTAMP:20260425T091514
CREATED:20230910T165921Z
LAST-MODIFIED:20241110T182840Z
UID:10003407-1709456400-1709460000@ccoley.com
SUMMARY:Sunday Bible Study
DESCRIPTION:Oskars Rieksts will be studying through the book of John.
URL:https://ccoley.com/event/sunday-bible-study-9/2024-03-03/
LOCATION:Oley Fairgrounds\, 26 Jefferson St\, Oley\, PA\, 19547\, United States
CATEGORIES:Sunday Bible Study
ORGANIZER;CN="Oskars Rieksts":MAILTO:rieksts385@yahoo.com
GEO:40.3866624;-75.7846798
X-APPLE-STRUCTURED-LOCATION;VALUE=URI;X-ADDRESS=Oley Fairgrounds 26 Jefferson St Oley PA 19547 United States;X-APPLE-RADIUS=500;X-TITLE=26 Jefferson St:geo:-75.7846798,40.3866624
END:VEVENT
BEGIN:VEVENT
DTSTART;TZID=America/New_York:20240225T090000
DTEND;TZID=America/New_York:20240225T100000
DTSTAMP:20260425T091514
CREATED:20230910T165921Z
LAST-MODIFIED:20241110T182840Z
UID:10003406-1708851600-1708855200@ccoley.com
SUMMARY:Sunday Bible Study
DESCRIPTION:Oskars Rieksts will be studying through the book of John.
URL:https://ccoley.com/event/sunday-bible-study-9/2024-02-25/
LOCATION:Oley Fairgrounds\, 26 Jefferson St\, Oley\, PA\, 19547\, United States
CATEGORIES:Sunday Bible Study
ORGANIZER;CN="Oskars Rieksts":MAILTO:rieksts385@yahoo.com
GEO:40.3866624;-75.7846798
X-APPLE-STRUCTURED-LOCATION;VALUE=URI;X-ADDRESS=Oley Fairgrounds 26 Jefferson St Oley PA 19547 United States;X-APPLE-RADIUS=500;X-TITLE=26 Jefferson St:geo:-75.7846798,40.3866624
END:VEVENT
BEGIN:VEVENT
DTSTART;TZID=America/New_York:20240218T090000
DTEND;TZID=America/New_York:20240218T100000
DTSTAMP:20260425T091514
CREATED:20230910T165921Z
LAST-MODIFIED:20241110T182840Z
UID:10003405-1708246800-1708250400@ccoley.com
SUMMARY:Sunday Bible Study
DESCRIPTION:Oskars Rieksts will be studying through the book of John.
URL:https://ccoley.com/event/sunday-bible-study-9/2024-02-18/
LOCATION:Oley Fairgrounds\, 26 Jefferson St\, Oley\, PA\, 19547\, United States
CATEGORIES:Sunday Bible Study
ORGANIZER;CN="Oskars Rieksts":MAILTO:rieksts385@yahoo.com
GEO:40.3866624;-75.7846798
X-APPLE-STRUCTURED-LOCATION;VALUE=URI;X-ADDRESS=Oley Fairgrounds 26 Jefferson St Oley PA 19547 United States;X-APPLE-RADIUS=500;X-TITLE=26 Jefferson St:geo:-75.7846798,40.3866624
END:VEVENT
BEGIN:VEVENT
DTSTART;TZID=America/New_York:20240211T090000
DTEND;TZID=America/New_York:20240211T100000
DTSTAMP:20260425T091514
CREATED:20230910T165921Z
LAST-MODIFIED:20241110T182840Z
UID:10003404-1707642000-1707645600@ccoley.com
SUMMARY:Sunday Bible Study
DESCRIPTION:Oskars Rieksts will be studying through the book of John.
URL:https://ccoley.com/event/sunday-bible-study-9/2024-02-11/
LOCATION:Oley Fairgrounds\, 26 Jefferson St\, Oley\, PA\, 19547\, United States
CATEGORIES:Sunday Bible Study
ORGANIZER;CN="Oskars Rieksts":MAILTO:rieksts385@yahoo.com
GEO:40.3866624;-75.7846798
X-APPLE-STRUCTURED-LOCATION;VALUE=URI;X-ADDRESS=Oley Fairgrounds 26 Jefferson St Oley PA 19547 United States;X-APPLE-RADIUS=500;X-TITLE=26 Jefferson St:geo:-75.7846798,40.3866624
END:VEVENT
BEGIN:VEVENT
DTSTART;TZID=America/New_York:20240204T090000
DTEND;TZID=America/New_York:20240204T100000
DTSTAMP:20260425T091514
CREATED:20230910T165921Z
LAST-MODIFIED:20241110T182840Z
UID:10003403-1707037200-1707040800@ccoley.com
SUMMARY:Sunday Bible Study
DESCRIPTION:Oskars Rieksts will be studying through the book of John.
URL:https://ccoley.com/event/sunday-bible-study-9/2024-02-04/
LOCATION:Oley Fairgrounds\, 26 Jefferson St\, Oley\, PA\, 19547\, United States
CATEGORIES:Sunday Bible Study
ORGANIZER;CN="Oskars Rieksts":MAILTO:rieksts385@yahoo.com
GEO:40.3866624;-75.7846798
X-APPLE-STRUCTURED-LOCATION;VALUE=URI;X-ADDRESS=Oley Fairgrounds 26 Jefferson St Oley PA 19547 United States;X-APPLE-RADIUS=500;X-TITLE=26 Jefferson St:geo:-75.7846798,40.3866624
END:VEVENT
BEGIN:VEVENT
DTSTART;TZID=America/New_York:20240128T090000
DTEND;TZID=America/New_York:20240128T100000
DTSTAMP:20260425T091514
CREATED:20230910T165921Z
LAST-MODIFIED:20241110T182840Z
UID:10003402-1706432400-1706436000@ccoley.com
SUMMARY:Sunday Bible Study
DESCRIPTION:Oskars Rieksts will be studying through the book of John.
URL:https://ccoley.com/event/sunday-bible-study-9/2024-01-28/
LOCATION:Oley Fairgrounds\, 26 Jefferson St\, Oley\, PA\, 19547\, United States
CATEGORIES:Sunday Bible Study
ORGANIZER;CN="Oskars Rieksts":MAILTO:rieksts385@yahoo.com
GEO:40.3866624;-75.7846798
X-APPLE-STRUCTURED-LOCATION;VALUE=URI;X-ADDRESS=Oley Fairgrounds 26 Jefferson St Oley PA 19547 United States;X-APPLE-RADIUS=500;X-TITLE=26 Jefferson St:geo:-75.7846798,40.3866624
END:VEVENT
BEGIN:VEVENT
DTSTART;TZID=America/New_York:20240121T090000
DTEND;TZID=America/New_York:20240121T100000
DTSTAMP:20260425T091514
CREATED:20230910T165921Z
LAST-MODIFIED:20241110T182840Z
UID:10003401-1705827600-1705831200@ccoley.com
SUMMARY:Sunday Bible Study
DESCRIPTION:Oskars Rieksts will be studying through the book of John.
URL:https://ccoley.com/event/sunday-bible-study-9/2024-01-21/
LOCATION:Oley Fairgrounds\, 26 Jefferson St\, Oley\, PA\, 19547\, United States
CATEGORIES:Sunday Bible Study
ORGANIZER;CN="Oskars Rieksts":MAILTO:rieksts385@yahoo.com
GEO:40.3866624;-75.7846798
X-APPLE-STRUCTURED-LOCATION;VALUE=URI;X-ADDRESS=Oley Fairgrounds 26 Jefferson St Oley PA 19547 United States;X-APPLE-RADIUS=500;X-TITLE=26 Jefferson St:geo:-75.7846798,40.3866624
END:VEVENT
BEGIN:VEVENT
DTSTART;TZID=America/New_York:20240114T090000
DTEND;TZID=America/New_York:20240114T100000
DTSTAMP:20260425T091514
CREATED:20230910T165921Z
LAST-MODIFIED:20241110T182840Z
UID:10003400-1705222800-1705226400@ccoley.com
SUMMARY:Sunday Bible Study
DESCRIPTION:Oskars Rieksts will be studying through the book of John.
URL:https://ccoley.com/event/sunday-bible-study-9/2024-01-14/
LOCATION:Oley Fairgrounds\, 26 Jefferson St\, Oley\, PA\, 19547\, United States
CATEGORIES:Sunday Bible Study
ORGANIZER;CN="Oskars Rieksts":MAILTO:rieksts385@yahoo.com
GEO:40.3866624;-75.7846798
X-APPLE-STRUCTURED-LOCATION;VALUE=URI;X-ADDRESS=Oley Fairgrounds 26 Jefferson St Oley PA 19547 United States;X-APPLE-RADIUS=500;X-TITLE=26 Jefferson St:geo:-75.7846798,40.3866624
END:VEVENT
BEGIN:VEVENT
DTSTART;TZID=America/New_York:20240107T090000
DTEND;TZID=America/New_York:20240107T100000
DTSTAMP:20260425T091514
CREATED:20230910T165921Z
LAST-MODIFIED:20241110T182840Z
UID:10003399-1704618000-1704621600@ccoley.com
SUMMARY:Sunday Bible Study
DESCRIPTION:Oskars Rieksts will be studying through the book of John.
URL:https://ccoley.com/event/sunday-bible-study-9/2024-01-07/
LOCATION:Oley Fairgrounds\, 26 Jefferson St\, Oley\, PA\, 19547\, United States
CATEGORIES:Sunday Bible Study
ORGANIZER;CN="Oskars Rieksts":MAILTO:rieksts385@yahoo.com
GEO:40.3866624;-75.7846798
X-APPLE-STRUCTURED-LOCATION;VALUE=URI;X-ADDRESS=Oley Fairgrounds 26 Jefferson St Oley PA 19547 United States;X-APPLE-RADIUS=500;X-TITLE=26 Jefferson St:geo:-75.7846798,40.3866624
END:VEVENT
BEGIN:VEVENT
DTSTART;TZID=America/New_York:20231231T090000
DTEND;TZID=America/New_York:20231231T100000
DTSTAMP:20260425T091514
CREATED:20230910T165921Z
LAST-MODIFIED:20241110T182840Z
UID:10003398-1704013200-1704016800@ccoley.com
SUMMARY:Sunday Bible Study
DESCRIPTION:Oskars Rieksts will be studying through the book of John.
URL:https://ccoley.com/event/sunday-bible-study-9/2023-12-31/
LOCATION:Oley Fairgrounds\, 26 Jefferson St\, Oley\, PA\, 19547\, United States
CATEGORIES:Sunday Bible Study
ORGANIZER;CN="Oskars Rieksts":MAILTO:rieksts385@yahoo.com
GEO:40.3866624;-75.7846798
X-APPLE-STRUCTURED-LOCATION;VALUE=URI;X-ADDRESS=Oley Fairgrounds 26 Jefferson St Oley PA 19547 United States;X-APPLE-RADIUS=500;X-TITLE=26 Jefferson St:geo:-75.7846798,40.3866624
END:VEVENT
BEGIN:VEVENT
DTSTART;TZID=America/New_York:20231217T090000
DTEND;TZID=America/New_York:20231217T100000
DTSTAMP:20260425T091514
CREATED:20230910T165921Z
LAST-MODIFIED:20241110T182840Z
UID:10003396-1702803600-1702807200@ccoley.com
SUMMARY:Sunday Bible Study
DESCRIPTION:Oskars Rieksts will be studying through the book of John.
URL:https://ccoley.com/event/sunday-bible-study-9/2023-12-17/
LOCATION:Oley Fairgrounds\, 26 Jefferson St\, Oley\, PA\, 19547\, United States
CATEGORIES:Sunday Bible Study
ORGANIZER;CN="Oskars Rieksts":MAILTO:rieksts385@yahoo.com
GEO:40.3866624;-75.7846798
X-APPLE-STRUCTURED-LOCATION;VALUE=URI;X-ADDRESS=Oley Fairgrounds 26 Jefferson St Oley PA 19547 United States;X-APPLE-RADIUS=500;X-TITLE=26 Jefferson St:geo:-75.7846798,40.3866624
END:VEVENT
BEGIN:VEVENT
DTSTART;TZID=America/New_York:20231210T090000
DTEND;TZID=America/New_York:20231210T100000
DTSTAMP:20260425T091514
CREATED:20230910T165921Z
LAST-MODIFIED:20241110T182840Z
UID:10003395-1702198800-1702202400@ccoley.com
SUMMARY:Sunday Bible Study
DESCRIPTION:Oskars Rieksts will be studying through the book of John.
URL:https://ccoley.com/event/sunday-bible-study-9/2023-12-10/
LOCATION:Oley Fairgrounds\, 26 Jefferson St\, Oley\, PA\, 19547\, United States
CATEGORIES:Sunday Bible Study
ORGANIZER;CN="Oskars Rieksts":MAILTO:rieksts385@yahoo.com
GEO:40.3866624;-75.7846798
X-APPLE-STRUCTURED-LOCATION;VALUE=URI;X-ADDRESS=Oley Fairgrounds 26 Jefferson St Oley PA 19547 United States;X-APPLE-RADIUS=500;X-TITLE=26 Jefferson St:geo:-75.7846798,40.3866624
END:VEVENT
BEGIN:VEVENT
DTSTART;TZID=America/New_York:20231203T090000
DTEND;TZID=America/New_York:20231203T100000
DTSTAMP:20260425T091514
CREATED:20230910T165921Z
LAST-MODIFIED:20241110T182840Z
UID:10003394-1701594000-1701597600@ccoley.com
SUMMARY:Sunday Bible Study
DESCRIPTION:Oskars Rieksts will be studying through the book of John.
URL:https://ccoley.com/event/sunday-bible-study-9/2023-12-03/
LOCATION:Oley Fairgrounds\, 26 Jefferson St\, Oley\, PA\, 19547\, United States
CATEGORIES:Sunday Bible Study
ORGANIZER;CN="Oskars Rieksts":MAILTO:rieksts385@yahoo.com
GEO:40.3866624;-75.7846798
X-APPLE-STRUCTURED-LOCATION;VALUE=URI;X-ADDRESS=Oley Fairgrounds 26 Jefferson St Oley PA 19547 United States;X-APPLE-RADIUS=500;X-TITLE=26 Jefferson St:geo:-75.7846798,40.3866624
END:VEVENT
BEGIN:VEVENT
DTSTART;TZID=America/New_York:20231126T090000
DTEND;TZID=America/New_York:20231126T100000
DTSTAMP:20260425T091514
CREATED:20231112T190614Z
LAST-MODIFIED:20231112T190614Z
UID:10004082-1700989200-1700992800@ccoley.com
SUMMARY:Sunday Bible Study
DESCRIPTION:Oskars Rieksts will be studying through the book of John.
URL:https://ccoley.com/event/sunday-bible-study-12/
LOCATION:Camp Manatawny\, 33 Camp Rd\, Douglasville\, PA\, 19518\, United States
CATEGORIES:Sunday Bible Study
ORGANIZER;CN="Oskars Rieksts":MAILTO:rieksts385@yahoo.com
GEO:40.3236028;-75.7358234
X-APPLE-STRUCTURED-LOCATION;VALUE=URI;X-ADDRESS=Camp Manatawny 33 Camp Rd Douglasville PA 19518 United States;X-APPLE-RADIUS=500;X-TITLE=33 Camp Rd:geo:-75.7358234,40.3236028
END:VEVENT
BEGIN:VEVENT
DTSTART;TZID=America/New_York:20231119T090000
DTEND;TZID=America/New_York:20231119T100000
DTSTAMP:20260425T091514
CREATED:20231112T190554Z
LAST-MODIFIED:20231112T190554Z
UID:10004081-1700384400-1700388000@ccoley.com
SUMMARY:Sunday Bible Study
DESCRIPTION:Oskars Rieksts will be studying through the book of John.
URL:https://ccoley.com/event/sunday-bible-study-11/
LOCATION:Camp Manatawny\, 33 Camp Rd\, Douglasville\, PA\, 19518\, United States
CATEGORIES:Sunday Bible Study
ORGANIZER;CN="Oskars Rieksts":MAILTO:rieksts385@yahoo.com
GEO:40.3236028;-75.7358234
X-APPLE-STRUCTURED-LOCATION;VALUE=URI;X-ADDRESS=Camp Manatawny 33 Camp Rd Douglasville PA 19518 United States;X-APPLE-RADIUS=500;X-TITLE=33 Camp Rd:geo:-75.7358234,40.3236028
END:VEVENT
BEGIN:VEVENT
DTSTART;TZID=America/New_York:20231112T090000
DTEND;TZID=America/New_York:20231112T100000
DTSTAMP:20260425T091514
CREATED:20230910T165921Z
LAST-MODIFIED:20241110T182840Z
UID:10003391-1699779600-1699783200@ccoley.com
SUMMARY:Sunday Bible Study
DESCRIPTION:Oskars Rieksts will be studying through the book of John.
URL:https://ccoley.com/event/sunday-bible-study-9/2023-11-12/
LOCATION:Oley Fairgrounds\, 26 Jefferson St\, Oley\, PA\, 19547\, United States
CATEGORIES:Sunday Bible Study
ORGANIZER;CN="Oskars Rieksts":MAILTO:rieksts385@yahoo.com
GEO:40.3866624;-75.7846798
X-APPLE-STRUCTURED-LOCATION;VALUE=URI;X-ADDRESS=Oley Fairgrounds 26 Jefferson St Oley PA 19547 United States;X-APPLE-RADIUS=500;X-TITLE=26 Jefferson St:geo:-75.7846798,40.3866624
END:VEVENT
BEGIN:VEVENT
DTSTART;TZID=America/New_York:20231105T090000
DTEND;TZID=America/New_York:20231105T100000
DTSTAMP:20260425T091514
CREATED:20230910T165921Z
LAST-MODIFIED:20241110T182840Z
UID:10003390-1699174800-1699178400@ccoley.com
SUMMARY:Sunday Bible Study
DESCRIPTION:Oskars Rieksts will be studying through the book of John.
URL:https://ccoley.com/event/sunday-bible-study-9/2023-11-05/
LOCATION:Oley Fairgrounds\, 26 Jefferson St\, Oley\, PA\, 19547\, United States
CATEGORIES:Sunday Bible Study
ORGANIZER;CN="Oskars Rieksts":MAILTO:rieksts385@yahoo.com
GEO:40.3866624;-75.7846798
X-APPLE-STRUCTURED-LOCATION;VALUE=URI;X-ADDRESS=Oley Fairgrounds 26 Jefferson St Oley PA 19547 United States;X-APPLE-RADIUS=500;X-TITLE=26 Jefferson St:geo:-75.7846798,40.3866624
END:VEVENT
BEGIN:VEVENT
DTSTART;TZID=America/New_York:20231029T090000
DTEND;TZID=America/New_York:20231029T100000
DTSTAMP:20260425T091514
CREATED:20230910T165921Z
LAST-MODIFIED:20241110T182840Z
UID:10003389-1698570000-1698573600@ccoley.com
SUMMARY:Sunday Bible Study
DESCRIPTION:Oskars Rieksts will be studying through the book of John.
URL:https://ccoley.com/event/sunday-bible-study-9/2023-10-29/
LOCATION:Oley Fairgrounds\, 26 Jefferson St\, Oley\, PA\, 19547\, United States
CATEGORIES:Sunday Bible Study
ORGANIZER;CN="Oskars Rieksts":MAILTO:rieksts385@yahoo.com
GEO:40.3866624;-75.7846798
X-APPLE-STRUCTURED-LOCATION;VALUE=URI;X-ADDRESS=Oley Fairgrounds 26 Jefferson St Oley PA 19547 United States;X-APPLE-RADIUS=500;X-TITLE=26 Jefferson St:geo:-75.7846798,40.3866624
END:VEVENT
BEGIN:VEVENT
DTSTART;TZID=America/New_York:20231022T090000
DTEND;TZID=America/New_York:20231022T100000
DTSTAMP:20260425T091514
CREATED:20230910T165921Z
LAST-MODIFIED:20241110T182840Z
UID:10003388-1697965200-1697968800@ccoley.com
SUMMARY:Sunday Bible Study
DESCRIPTION:Oskars Rieksts will be studying through the book of John.
URL:https://ccoley.com/event/sunday-bible-study-9/2023-10-22/
LOCATION:Oley Fairgrounds\, 26 Jefferson St\, Oley\, PA\, 19547\, United States
CATEGORIES:Sunday Bible Study
ORGANIZER;CN="Oskars Rieksts":MAILTO:rieksts385@yahoo.com
GEO:40.3866624;-75.7846798
X-APPLE-STRUCTURED-LOCATION;VALUE=URI;X-ADDRESS=Oley Fairgrounds 26 Jefferson St Oley PA 19547 United States;X-APPLE-RADIUS=500;X-TITLE=26 Jefferson St:geo:-75.7846798,40.3866624
END:VEVENT
BEGIN:VEVENT
DTSTART;TZID=America/New_York:20231015T090000
DTEND;TZID=America/New_York:20231015T100000
DTSTAMP:20260425T091514
CREATED:20231008T212120Z
LAST-MODIFIED:20231008T212120Z
UID:10004072-1697360400-1697364000@ccoley.com
SUMMARY:Sunday Bible Study
DESCRIPTION:Oskars Rieksts will be studying through the book of John.
URL:https://ccoley.com/event/sunday-bible-study-10/
LOCATION:Camp Manatawny\, 33 Camp Rd\, Douglasville\, PA\, 19518\, United States
CATEGORIES:Sunday Bible Study
ORGANIZER;CN="Oskars Rieksts":MAILTO:rieksts385@yahoo.com
GEO:40.3236028;-75.7358234
X-APPLE-STRUCTURED-LOCATION;VALUE=URI;X-ADDRESS=Camp Manatawny 33 Camp Rd Douglasville PA 19518 United States;X-APPLE-RADIUS=500;X-TITLE=33 Camp Rd:geo:-75.7358234,40.3236028
END:VEVENT
BEGIN:VEVENT
DTSTART;TZID=America/New_York:20231008T090000
DTEND;TZID=America/New_York:20231008T100000
DTSTAMP:20260425T091514
CREATED:20230910T165921Z
LAST-MODIFIED:20241110T182840Z
UID:10003386-1696755600-1696759200@ccoley.com
SUMMARY:Sunday Bible Study
DESCRIPTION:Oskars Rieksts will be studying through the book of John.
URL:https://ccoley.com/event/sunday-bible-study-9/2023-10-08/
LOCATION:Oley Fairgrounds\, 26 Jefferson St\, Oley\, PA\, 19547\, United States
CATEGORIES:Sunday Bible Study
ORGANIZER;CN="Oskars Rieksts":MAILTO:rieksts385@yahoo.com
GEO:40.3866624;-75.7846798
X-APPLE-STRUCTURED-LOCATION;VALUE=URI;X-ADDRESS=Oley Fairgrounds 26 Jefferson St Oley PA 19547 United States;X-APPLE-RADIUS=500;X-TITLE=26 Jefferson St:geo:-75.7846798,40.3866624
END:VEVENT
BEGIN:VEVENT
DTSTART;TZID=America/New_York:20231001T090000
DTEND;TZID=America/New_York:20231001T100000
DTSTAMP:20260425T091514
CREATED:20230910T165921Z
LAST-MODIFIED:20241110T182840Z
UID:10003385-1696150800-1696154400@ccoley.com
SUMMARY:Sunday Bible Study
DESCRIPTION:Oskars Rieksts will be studying through the book of John.
URL:https://ccoley.com/event/sunday-bible-study-9/2023-10-01/
LOCATION:Oley Fairgrounds\, 26 Jefferson St\, Oley\, PA\, 19547\, United States
CATEGORIES:Sunday Bible Study
ORGANIZER;CN="Oskars Rieksts":MAILTO:rieksts385@yahoo.com
GEO:40.3866624;-75.7846798
X-APPLE-STRUCTURED-LOCATION;VALUE=URI;X-ADDRESS=Oley Fairgrounds 26 Jefferson St Oley PA 19547 United States;X-APPLE-RADIUS=500;X-TITLE=26 Jefferson St:geo:-75.7846798,40.3866624
END:VEVENT
BEGIN:VEVENT
DTSTART;TZID=America/New_York:20230924T090000
DTEND;TZID=America/New_York:20230924T100000
DTSTAMP:20260425T091514
CREATED:20230820T172624Z
LAST-MODIFIED:20230820T172624Z
UID:10003335-1695546000-1695549600@ccoley.com
SUMMARY:Sunday Bible Study
DESCRIPTION:Oskars Rieksts will be studying through the book of Isaiah.
URL:https://ccoley.com/event/sunday-bible-study-8/
LOCATION:Camp Manatawny\, 33 Camp Rd\, Douglasville\, PA\, 19518\, United States
CATEGORIES:Sunday Bible Study
ORGANIZER;CN="Oskars Rieksts":MAILTO:rieksts385@yahoo.com
GEO:40.3236028;-75.7358234
X-APPLE-STRUCTURED-LOCATION;VALUE=URI;X-ADDRESS=Camp Manatawny 33 Camp Rd Douglasville PA 19518 United States;X-APPLE-RADIUS=500;X-TITLE=33 Camp Rd:geo:-75.7358234,40.3236028
END:VEVENT
BEGIN:VEVENT
DTSTART;TZID=America/New_York:20230917T090000
DTEND;TZID=America/New_York:20230917T100000
DTSTAMP:20260425T091514
CREATED:20230820T172600Z
LAST-MODIFIED:20230820T172600Z
UID:10003334-1694941200-1694944800@ccoley.com
SUMMARY:Sunday Bible Study
DESCRIPTION:Oskars Rieksts will be studying through the book of Isaiah.
URL:https://ccoley.com/event/sunday-bible-study-7/
LOCATION:Camp Manatawny\, 33 Camp Rd\, Douglasville\, PA\, 19518\, United States
CATEGORIES:Sunday Bible Study
ORGANIZER;CN="Oskars Rieksts":MAILTO:rieksts385@yahoo.com
GEO:40.3236028;-75.7358234
X-APPLE-STRUCTURED-LOCATION;VALUE=URI;X-ADDRESS=Camp Manatawny 33 Camp Rd Douglasville PA 19518 United States;X-APPLE-RADIUS=500;X-TITLE=33 Camp Rd:geo:-75.7358234,40.3236028
END:VEVENT
BEGIN:VEVENT
DTSTART;TZID=America/New_York:20230910T090000
DTEND;TZID=America/New_York:20230910T100000
DTSTAMP:20260425T091514
CREATED:20220919T000519Z
LAST-MODIFIED:20240303T205559Z
UID:10002634-1694336400-1694340000@ccoley.com
SUMMARY:Sunday Bible Study
DESCRIPTION:Oskars Rieksts will be studying through the book of Isaiah.
URL:https://ccoley.com/event/adult-bible-study-4/2023-09-10/
LOCATION:Oley Fairgrounds\, 26 Jefferson St\, Oley\, PA\, 19547\, United States
CATEGORIES:Sunday Bible Study
ORGANIZER;CN="Oskars Rieksts":MAILTO:rieksts385@yahoo.com
GEO:40.3866624;-75.7846798
X-APPLE-STRUCTURED-LOCATION;VALUE=URI;X-ADDRESS=Oley Fairgrounds 26 Jefferson St Oley PA 19547 United States;X-APPLE-RADIUS=500;X-TITLE=26 Jefferson St:geo:-75.7846798,40.3866624
END:VEVENT
BEGIN:VEVENT
DTSTART;TZID=America/New_York:20230903T090000
DTEND;TZID=America/New_York:20230903T100000
DTSTAMP:20260425T091514
CREATED:20220919T000519Z
LAST-MODIFIED:20240303T205559Z
UID:10002633-1693731600-1693735200@ccoley.com
SUMMARY:Sunday Bible Study
DESCRIPTION:Oskars Rieksts will be studying through the book of Isaiah.
URL:https://ccoley.com/event/adult-bible-study-4/2023-09-03/
LOCATION:Oley Fairgrounds\, 26 Jefferson St\, Oley\, PA\, 19547\, United States
CATEGORIES:Sunday Bible Study
ORGANIZER;CN="Oskars Rieksts":MAILTO:rieksts385@yahoo.com
GEO:40.3866624;-75.7846798
X-APPLE-STRUCTURED-LOCATION;VALUE=URI;X-ADDRESS=Oley Fairgrounds 26 Jefferson St Oley PA 19547 United States;X-APPLE-RADIUS=500;X-TITLE=26 Jefferson St:geo:-75.7846798,40.3866624
END:VEVENT
BEGIN:VEVENT
DTSTART;TZID=America/New_York:20230827T090000
DTEND;TZID=America/New_York:20230827T100000
DTSTAMP:20260425T091514
CREATED:20220919T000519Z
LAST-MODIFIED:20240303T205559Z
UID:10002632-1693126800-1693130400@ccoley.com
SUMMARY:Sunday Bible Study
DESCRIPTION:Oskars Rieksts will be studying through the book of Isaiah.
URL:https://ccoley.com/event/adult-bible-study-4/2023-08-27/
LOCATION:Oley Fairgrounds\, 26 Jefferson St\, Oley\, PA\, 19547\, United States
CATEGORIES:Sunday Bible Study
ORGANIZER;CN="Oskars Rieksts":MAILTO:rieksts385@yahoo.com
GEO:40.3866624;-75.7846798
X-APPLE-STRUCTURED-LOCATION;VALUE=URI;X-ADDRESS=Oley Fairgrounds 26 Jefferson St Oley PA 19547 United States;X-APPLE-RADIUS=500;X-TITLE=26 Jefferson St:geo:-75.7846798,40.3866624
END:VEVENT
BEGIN:VEVENT
DTSTART;TZID=America/New_York:20230820T090000
DTEND;TZID=America/New_York:20230820T100000
DTSTAMP:20260425T091514
CREATED:20230730T172745Z
LAST-MODIFIED:20230730T172745Z
UID:10003287-1692522000-1692525600@ccoley.com
SUMMARY:Sunday Bible Study
DESCRIPTION:Oskars Rieksts will be studying through the book of Isaiah.
URL:https://ccoley.com/event/sunday-bible-study-6/
LOCATION:Camp Manatawny\, 33 Camp Rd\, Douglasville\, PA\, 19518\, United States
CATEGORIES:Sunday Bible Study
ORGANIZER;CN="Oskars Rieksts":MAILTO:rieksts385@yahoo.com
GEO:40.3236028;-75.7358234
X-APPLE-STRUCTURED-LOCATION;VALUE=URI;X-ADDRESS=Camp Manatawny 33 Camp Rd Douglasville PA 19518 United States;X-APPLE-RADIUS=500;X-TITLE=33 Camp Rd:geo:-75.7358234,40.3236028
END:VEVENT
BEGIN:VEVENT
DTSTART;TZID=America/New_York:20230813T090000
DTEND;TZID=America/New_York:20230813T100000
DTSTAMP:20260425T091514
CREATED:20220919T000519Z
LAST-MODIFIED:20240303T205559Z
UID:10002630-1691917200-1691920800@ccoley.com
SUMMARY:Sunday Bible Study
DESCRIPTION:Oskars Rieksts will be studying through the book of Isaiah.
URL:https://ccoley.com/event/adult-bible-study-4/2023-08-13/
LOCATION:Oley Fairgrounds\, 26 Jefferson St\, Oley\, PA\, 19547\, United States
CATEGORIES:Sunday Bible Study
ORGANIZER;CN="Oskars Rieksts":MAILTO:rieksts385@yahoo.com
GEO:40.3866624;-75.7846798
X-APPLE-STRUCTURED-LOCATION;VALUE=URI;X-ADDRESS=Oley Fairgrounds 26 Jefferson St Oley PA 19547 United States;X-APPLE-RADIUS=500;X-TITLE=26 Jefferson St:geo:-75.7846798,40.3866624
END:VEVENT
BEGIN:VEVENT
DTSTART;TZID=America/New_York:20230806T090000
DTEND;TZID=America/New_York:20230806T100000
DTSTAMP:20260425T091514
CREATED:20220919T000519Z
LAST-MODIFIED:20240303T205559Z
UID:10002629-1691312400-1691316000@ccoley.com
SUMMARY:Sunday Bible Study
DESCRIPTION:Oskars Rieksts will be studying through the book of Isaiah.
URL:https://ccoley.com/event/adult-bible-study-4/2023-08-06/
LOCATION:Oley Fairgrounds\, 26 Jefferson St\, Oley\, PA\, 19547\, United States
CATEGORIES:Sunday Bible Study
ORGANIZER;CN="Oskars Rieksts":MAILTO:rieksts385@yahoo.com
GEO:40.3866624;-75.7846798
X-APPLE-STRUCTURED-LOCATION;VALUE=URI;X-ADDRESS=Oley Fairgrounds 26 Jefferson St Oley PA 19547 United States;X-APPLE-RADIUS=500;X-TITLE=26 Jefferson St:geo:-75.7846798,40.3866624
END:VEVENT
END:VCALENDAR