BEGIN:VCALENDAR
VERSION:2.0
PRODID:-//Calvary Chapel of the Oley Valley - ECPv6.15.20//NONSGML v1.0//EN
CALSCALE:GREGORIAN
METHOD:PUBLISH
X-ORIGINAL-URL:https://ccoley.com
X-WR-CALDESC:Events for Calvary Chapel of the Oley Valley
REFRESH-INTERVAL;VALUE=DURATION:PT1H
X-Robots-Tag:noindex
X-PUBLISHED-TTL:PT1H
BEGIN:VTIMEZONE
TZID:America/New_York
BEGIN:DAYLIGHT
TZOFFSETFROM:-0500
TZOFFSETTO:-0400
TZNAME:EDT
DTSTART:20220313T070000
END:DAYLIGHT
BEGIN:STANDARD
TZOFFSETFROM:-0400
TZOFFSETTO:-0500
TZNAME:EST
DTSTART:20221106T060000
END:STANDARD
BEGIN:DAYLIGHT
TZOFFSETFROM:-0500
TZOFFSETTO:-0400
TZNAME:EDT
DTSTART:20230312T070000
END:DAYLIGHT
BEGIN:STANDARD
TZOFFSETFROM:-0400
TZOFFSETTO:-0500
TZNAME:EST
DTSTART:20231105T060000
END:STANDARD
BEGIN:DAYLIGHT
TZOFFSETFROM:-0500
TZOFFSETTO:-0400
TZNAME:EDT
DTSTART:20240310T070000
END:DAYLIGHT
BEGIN:STANDARD
TZOFFSETFROM:-0400
TZOFFSETTO:-0500
TZNAME:EST
DTSTART:20241103T060000
END:STANDARD
BEGIN:DAYLIGHT
TZOFFSETFROM:-0500
TZOFFSETTO:-0400
TZNAME:EDT
DTSTART:20250309T070000
END:DAYLIGHT
BEGIN:STANDARD
TZOFFSETFROM:-0400
TZOFFSETTO:-0500
TZNAME:EST
DTSTART:20251102T060000
END:STANDARD
END:VTIMEZONE
BEGIN:VEVENT
DTSTART;TZID=America/New_York:20240227T091500
DTEND;TZID=America/New_York:20240227T110000
DTSTAMP:20260423T033621
CREATED:20230924T180421Z
LAST-MODIFIED:20240512T210144Z
UID:10003975-1709025300-1709031600@ccoley.com
SUMMARY:Women's Bible Study
DESCRIPTION:We will be studying Paul’s pastoral letters to Timothy.
URL:https://ccoley.com/event/womens-bible-study-7/2024-02-27/
LOCATION:Dave & Alice Coult\, 38 Heiligs School Road\, Oley\, PA\, 19547\, United States
CATEGORIES:Women's Bible Study
ORGANIZER;CN="Alice Coult":MAILTO:acoult@ptd.net
GEO:40.420843;-75.707817
X-APPLE-STRUCTURED-LOCATION;VALUE=URI;X-ADDRESS=Dave & Alice Coult 38 Heiligs School Road Oley PA 19547 United States;X-APPLE-RADIUS=500;X-TITLE=38 Heiligs School Road:geo:-75.707817,40.420843
END:VEVENT
BEGIN:VEVENT
DTSTART;TZID=America/New_York:20240220T091500
DTEND;TZID=America/New_York:20240220T110000
DTSTAMP:20260423T033621
CREATED:20230924T180421Z
LAST-MODIFIED:20240512T210144Z
UID:10003974-1708420500-1708426800@ccoley.com
SUMMARY:Women's Bible Study
DESCRIPTION:We will be studying Paul’s pastoral letters to Timothy.
URL:https://ccoley.com/event/womens-bible-study-7/2024-02-20/
LOCATION:Dave & Alice Coult\, 38 Heiligs School Road\, Oley\, PA\, 19547\, United States
CATEGORIES:Women's Bible Study
ORGANIZER;CN="Alice Coult":MAILTO:acoult@ptd.net
GEO:40.420843;-75.707817
X-APPLE-STRUCTURED-LOCATION;VALUE=URI;X-ADDRESS=Dave & Alice Coult 38 Heiligs School Road Oley PA 19547 United States;X-APPLE-RADIUS=500;X-TITLE=38 Heiligs School Road:geo:-75.707817,40.420843
END:VEVENT
BEGIN:VEVENT
DTSTART;TZID=America/New_York:20240213T091500
DTEND;TZID=America/New_York:20240213T110000
DTSTAMP:20260423T033621
CREATED:20230924T180421Z
LAST-MODIFIED:20240512T210144Z
UID:10003973-1707815700-1707822000@ccoley.com
SUMMARY:Women's Bible Study
DESCRIPTION:We will be studying Paul’s pastoral letters to Timothy.
URL:https://ccoley.com/event/womens-bible-study-7/2024-02-13/
LOCATION:Dave & Alice Coult\, 38 Heiligs School Road\, Oley\, PA\, 19547\, United States
CATEGORIES:Women's Bible Study
ORGANIZER;CN="Alice Coult":MAILTO:acoult@ptd.net
GEO:40.420843;-75.707817
X-APPLE-STRUCTURED-LOCATION;VALUE=URI;X-ADDRESS=Dave & Alice Coult 38 Heiligs School Road Oley PA 19547 United States;X-APPLE-RADIUS=500;X-TITLE=38 Heiligs School Road:geo:-75.707817,40.420843
END:VEVENT
BEGIN:VEVENT
DTSTART;TZID=America/New_York:20240206T091500
DTEND;TZID=America/New_York:20240206T110000
DTSTAMP:20260423T033621
CREATED:20230924T180421Z
LAST-MODIFIED:20240512T210144Z
UID:10003972-1707210900-1707217200@ccoley.com
SUMMARY:Women's Bible Study
DESCRIPTION:We will be studying Paul’s pastoral letters to Timothy.
URL:https://ccoley.com/event/womens-bible-study-7/2024-02-06/
LOCATION:Dave & Alice Coult\, 38 Heiligs School Road\, Oley\, PA\, 19547\, United States
CATEGORIES:Women's Bible Study
ORGANIZER;CN="Alice Coult":MAILTO:acoult@ptd.net
GEO:40.420843;-75.707817
X-APPLE-STRUCTURED-LOCATION;VALUE=URI;X-ADDRESS=Dave & Alice Coult 38 Heiligs School Road Oley PA 19547 United States;X-APPLE-RADIUS=500;X-TITLE=38 Heiligs School Road:geo:-75.707817,40.420843
END:VEVENT
BEGIN:VEVENT
DTSTART;TZID=America/New_York:20240130T091500
DTEND;TZID=America/New_York:20240130T110000
DTSTAMP:20260423T033621
CREATED:20230924T180421Z
LAST-MODIFIED:20240512T210144Z
UID:10003971-1706606100-1706612400@ccoley.com
SUMMARY:Women's Bible Study
DESCRIPTION:We will be studying Paul’s pastoral letters to Timothy.
URL:https://ccoley.com/event/womens-bible-study-7/2024-01-30/
LOCATION:Dave & Alice Coult\, 38 Heiligs School Road\, Oley\, PA\, 19547\, United States
CATEGORIES:Women's Bible Study
ORGANIZER;CN="Alice Coult":MAILTO:acoult@ptd.net
GEO:40.420843;-75.707817
X-APPLE-STRUCTURED-LOCATION;VALUE=URI;X-ADDRESS=Dave & Alice Coult 38 Heiligs School Road Oley PA 19547 United States;X-APPLE-RADIUS=500;X-TITLE=38 Heiligs School Road:geo:-75.707817,40.420843
END:VEVENT
BEGIN:VEVENT
DTSTART;TZID=America/New_York:20240123T091500
DTEND;TZID=America/New_York:20240123T110000
DTSTAMP:20260423T033621
CREATED:20230924T180421Z
LAST-MODIFIED:20240512T210144Z
UID:10003970-1706001300-1706007600@ccoley.com
SUMMARY:Women's Bible Study
DESCRIPTION:We will be studying Paul’s pastoral letters to Timothy.
URL:https://ccoley.com/event/womens-bible-study-7/2024-01-23/
LOCATION:Dave & Alice Coult\, 38 Heiligs School Road\, Oley\, PA\, 19547\, United States
CATEGORIES:Women's Bible Study
ORGANIZER;CN="Alice Coult":MAILTO:acoult@ptd.net
GEO:40.420843;-75.707817
X-APPLE-STRUCTURED-LOCATION;VALUE=URI;X-ADDRESS=Dave & Alice Coult 38 Heiligs School Road Oley PA 19547 United States;X-APPLE-RADIUS=500;X-TITLE=38 Heiligs School Road:geo:-75.707817,40.420843
END:VEVENT
BEGIN:VEVENT
DTSTART;TZID=America/New_York:20240116T091500
DTEND;TZID=America/New_York:20240116T110000
DTSTAMP:20260423T033621
CREATED:20230924T180421Z
LAST-MODIFIED:20240512T210144Z
UID:10003969-1705396500-1705402800@ccoley.com
SUMMARY:Women's Bible Study
DESCRIPTION:We will be studying Paul’s pastoral letters to Timothy.
URL:https://ccoley.com/event/womens-bible-study-7/2024-01-16/
LOCATION:Dave & Alice Coult\, 38 Heiligs School Road\, Oley\, PA\, 19547\, United States
CATEGORIES:Women's Bible Study
ORGANIZER;CN="Alice Coult":MAILTO:acoult@ptd.net
GEO:40.420843;-75.707817
X-APPLE-STRUCTURED-LOCATION;VALUE=URI;X-ADDRESS=Dave & Alice Coult 38 Heiligs School Road Oley PA 19547 United States;X-APPLE-RADIUS=500;X-TITLE=38 Heiligs School Road:geo:-75.707817,40.420843
END:VEVENT
BEGIN:VEVENT
DTSTART;TZID=America/New_York:20240109T091500
DTEND;TZID=America/New_York:20240109T110000
DTSTAMP:20260423T033621
CREATED:20230924T180421Z
LAST-MODIFIED:20240512T210144Z
UID:10003968-1704791700-1704798000@ccoley.com
SUMMARY:Women's Bible Study
DESCRIPTION:We will be studying Paul’s pastoral letters to Timothy.
URL:https://ccoley.com/event/womens-bible-study-7/2024-01-09/
LOCATION:Dave & Alice Coult\, 38 Heiligs School Road\, Oley\, PA\, 19547\, United States
CATEGORIES:Women's Bible Study
ORGANIZER;CN="Alice Coult":MAILTO:acoult@ptd.net
GEO:40.420843;-75.707817
X-APPLE-STRUCTURED-LOCATION;VALUE=URI;X-ADDRESS=Dave & Alice Coult 38 Heiligs School Road Oley PA 19547 United States;X-APPLE-RADIUS=500;X-TITLE=38 Heiligs School Road:geo:-75.707817,40.420843
END:VEVENT
BEGIN:VEVENT
DTSTART;TZID=America/New_York:20231212T091500
DTEND;TZID=America/New_York:20231212T110000
DTSTAMP:20260423T033621
CREATED:20230924T180421Z
LAST-MODIFIED:20240512T210144Z
UID:10003964-1702372500-1702378800@ccoley.com
SUMMARY:Women's Bible Study
DESCRIPTION:We will be studying Paul’s pastoral letters to Timothy.
URL:https://ccoley.com/event/womens-bible-study-7/2023-12-12/
LOCATION:Dave & Alice Coult\, 38 Heiligs School Road\, Oley\, PA\, 19547\, United States
CATEGORIES:Women's Bible Study
ORGANIZER;CN="Alice Coult":MAILTO:acoult@ptd.net
GEO:40.420843;-75.707817
X-APPLE-STRUCTURED-LOCATION;VALUE=URI;X-ADDRESS=Dave & Alice Coult 38 Heiligs School Road Oley PA 19547 United States;X-APPLE-RADIUS=500;X-TITLE=38 Heiligs School Road:geo:-75.707817,40.420843
END:VEVENT
BEGIN:VEVENT
DTSTART;TZID=America/New_York:20231205T091500
DTEND;TZID=America/New_York:20231205T110000
DTSTAMP:20260423T033621
CREATED:20230924T180421Z
LAST-MODIFIED:20240512T210144Z
UID:10003963-1701767700-1701774000@ccoley.com
SUMMARY:Women's Bible Study
DESCRIPTION:We will be studying Paul’s pastoral letters to Timothy.
URL:https://ccoley.com/event/womens-bible-study-7/2023-12-05/
LOCATION:Dave & Alice Coult\, 38 Heiligs School Road\, Oley\, PA\, 19547\, United States
CATEGORIES:Women's Bible Study
ORGANIZER;CN="Alice Coult":MAILTO:acoult@ptd.net
GEO:40.420843;-75.707817
X-APPLE-STRUCTURED-LOCATION;VALUE=URI;X-ADDRESS=Dave & Alice Coult 38 Heiligs School Road Oley PA 19547 United States;X-APPLE-RADIUS=500;X-TITLE=38 Heiligs School Road:geo:-75.707817,40.420843
END:VEVENT
BEGIN:VEVENT
DTSTART;TZID=America/New_York:20231128T091500
DTEND;TZID=America/New_York:20231128T110000
DTSTAMP:20260423T033621
CREATED:20230924T180421Z
LAST-MODIFIED:20240512T210144Z
UID:10003962-1701162900-1701169200@ccoley.com
SUMMARY:Women's Bible Study
DESCRIPTION:We will be studying Paul’s pastoral letters to Timothy.
URL:https://ccoley.com/event/womens-bible-study-7/2023-11-28/
LOCATION:Dave & Alice Coult\, 38 Heiligs School Road\, Oley\, PA\, 19547\, United States
CATEGORIES:Women's Bible Study
ORGANIZER;CN="Alice Coult":MAILTO:acoult@ptd.net
GEO:40.420843;-75.707817
X-APPLE-STRUCTURED-LOCATION;VALUE=URI;X-ADDRESS=Dave & Alice Coult 38 Heiligs School Road Oley PA 19547 United States;X-APPLE-RADIUS=500;X-TITLE=38 Heiligs School Road:geo:-75.707817,40.420843
END:VEVENT
BEGIN:VEVENT
DTSTART;TZID=America/New_York:20231121T091500
DTEND;TZID=America/New_York:20231121T110000
DTSTAMP:20260423T033621
CREATED:20230924T180421Z
LAST-MODIFIED:20240512T210144Z
UID:10003961-1700558100-1700564400@ccoley.com
SUMMARY:Women's Bible Study
DESCRIPTION:We will be studying Paul’s pastoral letters to Timothy.
URL:https://ccoley.com/event/womens-bible-study-7/2023-11-21/
LOCATION:Dave & Alice Coult\, 38 Heiligs School Road\, Oley\, PA\, 19547\, United States
CATEGORIES:Women's Bible Study
ORGANIZER;CN="Alice Coult":MAILTO:acoult@ptd.net
GEO:40.420843;-75.707817
X-APPLE-STRUCTURED-LOCATION;VALUE=URI;X-ADDRESS=Dave & Alice Coult 38 Heiligs School Road Oley PA 19547 United States;X-APPLE-RADIUS=500;X-TITLE=38 Heiligs School Road:geo:-75.707817,40.420843
END:VEVENT
BEGIN:VEVENT
DTSTART;TZID=America/New_York:20231114T091500
DTEND;TZID=America/New_York:20231114T110000
DTSTAMP:20260423T033621
CREATED:20230924T180421Z
LAST-MODIFIED:20240512T210144Z
UID:10003960-1699953300-1699959600@ccoley.com
SUMMARY:Women's Bible Study
DESCRIPTION:We will be studying Paul’s pastoral letters to Timothy.
URL:https://ccoley.com/event/womens-bible-study-7/2023-11-14/
LOCATION:Dave & Alice Coult\, 38 Heiligs School Road\, Oley\, PA\, 19547\, United States
CATEGORIES:Women's Bible Study
ORGANIZER;CN="Alice Coult":MAILTO:acoult@ptd.net
GEO:40.420843;-75.707817
X-APPLE-STRUCTURED-LOCATION;VALUE=URI;X-ADDRESS=Dave & Alice Coult 38 Heiligs School Road Oley PA 19547 United States;X-APPLE-RADIUS=500;X-TITLE=38 Heiligs School Road:geo:-75.707817,40.420843
END:VEVENT
BEGIN:VEVENT
DTSTART;TZID=America/New_York:20231107T091500
DTEND;TZID=America/New_York:20231107T110000
DTSTAMP:20260423T033621
CREATED:20230924T180421Z
LAST-MODIFIED:20240512T210144Z
UID:10003959-1699348500-1699354800@ccoley.com
SUMMARY:Women's Bible Study
DESCRIPTION:We will be studying Paul’s pastoral letters to Timothy.
URL:https://ccoley.com/event/womens-bible-study-7/2023-11-07/
LOCATION:Dave & Alice Coult\, 38 Heiligs School Road\, Oley\, PA\, 19547\, United States
CATEGORIES:Women's Bible Study
ORGANIZER;CN="Alice Coult":MAILTO:acoult@ptd.net
GEO:40.420843;-75.707817
X-APPLE-STRUCTURED-LOCATION;VALUE=URI;X-ADDRESS=Dave & Alice Coult 38 Heiligs School Road Oley PA 19547 United States;X-APPLE-RADIUS=500;X-TITLE=38 Heiligs School Road:geo:-75.707817,40.420843
END:VEVENT
BEGIN:VEVENT
DTSTART;TZID=America/New_York:20231031T091500
DTEND;TZID=America/New_York:20231031T110000
DTSTAMP:20260423T033621
CREATED:20230924T180421Z
LAST-MODIFIED:20240512T210144Z
UID:10003958-1698743700-1698750000@ccoley.com
SUMMARY:Women's Bible Study
DESCRIPTION:We will be studying Paul’s pastoral letters to Timothy.
URL:https://ccoley.com/event/womens-bible-study-7/2023-10-31/
LOCATION:Dave & Alice Coult\, 38 Heiligs School Road\, Oley\, PA\, 19547\, United States
CATEGORIES:Women's Bible Study
ORGANIZER;CN="Alice Coult":MAILTO:acoult@ptd.net
GEO:40.420843;-75.707817
X-APPLE-STRUCTURED-LOCATION;VALUE=URI;X-ADDRESS=Dave & Alice Coult 38 Heiligs School Road Oley PA 19547 United States;X-APPLE-RADIUS=500;X-TITLE=38 Heiligs School Road:geo:-75.707817,40.420843
END:VEVENT
BEGIN:VEVENT
DTSTART;TZID=America/New_York:20231024T091500
DTEND;TZID=America/New_York:20231024T110000
DTSTAMP:20260423T033621
CREATED:20230924T180421Z
LAST-MODIFIED:20240512T210144Z
UID:10003957-1698138900-1698145200@ccoley.com
SUMMARY:Women's Bible Study
DESCRIPTION:We will be studying Paul’s pastoral letters to Timothy.
URL:https://ccoley.com/event/womens-bible-study-7/2023-10-24/
LOCATION:Dave & Alice Coult\, 38 Heiligs School Road\, Oley\, PA\, 19547\, United States
CATEGORIES:Women's Bible Study
ORGANIZER;CN="Alice Coult":MAILTO:acoult@ptd.net
GEO:40.420843;-75.707817
X-APPLE-STRUCTURED-LOCATION;VALUE=URI;X-ADDRESS=Dave & Alice Coult 38 Heiligs School Road Oley PA 19547 United States;X-APPLE-RADIUS=500;X-TITLE=38 Heiligs School Road:geo:-75.707817,40.420843
END:VEVENT
BEGIN:VEVENT
DTSTART;TZID=America/New_York:20231017T091500
DTEND;TZID=America/New_York:20231017T110000
DTSTAMP:20260423T033621
CREATED:20230924T180421Z
LAST-MODIFIED:20240512T210144Z
UID:10003956-1697534100-1697540400@ccoley.com
SUMMARY:Women's Bible Study
DESCRIPTION:We will be studying Paul’s pastoral letters to Timothy.
URL:https://ccoley.com/event/womens-bible-study-7/2023-10-17/
LOCATION:Dave & Alice Coult\, 38 Heiligs School Road\, Oley\, PA\, 19547\, United States
CATEGORIES:Women's Bible Study
ORGANIZER;CN="Alice Coult":MAILTO:acoult@ptd.net
GEO:40.420843;-75.707817
X-APPLE-STRUCTURED-LOCATION;VALUE=URI;X-ADDRESS=Dave & Alice Coult 38 Heiligs School Road Oley PA 19547 United States;X-APPLE-RADIUS=500;X-TITLE=38 Heiligs School Road:geo:-75.707817,40.420843
END:VEVENT
BEGIN:VEVENT
DTSTART;TZID=America/New_York:20231010T091500
DTEND;TZID=America/New_York:20231010T110000
DTSTAMP:20260423T033621
CREATED:20230924T180421Z
LAST-MODIFIED:20240512T210144Z
UID:10003955-1696929300-1696935600@ccoley.com
SUMMARY:Women's Bible Study
DESCRIPTION:We will be studying Paul’s pastoral letters to Timothy.
URL:https://ccoley.com/event/womens-bible-study-7/2023-10-10/
LOCATION:Dave & Alice Coult\, 38 Heiligs School Road\, Oley\, PA\, 19547\, United States
CATEGORIES:Women's Bible Study
ORGANIZER;CN="Alice Coult":MAILTO:acoult@ptd.net
GEO:40.420843;-75.707817
X-APPLE-STRUCTURED-LOCATION;VALUE=URI;X-ADDRESS=Dave & Alice Coult 38 Heiligs School Road Oley PA 19547 United States;X-APPLE-RADIUS=500;X-TITLE=38 Heiligs School Road:geo:-75.707817,40.420843
END:VEVENT
BEGIN:VEVENT
DTSTART;TZID=America/New_York:20231003T091500
DTEND;TZID=America/New_York:20231003T110000
DTSTAMP:20260423T033621
CREATED:20230924T180421Z
LAST-MODIFIED:20240512T210144Z
UID:10003954-1696324500-1696330800@ccoley.com
SUMMARY:Women's Bible Study
DESCRIPTION:We will be studying Paul’s pastoral letters to Timothy.
URL:https://ccoley.com/event/womens-bible-study-7/2023-10-03/
LOCATION:Dave & Alice Coult\, 38 Heiligs School Road\, Oley\, PA\, 19547\, United States
CATEGORIES:Women's Bible Study
ORGANIZER;CN="Alice Coult":MAILTO:acoult@ptd.net
GEO:40.420843;-75.707817
X-APPLE-STRUCTURED-LOCATION;VALUE=URI;X-ADDRESS=Dave & Alice Coult 38 Heiligs School Road Oley PA 19547 United States;X-APPLE-RADIUS=500;X-TITLE=38 Heiligs School Road:geo:-75.707817,40.420843
END:VEVENT
BEGIN:VEVENT
DTSTART;TZID=America/New_York:20230530T091500
DTEND;TZID=America/New_York:20230530T110000
DTSTAMP:20260423T033621
CREATED:20220919T001848Z
LAST-MODIFIED:20230103T124153Z
UID:10002918-1685438100-1685444400@ccoley.com
SUMMARY:Women's Bible Study
DESCRIPTION:
URL:https://ccoley.com/event/womens-bible-study-3/2023-05-30/
LOCATION:Dave & Alice Coult\, 38 Heiligs School Road\, Oley\, PA\, 19547\, United States
CATEGORIES:Women's Bible Study
ORGANIZER;CN="Alice Coult":MAILTO:acoult@ptd.net
GEO:40.420843;-75.707817
X-APPLE-STRUCTURED-LOCATION;VALUE=URI;X-ADDRESS=Dave & Alice Coult 38 Heiligs School Road Oley PA 19547 United States;X-APPLE-RADIUS=500;X-TITLE=38 Heiligs School Road:geo:-75.707817,40.420843
END:VEVENT
BEGIN:VEVENT
DTSTART;TZID=America/New_York:20230523T091500
DTEND;TZID=America/New_York:20230523T110000
DTSTAMP:20260423T033621
CREATED:20220919T001848Z
LAST-MODIFIED:20230103T124153Z
UID:10002917-1684833300-1684839600@ccoley.com
SUMMARY:Women's Bible Study
DESCRIPTION:
URL:https://ccoley.com/event/womens-bible-study-3/2023-05-23/
LOCATION:Dave & Alice Coult\, 38 Heiligs School Road\, Oley\, PA\, 19547\, United States
CATEGORIES:Women's Bible Study
ORGANIZER;CN="Alice Coult":MAILTO:acoult@ptd.net
GEO:40.420843;-75.707817
X-APPLE-STRUCTURED-LOCATION;VALUE=URI;X-ADDRESS=Dave & Alice Coult 38 Heiligs School Road Oley PA 19547 United States;X-APPLE-RADIUS=500;X-TITLE=38 Heiligs School Road:geo:-75.707817,40.420843
END:VEVENT
BEGIN:VEVENT
DTSTART;TZID=America/New_York:20230516T091500
DTEND;TZID=America/New_York:20230516T110000
DTSTAMP:20260423T033621
CREATED:20220919T001848Z
LAST-MODIFIED:20230103T124153Z
UID:10002916-1684228500-1684234800@ccoley.com
SUMMARY:Women's Bible Study
DESCRIPTION:
URL:https://ccoley.com/event/womens-bible-study-3/2023-05-16/
LOCATION:Dave & Alice Coult\, 38 Heiligs School Road\, Oley\, PA\, 19547\, United States
CATEGORIES:Women's Bible Study
ORGANIZER;CN="Alice Coult":MAILTO:acoult@ptd.net
GEO:40.420843;-75.707817
X-APPLE-STRUCTURED-LOCATION;VALUE=URI;X-ADDRESS=Dave & Alice Coult 38 Heiligs School Road Oley PA 19547 United States;X-APPLE-RADIUS=500;X-TITLE=38 Heiligs School Road:geo:-75.707817,40.420843
END:VEVENT
BEGIN:VEVENT
DTSTART;TZID=America/New_York:20230509T091500
DTEND;TZID=America/New_York:20230509T110000
DTSTAMP:20260423T033621
CREATED:20220919T001848Z
LAST-MODIFIED:20230103T124153Z
UID:10002915-1683623700-1683630000@ccoley.com
SUMMARY:Women's Bible Study
DESCRIPTION:
URL:https://ccoley.com/event/womens-bible-study-3/2023-05-09/
LOCATION:Dave & Alice Coult\, 38 Heiligs School Road\, Oley\, PA\, 19547\, United States
CATEGORIES:Women's Bible Study
ORGANIZER;CN="Alice Coult":MAILTO:acoult@ptd.net
GEO:40.420843;-75.707817
X-APPLE-STRUCTURED-LOCATION;VALUE=URI;X-ADDRESS=Dave & Alice Coult 38 Heiligs School Road Oley PA 19547 United States;X-APPLE-RADIUS=500;X-TITLE=38 Heiligs School Road:geo:-75.707817,40.420843
END:VEVENT
BEGIN:VEVENT
DTSTART;TZID=America/New_York:20230502T091500
DTEND;TZID=America/New_York:20230502T110000
DTSTAMP:20260423T033621
CREATED:20220919T001848Z
LAST-MODIFIED:20230103T124153Z
UID:10002914-1683018900-1683025200@ccoley.com
SUMMARY:Women's Bible Study
DESCRIPTION:
URL:https://ccoley.com/event/womens-bible-study-3/2023-05-02/
LOCATION:Dave & Alice Coult\, 38 Heiligs School Road\, Oley\, PA\, 19547\, United States
CATEGORIES:Women's Bible Study
ORGANIZER;CN="Alice Coult":MAILTO:acoult@ptd.net
GEO:40.420843;-75.707817
X-APPLE-STRUCTURED-LOCATION;VALUE=URI;X-ADDRESS=Dave & Alice Coult 38 Heiligs School Road Oley PA 19547 United States;X-APPLE-RADIUS=500;X-TITLE=38 Heiligs School Road:geo:-75.707817,40.420843
END:VEVENT
BEGIN:VEVENT
DTSTART;TZID=America/New_York:20230425T091500
DTEND;TZID=America/New_York:20230425T110000
DTSTAMP:20260423T033621
CREATED:20220919T001848Z
LAST-MODIFIED:20230103T124153Z
UID:10002913-1682414100-1682420400@ccoley.com
SUMMARY:Women's Bible Study
DESCRIPTION:
URL:https://ccoley.com/event/womens-bible-study-3/2023-04-25/
LOCATION:Dave & Alice Coult\, 38 Heiligs School Road\, Oley\, PA\, 19547\, United States
CATEGORIES:Women's Bible Study
ORGANIZER;CN="Alice Coult":MAILTO:acoult@ptd.net
GEO:40.420843;-75.707817
X-APPLE-STRUCTURED-LOCATION;VALUE=URI;X-ADDRESS=Dave & Alice Coult 38 Heiligs School Road Oley PA 19547 United States;X-APPLE-RADIUS=500;X-TITLE=38 Heiligs School Road:geo:-75.707817,40.420843
END:VEVENT
BEGIN:VEVENT
DTSTART;TZID=America/New_York:20230418T091500
DTEND;TZID=America/New_York:20230418T110000
DTSTAMP:20260423T033621
CREATED:20220919T001848Z
LAST-MODIFIED:20230103T124153Z
UID:10002912-1681809300-1681815600@ccoley.com
SUMMARY:Women's Bible Study
DESCRIPTION:
URL:https://ccoley.com/event/womens-bible-study-3/2023-04-18/
LOCATION:Dave & Alice Coult\, 38 Heiligs School Road\, Oley\, PA\, 19547\, United States
CATEGORIES:Women's Bible Study
ORGANIZER;CN="Alice Coult":MAILTO:acoult@ptd.net
GEO:40.420843;-75.707817
X-APPLE-STRUCTURED-LOCATION;VALUE=URI;X-ADDRESS=Dave & Alice Coult 38 Heiligs School Road Oley PA 19547 United States;X-APPLE-RADIUS=500;X-TITLE=38 Heiligs School Road:geo:-75.707817,40.420843
END:VEVENT
BEGIN:VEVENT
DTSTART;TZID=America/New_York:20230411T091500
DTEND;TZID=America/New_York:20230411T110000
DTSTAMP:20260423T033621
CREATED:20220919T001848Z
LAST-MODIFIED:20230103T124153Z
UID:10002911-1681204500-1681210800@ccoley.com
SUMMARY:Women's Bible Study
DESCRIPTION:
URL:https://ccoley.com/event/womens-bible-study-3/2023-04-11/
LOCATION:Dave & Alice Coult\, 38 Heiligs School Road\, Oley\, PA\, 19547\, United States
CATEGORIES:Women's Bible Study
ORGANIZER;CN="Alice Coult":MAILTO:acoult@ptd.net
GEO:40.420843;-75.707817
X-APPLE-STRUCTURED-LOCATION;VALUE=URI;X-ADDRESS=Dave & Alice Coult 38 Heiligs School Road Oley PA 19547 United States;X-APPLE-RADIUS=500;X-TITLE=38 Heiligs School Road:geo:-75.707817,40.420843
END:VEVENT
BEGIN:VEVENT
DTSTART;TZID=America/New_York:20230404T091500
DTEND;TZID=America/New_York:20230404T110000
DTSTAMP:20260423T033621
CREATED:20220919T001848Z
LAST-MODIFIED:20230103T124153Z
UID:10002910-1680599700-1680606000@ccoley.com
SUMMARY:Women's Bible Study
DESCRIPTION:
URL:https://ccoley.com/event/womens-bible-study-3/2023-04-04/
LOCATION:Dave & Alice Coult\, 38 Heiligs School Road\, Oley\, PA\, 19547\, United States
CATEGORIES:Women's Bible Study
ORGANIZER;CN="Alice Coult":MAILTO:acoult@ptd.net
GEO:40.420843;-75.707817
X-APPLE-STRUCTURED-LOCATION;VALUE=URI;X-ADDRESS=Dave & Alice Coult 38 Heiligs School Road Oley PA 19547 United States;X-APPLE-RADIUS=500;X-TITLE=38 Heiligs School Road:geo:-75.707817,40.420843
END:VEVENT
BEGIN:VEVENT
DTSTART;TZID=America/New_York:20230328T091500
DTEND;TZID=America/New_York:20230328T110000
DTSTAMP:20260423T033621
CREATED:20220919T001848Z
LAST-MODIFIED:20230103T124153Z
UID:10002909-1679994900-1680001200@ccoley.com
SUMMARY:Women's Bible Study
DESCRIPTION:
URL:https://ccoley.com/event/womens-bible-study-3/2023-03-28/
LOCATION:Dave & Alice Coult\, 38 Heiligs School Road\, Oley\, PA\, 19547\, United States
CATEGORIES:Women's Bible Study
ORGANIZER;CN="Alice Coult":MAILTO:acoult@ptd.net
GEO:40.420843;-75.707817
X-APPLE-STRUCTURED-LOCATION;VALUE=URI;X-ADDRESS=Dave & Alice Coult 38 Heiligs School Road Oley PA 19547 United States;X-APPLE-RADIUS=500;X-TITLE=38 Heiligs School Road:geo:-75.707817,40.420843
END:VEVENT
BEGIN:VEVENT
DTSTART;TZID=America/New_York:20230321T091500
DTEND;TZID=America/New_York:20230321T110000
DTSTAMP:20260423T033621
CREATED:20220919T001848Z
LAST-MODIFIED:20230103T124153Z
UID:10002908-1679390100-1679396400@ccoley.com
SUMMARY:Women's Bible Study
DESCRIPTION:
URL:https://ccoley.com/event/womens-bible-study-3/2023-03-21/
LOCATION:Dave & Alice Coult\, 38 Heiligs School Road\, Oley\, PA\, 19547\, United States
CATEGORIES:Women's Bible Study
ORGANIZER;CN="Alice Coult":MAILTO:acoult@ptd.net
GEO:40.420843;-75.707817
X-APPLE-STRUCTURED-LOCATION;VALUE=URI;X-ADDRESS=Dave & Alice Coult 38 Heiligs School Road Oley PA 19547 United States;X-APPLE-RADIUS=500;X-TITLE=38 Heiligs School Road:geo:-75.707817,40.420843
END:VEVENT
END:VCALENDAR