BEGIN:VCALENDAR
VERSION:2.0
PRODID:-//Calvary Chapel of the Oley Valley - ECPv6.15.20//NONSGML v1.0//EN
CALSCALE:GREGORIAN
METHOD:PUBLISH
X-WR-CALNAME:Calvary Chapel of the Oley Valley
X-ORIGINAL-URL:https://ccoley.com
X-WR-CALDESC:Events for Calvary Chapel of the Oley Valley
REFRESH-INTERVAL;VALUE=DURATION:PT1H
X-Robots-Tag:noindex
X-PUBLISHED-TTL:PT1H
BEGIN:VTIMEZONE
TZID:America/New_York
BEGIN:DAYLIGHT
TZOFFSETFROM:-0500
TZOFFSETTO:-0400
TZNAME:EDT
DTSTART:20200308T070000
END:DAYLIGHT
BEGIN:STANDARD
TZOFFSETFROM:-0400
TZOFFSETTO:-0500
TZNAME:EST
DTSTART:20201101T060000
END:STANDARD
BEGIN:DAYLIGHT
TZOFFSETFROM:-0500
TZOFFSETTO:-0400
TZNAME:EDT
DTSTART:20210314T070000
END:DAYLIGHT
BEGIN:STANDARD
TZOFFSETFROM:-0400
TZOFFSETTO:-0500
TZNAME:EST
DTSTART:20211107T060000
END:STANDARD
BEGIN:DAYLIGHT
TZOFFSETFROM:-0500
TZOFFSETTO:-0400
TZNAME:EDT
DTSTART:20220313T070000
END:DAYLIGHT
BEGIN:STANDARD
TZOFFSETFROM:-0400
TZOFFSETTO:-0500
TZNAME:EST
DTSTART:20221106T060000
END:STANDARD
BEGIN:DAYLIGHT
TZOFFSETFROM:-0500
TZOFFSETTO:-0400
TZNAME:EDT
DTSTART:20230312T070000
END:DAYLIGHT
BEGIN:STANDARD
TZOFFSETFROM:-0400
TZOFFSETTO:-0500
TZNAME:EST
DTSTART:20231105T060000
END:STANDARD
END:VTIMEZONE
BEGIN:VEVENT
DTSTART;TZID=America/New_York:20220405T091500
DTEND;TZID=America/New_York:20220405T230000
DTSTAMP:20260425T200830
CREATED:20210905T173802Z
LAST-MODIFIED:20210905T173802Z
UID:10002574-1649150100-1649199600@ccoley.com
SUMMARY:Women's Bible Study
DESCRIPTION:
URL:https://ccoley.com/event/womens-bible-study-2/2022-04-05/
LOCATION:Dave & Alice Coult\, 38 Heiligs School Road\, Oley\, PA\, 19547\, United States
CATEGORIES:Women's Bible Study
ORGANIZER;CN="Alice Coult":MAILTO:acoult@ptd.net
GEO:40.420843;-75.707817
X-APPLE-STRUCTURED-LOCATION;VALUE=URI;X-ADDRESS=Dave & Alice Coult 38 Heiligs School Road Oley PA 19547 United States;X-APPLE-RADIUS=500;X-TITLE=38 Heiligs School Road:geo:-75.707817,40.420843
END:VEVENT
BEGIN:VEVENT
DTSTART;TZID=America/New_York:20220329T091500
DTEND;TZID=America/New_York:20220329T230000
DTSTAMP:20260425T200830
CREATED:20210905T173802Z
LAST-MODIFIED:20210905T173802Z
UID:10002573-1648545300-1648594800@ccoley.com
SUMMARY:Women's Bible Study
DESCRIPTION:
URL:https://ccoley.com/event/womens-bible-study-2/2022-03-29/
LOCATION:Dave & Alice Coult\, 38 Heiligs School Road\, Oley\, PA\, 19547\, United States
CATEGORIES:Women's Bible Study
ORGANIZER;CN="Alice Coult":MAILTO:acoult@ptd.net
GEO:40.420843;-75.707817
X-APPLE-STRUCTURED-LOCATION;VALUE=URI;X-ADDRESS=Dave & Alice Coult 38 Heiligs School Road Oley PA 19547 United States;X-APPLE-RADIUS=500;X-TITLE=38 Heiligs School Road:geo:-75.707817,40.420843
END:VEVENT
BEGIN:VEVENT
DTSTART;TZID=America/New_York:20220322T091500
DTEND;TZID=America/New_York:20220322T230000
DTSTAMP:20260425T200830
CREATED:20210905T173802Z
LAST-MODIFIED:20210905T173802Z
UID:10002572-1647940500-1647990000@ccoley.com
SUMMARY:Women's Bible Study
DESCRIPTION:
URL:https://ccoley.com/event/womens-bible-study-2/2022-03-22/
LOCATION:Dave & Alice Coult\, 38 Heiligs School Road\, Oley\, PA\, 19547\, United States
CATEGORIES:Women's Bible Study
ORGANIZER;CN="Alice Coult":MAILTO:acoult@ptd.net
GEO:40.420843;-75.707817
X-APPLE-STRUCTURED-LOCATION;VALUE=URI;X-ADDRESS=Dave & Alice Coult 38 Heiligs School Road Oley PA 19547 United States;X-APPLE-RADIUS=500;X-TITLE=38 Heiligs School Road:geo:-75.707817,40.420843
END:VEVENT
BEGIN:VEVENT
DTSTART;TZID=America/New_York:20220315T091500
DTEND;TZID=America/New_York:20220315T230000
DTSTAMP:20260425T200830
CREATED:20210905T173802Z
LAST-MODIFIED:20210905T173802Z
UID:10002571-1647335700-1647385200@ccoley.com
SUMMARY:Women's Bible Study
DESCRIPTION:
URL:https://ccoley.com/event/womens-bible-study-2/2022-03-15/
LOCATION:Dave & Alice Coult\, 38 Heiligs School Road\, Oley\, PA\, 19547\, United States
CATEGORIES:Women's Bible Study
ORGANIZER;CN="Alice Coult":MAILTO:acoult@ptd.net
GEO:40.420843;-75.707817
X-APPLE-STRUCTURED-LOCATION;VALUE=URI;X-ADDRESS=Dave & Alice Coult 38 Heiligs School Road Oley PA 19547 United States;X-APPLE-RADIUS=500;X-TITLE=38 Heiligs School Road:geo:-75.707817,40.420843
END:VEVENT
BEGIN:VEVENT
DTSTART;TZID=America/New_York:20220308T091500
DTEND;TZID=America/New_York:20220308T230000
DTSTAMP:20260425T200830
CREATED:20210905T173802Z
LAST-MODIFIED:20210905T173802Z
UID:10002570-1646730900-1646780400@ccoley.com
SUMMARY:Women's Bible Study
DESCRIPTION:
URL:https://ccoley.com/event/womens-bible-study-2/2022-03-08/
LOCATION:Dave & Alice Coult\, 38 Heiligs School Road\, Oley\, PA\, 19547\, United States
CATEGORIES:Women's Bible Study
ORGANIZER;CN="Alice Coult":MAILTO:acoult@ptd.net
GEO:40.420843;-75.707817
X-APPLE-STRUCTURED-LOCATION;VALUE=URI;X-ADDRESS=Dave & Alice Coult 38 Heiligs School Road Oley PA 19547 United States;X-APPLE-RADIUS=500;X-TITLE=38 Heiligs School Road:geo:-75.707817,40.420843
END:VEVENT
BEGIN:VEVENT
DTSTART;TZID=America/New_York:20220301T091500
DTEND;TZID=America/New_York:20220301T230000
DTSTAMP:20260425T200830
CREATED:20210905T173802Z
LAST-MODIFIED:20210905T173802Z
UID:10002569-1646126100-1646175600@ccoley.com
SUMMARY:Women's Bible Study
DESCRIPTION:
URL:https://ccoley.com/event/womens-bible-study-2/2022-03-01/
LOCATION:Dave & Alice Coult\, 38 Heiligs School Road\, Oley\, PA\, 19547\, United States
CATEGORIES:Women's Bible Study
ORGANIZER;CN="Alice Coult":MAILTO:acoult@ptd.net
GEO:40.420843;-75.707817
X-APPLE-STRUCTURED-LOCATION;VALUE=URI;X-ADDRESS=Dave & Alice Coult 38 Heiligs School Road Oley PA 19547 United States;X-APPLE-RADIUS=500;X-TITLE=38 Heiligs School Road:geo:-75.707817,40.420843
END:VEVENT
BEGIN:VEVENT
DTSTART;TZID=America/New_York:20220222T091500
DTEND;TZID=America/New_York:20220222T230000
DTSTAMP:20260425T200830
CREATED:20210905T173802Z
LAST-MODIFIED:20210905T173802Z
UID:10002568-1645521300-1645570800@ccoley.com
SUMMARY:Women's Bible Study
DESCRIPTION:
URL:https://ccoley.com/event/womens-bible-study-2/2022-02-22/
LOCATION:Dave & Alice Coult\, 38 Heiligs School Road\, Oley\, PA\, 19547\, United States
CATEGORIES:Women's Bible Study
ORGANIZER;CN="Alice Coult":MAILTO:acoult@ptd.net
GEO:40.420843;-75.707817
X-APPLE-STRUCTURED-LOCATION;VALUE=URI;X-ADDRESS=Dave & Alice Coult 38 Heiligs School Road Oley PA 19547 United States;X-APPLE-RADIUS=500;X-TITLE=38 Heiligs School Road:geo:-75.707817,40.420843
END:VEVENT
BEGIN:VEVENT
DTSTART;TZID=America/New_York:20220215T091500
DTEND;TZID=America/New_York:20220215T230000
DTSTAMP:20260425T200830
CREATED:20210905T173802Z
LAST-MODIFIED:20210905T173802Z
UID:10002567-1644916500-1644966000@ccoley.com
SUMMARY:Women's Bible Study
DESCRIPTION:
URL:https://ccoley.com/event/womens-bible-study-2/2022-02-15/
LOCATION:Dave & Alice Coult\, 38 Heiligs School Road\, Oley\, PA\, 19547\, United States
CATEGORIES:Women's Bible Study
ORGANIZER;CN="Alice Coult":MAILTO:acoult@ptd.net
GEO:40.420843;-75.707817
X-APPLE-STRUCTURED-LOCATION;VALUE=URI;X-ADDRESS=Dave & Alice Coult 38 Heiligs School Road Oley PA 19547 United States;X-APPLE-RADIUS=500;X-TITLE=38 Heiligs School Road:geo:-75.707817,40.420843
END:VEVENT
BEGIN:VEVENT
DTSTART;TZID=America/New_York:20220208T091500
DTEND;TZID=America/New_York:20220208T230000
DTSTAMP:20260425T200830
CREATED:20210905T173802Z
LAST-MODIFIED:20210905T173802Z
UID:10002566-1644311700-1644361200@ccoley.com
SUMMARY:Women's Bible Study
DESCRIPTION:
URL:https://ccoley.com/event/womens-bible-study-2/2022-02-08/
LOCATION:Dave & Alice Coult\, 38 Heiligs School Road\, Oley\, PA\, 19547\, United States
CATEGORIES:Women's Bible Study
ORGANIZER;CN="Alice Coult":MAILTO:acoult@ptd.net
GEO:40.420843;-75.707817
X-APPLE-STRUCTURED-LOCATION;VALUE=URI;X-ADDRESS=Dave & Alice Coult 38 Heiligs School Road Oley PA 19547 United States;X-APPLE-RADIUS=500;X-TITLE=38 Heiligs School Road:geo:-75.707817,40.420843
END:VEVENT
BEGIN:VEVENT
DTSTART;TZID=America/New_York:20220201T091500
DTEND;TZID=America/New_York:20220201T230000
DTSTAMP:20260425T200830
CREATED:20210905T173802Z
LAST-MODIFIED:20210905T173802Z
UID:10002565-1643706900-1643756400@ccoley.com
SUMMARY:Women's Bible Study
DESCRIPTION:
URL:https://ccoley.com/event/womens-bible-study-2/2022-02-01/
LOCATION:Dave & Alice Coult\, 38 Heiligs School Road\, Oley\, PA\, 19547\, United States
CATEGORIES:Women's Bible Study
ORGANIZER;CN="Alice Coult":MAILTO:acoult@ptd.net
GEO:40.420843;-75.707817
X-APPLE-STRUCTURED-LOCATION;VALUE=URI;X-ADDRESS=Dave & Alice Coult 38 Heiligs School Road Oley PA 19547 United States;X-APPLE-RADIUS=500;X-TITLE=38 Heiligs School Road:geo:-75.707817,40.420843
END:VEVENT
BEGIN:VEVENT
DTSTART;TZID=America/New_York:20220125T091500
DTEND;TZID=America/New_York:20220125T230000
DTSTAMP:20260425T200830
CREATED:20210905T173802Z
LAST-MODIFIED:20210905T173802Z
UID:10002564-1643102100-1643151600@ccoley.com
SUMMARY:Women's Bible Study
DESCRIPTION:
URL:https://ccoley.com/event/womens-bible-study-2/2022-01-25/
LOCATION:Dave & Alice Coult\, 38 Heiligs School Road\, Oley\, PA\, 19547\, United States
CATEGORIES:Women's Bible Study
ORGANIZER;CN="Alice Coult":MAILTO:acoult@ptd.net
GEO:40.420843;-75.707817
X-APPLE-STRUCTURED-LOCATION;VALUE=URI;X-ADDRESS=Dave & Alice Coult 38 Heiligs School Road Oley PA 19547 United States;X-APPLE-RADIUS=500;X-TITLE=38 Heiligs School Road:geo:-75.707817,40.420843
END:VEVENT
BEGIN:VEVENT
DTSTART;TZID=America/New_York:20220118T091500
DTEND;TZID=America/New_York:20220118T230000
DTSTAMP:20260425T200830
CREATED:20210905T173802Z
LAST-MODIFIED:20210905T173802Z
UID:10002563-1642497300-1642546800@ccoley.com
SUMMARY:Women's Bible Study
DESCRIPTION:
URL:https://ccoley.com/event/womens-bible-study-2/2022-01-18/
LOCATION:Dave & Alice Coult\, 38 Heiligs School Road\, Oley\, PA\, 19547\, United States
CATEGORIES:Women's Bible Study
ORGANIZER;CN="Alice Coult":MAILTO:acoult@ptd.net
GEO:40.420843;-75.707817
X-APPLE-STRUCTURED-LOCATION;VALUE=URI;X-ADDRESS=Dave & Alice Coult 38 Heiligs School Road Oley PA 19547 United States;X-APPLE-RADIUS=500;X-TITLE=38 Heiligs School Road:geo:-75.707817,40.420843
END:VEVENT
BEGIN:VEVENT
DTSTART;TZID=America/New_York:20220111T091500
DTEND;TZID=America/New_York:20220111T230000
DTSTAMP:20260425T200830
CREATED:20210905T173802Z
LAST-MODIFIED:20210905T173802Z
UID:10002562-1641892500-1641942000@ccoley.com
SUMMARY:Women's Bible Study
DESCRIPTION:
URL:https://ccoley.com/event/womens-bible-study-2/2022-01-11/
LOCATION:Dave & Alice Coult\, 38 Heiligs School Road\, Oley\, PA\, 19547\, United States
CATEGORIES:Women's Bible Study
ORGANIZER;CN="Alice Coult":MAILTO:acoult@ptd.net
GEO:40.420843;-75.707817
X-APPLE-STRUCTURED-LOCATION;VALUE=URI;X-ADDRESS=Dave & Alice Coult 38 Heiligs School Road Oley PA 19547 United States;X-APPLE-RADIUS=500;X-TITLE=38 Heiligs School Road:geo:-75.707817,40.420843
END:VEVENT
BEGIN:VEVENT
DTSTART;TZID=America/New_York:20220104T091500
DTEND;TZID=America/New_York:20220104T230000
DTSTAMP:20260425T200830
CREATED:20210905T173802Z
LAST-MODIFIED:20210905T173802Z
UID:10002561-1641287700-1641337200@ccoley.com
SUMMARY:Women's Bible Study
DESCRIPTION:
URL:https://ccoley.com/event/womens-bible-study-2/2022-01-04/
LOCATION:Dave & Alice Coult\, 38 Heiligs School Road\, Oley\, PA\, 19547\, United States
CATEGORIES:Women's Bible Study
ORGANIZER;CN="Alice Coult":MAILTO:acoult@ptd.net
GEO:40.420843;-75.707817
X-APPLE-STRUCTURED-LOCATION;VALUE=URI;X-ADDRESS=Dave & Alice Coult 38 Heiligs School Road Oley PA 19547 United States;X-APPLE-RADIUS=500;X-TITLE=38 Heiligs School Road:geo:-75.707817,40.420843
END:VEVENT
BEGIN:VEVENT
DTSTART;TZID=America/New_York:20211228T091500
DTEND;TZID=America/New_York:20211228T230000
DTSTAMP:20260425T200830
CREATED:20210905T173802Z
LAST-MODIFIED:20210905T173802Z
UID:10002560-1640682900-1640732400@ccoley.com
SUMMARY:Women's Bible Study
DESCRIPTION:
URL:https://ccoley.com/event/womens-bible-study-2/2021-12-28/
LOCATION:Dave & Alice Coult\, 38 Heiligs School Road\, Oley\, PA\, 19547\, United States
CATEGORIES:Women's Bible Study
ORGANIZER;CN="Alice Coult":MAILTO:acoult@ptd.net
GEO:40.420843;-75.707817
X-APPLE-STRUCTURED-LOCATION;VALUE=URI;X-ADDRESS=Dave & Alice Coult 38 Heiligs School Road Oley PA 19547 United States;X-APPLE-RADIUS=500;X-TITLE=38 Heiligs School Road:geo:-75.707817,40.420843
END:VEVENT
BEGIN:VEVENT
DTSTART;TZID=America/New_York:20211221T091500
DTEND;TZID=America/New_York:20211221T230000
DTSTAMP:20260425T200830
CREATED:20210905T173802Z
LAST-MODIFIED:20210905T173802Z
UID:10002559-1640078100-1640127600@ccoley.com
SUMMARY:Women's Bible Study
DESCRIPTION:
URL:https://ccoley.com/event/womens-bible-study-2/2021-12-21/
LOCATION:Dave & Alice Coult\, 38 Heiligs School Road\, Oley\, PA\, 19547\, United States
CATEGORIES:Women's Bible Study
ORGANIZER;CN="Alice Coult":MAILTO:acoult@ptd.net
GEO:40.420843;-75.707817
X-APPLE-STRUCTURED-LOCATION;VALUE=URI;X-ADDRESS=Dave & Alice Coult 38 Heiligs School Road Oley PA 19547 United States;X-APPLE-RADIUS=500;X-TITLE=38 Heiligs School Road:geo:-75.707817,40.420843
END:VEVENT
BEGIN:VEVENT
DTSTART;TZID=America/New_York:20211214T091500
DTEND;TZID=America/New_York:20211214T230000
DTSTAMP:20260425T200830
CREATED:20210905T173802Z
LAST-MODIFIED:20210905T173802Z
UID:10002558-1639473300-1639522800@ccoley.com
SUMMARY:Women's Bible Study
DESCRIPTION:
URL:https://ccoley.com/event/womens-bible-study-2/2021-12-14/
LOCATION:Dave & Alice Coult\, 38 Heiligs School Road\, Oley\, PA\, 19547\, United States
CATEGORIES:Women's Bible Study
ORGANIZER;CN="Alice Coult":MAILTO:acoult@ptd.net
GEO:40.420843;-75.707817
X-APPLE-STRUCTURED-LOCATION;VALUE=URI;X-ADDRESS=Dave & Alice Coult 38 Heiligs School Road Oley PA 19547 United States;X-APPLE-RADIUS=500;X-TITLE=38 Heiligs School Road:geo:-75.707817,40.420843
END:VEVENT
BEGIN:VEVENT
DTSTART;TZID=America/New_York:20211207T091500
DTEND;TZID=America/New_York:20211207T230000
DTSTAMP:20260425T200830
CREATED:20210905T173802Z
LAST-MODIFIED:20210905T173802Z
UID:10002557-1638868500-1638918000@ccoley.com
SUMMARY:Women's Bible Study
DESCRIPTION:
URL:https://ccoley.com/event/womens-bible-study-2/2021-12-07/
LOCATION:Dave & Alice Coult\, 38 Heiligs School Road\, Oley\, PA\, 19547\, United States
CATEGORIES:Women's Bible Study
ORGANIZER;CN="Alice Coult":MAILTO:acoult@ptd.net
GEO:40.420843;-75.707817
X-APPLE-STRUCTURED-LOCATION;VALUE=URI;X-ADDRESS=Dave & Alice Coult 38 Heiligs School Road Oley PA 19547 United States;X-APPLE-RADIUS=500;X-TITLE=38 Heiligs School Road:geo:-75.707817,40.420843
END:VEVENT
BEGIN:VEVENT
DTSTART;TZID=America/New_York:20211130T091500
DTEND;TZID=America/New_York:20211130T230000
DTSTAMP:20260425T200830
CREATED:20210905T173802Z
LAST-MODIFIED:20210905T173802Z
UID:10002556-1638263700-1638313200@ccoley.com
SUMMARY:Women's Bible Study
DESCRIPTION:
URL:https://ccoley.com/event/womens-bible-study-2/2021-11-30/
LOCATION:Dave & Alice Coult\, 38 Heiligs School Road\, Oley\, PA\, 19547\, United States
CATEGORIES:Women's Bible Study
ORGANIZER;CN="Alice Coult":MAILTO:acoult@ptd.net
GEO:40.420843;-75.707817
X-APPLE-STRUCTURED-LOCATION;VALUE=URI;X-ADDRESS=Dave & Alice Coult 38 Heiligs School Road Oley PA 19547 United States;X-APPLE-RADIUS=500;X-TITLE=38 Heiligs School Road:geo:-75.707817,40.420843
END:VEVENT
BEGIN:VEVENT
DTSTART;TZID=America/New_York:20211123T091500
DTEND;TZID=America/New_York:20211123T230000
DTSTAMP:20260425T200830
CREATED:20210905T173802Z
LAST-MODIFIED:20210905T173802Z
UID:10002555-1637658900-1637708400@ccoley.com
SUMMARY:Women's Bible Study
DESCRIPTION:
URL:https://ccoley.com/event/womens-bible-study-2/2021-11-23/
LOCATION:Dave & Alice Coult\, 38 Heiligs School Road\, Oley\, PA\, 19547\, United States
CATEGORIES:Women's Bible Study
ORGANIZER;CN="Alice Coult":MAILTO:acoult@ptd.net
GEO:40.420843;-75.707817
X-APPLE-STRUCTURED-LOCATION;VALUE=URI;X-ADDRESS=Dave & Alice Coult 38 Heiligs School Road Oley PA 19547 United States;X-APPLE-RADIUS=500;X-TITLE=38 Heiligs School Road:geo:-75.707817,40.420843
END:VEVENT
BEGIN:VEVENT
DTSTART;TZID=America/New_York:20211116T091500
DTEND;TZID=America/New_York:20211116T230000
DTSTAMP:20260425T200830
CREATED:20210905T173802Z
LAST-MODIFIED:20210905T173802Z
UID:10002554-1637054100-1637103600@ccoley.com
SUMMARY:Women's Bible Study
DESCRIPTION:
URL:https://ccoley.com/event/womens-bible-study-2/2021-11-16/
LOCATION:Dave & Alice Coult\, 38 Heiligs School Road\, Oley\, PA\, 19547\, United States
CATEGORIES:Women's Bible Study
ORGANIZER;CN="Alice Coult":MAILTO:acoult@ptd.net
GEO:40.420843;-75.707817
X-APPLE-STRUCTURED-LOCATION;VALUE=URI;X-ADDRESS=Dave & Alice Coult 38 Heiligs School Road Oley PA 19547 United States;X-APPLE-RADIUS=500;X-TITLE=38 Heiligs School Road:geo:-75.707817,40.420843
END:VEVENT
BEGIN:VEVENT
DTSTART;TZID=America/New_York:20211109T091500
DTEND;TZID=America/New_York:20211109T230000
DTSTAMP:20260425T200830
CREATED:20210905T173802Z
LAST-MODIFIED:20210905T173802Z
UID:10002553-1636449300-1636498800@ccoley.com
SUMMARY:Women's Bible Study
DESCRIPTION:
URL:https://ccoley.com/event/womens-bible-study-2/2021-11-09/
LOCATION:Dave & Alice Coult\, 38 Heiligs School Road\, Oley\, PA\, 19547\, United States
CATEGORIES:Women's Bible Study
ORGANIZER;CN="Alice Coult":MAILTO:acoult@ptd.net
GEO:40.420843;-75.707817
X-APPLE-STRUCTURED-LOCATION;VALUE=URI;X-ADDRESS=Dave & Alice Coult 38 Heiligs School Road Oley PA 19547 United States;X-APPLE-RADIUS=500;X-TITLE=38 Heiligs School Road:geo:-75.707817,40.420843
END:VEVENT
BEGIN:VEVENT
DTSTART;TZID=America/New_York:20211102T091500
DTEND;TZID=America/New_York:20211102T230000
DTSTAMP:20260425T200830
CREATED:20210905T173802Z
LAST-MODIFIED:20210905T173802Z
UID:10002552-1635844500-1635894000@ccoley.com
SUMMARY:Women's Bible Study
DESCRIPTION:
URL:https://ccoley.com/event/womens-bible-study-2/2021-11-02/
LOCATION:Dave & Alice Coult\, 38 Heiligs School Road\, Oley\, PA\, 19547\, United States
CATEGORIES:Women's Bible Study
ORGANIZER;CN="Alice Coult":MAILTO:acoult@ptd.net
GEO:40.420843;-75.707817
X-APPLE-STRUCTURED-LOCATION;VALUE=URI;X-ADDRESS=Dave & Alice Coult 38 Heiligs School Road Oley PA 19547 United States;X-APPLE-RADIUS=500;X-TITLE=38 Heiligs School Road:geo:-75.707817,40.420843
END:VEVENT
BEGIN:VEVENT
DTSTART;TZID=America/New_York:20211026T091500
DTEND;TZID=America/New_York:20211026T230000
DTSTAMP:20260425T200830
CREATED:20210905T173802Z
LAST-MODIFIED:20210905T173802Z
UID:10002551-1635239700-1635289200@ccoley.com
SUMMARY:Women's Bible Study
DESCRIPTION:
URL:https://ccoley.com/event/womens-bible-study-2/2021-10-26/
LOCATION:Dave & Alice Coult\, 38 Heiligs School Road\, Oley\, PA\, 19547\, United States
CATEGORIES:Women's Bible Study
ORGANIZER;CN="Alice Coult":MAILTO:acoult@ptd.net
GEO:40.420843;-75.707817
X-APPLE-STRUCTURED-LOCATION;VALUE=URI;X-ADDRESS=Dave & Alice Coult 38 Heiligs School Road Oley PA 19547 United States;X-APPLE-RADIUS=500;X-TITLE=38 Heiligs School Road:geo:-75.707817,40.420843
END:VEVENT
BEGIN:VEVENT
DTSTART;TZID=America/New_York:20211019T091500
DTEND;TZID=America/New_York:20211019T230000
DTSTAMP:20260425T200830
CREATED:20210905T173802Z
LAST-MODIFIED:20210905T173802Z
UID:10002550-1634634900-1634684400@ccoley.com
SUMMARY:Women's Bible Study
DESCRIPTION:
URL:https://ccoley.com/event/womens-bible-study-2/2021-10-19/
LOCATION:Dave & Alice Coult\, 38 Heiligs School Road\, Oley\, PA\, 19547\, United States
CATEGORIES:Women's Bible Study
ORGANIZER;CN="Alice Coult":MAILTO:acoult@ptd.net
GEO:40.420843;-75.707817
X-APPLE-STRUCTURED-LOCATION;VALUE=URI;X-ADDRESS=Dave & Alice Coult 38 Heiligs School Road Oley PA 19547 United States;X-APPLE-RADIUS=500;X-TITLE=38 Heiligs School Road:geo:-75.707817,40.420843
END:VEVENT
BEGIN:VEVENT
DTSTART;TZID=America/New_York:20211012T091500
DTEND;TZID=America/New_York:20211012T230000
DTSTAMP:20260425T200830
CREATED:20210905T173802Z
LAST-MODIFIED:20210905T173802Z
UID:10002549-1634030100-1634079600@ccoley.com
SUMMARY:Women's Bible Study
DESCRIPTION:
URL:https://ccoley.com/event/womens-bible-study-2/2021-10-12/
LOCATION:Dave & Alice Coult\, 38 Heiligs School Road\, Oley\, PA\, 19547\, United States
CATEGORIES:Women's Bible Study
ORGANIZER;CN="Alice Coult":MAILTO:acoult@ptd.net
GEO:40.420843;-75.707817
X-APPLE-STRUCTURED-LOCATION;VALUE=URI;X-ADDRESS=Dave & Alice Coult 38 Heiligs School Road Oley PA 19547 United States;X-APPLE-RADIUS=500;X-TITLE=38 Heiligs School Road:geo:-75.707817,40.420843
END:VEVENT
BEGIN:VEVENT
DTSTART;TZID=America/New_York:20211005T091500
DTEND;TZID=America/New_York:20211005T230000
DTSTAMP:20260425T200830
CREATED:20210905T173802Z
LAST-MODIFIED:20210905T173802Z
UID:10002548-1633425300-1633474800@ccoley.com
SUMMARY:Women's Bible Study
DESCRIPTION:
URL:https://ccoley.com/event/womens-bible-study-2/2021-10-05/
LOCATION:Dave & Alice Coult\, 38 Heiligs School Road\, Oley\, PA\, 19547\, United States
CATEGORIES:Women's Bible Study
ORGANIZER;CN="Alice Coult":MAILTO:acoult@ptd.net
GEO:40.420843;-75.707817
X-APPLE-STRUCTURED-LOCATION;VALUE=URI;X-ADDRESS=Dave & Alice Coult 38 Heiligs School Road Oley PA 19547 United States;X-APPLE-RADIUS=500;X-TITLE=38 Heiligs School Road:geo:-75.707817,40.420843
END:VEVENT
BEGIN:VEVENT
DTSTART;TZID=America/New_York:20210525T091500
DTEND;TZID=America/New_York:20210525T110000
DTSTAMP:20260425T200830
CREATED:20200816T170714Z
LAST-MODIFIED:20220919T165956Z
UID:10002143-1621934100-1621940400@ccoley.com
SUMMARY:Women's Bible Study
DESCRIPTION:
URL:https://ccoley.com/event/womens-bible-study/2021-05-25/
LOCATION:Dave & Alice Coult\, 38 Heiligs School Road\, Oley\, PA\, 19547\, United States
CATEGORIES:Women's Bible Study
ORGANIZER;CN="Alice Coult":MAILTO:acoult@ptd.net
GEO:40.420843;-75.707817
X-APPLE-STRUCTURED-LOCATION;VALUE=URI;X-ADDRESS=Dave & Alice Coult 38 Heiligs School Road Oley PA 19547 United States;X-APPLE-RADIUS=500;X-TITLE=38 Heiligs School Road:geo:-75.707817,40.420843
END:VEVENT
BEGIN:VEVENT
DTSTART;TZID=America/New_York:20210518T091500
DTEND;TZID=America/New_York:20210518T110000
DTSTAMP:20260425T200830
CREATED:20200816T170714Z
LAST-MODIFIED:20220919T165956Z
UID:10002142-1621329300-1621335600@ccoley.com
SUMMARY:Women's Bible Study
DESCRIPTION:
URL:https://ccoley.com/event/womens-bible-study/2021-05-18/
LOCATION:Dave & Alice Coult\, 38 Heiligs School Road\, Oley\, PA\, 19547\, United States
CATEGORIES:Women's Bible Study
ORGANIZER;CN="Alice Coult":MAILTO:acoult@ptd.net
GEO:40.420843;-75.707817
X-APPLE-STRUCTURED-LOCATION;VALUE=URI;X-ADDRESS=Dave & Alice Coult 38 Heiligs School Road Oley PA 19547 United States;X-APPLE-RADIUS=500;X-TITLE=38 Heiligs School Road:geo:-75.707817,40.420843
END:VEVENT
BEGIN:VEVENT
DTSTART;TZID=America/New_York:20210511T091500
DTEND;TZID=America/New_York:20210511T110000
DTSTAMP:20260425T200830
CREATED:20200816T170714Z
LAST-MODIFIED:20220919T165956Z
UID:10002141-1620724500-1620730800@ccoley.com
SUMMARY:Women's Bible Study
DESCRIPTION:
URL:https://ccoley.com/event/womens-bible-study/2021-05-11/
LOCATION:Dave & Alice Coult\, 38 Heiligs School Road\, Oley\, PA\, 19547\, United States
CATEGORIES:Women's Bible Study
ORGANIZER;CN="Alice Coult":MAILTO:acoult@ptd.net
GEO:40.420843;-75.707817
X-APPLE-STRUCTURED-LOCATION;VALUE=URI;X-ADDRESS=Dave & Alice Coult 38 Heiligs School Road Oley PA 19547 United States;X-APPLE-RADIUS=500;X-TITLE=38 Heiligs School Road:geo:-75.707817,40.420843
END:VEVENT
END:VCALENDAR