BEGIN:VCALENDAR
VERSION:2.0
PRODID:-//Calvary Chapel of the Oley Valley - ECPv6.15.20//NONSGML v1.0//EN
CALSCALE:GREGORIAN
METHOD:PUBLISH
X-WR-CALNAME:Calvary Chapel of the Oley Valley
X-ORIGINAL-URL:https://ccoley.com
X-WR-CALDESC:Events for Calvary Chapel of the Oley Valley
REFRESH-INTERVAL;VALUE=DURATION:PT1H
X-Robots-Tag:noindex
X-PUBLISHED-TTL:PT1H
BEGIN:VTIMEZONE
TZID:America/New_York
BEGIN:DAYLIGHT
TZOFFSETFROM:-0500
TZOFFSETTO:-0400
TZNAME:EDT
DTSTART:20180311T070000
END:DAYLIGHT
BEGIN:STANDARD
TZOFFSETFROM:-0400
TZOFFSETTO:-0500
TZNAME:EST
DTSTART:20181104T060000
END:STANDARD
BEGIN:DAYLIGHT
TZOFFSETFROM:-0500
TZOFFSETTO:-0400
TZNAME:EDT
DTSTART:20190310T070000
END:DAYLIGHT
BEGIN:STANDARD
TZOFFSETFROM:-0400
TZOFFSETTO:-0500
TZNAME:EST
DTSTART:20191103T060000
END:STANDARD
BEGIN:DAYLIGHT
TZOFFSETFROM:-0500
TZOFFSETTO:-0400
TZNAME:EDT
DTSTART:20200308T070000
END:DAYLIGHT
BEGIN:STANDARD
TZOFFSETFROM:-0400
TZOFFSETTO:-0500
TZNAME:EST
DTSTART:20201101T060000
END:STANDARD
BEGIN:DAYLIGHT
TZOFFSETFROM:-0500
TZOFFSETTO:-0400
TZNAME:EDT
DTSTART:20210314T070000
END:DAYLIGHT
BEGIN:STANDARD
TZOFFSETFROM:-0400
TZOFFSETTO:-0500
TZNAME:EST
DTSTART:20211107T060000
END:STANDARD
BEGIN:DAYLIGHT
TZOFFSETFROM:-0500
TZOFFSETTO:-0400
TZNAME:EDT
DTSTART:20220313T070000
END:DAYLIGHT
BEGIN:STANDARD
TZOFFSETFROM:-0400
TZOFFSETTO:-0500
TZNAME:EST
DTSTART:20221106T060000
END:STANDARD
BEGIN:DAYLIGHT
TZOFFSETFROM:-0500
TZOFFSETTO:-0400
TZNAME:EDT
DTSTART:20230312T070000
END:DAYLIGHT
BEGIN:STANDARD
TZOFFSETFROM:-0400
TZOFFSETTO:-0500
TZNAME:EST
DTSTART:20231105T060000
END:STANDARD
BEGIN:DAYLIGHT
TZOFFSETFROM:-0500
TZOFFSETTO:-0400
TZNAME:EDT
DTSTART:20240310T070000
END:DAYLIGHT
BEGIN:STANDARD
TZOFFSETFROM:-0400
TZOFFSETTO:-0500
TZNAME:EST
DTSTART:20241103T060000
END:STANDARD
BEGIN:DAYLIGHT
TZOFFSETFROM:-0500
TZOFFSETTO:-0400
TZNAME:EDT
DTSTART:20250309T070000
END:DAYLIGHT
BEGIN:STANDARD
TZOFFSETFROM:-0400
TZOFFSETTO:-0500
TZNAME:EST
DTSTART:20251102T060000
END:STANDARD
BEGIN:DAYLIGHT
TZOFFSETFROM:-0500
TZOFFSETTO:-0400
TZNAME:EDT
DTSTART:20260308T070000
END:DAYLIGHT
BEGIN:STANDARD
TZOFFSETFROM:-0400
TZOFFSETTO:-0500
TZNAME:EST
DTSTART:20261101T060000
END:STANDARD
END:VTIMEZONE
BEGIN:VEVENT
DTSTART;TZID=America/New_York:20191224T190000
DTEND;TZID=America/New_York:20191224T210000
DTSTAMP:20260422T203636
CREATED:20191215T174107Z
LAST-MODIFIED:20211224T234331Z
UID:10001836-1577214000-1577221200@ccoley.com
SUMMARY:Christmas Eve Service
DESCRIPTION:Bring cookies and good Christmas cheer for a great time of fellowship afterwards.
URL:https://ccoley.com/event/christmas-eve-service-5/2019-12-24/
LOCATION:Camp Manatawny\, 33 Camp Rd\, Douglasville\, PA\, 19518\, United States
CATEGORIES:Family
ORGANIZER;CN="Pastor Fred Bell":MAILTO:pastorfred@ccoley.com
GEO:40.3236028;-75.7358234
X-APPLE-STRUCTURED-LOCATION;VALUE=URI;X-ADDRESS=Camp Manatawny 33 Camp Rd Douglasville PA 19518 United States;X-APPLE-RADIUS=500;X-TITLE=33 Camp Rd:geo:-75.7358234,40.3236028
END:VEVENT
BEGIN:VEVENT
DTSTART;TZID=America/New_York:20201212T160000
DTEND;TZID=America/New_York:20201212T210000
DTSTAMP:20260422T203636
CREATED:20201025T184416Z
LAST-MODIFIED:20201211T005950Z
UID:10002414-1607788800-1607806800@ccoley.com
SUMMARY:CANCELLED - 2020 Christmas Dinner
DESCRIPTION:The Christmas dinner has been cancelled this year due to COVID-19 restrictions on indoor gatherings larger than 10 people.
URL:https://ccoley.com/event/2020-christmas-dinner/
LOCATION:Oley Fairgrounds\, 26 Jefferson St\, Oley\, PA\, 19547\, United States
CATEGORIES:Family
ORGANIZER;CN="Terre Yoder":MAILTO:sundaze983@comcast.net
GEO:40.3866624;-75.7846798
X-APPLE-STRUCTURED-LOCATION;VALUE=URI;X-ADDRESS=Oley Fairgrounds 26 Jefferson St Oley PA 19547 United States;X-APPLE-RADIUS=500;X-TITLE=26 Jefferson St:geo:-75.7846798,40.3866624
END:VEVENT
BEGIN:VEVENT
DTSTART;TZID=America/New_York:20201224T190000
DTEND;TZID=America/New_York:20201224T210000
DTSTAMP:20260422T203636
CREATED:20191215T174107Z
LAST-MODIFIED:20211224T234331Z
UID:10001837-1608836400-1608843600@ccoley.com
SUMMARY:Christmas Eve Service
DESCRIPTION:Bring cookies and good Christmas cheer for a great time of fellowship afterwards.
URL:https://ccoley.com/event/christmas-eve-service-5/2020-12-24/
LOCATION:Camp Manatawny\, 33 Camp Rd\, Douglasville\, PA\, 19518\, United States
CATEGORIES:Family
ORGANIZER;CN="Pastor Fred Bell":MAILTO:pastorfred@ccoley.com
GEO:40.3236028;-75.7358234
X-APPLE-STRUCTURED-LOCATION;VALUE=URI;X-ADDRESS=Camp Manatawny 33 Camp Rd Douglasville PA 19518 United States;X-APPLE-RADIUS=500;X-TITLE=33 Camp Rd:geo:-75.7358234,40.3236028
END:VEVENT
BEGIN:VEVENT
DTSTART;TZID=America/New_York:20211224T190000
DTEND;TZID=America/New_York:20211224T210000
DTSTAMP:20260422T203636
CREATED:20191215T174107Z
LAST-MODIFIED:20211224T234331Z
UID:10001838-1640372400-1640379600@ccoley.com
SUMMARY:Christmas Eve Service
DESCRIPTION:Bring cookies and good Christmas cheer for a great time of fellowship afterwards.
URL:https://ccoley.com/event/christmas-eve-service-5/2021-12-24/
LOCATION:Camp Manatawny\, 33 Camp Rd\, Douglasville\, PA\, 19518\, United States
CATEGORIES:Family
ORGANIZER;CN="Pastor Fred Bell":MAILTO:pastorfred@ccoley.com
GEO:40.3236028;-75.7358234
X-APPLE-STRUCTURED-LOCATION;VALUE=URI;X-ADDRESS=Camp Manatawny 33 Camp Rd Douglasville PA 19518 United States;X-APPLE-RADIUS=500;X-TITLE=33 Camp Rd:geo:-75.7358234,40.3236028
END:VEVENT
BEGIN:VEVENT
DTSTART;TZID=America/New_York:20221210T163000
DTEND;TZID=America/New_York:20221210T210000
DTSTAMP:20260422T203636
CREATED:20221018T114309Z
LAST-MODIFIED:20221018T114309Z
UID:10002919-1670689800-1670706000@ccoley.com
SUMMARY:2022 Christmas Dinner
DESCRIPTION:
URL:https://ccoley.com/event/2022-christmas-dinner/
LOCATION:Oley Fairgrounds\, 26 Jefferson St\, Oley\, PA\, 19547\, United States
CATEGORIES:Family
ORGANIZER;CN="Terre Yoder":MAILTO:sundaze983@comcast.net
GEO:40.3866624;-75.7846798
X-APPLE-STRUCTURED-LOCATION;VALUE=URI;X-ADDRESS=Oley Fairgrounds 26 Jefferson St Oley PA 19547 United States;X-APPLE-RADIUS=500;X-TITLE=26 Jefferson St:geo:-75.7846798,40.3866624
END:VEVENT
BEGIN:VEVENT
DTSTART;TZID=America/New_York:20221224T190000
DTEND;TZID=America/New_York:20221224T210000
DTSTAMP:20260422T203636
CREATED:20191215T174107Z
LAST-MODIFIED:20211224T234331Z
UID:10001839-1671908400-1671915600@ccoley.com
SUMMARY:Christmas Eve Service
DESCRIPTION:Bring cookies and good Christmas cheer for a great time of fellowship afterwards.
URL:https://ccoley.com/event/christmas-eve-service-5/2022-12-24/
LOCATION:Camp Manatawny\, 33 Camp Rd\, Douglasville\, PA\, 19518\, United States
CATEGORIES:Family
ORGANIZER;CN="Pastor Fred Bell":MAILTO:pastorfred@ccoley.com
GEO:40.3236028;-75.7358234
X-APPLE-STRUCTURED-LOCATION;VALUE=URI;X-ADDRESS=Camp Manatawny 33 Camp Rd Douglasville PA 19518 United States;X-APPLE-RADIUS=500;X-TITLE=33 Camp Rd:geo:-75.7358234,40.3236028
END:VEVENT
BEGIN:VEVENT
DTSTART;TZID=America/New_York:20231209T160000
DTEND;TZID=America/New_York:20231209T210000
DTSTAMP:20260422T203636
CREATED:20231022T164736Z
LAST-MODIFIED:20231022T164736Z
UID:10004073-1702137600-1702155600@ccoley.com
SUMMARY:2023 Christmas Dinner
DESCRIPTION:Doors open at 4:00pm with dinner being served at 5:00pm.  see Denise Nutter about helping with setup\, Ken Chandler about bringing food\, and Dave Coult about being a part of the entertainment.
URL:https://ccoley.com/event/2023-christmas-dinner/
LOCATION:Oley Fairgrounds\, 26 Jefferson St\, Oley\, PA\, 19547\, United States
CATEGORIES:Family
ORGANIZER;CN="Pastor Fred Bell":MAILTO:pastorfred@ccoley.com
GEO:40.3866624;-75.7846798
X-APPLE-STRUCTURED-LOCATION;VALUE=URI;X-ADDRESS=Oley Fairgrounds 26 Jefferson St Oley PA 19547 United States;X-APPLE-RADIUS=500;X-TITLE=26 Jefferson St:geo:-75.7846798,40.3866624
END:VEVENT
BEGIN:VEVENT
DTSTART;TZID=America/New_York:20231224T190000
DTEND;TZID=America/New_York:20231224T210000
DTSTAMP:20260422T203636
CREATED:20191215T174107Z
LAST-MODIFIED:20211224T234331Z
UID:10001840-1703444400-1703451600@ccoley.com
SUMMARY:Christmas Eve Service
DESCRIPTION:Bring cookies and good Christmas cheer for a great time of fellowship afterwards.
URL:https://ccoley.com/event/christmas-eve-service-5/2023-12-24/
LOCATION:Camp Manatawny\, 33 Camp Rd\, Douglasville\, PA\, 19518\, United States
CATEGORIES:Family
ORGANIZER;CN="Pastor Fred Bell":MAILTO:pastorfred@ccoley.com
GEO:40.3236028;-75.7358234
X-APPLE-STRUCTURED-LOCATION;VALUE=URI;X-ADDRESS=Camp Manatawny 33 Camp Rd Douglasville PA 19518 United States;X-APPLE-RADIUS=500;X-TITLE=33 Camp Rd:geo:-75.7358234,40.3236028
END:VEVENT
BEGIN:VEVENT
DTSTART;TZID=America/New_York:20241214T160000
DTEND;TZID=America/New_York:20241214T210000
DTSTAMP:20260422T203636
CREATED:20241206T195822Z
LAST-MODIFIED:20241206T195822Z
UID:10005018-1734192000-1734210000@ccoley.com
SUMMARY:2024 Christmas Dinner
DESCRIPTION:Doors open at 4:00pm with dinner being served at 5:00pm.  See Denise Nutter about helping with setup\, Ken Chandler about bringing food\, and Dave Coult about being a part of the entertainment.
URL:https://ccoley.com/event/2024-christmas-dinner/
LOCATION:Oley Fairgrounds\, 26 Jefferson St\, Oley\, PA\, 19547\, United States
CATEGORIES:Family
ORGANIZER;CN="Pastor Fred Bell":MAILTO:pastorfred@ccoley.com
GEO:40.3866624;-75.7846798
X-APPLE-STRUCTURED-LOCATION;VALUE=URI;X-ADDRESS=Oley Fairgrounds 26 Jefferson St Oley PA 19547 United States;X-APPLE-RADIUS=500;X-TITLE=26 Jefferson St:geo:-75.7846798,40.3866624
END:VEVENT
BEGIN:VEVENT
DTSTART;TZID=America/New_York:20241224T190000
DTEND;TZID=America/New_York:20241224T210000
DTSTAMP:20260422T203636
CREATED:20191215T174107Z
LAST-MODIFIED:20211224T234331Z
UID:10001841-1735066800-1735074000@ccoley.com
SUMMARY:Christmas Eve Service
DESCRIPTION:Bring cookies and good Christmas cheer for a great time of fellowship afterwards.
URL:https://ccoley.com/event/christmas-eve-service-5/2024-12-24/
LOCATION:Camp Manatawny\, 33 Camp Rd\, Douglasville\, PA\, 19518\, United States
CATEGORIES:Family
ORGANIZER;CN="Pastor Fred Bell":MAILTO:pastorfred@ccoley.com
GEO:40.3236028;-75.7358234
X-APPLE-STRUCTURED-LOCATION;VALUE=URI;X-ADDRESS=Camp Manatawny 33 Camp Rd Douglasville PA 19518 United States;X-APPLE-RADIUS=500;X-TITLE=33 Camp Rd:geo:-75.7358234,40.3236028
END:VEVENT
BEGIN:VEVENT
DTSTART;TZID=America/New_York:20251213T160000
DTEND;TZID=America/New_York:20251213T210000
DTSTAMP:20260422T203636
CREATED:20251102T175242Z
LAST-MODIFIED:20251102T175242Z
UID:10005319-1765641600-1765659600@ccoley.com
SUMMARY:2025 Christmas Dinner
DESCRIPTION:Doors open at 4:00pm with dinner being served at 5:00pm.  See Denise Nutter about helping with setup\, Ken Chandler about bringing food\, and Dave Coult about being a part of the entertainment.
URL:https://ccoley.com/event/2025-christmas-dinner/
LOCATION:Oley Fairgrounds\, 26 Jefferson St\, Oley\, PA\, 19547\, United States
CATEGORIES:Family
ORGANIZER;CN="Pastor Fred Bell":MAILTO:pastorfred@ccoley.com
GEO:40.3866624;-75.7846798
X-APPLE-STRUCTURED-LOCATION;VALUE=URI;X-ADDRESS=Oley Fairgrounds 26 Jefferson St Oley PA 19547 United States;X-APPLE-RADIUS=500;X-TITLE=26 Jefferson St:geo:-75.7846798,40.3866624
END:VEVENT
BEGIN:VEVENT
DTSTART;TZID=America/New_York:20251224T190000
DTEND;TZID=America/New_York:20251224T210000
DTSTAMP:20260422T203636
CREATED:20191215T174107Z
LAST-MODIFIED:20211224T234331Z
UID:10001842-1766602800-1766610000@ccoley.com
SUMMARY:Christmas Eve Service
DESCRIPTION:Bring cookies and good Christmas cheer for a great time of fellowship afterwards.
URL:https://ccoley.com/event/christmas-eve-service-5/2025-12-24/
LOCATION:Camp Manatawny\, 33 Camp Rd\, Douglasville\, PA\, 19518\, United States
CATEGORIES:Family
ORGANIZER;CN="Pastor Fred Bell":MAILTO:pastorfred@ccoley.com
GEO:40.3236028;-75.7358234
X-APPLE-STRUCTURED-LOCATION;VALUE=URI;X-ADDRESS=Camp Manatawny 33 Camp Rd Douglasville PA 19518 United States;X-APPLE-RADIUS=500;X-TITLE=33 Camp Rd:geo:-75.7358234,40.3236028
END:VEVENT
END:VCALENDAR