BEGIN:VCALENDAR
VERSION:2.0
PRODID:-//Calvary Chapel of the Oley Valley - ECPv6.15.20//NONSGML v1.0//EN
CALSCALE:GREGORIAN
METHOD:PUBLISH
X-WR-CALNAME:Calvary Chapel of the Oley Valley
X-ORIGINAL-URL:https://ccoley.com
X-WR-CALDESC:Events for Calvary Chapel of the Oley Valley
REFRESH-INTERVAL;VALUE=DURATION:PT1H
X-Robots-Tag:noindex
X-PUBLISHED-TTL:PT1H
BEGIN:VTIMEZONE
TZID:America/New_York
BEGIN:DAYLIGHT
TZOFFSETFROM:-0500
TZOFFSETTO:-0400
TZNAME:EDT
DTSTART:20170312T070000
END:DAYLIGHT
BEGIN:STANDARD
TZOFFSETFROM:-0400
TZOFFSETTO:-0500
TZNAME:EST
DTSTART:20171105T060000
END:STANDARD
BEGIN:DAYLIGHT
TZOFFSETFROM:-0500
TZOFFSETTO:-0400
TZNAME:EDT
DTSTART:20180311T070000
END:DAYLIGHT
BEGIN:STANDARD
TZOFFSETFROM:-0400
TZOFFSETTO:-0500
TZNAME:EST
DTSTART:20181104T060000
END:STANDARD
BEGIN:DAYLIGHT
TZOFFSETFROM:-0500
TZOFFSETTO:-0400
TZNAME:EDT
DTSTART:20190310T070000
END:DAYLIGHT
BEGIN:STANDARD
TZOFFSETFROM:-0400
TZOFFSETTO:-0500
TZNAME:EST
DTSTART:20191103T060000
END:STANDARD
END:VTIMEZONE
BEGIN:VEVENT
DTSTART;TZID=America/New_York:20180926T190000
DTEND;TZID=America/New_York:20180926T203000
DTSTAMP:20260422T160325
CREATED:20181002T150929Z
LAST-MODIFIED:20190603T013405Z
UID:10001092-1537988400-1537993800@ccoley.com
SUMMARY:Adult Bible Study
DESCRIPTION:We will be studying through the Book of Exodus
URL:https://ccoley.com/event/adult-bible-study-3/2018-09-26/
LOCATION:Dave & Alice Coult\, 38 Heiligs School Road\, Oley\, PA\, 19547\, United States
CATEGORIES:Evening Bible Study
ORGANIZER;CN="Pastor Fred Bell":MAILTO:pastorfred@ccoley.com
GEO:40.420843;-75.707817
X-APPLE-STRUCTURED-LOCATION;VALUE=URI;X-ADDRESS=Dave & Alice Coult 38 Heiligs School Road Oley PA 19547 United States;X-APPLE-RADIUS=500;X-TITLE=38 Heiligs School Road:geo:-75.707817,40.420843
END:VEVENT
BEGIN:VEVENT
DTSTART;TZID=America/New_York:20180930T090000
DTEND;TZID=America/New_York:20180930T100000
DTSTAMP:20260422T160325
CREATED:20181002T151904Z
LAST-MODIFIED:20190603T013257Z
UID:10000983-1538298000-1538301600@ccoley.com
SUMMARY:Sunday Bible Study
DESCRIPTION:We are currently studying the Book of Matthew and will be starting 2 Peter.
URL:https://ccoley.com/event/sunday-bible-study-2/2018-09-30/
LOCATION:Oley Valley Elementary School\, 3247 Friedensburg Road\, Oley\, PA\, 19547\, United States
CATEGORIES:Sunday Bible Study
ORGANIZER;CN="Oskars Rieksts":MAILTO:rieksts385@yahoo.com
GEO:40.379717;-75.799139
X-APPLE-STRUCTURED-LOCATION;VALUE=URI;X-ADDRESS=Oley Valley Elementary School 3247 Friedensburg Road Oley PA 19547 United States;X-APPLE-RADIUS=500;X-TITLE=3247 Friedensburg Road:geo:-75.799139,40.379717
END:VEVENT
BEGIN:VEVENT
DTSTART;TZID=America/New_York:20181002T091500
DTEND;TZID=America/New_York:20181002T113000
DTSTAMP:20260422T160325
CREATED:20181002T151226Z
LAST-MODIFIED:20220919T005016Z
UID:10001057-1538471700-1538479800@ccoley.com
SUMMARY:Women's Bible Study
DESCRIPTION:The study will center on the Life and Ministry of John
URL:https://ccoley.com/event/womens-bible-study-5/2018-10-02/
LOCATION:Dave & Alice Coult\, 38 Heiligs School Road\, Oley\, PA\, 19547\, United States
CATEGORIES:Women's Bible Study
ORGANIZER;CN="Alice Coult":MAILTO:acoult@ptd.net
GEO:40.420843;-75.707817
X-APPLE-STRUCTURED-LOCATION;VALUE=URI;X-ADDRESS=Dave & Alice Coult 38 Heiligs School Road Oley PA 19547 United States;X-APPLE-RADIUS=500;X-TITLE=38 Heiligs School Road:geo:-75.707817,40.420843
END:VEVENT
BEGIN:VEVENT
DTSTART;TZID=America/New_York:20181003T190000
DTEND;TZID=America/New_York:20181003T203000
DTSTAMP:20260422T160325
CREATED:20181002T150929Z
LAST-MODIFIED:20190603T013405Z
UID:10001093-1538593200-1538598600@ccoley.com
SUMMARY:Adult Bible Study
DESCRIPTION:We will be studying through the Book of Exodus
URL:https://ccoley.com/event/adult-bible-study-3/2018-10-03/
LOCATION:Dave & Alice Coult\, 38 Heiligs School Road\, Oley\, PA\, 19547\, United States
CATEGORIES:Evening Bible Study
ORGANIZER;CN="Pastor Fred Bell":MAILTO:pastorfred@ccoley.com
GEO:40.420843;-75.707817
X-APPLE-STRUCTURED-LOCATION;VALUE=URI;X-ADDRESS=Dave & Alice Coult 38 Heiligs School Road Oley PA 19547 United States;X-APPLE-RADIUS=500;X-TITLE=38 Heiligs School Road:geo:-75.707817,40.420843
END:VEVENT
BEGIN:VEVENT
DTSTART;TZID=America/New_York:20181007T090000
DTEND;TZID=America/New_York:20181007T100000
DTSTAMP:20260422T160325
CREATED:20181002T151904Z
LAST-MODIFIED:20190603T013257Z
UID:10000984-1538902800-1538906400@ccoley.com
SUMMARY:Sunday Bible Study
DESCRIPTION:We are currently studying the Book of Matthew and will be starting 2 Peter.
URL:https://ccoley.com/event/sunday-bible-study-2/2018-10-07/
LOCATION:Oley Valley Elementary School\, 3247 Friedensburg Road\, Oley\, PA\, 19547\, United States
CATEGORIES:Sunday Bible Study
ORGANIZER;CN="Oskars Rieksts":MAILTO:rieksts385@yahoo.com
GEO:40.379717;-75.799139
X-APPLE-STRUCTURED-LOCATION;VALUE=URI;X-ADDRESS=Oley Valley Elementary School 3247 Friedensburg Road Oley PA 19547 United States;X-APPLE-RADIUS=500;X-TITLE=3247 Friedensburg Road:geo:-75.799139,40.379717
END:VEVENT
BEGIN:VEVENT
DTSTART;TZID=America/New_York:20181009T091500
DTEND;TZID=America/New_York:20181009T113000
DTSTAMP:20260422T160325
CREATED:20181002T151226Z
LAST-MODIFIED:20220919T005016Z
UID:10001058-1539076500-1539084600@ccoley.com
SUMMARY:Women's Bible Study
DESCRIPTION:The study will center on the Life and Ministry of John
URL:https://ccoley.com/event/womens-bible-study-5/2018-10-09/
LOCATION:Dave & Alice Coult\, 38 Heiligs School Road\, Oley\, PA\, 19547\, United States
CATEGORIES:Women's Bible Study
ORGANIZER;CN="Alice Coult":MAILTO:acoult@ptd.net
GEO:40.420843;-75.707817
X-APPLE-STRUCTURED-LOCATION;VALUE=URI;X-ADDRESS=Dave & Alice Coult 38 Heiligs School Road Oley PA 19547 United States;X-APPLE-RADIUS=500;X-TITLE=38 Heiligs School Road:geo:-75.707817,40.420843
END:VEVENT
BEGIN:VEVENT
DTSTART;TZID=America/New_York:20181010T190000
DTEND;TZID=America/New_York:20181010T203000
DTSTAMP:20260422T160325
CREATED:20181002T150929Z
LAST-MODIFIED:20190603T013405Z
UID:10001094-1539198000-1539203400@ccoley.com
SUMMARY:Adult Bible Study
DESCRIPTION:We will be studying through the Book of Exodus
URL:https://ccoley.com/event/adult-bible-study-3/2018-10-10/
LOCATION:Dave & Alice Coult\, 38 Heiligs School Road\, Oley\, PA\, 19547\, United States
CATEGORIES:Evening Bible Study
ORGANIZER;CN="Pastor Fred Bell":MAILTO:pastorfred@ccoley.com
GEO:40.420843;-75.707817
X-APPLE-STRUCTURED-LOCATION;VALUE=URI;X-ADDRESS=Dave & Alice Coult 38 Heiligs School Road Oley PA 19547 United States;X-APPLE-RADIUS=500;X-TITLE=38 Heiligs School Road:geo:-75.707817,40.420843
END:VEVENT
BEGIN:VEVENT
DTSTART;TZID=America/New_York:20181014T090000
DTEND;TZID=America/New_York:20181014T100000
DTSTAMP:20260422T160325
CREATED:20181002T151904Z
LAST-MODIFIED:20190603T013257Z
UID:10000985-1539507600-1539511200@ccoley.com
SUMMARY:Sunday Bible Study
DESCRIPTION:We are currently studying the Book of Matthew and will be starting 2 Peter.
URL:https://ccoley.com/event/sunday-bible-study-2/2018-10-14/
LOCATION:Oley Valley Elementary School\, 3247 Friedensburg Road\, Oley\, PA\, 19547\, United States
CATEGORIES:Sunday Bible Study
ORGANIZER;CN="Oskars Rieksts":MAILTO:rieksts385@yahoo.com
GEO:40.379717;-75.799139
X-APPLE-STRUCTURED-LOCATION;VALUE=URI;X-ADDRESS=Oley Valley Elementary School 3247 Friedensburg Road Oley PA 19547 United States;X-APPLE-RADIUS=500;X-TITLE=3247 Friedensburg Road:geo:-75.799139,40.379717
END:VEVENT
BEGIN:VEVENT
DTSTART;TZID=America/New_York:20181016T091500
DTEND;TZID=America/New_York:20181016T113000
DTSTAMP:20260422T160325
CREATED:20181002T151226Z
LAST-MODIFIED:20220919T005016Z
UID:10001059-1539681300-1539689400@ccoley.com
SUMMARY:Women's Bible Study
DESCRIPTION:The study will center on the Life and Ministry of John
URL:https://ccoley.com/event/womens-bible-study-5/2018-10-16/
LOCATION:Dave & Alice Coult\, 38 Heiligs School Road\, Oley\, PA\, 19547\, United States
CATEGORIES:Women's Bible Study
ORGANIZER;CN="Alice Coult":MAILTO:acoult@ptd.net
GEO:40.420843;-75.707817
X-APPLE-STRUCTURED-LOCATION;VALUE=URI;X-ADDRESS=Dave & Alice Coult 38 Heiligs School Road Oley PA 19547 United States;X-APPLE-RADIUS=500;X-TITLE=38 Heiligs School Road:geo:-75.707817,40.420843
END:VEVENT
BEGIN:VEVENT
DTSTART;TZID=America/New_York:20181017T190000
DTEND;TZID=America/New_York:20181017T203000
DTSTAMP:20260422T160325
CREATED:20181002T150929Z
LAST-MODIFIED:20190603T013405Z
UID:10001095-1539802800-1539808200@ccoley.com
SUMMARY:Adult Bible Study
DESCRIPTION:We will be studying through the Book of Exodus
URL:https://ccoley.com/event/adult-bible-study-3/2018-10-17/
LOCATION:Dave & Alice Coult\, 38 Heiligs School Road\, Oley\, PA\, 19547\, United States
CATEGORIES:Evening Bible Study
ORGANIZER;CN="Pastor Fred Bell":MAILTO:pastorfred@ccoley.com
GEO:40.420843;-75.707817
X-APPLE-STRUCTURED-LOCATION;VALUE=URI;X-ADDRESS=Dave & Alice Coult 38 Heiligs School Road Oley PA 19547 United States;X-APPLE-RADIUS=500;X-TITLE=38 Heiligs School Road:geo:-75.707817,40.420843
END:VEVENT
BEGIN:VEVENT
DTSTART;TZID=America/New_York:20181021T090000
DTEND;TZID=America/New_York:20181021T100000
DTSTAMP:20260422T160325
CREATED:20181002T151904Z
LAST-MODIFIED:20190603T013257Z
UID:10000986-1540112400-1540116000@ccoley.com
SUMMARY:Sunday Bible Study
DESCRIPTION:We are currently studying the Book of Matthew and will be starting 2 Peter.
URL:https://ccoley.com/event/sunday-bible-study-2/2018-10-21/
LOCATION:Oley Valley Elementary School\, 3247 Friedensburg Road\, Oley\, PA\, 19547\, United States
CATEGORIES:Sunday Bible Study
ORGANIZER;CN="Oskars Rieksts":MAILTO:rieksts385@yahoo.com
GEO:40.379717;-75.799139
X-APPLE-STRUCTURED-LOCATION;VALUE=URI;X-ADDRESS=Oley Valley Elementary School 3247 Friedensburg Road Oley PA 19547 United States;X-APPLE-RADIUS=500;X-TITLE=3247 Friedensburg Road:geo:-75.799139,40.379717
END:VEVENT
BEGIN:VEVENT
DTSTART;TZID=America/New_York:20181023T091500
DTEND;TZID=America/New_York:20181023T113000
DTSTAMP:20260422T160325
CREATED:20181002T151226Z
LAST-MODIFIED:20220919T005016Z
UID:10001060-1540286100-1540294200@ccoley.com
SUMMARY:Women's Bible Study
DESCRIPTION:The study will center on the Life and Ministry of John
URL:https://ccoley.com/event/womens-bible-study-5/2018-10-23/
LOCATION:Dave & Alice Coult\, 38 Heiligs School Road\, Oley\, PA\, 19547\, United States
CATEGORIES:Women's Bible Study
ORGANIZER;CN="Alice Coult":MAILTO:acoult@ptd.net
GEO:40.420843;-75.707817
X-APPLE-STRUCTURED-LOCATION;VALUE=URI;X-ADDRESS=Dave & Alice Coult 38 Heiligs School Road Oley PA 19547 United States;X-APPLE-RADIUS=500;X-TITLE=38 Heiligs School Road:geo:-75.707817,40.420843
END:VEVENT
BEGIN:VEVENT
DTSTART;TZID=America/New_York:20181024T190000
DTEND;TZID=America/New_York:20181024T203000
DTSTAMP:20260422T160325
CREATED:20181002T150929Z
LAST-MODIFIED:20190603T013405Z
UID:10001096-1540407600-1540413000@ccoley.com
SUMMARY:Adult Bible Study
DESCRIPTION:We will be studying through the Book of Exodus
URL:https://ccoley.com/event/adult-bible-study-3/2018-10-24/
LOCATION:Dave & Alice Coult\, 38 Heiligs School Road\, Oley\, PA\, 19547\, United States
CATEGORIES:Evening Bible Study
ORGANIZER;CN="Pastor Fred Bell":MAILTO:pastorfred@ccoley.com
GEO:40.420843;-75.707817
X-APPLE-STRUCTURED-LOCATION;VALUE=URI;X-ADDRESS=Dave & Alice Coult 38 Heiligs School Road Oley PA 19547 United States;X-APPLE-RADIUS=500;X-TITLE=38 Heiligs School Road:geo:-75.707817,40.420843
END:VEVENT
BEGIN:VEVENT
DTSTART;TZID=America/New_York:20181028T090000
DTEND;TZID=America/New_York:20181028T100000
DTSTAMP:20260422T160325
CREATED:20181002T151904Z
LAST-MODIFIED:20190603T013257Z
UID:10000987-1540717200-1540720800@ccoley.com
SUMMARY:Sunday Bible Study
DESCRIPTION:We are currently studying the Book of Matthew and will be starting 2 Peter.
URL:https://ccoley.com/event/sunday-bible-study-2/2018-10-28/
LOCATION:Oley Valley Elementary School\, 3247 Friedensburg Road\, Oley\, PA\, 19547\, United States
CATEGORIES:Sunday Bible Study
ORGANIZER;CN="Oskars Rieksts":MAILTO:rieksts385@yahoo.com
GEO:40.379717;-75.799139
X-APPLE-STRUCTURED-LOCATION;VALUE=URI;X-ADDRESS=Oley Valley Elementary School 3247 Friedensburg Road Oley PA 19547 United States;X-APPLE-RADIUS=500;X-TITLE=3247 Friedensburg Road:geo:-75.799139,40.379717
END:VEVENT
BEGIN:VEVENT
DTSTART;TZID=America/New_York:20181030T091500
DTEND;TZID=America/New_York:20181030T113000
DTSTAMP:20260422T160325
CREATED:20181002T151226Z
LAST-MODIFIED:20220919T005016Z
UID:10001061-1540890900-1540899000@ccoley.com
SUMMARY:Women's Bible Study
DESCRIPTION:The study will center on the Life and Ministry of John
URL:https://ccoley.com/event/womens-bible-study-5/2018-10-30/
LOCATION:Dave & Alice Coult\, 38 Heiligs School Road\, Oley\, PA\, 19547\, United States
CATEGORIES:Women's Bible Study
ORGANIZER;CN="Alice Coult":MAILTO:acoult@ptd.net
GEO:40.420843;-75.707817
X-APPLE-STRUCTURED-LOCATION;VALUE=URI;X-ADDRESS=Dave & Alice Coult 38 Heiligs School Road Oley PA 19547 United States;X-APPLE-RADIUS=500;X-TITLE=38 Heiligs School Road:geo:-75.707817,40.420843
END:VEVENT
BEGIN:VEVENT
DTSTART;TZID=America/New_York:20181031T190000
DTEND;TZID=America/New_York:20181031T203000
DTSTAMP:20260422T160325
CREATED:20181002T150929Z
LAST-MODIFIED:20190603T013405Z
UID:10001097-1541012400-1541017800@ccoley.com
SUMMARY:Adult Bible Study
DESCRIPTION:We will be studying through the Book of Exodus
URL:https://ccoley.com/event/adult-bible-study-3/2018-10-31/
LOCATION:Dave & Alice Coult\, 38 Heiligs School Road\, Oley\, PA\, 19547\, United States
CATEGORIES:Evening Bible Study
ORGANIZER;CN="Pastor Fred Bell":MAILTO:pastorfred@ccoley.com
GEO:40.420843;-75.707817
X-APPLE-STRUCTURED-LOCATION;VALUE=URI;X-ADDRESS=Dave & Alice Coult 38 Heiligs School Road Oley PA 19547 United States;X-APPLE-RADIUS=500;X-TITLE=38 Heiligs School Road:geo:-75.707817,40.420843
END:VEVENT
BEGIN:VEVENT
DTSTART;TZID=America/New_York:20181104T090000
DTEND;TZID=America/New_York:20181104T100000
DTSTAMP:20260422T160325
CREATED:20181002T151904Z
LAST-MODIFIED:20190603T013257Z
UID:10000988-1541322000-1541325600@ccoley.com
SUMMARY:Sunday Bible Study
DESCRIPTION:We are currently studying the Book of Matthew and will be starting 2 Peter.
URL:https://ccoley.com/event/sunday-bible-study-2/2018-11-04/
LOCATION:Oley Valley Elementary School\, 3247 Friedensburg Road\, Oley\, PA\, 19547\, United States
CATEGORIES:Sunday Bible Study
ORGANIZER;CN="Oskars Rieksts":MAILTO:rieksts385@yahoo.com
GEO:40.379717;-75.799139
X-APPLE-STRUCTURED-LOCATION;VALUE=URI;X-ADDRESS=Oley Valley Elementary School 3247 Friedensburg Road Oley PA 19547 United States;X-APPLE-RADIUS=500;X-TITLE=3247 Friedensburg Road:geo:-75.799139,40.379717
END:VEVENT
BEGIN:VEVENT
DTSTART;TZID=America/New_York:20181106T091500
DTEND;TZID=America/New_York:20181106T113000
DTSTAMP:20260422T160325
CREATED:20181002T151226Z
LAST-MODIFIED:20220919T005016Z
UID:10001062-1541495700-1541503800@ccoley.com
SUMMARY:Women's Bible Study
DESCRIPTION:The study will center on the Life and Ministry of John
URL:https://ccoley.com/event/womens-bible-study-5/2018-11-06/
LOCATION:Dave & Alice Coult\, 38 Heiligs School Road\, Oley\, PA\, 19547\, United States
CATEGORIES:Women's Bible Study
ORGANIZER;CN="Alice Coult":MAILTO:acoult@ptd.net
GEO:40.420843;-75.707817
X-APPLE-STRUCTURED-LOCATION;VALUE=URI;X-ADDRESS=Dave & Alice Coult 38 Heiligs School Road Oley PA 19547 United States;X-APPLE-RADIUS=500;X-TITLE=38 Heiligs School Road:geo:-75.707817,40.420843
END:VEVENT
BEGIN:VEVENT
DTSTART;TZID=America/New_York:20181107T190000
DTEND;TZID=America/New_York:20181107T203000
DTSTAMP:20260422T160325
CREATED:20181002T150929Z
LAST-MODIFIED:20190603T013405Z
UID:10001098-1541617200-1541622600@ccoley.com
SUMMARY:Adult Bible Study
DESCRIPTION:We will be studying through the Book of Exodus
URL:https://ccoley.com/event/adult-bible-study-3/2018-11-07/
LOCATION:Dave & Alice Coult\, 38 Heiligs School Road\, Oley\, PA\, 19547\, United States
CATEGORIES:Evening Bible Study
ORGANIZER;CN="Pastor Fred Bell":MAILTO:pastorfred@ccoley.com
GEO:40.420843;-75.707817
X-APPLE-STRUCTURED-LOCATION;VALUE=URI;X-ADDRESS=Dave & Alice Coult 38 Heiligs School Road Oley PA 19547 United States;X-APPLE-RADIUS=500;X-TITLE=38 Heiligs School Road:geo:-75.707817,40.420843
END:VEVENT
BEGIN:VEVENT
DTSTART;TZID=America/New_York:20181111T090000
DTEND;TZID=America/New_York:20181111T100000
DTSTAMP:20260422T160325
CREATED:20181002T151904Z
LAST-MODIFIED:20190603T013257Z
UID:10000989-1541926800-1541930400@ccoley.com
SUMMARY:Sunday Bible Study
DESCRIPTION:We are currently studying the Book of Matthew and will be starting 2 Peter.
URL:https://ccoley.com/event/sunday-bible-study-2/2018-11-11/
LOCATION:Oley Valley Elementary School\, 3247 Friedensburg Road\, Oley\, PA\, 19547\, United States
CATEGORIES:Sunday Bible Study
ORGANIZER;CN="Oskars Rieksts":MAILTO:rieksts385@yahoo.com
GEO:40.379717;-75.799139
X-APPLE-STRUCTURED-LOCATION;VALUE=URI;X-ADDRESS=Oley Valley Elementary School 3247 Friedensburg Road Oley PA 19547 United States;X-APPLE-RADIUS=500;X-TITLE=3247 Friedensburg Road:geo:-75.799139,40.379717
END:VEVENT
BEGIN:VEVENT
DTSTART;TZID=America/New_York:20181113T091500
DTEND;TZID=America/New_York:20181113T113000
DTSTAMP:20260422T160325
CREATED:20181002T151226Z
LAST-MODIFIED:20220919T005016Z
UID:10001063-1542100500-1542108600@ccoley.com
SUMMARY:Women's Bible Study
DESCRIPTION:The study will center on the Life and Ministry of John
URL:https://ccoley.com/event/womens-bible-study-5/2018-11-13/
LOCATION:Dave & Alice Coult\, 38 Heiligs School Road\, Oley\, PA\, 19547\, United States
CATEGORIES:Women's Bible Study
ORGANIZER;CN="Alice Coult":MAILTO:acoult@ptd.net
GEO:40.420843;-75.707817
X-APPLE-STRUCTURED-LOCATION;VALUE=URI;X-ADDRESS=Dave & Alice Coult 38 Heiligs School Road Oley PA 19547 United States;X-APPLE-RADIUS=500;X-TITLE=38 Heiligs School Road:geo:-75.707817,40.420843
END:VEVENT
BEGIN:VEVENT
DTSTART;TZID=America/New_York:20181114T190000
DTEND;TZID=America/New_York:20181114T203000
DTSTAMP:20260422T160325
CREATED:20181002T150929Z
LAST-MODIFIED:20190603T013405Z
UID:10001099-1542222000-1542227400@ccoley.com
SUMMARY:Adult Bible Study
DESCRIPTION:We will be studying through the Book of Exodus
URL:https://ccoley.com/event/adult-bible-study-3/2018-11-14/
LOCATION:Dave & Alice Coult\, 38 Heiligs School Road\, Oley\, PA\, 19547\, United States
CATEGORIES:Evening Bible Study
ORGANIZER;CN="Pastor Fred Bell":MAILTO:pastorfred@ccoley.com
GEO:40.420843;-75.707817
X-APPLE-STRUCTURED-LOCATION;VALUE=URI;X-ADDRESS=Dave & Alice Coult 38 Heiligs School Road Oley PA 19547 United States;X-APPLE-RADIUS=500;X-TITLE=38 Heiligs School Road:geo:-75.707817,40.420843
END:VEVENT
BEGIN:VEVENT
DTSTART;TZID=America/New_York:20181118T090000
DTEND;TZID=America/New_York:20181118T100000
DTSTAMP:20260422T160325
CREATED:20181002T151904Z
LAST-MODIFIED:20190603T013257Z
UID:10000990-1542531600-1542535200@ccoley.com
SUMMARY:Sunday Bible Study
DESCRIPTION:We are currently studying the Book of Matthew and will be starting 2 Peter.
URL:https://ccoley.com/event/sunday-bible-study-2/2018-11-18/
LOCATION:Oley Valley Elementary School\, 3247 Friedensburg Road\, Oley\, PA\, 19547\, United States
CATEGORIES:Sunday Bible Study
ORGANIZER;CN="Oskars Rieksts":MAILTO:rieksts385@yahoo.com
GEO:40.379717;-75.799139
X-APPLE-STRUCTURED-LOCATION;VALUE=URI;X-ADDRESS=Oley Valley Elementary School 3247 Friedensburg Road Oley PA 19547 United States;X-APPLE-RADIUS=500;X-TITLE=3247 Friedensburg Road:geo:-75.799139,40.379717
END:VEVENT
BEGIN:VEVENT
DTSTART;TZID=America/New_York:20181120T091500
DTEND;TZID=America/New_York:20181120T113000
DTSTAMP:20260422T160325
CREATED:20181002T151226Z
LAST-MODIFIED:20220919T005016Z
UID:10001064-1542705300-1542713400@ccoley.com
SUMMARY:Women's Bible Study
DESCRIPTION:The study will center on the Life and Ministry of John
URL:https://ccoley.com/event/womens-bible-study-5/2018-11-20/
LOCATION:Dave & Alice Coult\, 38 Heiligs School Road\, Oley\, PA\, 19547\, United States
CATEGORIES:Women's Bible Study
ORGANIZER;CN="Alice Coult":MAILTO:acoult@ptd.net
GEO:40.420843;-75.707817
X-APPLE-STRUCTURED-LOCATION;VALUE=URI;X-ADDRESS=Dave & Alice Coult 38 Heiligs School Road Oley PA 19547 United States;X-APPLE-RADIUS=500;X-TITLE=38 Heiligs School Road:geo:-75.707817,40.420843
END:VEVENT
BEGIN:VEVENT
DTSTART;TZID=America/New_York:20181121T190000
DTEND;TZID=America/New_York:20181121T203000
DTSTAMP:20260422T160325
CREATED:20181002T150929Z
LAST-MODIFIED:20190603T013405Z
UID:10001100-1542826800-1542832200@ccoley.com
SUMMARY:Adult Bible Study
DESCRIPTION:We will be studying through the Book of Exodus
URL:https://ccoley.com/event/adult-bible-study-3/2018-11-21/
LOCATION:Dave & Alice Coult\, 38 Heiligs School Road\, Oley\, PA\, 19547\, United States
CATEGORIES:Evening Bible Study
ORGANIZER;CN="Pastor Fred Bell":MAILTO:pastorfred@ccoley.com
GEO:40.420843;-75.707817
X-APPLE-STRUCTURED-LOCATION;VALUE=URI;X-ADDRESS=Dave & Alice Coult 38 Heiligs School Road Oley PA 19547 United States;X-APPLE-RADIUS=500;X-TITLE=38 Heiligs School Road:geo:-75.707817,40.420843
END:VEVENT
BEGIN:VEVENT
DTSTART;TZID=America/New_York:20181125T090000
DTEND;TZID=America/New_York:20181125T100000
DTSTAMP:20260422T160325
CREATED:20181002T151904Z
LAST-MODIFIED:20190603T013257Z
UID:10000991-1543136400-1543140000@ccoley.com
SUMMARY:Sunday Bible Study
DESCRIPTION:We are currently studying the Book of Matthew and will be starting 2 Peter.
URL:https://ccoley.com/event/sunday-bible-study-2/2018-11-25/
LOCATION:Oley Valley Elementary School\, 3247 Friedensburg Road\, Oley\, PA\, 19547\, United States
CATEGORIES:Sunday Bible Study
ORGANIZER;CN="Oskars Rieksts":MAILTO:rieksts385@yahoo.com
GEO:40.379717;-75.799139
X-APPLE-STRUCTURED-LOCATION;VALUE=URI;X-ADDRESS=Oley Valley Elementary School 3247 Friedensburg Road Oley PA 19547 United States;X-APPLE-RADIUS=500;X-TITLE=3247 Friedensburg Road:geo:-75.799139,40.379717
END:VEVENT
BEGIN:VEVENT
DTSTART;TZID=America/New_York:20181127T091500
DTEND;TZID=America/New_York:20181127T113000
DTSTAMP:20260422T160325
CREATED:20181002T151226Z
LAST-MODIFIED:20220919T005016Z
UID:10001065-1543310100-1543318200@ccoley.com
SUMMARY:Women's Bible Study
DESCRIPTION:The study will center on the Life and Ministry of John
URL:https://ccoley.com/event/womens-bible-study-5/2018-11-27/
LOCATION:Dave & Alice Coult\, 38 Heiligs School Road\, Oley\, PA\, 19547\, United States
CATEGORIES:Women's Bible Study
ORGANIZER;CN="Alice Coult":MAILTO:acoult@ptd.net
GEO:40.420843;-75.707817
X-APPLE-STRUCTURED-LOCATION;VALUE=URI;X-ADDRESS=Dave & Alice Coult 38 Heiligs School Road Oley PA 19547 United States;X-APPLE-RADIUS=500;X-TITLE=38 Heiligs School Road:geo:-75.707817,40.420843
END:VEVENT
BEGIN:VEVENT
DTSTART;TZID=America/New_York:20181128T190000
DTEND;TZID=America/New_York:20181128T203000
DTSTAMP:20260422T160325
CREATED:20181002T150929Z
LAST-MODIFIED:20190603T013405Z
UID:10001101-1543431600-1543437000@ccoley.com
SUMMARY:Adult Bible Study
DESCRIPTION:We will be studying through the Book of Exodus
URL:https://ccoley.com/event/adult-bible-study-3/2018-11-28/
LOCATION:Dave & Alice Coult\, 38 Heiligs School Road\, Oley\, PA\, 19547\, United States
CATEGORIES:Evening Bible Study
ORGANIZER;CN="Pastor Fred Bell":MAILTO:pastorfred@ccoley.com
GEO:40.420843;-75.707817
X-APPLE-STRUCTURED-LOCATION;VALUE=URI;X-ADDRESS=Dave & Alice Coult 38 Heiligs School Road Oley PA 19547 United States;X-APPLE-RADIUS=500;X-TITLE=38 Heiligs School Road:geo:-75.707817,40.420843
END:VEVENT
BEGIN:VEVENT
DTSTART;TZID=America/New_York:20181202T090000
DTEND;TZID=America/New_York:20181202T100000
DTSTAMP:20260422T160325
CREATED:20181002T151904Z
LAST-MODIFIED:20190603T013257Z
UID:10000992-1543741200-1543744800@ccoley.com
SUMMARY:Sunday Bible Study
DESCRIPTION:We are currently studying the Book of Matthew and will be starting 2 Peter.
URL:https://ccoley.com/event/sunday-bible-study-2/2018-12-02/
LOCATION:Oley Valley Elementary School\, 3247 Friedensburg Road\, Oley\, PA\, 19547\, United States
CATEGORIES:Sunday Bible Study
ORGANIZER;CN="Oskars Rieksts":MAILTO:rieksts385@yahoo.com
GEO:40.379717;-75.799139
X-APPLE-STRUCTURED-LOCATION;VALUE=URI;X-ADDRESS=Oley Valley Elementary School 3247 Friedensburg Road Oley PA 19547 United States;X-APPLE-RADIUS=500;X-TITLE=3247 Friedensburg Road:geo:-75.799139,40.379717
END:VEVENT
BEGIN:VEVENT
DTSTART;TZID=America/New_York:20181204T091500
DTEND;TZID=America/New_York:20181204T113000
DTSTAMP:20260422T160325
CREATED:20181002T151226Z
LAST-MODIFIED:20220919T005016Z
UID:10001066-1543914900-1543923000@ccoley.com
SUMMARY:Women's Bible Study
DESCRIPTION:The study will center on the Life and Ministry of John
URL:https://ccoley.com/event/womens-bible-study-5/2018-12-04/
LOCATION:Dave & Alice Coult\, 38 Heiligs School Road\, Oley\, PA\, 19547\, United States
CATEGORIES:Women's Bible Study
ORGANIZER;CN="Alice Coult":MAILTO:acoult@ptd.net
GEO:40.420843;-75.707817
X-APPLE-STRUCTURED-LOCATION;VALUE=URI;X-ADDRESS=Dave & Alice Coult 38 Heiligs School Road Oley PA 19547 United States;X-APPLE-RADIUS=500;X-TITLE=38 Heiligs School Road:geo:-75.707817,40.420843
END:VEVENT
END:VCALENDAR