BEGIN:VCALENDAR
VERSION:2.0
PRODID:-//Calvary Chapel of the Oley Valley - ECPv6.15.20//NONSGML v1.0//EN
CALSCALE:GREGORIAN
METHOD:PUBLISH
X-WR-CALNAME:Calvary Chapel of the Oley Valley
X-ORIGINAL-URL:https://ccoley.com
X-WR-CALDESC:Events for Calvary Chapel of the Oley Valley
REFRESH-INTERVAL;VALUE=DURATION:PT1H
X-Robots-Tag:noindex
X-PUBLISHED-TTL:PT1H
BEGIN:VTIMEZONE
TZID:America/New_York
BEGIN:DAYLIGHT
TZOFFSETFROM:-0500
TZOFFSETTO:-0400
TZNAME:EDT
DTSTART:20250309T070000
END:DAYLIGHT
BEGIN:STANDARD
TZOFFSETFROM:-0400
TZOFFSETTO:-0500
TZNAME:EST
DTSTART:20251102T060000
END:STANDARD
BEGIN:DAYLIGHT
TZOFFSETFROM:-0500
TZOFFSETTO:-0400
TZNAME:EDT
DTSTART:20260308T070000
END:DAYLIGHT
BEGIN:STANDARD
TZOFFSETFROM:-0400
TZOFFSETTO:-0500
TZNAME:EST
DTSTART:20261101T060000
END:STANDARD
BEGIN:DAYLIGHT
TZOFFSETFROM:-0500
TZOFFSETTO:-0400
TZNAME:EDT
DTSTART:20270314T070000
END:DAYLIGHT
BEGIN:STANDARD
TZOFFSETFROM:-0400
TZOFFSETTO:-0500
TZNAME:EST
DTSTART:20271107T060000
END:STANDARD
END:VTIMEZONE
BEGIN:VEVENT
DTSTART;TZID=America/New_York:20260512T091500
DTEND;TZID=America/New_York:20260512T110000
DTSTAMP:20260422T190810
CREATED:20250928T170516Z
LAST-MODIFIED:20250928T170528Z
UID:10005267-1778577300-1778583600@ccoley.com
SUMMARY:Women's Bible Study
DESCRIPTION:The study will be on the book of Matthew.
URL:https://ccoley.com/event/womens-bible-study-9/2026-05-12/
LOCATION:Dave & Alice Coult\, 38 Heiligs School Road\, Oley\, PA\, 19547\, United States
CATEGORIES:Women's Bible Study
ORGANIZER;CN="Alice Coult":MAILTO:acoult@ptd.net
GEO:40.420843;-75.707817
X-APPLE-STRUCTURED-LOCATION;VALUE=URI;X-ADDRESS=Dave & Alice Coult 38 Heiligs School Road Oley PA 19547 United States;X-APPLE-RADIUS=500;X-TITLE=38 Heiligs School Road:geo:-75.707817,40.420843
END:VEVENT
END:VCALENDAR