BEGIN:VCALENDAR
VERSION:2.0
PRODID:-//Calvary Chapel of the Oley Valley - ECPv6.15.20//NONSGML v1.0//EN
CALSCALE:GREGORIAN
METHOD:PUBLISH
X-WR-CALNAME:Calvary Chapel of the Oley Valley
X-ORIGINAL-URL:https://ccoley.com
X-WR-CALDESC:Events for Calvary Chapel of the Oley Valley
REFRESH-INTERVAL;VALUE=DURATION:PT1H
X-Robots-Tag:noindex
X-PUBLISHED-TTL:PT1H
BEGIN:VTIMEZONE
TZID:America/New_York
BEGIN:DAYLIGHT
TZOFFSETFROM:-0500
TZOFFSETTO:-0400
TZNAME:EDT
DTSTART:20220313T070000
END:DAYLIGHT
BEGIN:STANDARD
TZOFFSETFROM:-0400
TZOFFSETTO:-0500
TZNAME:EST
DTSTART:20221106T060000
END:STANDARD
BEGIN:DAYLIGHT
TZOFFSETFROM:-0500
TZOFFSETTO:-0400
TZNAME:EDT
DTSTART:20230312T070000
END:DAYLIGHT
BEGIN:STANDARD
TZOFFSETFROM:-0400
TZOFFSETTO:-0500
TZNAME:EST
DTSTART:20231105T060000
END:STANDARD
BEGIN:DAYLIGHT
TZOFFSETFROM:-0500
TZOFFSETTO:-0400
TZNAME:EDT
DTSTART:20240310T070000
END:DAYLIGHT
BEGIN:STANDARD
TZOFFSETFROM:-0400
TZOFFSETTO:-0500
TZNAME:EST
DTSTART:20241103T060000
END:STANDARD
END:VTIMEZONE
BEGIN:VEVENT
DTSTART;TZID=America/New_York:20231205T091500
DTEND;TZID=America/New_York:20231205T110000
DTSTAMP:20260425T101502
CREATED:20230924T180421Z
LAST-MODIFIED:20240512T210144Z
UID:10003963-1701767700-1701774000@ccoley.com
SUMMARY:Women's Bible Study
DESCRIPTION:We will be studying Paul’s pastoral letters to Timothy.
URL:https://ccoley.com/event/womens-bible-study-7/2023-12-05/
LOCATION:Dave & Alice Coult\, 38 Heiligs School Road\, Oley\, PA\, 19547\, United States
CATEGORIES:Women's Bible Study
ORGANIZER;CN="Alice Coult":MAILTO:acoult@ptd.net
GEO:40.420843;-75.707817
X-APPLE-STRUCTURED-LOCATION;VALUE=URI;X-ADDRESS=Dave & Alice Coult 38 Heiligs School Road Oley PA 19547 United States;X-APPLE-RADIUS=500;X-TITLE=38 Heiligs School Road:geo:-75.707817,40.420843
END:VEVENT
BEGIN:VEVENT
DTSTART;TZID=America/New_York:20231203T113000
DTEND;TZID=America/New_York:20231203T130000
DTSTAMP:20260425T101502
CREATED:20181002T152826Z
LAST-MODIFIED:20260329T184055Z
UID:10000333-1701603000-1701608400@ccoley.com
SUMMARY:Sunday Fellowship
DESCRIPTION:Enjoy fellowship after the service.
URL:https://ccoley.com/event/sunday-fellowship-2020-06-07/2023-12-03/
LOCATION:Oley Fairgrounds\, 26 Jefferson St\, Oley\, PA\, 19547\, United States
CATEGORIES:Family
ORGANIZER;CN="Pastor Fred Bell":MAILTO:pastorfred@ccoley.com
GEO:40.3866624;-75.7846798
X-APPLE-STRUCTURED-LOCATION;VALUE=URI;X-ADDRESS=Oley Fairgrounds 26 Jefferson St Oley PA 19547 United States;X-APPLE-RADIUS=500;X-TITLE=26 Jefferson St:geo:-75.7846798,40.3866624
END:VEVENT
BEGIN:VEVENT
DTSTART;TZID=America/New_York:20231203T100000
DTEND;TZID=America/New_York:20231203T113000
DTSTAMP:20260425T101502
CREATED:20230910T170543Z
LAST-MODIFIED:20241110T183844Z
UID:10003673-1701597600-1701603000@ccoley.com
SUMMARY:Worship Service
DESCRIPTION:We are currently studying Genesis. \nFor those that cannot attend in person\, please join our live stream on Rumble.
URL:https://ccoley.com/event/worship-service-8/2023-12-03/
LOCATION:Oley Fairgrounds\, 26 Jefferson St\, Oley\, PA\, 19547\, United States
CATEGORIES:Worship Service
ORGANIZER;CN="Pastor Fred Bell":MAILTO:pastorfred@ccoley.com
GEO:40.3866624;-75.7846798
X-APPLE-STRUCTURED-LOCATION;VALUE=URI;X-ADDRESS=Oley Fairgrounds 26 Jefferson St Oley PA 19547 United States;X-APPLE-RADIUS=500;X-TITLE=26 Jefferson St:geo:-75.7846798,40.3866624
END:VEVENT
BEGIN:VEVENT
DTSTART;TZID=America/New_York:20231203T090000
DTEND;TZID=America/New_York:20231203T100000
DTSTAMP:20260425T101502
CREATED:20230910T165921Z
LAST-MODIFIED:20241110T182840Z
UID:10003394-1701594000-1701597600@ccoley.com
SUMMARY:Sunday Bible Study
DESCRIPTION:Oskars Rieksts will be studying through the book of John.
URL:https://ccoley.com/event/sunday-bible-study-9/2023-12-03/
LOCATION:Oley Fairgrounds\, 26 Jefferson St\, Oley\, PA\, 19547\, United States
CATEGORIES:Sunday Bible Study
ORGANIZER;CN="Oskars Rieksts":MAILTO:rieksts385@yahoo.com
GEO:40.3866624;-75.7846798
X-APPLE-STRUCTURED-LOCATION;VALUE=URI;X-ADDRESS=Oley Fairgrounds 26 Jefferson St Oley PA 19547 United States;X-APPLE-RADIUS=500;X-TITLE=26 Jefferson St:geo:-75.7846798,40.3866624
END:VEVENT
BEGIN:VEVENT
DTSTART;TZID=America/New_York:20231129T190000
DTEND;TZID=America/New_York:20231129T203000
DTSTAMP:20260425T101502
CREATED:20230924T180808Z
LAST-MODIFIED:20231203T181518Z
UID:10004028-1701284400-1701289800@ccoley.com
SUMMARY:Adult Bible Study
DESCRIPTION:We will be studying 1 Thessalonians.
URL:https://ccoley.com/event/adult-bible-study-6/2023-11-29/
LOCATION:Dave & Alice Coult\, 38 Heiligs School Road\, Oley\, PA\, 19547\, United States
CATEGORIES:Evening Bible Study
ORGANIZER;CN="Pastor Fred Bell":MAILTO:pastorfred@ccoley.com
GEO:40.420843;-75.707817
X-APPLE-STRUCTURED-LOCATION;VALUE=URI;X-ADDRESS=Dave & Alice Coult 38 Heiligs School Road Oley PA 19547 United States;X-APPLE-RADIUS=500;X-TITLE=38 Heiligs School Road:geo:-75.707817,40.420843
END:VEVENT
BEGIN:VEVENT
DTSTART;TZID=America/New_York:20231128T091500
DTEND;TZID=America/New_York:20231128T110000
DTSTAMP:20260425T101502
CREATED:20230924T180421Z
LAST-MODIFIED:20240512T210144Z
UID:10003962-1701162900-1701169200@ccoley.com
SUMMARY:Women's Bible Study
DESCRIPTION:We will be studying Paul’s pastoral letters to Timothy.
URL:https://ccoley.com/event/womens-bible-study-7/2023-11-28/
LOCATION:Dave & Alice Coult\, 38 Heiligs School Road\, Oley\, PA\, 19547\, United States
CATEGORIES:Women's Bible Study
ORGANIZER;CN="Alice Coult":MAILTO:acoult@ptd.net
GEO:40.420843;-75.707817
X-APPLE-STRUCTURED-LOCATION;VALUE=URI;X-ADDRESS=Dave & Alice Coult 38 Heiligs School Road Oley PA 19547 United States;X-APPLE-RADIUS=500;X-TITLE=38 Heiligs School Road:geo:-75.707817,40.420843
END:VEVENT
BEGIN:VEVENT
DTSTART;TZID=America/New_York:20231126T113000
DTEND;TZID=America/New_York:20231126T130000
DTSTAMP:20260425T101502
CREATED:20231112T190753Z
LAST-MODIFIED:20231112T190753Z
UID:10004089-1700998200-1701003600@ccoley.com
SUMMARY:Sunday Fellowship
DESCRIPTION:Enjoy fellowship after the service.
URL:https://ccoley.com/event/sunday-fellowship-8/
LOCATION:Camp Manatawny\, 33 Camp Rd\, Douglasville\, PA\, 19518\, United States
CATEGORIES:Family
ORGANIZER;CN="Pastor Fred Bell":MAILTO:pastorfred@ccoley.com
GEO:40.3236028;-75.7358234
X-APPLE-STRUCTURED-LOCATION;VALUE=URI;X-ADDRESS=Camp Manatawny 33 Camp Rd Douglasville PA 19518 United States;X-APPLE-RADIUS=500;X-TITLE=33 Camp Rd:geo:-75.7358234,40.3236028
END:VEVENT
BEGIN:VEVENT
DTSTART;TZID=America/New_York:20231126T100000
DTEND;TZID=America/New_York:20231126T113000
DTSTAMP:20260425T101502
CREATED:20231112T190406Z
LAST-MODIFIED:20231112T190406Z
UID:10004075-1700992800-1700998200@ccoley.com
SUMMARY:Worship Service
DESCRIPTION:We are currently studying Genesis. \nFor those that cannot attend in person\, please join our live stream on Rumble.
URL:https://ccoley.com/event/worship-service-11/
LOCATION:Camp Manatawny\, 33 Camp Rd\, Douglasville\, PA\, 19518\, United States
CATEGORIES:Worship Service
ORGANIZER;CN="Pastor Fred Bell":MAILTO:pastorfred@ccoley.com
GEO:40.3236028;-75.7358234
X-APPLE-STRUCTURED-LOCATION;VALUE=URI;X-ADDRESS=Camp Manatawny 33 Camp Rd Douglasville PA 19518 United States;X-APPLE-RADIUS=500;X-TITLE=33 Camp Rd:geo:-75.7358234,40.3236028
END:VEVENT
BEGIN:VEVENT
DTSTART;TZID=America/New_York:20231126T090000
DTEND;TZID=America/New_York:20231126T100000
DTSTAMP:20260425T101502
CREATED:20231112T190614Z
LAST-MODIFIED:20231112T190614Z
UID:10004082-1700989200-1700992800@ccoley.com
SUMMARY:Sunday Bible Study
DESCRIPTION:Oskars Rieksts will be studying through the book of John.
URL:https://ccoley.com/event/sunday-bible-study-12/
LOCATION:Camp Manatawny\, 33 Camp Rd\, Douglasville\, PA\, 19518\, United States
CATEGORIES:Sunday Bible Study
ORGANIZER;CN="Oskars Rieksts":MAILTO:rieksts385@yahoo.com
GEO:40.3236028;-75.7358234
X-APPLE-STRUCTURED-LOCATION;VALUE=URI;X-ADDRESS=Camp Manatawny 33 Camp Rd Douglasville PA 19518 United States;X-APPLE-RADIUS=500;X-TITLE=33 Camp Rd:geo:-75.7358234,40.3236028
END:VEVENT
BEGIN:VEVENT
DTSTART;TZID=America/New_York:20231121T091500
DTEND;TZID=America/New_York:20231121T110000
DTSTAMP:20260425T101502
CREATED:20230924T180421Z
LAST-MODIFIED:20240512T210144Z
UID:10003961-1700558100-1700564400@ccoley.com
SUMMARY:Women's Bible Study
DESCRIPTION:We will be studying Paul’s pastoral letters to Timothy.
URL:https://ccoley.com/event/womens-bible-study-7/2023-11-21/
LOCATION:Dave & Alice Coult\, 38 Heiligs School Road\, Oley\, PA\, 19547\, United States
CATEGORIES:Women's Bible Study
ORGANIZER;CN="Alice Coult":MAILTO:acoult@ptd.net
GEO:40.420843;-75.707817
X-APPLE-STRUCTURED-LOCATION;VALUE=URI;X-ADDRESS=Dave & Alice Coult 38 Heiligs School Road Oley PA 19547 United States;X-APPLE-RADIUS=500;X-TITLE=38 Heiligs School Road:geo:-75.707817,40.420843
END:VEVENT
BEGIN:VEVENT
DTSTART;TZID=America/New_York:20231119T113000
DTEND;TZID=America/New_York:20231119T130000
DTSTAMP:20260425T101502
CREATED:20231112T190736Z
LAST-MODIFIED:20231112T190736Z
UID:10004088-1700393400-1700398800@ccoley.com
SUMMARY:Sunday Fellowship
DESCRIPTION:Enjoy fellowship after the service.
URL:https://ccoley.com/event/sunday-fellowship-7/
LOCATION:Camp Manatawny\, 33 Camp Rd\, Douglasville\, PA\, 19518\, United States
CATEGORIES:Family
ORGANIZER;CN="Pastor Fred Bell":MAILTO:pastorfred@ccoley.com
GEO:40.3236028;-75.7358234
X-APPLE-STRUCTURED-LOCATION;VALUE=URI;X-ADDRESS=Camp Manatawny 33 Camp Rd Douglasville PA 19518 United States;X-APPLE-RADIUS=500;X-TITLE=33 Camp Rd:geo:-75.7358234,40.3236028
END:VEVENT
BEGIN:VEVENT
DTSTART;TZID=America/New_York:20231119T100000
DTEND;TZID=America/New_York:20231119T113000
DTSTAMP:20260425T101502
CREATED:20231112T190340Z
LAST-MODIFIED:20231112T190340Z
UID:10004074-1700388000-1700393400@ccoley.com
SUMMARY:Worship Service
DESCRIPTION:We are currently studying Genesis. \nFor those that cannot attend in person\, please join our live stream on Rumble.
URL:https://ccoley.com/event/worship-service-10/
LOCATION:Camp Manatawny\, 33 Camp Rd\, Douglasville\, PA\, 19518\, United States
CATEGORIES:Worship Service
ORGANIZER;CN="Pastor Fred Bell":MAILTO:pastorfred@ccoley.com
GEO:40.3236028;-75.7358234
X-APPLE-STRUCTURED-LOCATION;VALUE=URI;X-ADDRESS=Camp Manatawny 33 Camp Rd Douglasville PA 19518 United States;X-APPLE-RADIUS=500;X-TITLE=33 Camp Rd:geo:-75.7358234,40.3236028
END:VEVENT
BEGIN:VEVENT
DTSTART;TZID=America/New_York:20231119T090000
DTEND;TZID=America/New_York:20231119T100000
DTSTAMP:20260425T101502
CREATED:20231112T190554Z
LAST-MODIFIED:20231112T190554Z
UID:10004081-1700384400-1700388000@ccoley.com
SUMMARY:Sunday Bible Study
DESCRIPTION:Oskars Rieksts will be studying through the book of John.
URL:https://ccoley.com/event/sunday-bible-study-11/
LOCATION:Camp Manatawny\, 33 Camp Rd\, Douglasville\, PA\, 19518\, United States
CATEGORIES:Sunday Bible Study
ORGANIZER;CN="Oskars Rieksts":MAILTO:rieksts385@yahoo.com
GEO:40.3236028;-75.7358234
X-APPLE-STRUCTURED-LOCATION;VALUE=URI;X-ADDRESS=Camp Manatawny 33 Camp Rd Douglasville PA 19518 United States;X-APPLE-RADIUS=500;X-TITLE=33 Camp Rd:geo:-75.7358234,40.3236028
END:VEVENT
BEGIN:VEVENT
DTSTART;TZID=America/New_York:20231115T190000
DTEND;TZID=America/New_York:20231115T203000
DTSTAMP:20260425T101502
CREATED:20230924T180808Z
LAST-MODIFIED:20231203T181518Z
UID:10004026-1700074800-1700080200@ccoley.com
SUMMARY:Adult Bible Study
DESCRIPTION:We will be studying 1 Thessalonians.
URL:https://ccoley.com/event/adult-bible-study-6/2023-11-15/
LOCATION:Dave & Alice Coult\, 38 Heiligs School Road\, Oley\, PA\, 19547\, United States
CATEGORIES:Evening Bible Study
ORGANIZER;CN="Pastor Fred Bell":MAILTO:pastorfred@ccoley.com
GEO:40.420843;-75.707817
X-APPLE-STRUCTURED-LOCATION;VALUE=URI;X-ADDRESS=Dave & Alice Coult 38 Heiligs School Road Oley PA 19547 United States;X-APPLE-RADIUS=500;X-TITLE=38 Heiligs School Road:geo:-75.707817,40.420843
END:VEVENT
BEGIN:VEVENT
DTSTART;TZID=America/New_York:20231114T190000
DTEND;TZID=America/New_York:20231114T200000
DTSTAMP:20260425T101502
CREATED:20150318T144843Z
LAST-MODIFIED:20181126T152653Z
UID:10001239-1699988400-1699992000@ccoley.com
SUMMARY:Elder's Meeting
DESCRIPTION:
URL:https://ccoley.com/event/elders-meeting/2023-11-14/
LOCATION:Pastor Fred’s Office\, 603 Main Street\, Oley\, PA\, 19547\, United States
CATEGORIES:Elders
ORGANIZER;CN="Pastor Fred Bell":MAILTO:pastorfred@ccoley.com
GEO:40.385459;-75.785408
X-APPLE-STRUCTURED-LOCATION;VALUE=URI;X-ADDRESS=Pastor Fred’s Office 603 Main Street Oley PA 19547 United States;X-APPLE-RADIUS=500;X-TITLE=603 Main Street:geo:-75.785408,40.385459
END:VEVENT
BEGIN:VEVENT
DTSTART;TZID=America/New_York:20231114T091500
DTEND;TZID=America/New_York:20231114T110000
DTSTAMP:20260425T101502
CREATED:20230924T180421Z
LAST-MODIFIED:20240512T210144Z
UID:10003960-1699953300-1699959600@ccoley.com
SUMMARY:Women's Bible Study
DESCRIPTION:We will be studying Paul’s pastoral letters to Timothy.
URL:https://ccoley.com/event/womens-bible-study-7/2023-11-14/
LOCATION:Dave & Alice Coult\, 38 Heiligs School Road\, Oley\, PA\, 19547\, United States
CATEGORIES:Women's Bible Study
ORGANIZER;CN="Alice Coult":MAILTO:acoult@ptd.net
GEO:40.420843;-75.707817
X-APPLE-STRUCTURED-LOCATION;VALUE=URI;X-ADDRESS=Dave & Alice Coult 38 Heiligs School Road Oley PA 19547 United States;X-APPLE-RADIUS=500;X-TITLE=38 Heiligs School Road:geo:-75.707817,40.420843
END:VEVENT
BEGIN:VEVENT
DTSTART;TZID=America/New_York:20231112T113000
DTEND;TZID=America/New_York:20231112T130000
DTSTAMP:20260425T101502
CREATED:20181002T152826Z
LAST-MODIFIED:20260329T184055Z
UID:10000330-1699788600-1699794000@ccoley.com
SUMMARY:Sunday Fellowship
DESCRIPTION:Enjoy fellowship after the service.
URL:https://ccoley.com/event/sunday-fellowship-2020-06-07/2023-11-12/
LOCATION:Oley Fairgrounds\, 26 Jefferson St\, Oley\, PA\, 19547\, United States
CATEGORIES:Family
ORGANIZER;CN="Pastor Fred Bell":MAILTO:pastorfred@ccoley.com
GEO:40.3866624;-75.7846798
X-APPLE-STRUCTURED-LOCATION;VALUE=URI;X-ADDRESS=Oley Fairgrounds 26 Jefferson St Oley PA 19547 United States;X-APPLE-RADIUS=500;X-TITLE=26 Jefferson St:geo:-75.7846798,40.3866624
END:VEVENT
BEGIN:VEVENT
DTSTART;TZID=America/New_York:20231112T100000
DTEND;TZID=America/New_York:20231112T113000
DTSTAMP:20260425T101502
CREATED:20230910T170543Z
LAST-MODIFIED:20241110T183844Z
UID:10003670-1699783200-1699788600@ccoley.com
SUMMARY:Worship Service
DESCRIPTION:We are currently studying Genesis. \nFor those that cannot attend in person\, please join our live stream on Rumble.
URL:https://ccoley.com/event/worship-service-8/2023-11-12/
LOCATION:Oley Fairgrounds\, 26 Jefferson St\, Oley\, PA\, 19547\, United States
CATEGORIES:Worship Service
ORGANIZER;CN="Pastor Fred Bell":MAILTO:pastorfred@ccoley.com
GEO:40.3866624;-75.7846798
X-APPLE-STRUCTURED-LOCATION;VALUE=URI;X-ADDRESS=Oley Fairgrounds 26 Jefferson St Oley PA 19547 United States;X-APPLE-RADIUS=500;X-TITLE=26 Jefferson St:geo:-75.7846798,40.3866624
END:VEVENT
BEGIN:VEVENT
DTSTART;TZID=America/New_York:20231112T090000
DTEND;TZID=America/New_York:20231112T100000
DTSTAMP:20260425T101502
CREATED:20230910T165921Z
LAST-MODIFIED:20241110T182840Z
UID:10003391-1699779600-1699783200@ccoley.com
SUMMARY:Sunday Bible Study
DESCRIPTION:Oskars Rieksts will be studying through the book of John.
URL:https://ccoley.com/event/sunday-bible-study-9/2023-11-12/
LOCATION:Oley Fairgrounds\, 26 Jefferson St\, Oley\, PA\, 19547\, United States
CATEGORIES:Sunday Bible Study
ORGANIZER;CN="Oskars Rieksts":MAILTO:rieksts385@yahoo.com
GEO:40.3866624;-75.7846798
X-APPLE-STRUCTURED-LOCATION;VALUE=URI;X-ADDRESS=Oley Fairgrounds 26 Jefferson St Oley PA 19547 United States;X-APPLE-RADIUS=500;X-TITLE=26 Jefferson St:geo:-75.7846798,40.3866624
END:VEVENT
BEGIN:VEVENT
DTSTART;TZID=America/New_York:20231111T080000
DTEND;TZID=America/New_York:20231111T090000
DTSTAMP:20260425T101502
CREATED:20150315T190521Z
LAST-MODIFIED:20231203T181823Z
UID:10001646-1699689600-1699693200@ccoley.com
SUMMARY:Men's Fellowship Breakfast
DESCRIPTION:
URL:https://ccoley.com/event/mens-fellowship-breakfast/2023-11-11/
LOCATION:Andy Giangiacomo\, 129 Oak Lane\, Fleetwood\, PA\, 19522\, United States
CATEGORIES:Men's Fellowship
ORGANIZER;CN="Andy Giangiacomo":MAILTO:sherandgia@msn.com
GEO:40.429365;-75.813973
X-APPLE-STRUCTURED-LOCATION;VALUE=URI;X-ADDRESS=Andy Giangiacomo 129 Oak Lane Fleetwood PA 19522 United States;X-APPLE-RADIUS=500;X-TITLE=129 Oak Lane:geo:-75.813973,40.429365
END:VEVENT
BEGIN:VEVENT
DTSTART;TZID=America/New_York:20231108T190000
DTEND;TZID=America/New_York:20231108T203000
DTSTAMP:20260425T101502
CREATED:20230924T180808Z
LAST-MODIFIED:20231203T181518Z
UID:10004025-1699470000-1699475400@ccoley.com
SUMMARY:Adult Bible Study
DESCRIPTION:We will be studying 1 Thessalonians.
URL:https://ccoley.com/event/adult-bible-study-6/2023-11-08/
LOCATION:Dave & Alice Coult\, 38 Heiligs School Road\, Oley\, PA\, 19547\, United States
CATEGORIES:Evening Bible Study
ORGANIZER;CN="Pastor Fred Bell":MAILTO:pastorfred@ccoley.com
GEO:40.420843;-75.707817
X-APPLE-STRUCTURED-LOCATION;VALUE=URI;X-ADDRESS=Dave & Alice Coult 38 Heiligs School Road Oley PA 19547 United States;X-APPLE-RADIUS=500;X-TITLE=38 Heiligs School Road:geo:-75.707817,40.420843
END:VEVENT
BEGIN:VEVENT
DTSTART;TZID=America/New_York:20231107T091500
DTEND;TZID=America/New_York:20231107T110000
DTSTAMP:20260425T101502
CREATED:20230924T180421Z
LAST-MODIFIED:20240512T210144Z
UID:10003959-1699348500-1699354800@ccoley.com
SUMMARY:Women's Bible Study
DESCRIPTION:We will be studying Paul’s pastoral letters to Timothy.
URL:https://ccoley.com/event/womens-bible-study-7/2023-11-07/
LOCATION:Dave & Alice Coult\, 38 Heiligs School Road\, Oley\, PA\, 19547\, United States
CATEGORIES:Women's Bible Study
ORGANIZER;CN="Alice Coult":MAILTO:acoult@ptd.net
GEO:40.420843;-75.707817
X-APPLE-STRUCTURED-LOCATION;VALUE=URI;X-ADDRESS=Dave & Alice Coult 38 Heiligs School Road Oley PA 19547 United States;X-APPLE-RADIUS=500;X-TITLE=38 Heiligs School Road:geo:-75.707817,40.420843
END:VEVENT
BEGIN:VEVENT
DTSTART;TZID=America/New_York:20231105T113000
DTEND;TZID=America/New_York:20231105T130000
DTSTAMP:20260425T101502
CREATED:20181002T152826Z
LAST-MODIFIED:20260329T184055Z
UID:10000329-1699183800-1699189200@ccoley.com
SUMMARY:Sunday Fellowship
DESCRIPTION:Enjoy fellowship after the service.
URL:https://ccoley.com/event/sunday-fellowship-2020-06-07/2023-11-05/
LOCATION:Oley Fairgrounds\, 26 Jefferson St\, Oley\, PA\, 19547\, United States
CATEGORIES:Family
ORGANIZER;CN="Pastor Fred Bell":MAILTO:pastorfred@ccoley.com
GEO:40.3866624;-75.7846798
X-APPLE-STRUCTURED-LOCATION;VALUE=URI;X-ADDRESS=Oley Fairgrounds 26 Jefferson St Oley PA 19547 United States;X-APPLE-RADIUS=500;X-TITLE=26 Jefferson St:geo:-75.7846798,40.3866624
END:VEVENT
BEGIN:VEVENT
DTSTART;TZID=America/New_York:20231105T100000
DTEND;TZID=America/New_York:20231105T113000
DTSTAMP:20260425T101502
CREATED:20230910T170543Z
LAST-MODIFIED:20241110T183844Z
UID:10003669-1699178400-1699183800@ccoley.com
SUMMARY:Worship Service
DESCRIPTION:We are currently studying Genesis. \nFor those that cannot attend in person\, please join our live stream on Rumble.
URL:https://ccoley.com/event/worship-service-8/2023-11-05/
LOCATION:Oley Fairgrounds\, 26 Jefferson St\, Oley\, PA\, 19547\, United States
CATEGORIES:Worship Service
ORGANIZER;CN="Pastor Fred Bell":MAILTO:pastorfred@ccoley.com
GEO:40.3866624;-75.7846798
X-APPLE-STRUCTURED-LOCATION;VALUE=URI;X-ADDRESS=Oley Fairgrounds 26 Jefferson St Oley PA 19547 United States;X-APPLE-RADIUS=500;X-TITLE=26 Jefferson St:geo:-75.7846798,40.3866624
END:VEVENT
BEGIN:VEVENT
DTSTART;TZID=America/New_York:20231105T090000
DTEND;TZID=America/New_York:20231105T100000
DTSTAMP:20260425T101502
CREATED:20230910T165921Z
LAST-MODIFIED:20241110T182840Z
UID:10003390-1699174800-1699178400@ccoley.com
SUMMARY:Sunday Bible Study
DESCRIPTION:Oskars Rieksts will be studying through the book of John.
URL:https://ccoley.com/event/sunday-bible-study-9/2023-11-05/
LOCATION:Oley Fairgrounds\, 26 Jefferson St\, Oley\, PA\, 19547\, United States
CATEGORIES:Sunday Bible Study
ORGANIZER;CN="Oskars Rieksts":MAILTO:rieksts385@yahoo.com
GEO:40.3866624;-75.7846798
X-APPLE-STRUCTURED-LOCATION;VALUE=URI;X-ADDRESS=Oley Fairgrounds 26 Jefferson St Oley PA 19547 United States;X-APPLE-RADIUS=500;X-TITLE=26 Jefferson St:geo:-75.7846798,40.3866624
END:VEVENT
BEGIN:VEVENT
DTSTART;TZID=America/New_York:20231101T190000
DTEND;TZID=America/New_York:20231101T203000
DTSTAMP:20260425T101502
CREATED:20230924T180808Z
LAST-MODIFIED:20231203T181518Z
UID:10004024-1698865200-1698870600@ccoley.com
SUMMARY:Adult Bible Study
DESCRIPTION:We will be studying 1 Thessalonians.
URL:https://ccoley.com/event/adult-bible-study-6/2023-11-01/
LOCATION:Dave & Alice Coult\, 38 Heiligs School Road\, Oley\, PA\, 19547\, United States
CATEGORIES:Evening Bible Study
ORGANIZER;CN="Pastor Fred Bell":MAILTO:pastorfred@ccoley.com
GEO:40.420843;-75.707817
X-APPLE-STRUCTURED-LOCATION;VALUE=URI;X-ADDRESS=Dave & Alice Coult 38 Heiligs School Road Oley PA 19547 United States;X-APPLE-RADIUS=500;X-TITLE=38 Heiligs School Road:geo:-75.707817,40.420843
END:VEVENT
BEGIN:VEVENT
DTSTART;TZID=America/New_York:20231031T091500
DTEND;TZID=America/New_York:20231031T110000
DTSTAMP:20260425T101502
CREATED:20230924T180421Z
LAST-MODIFIED:20240512T210144Z
UID:10003958-1698743700-1698750000@ccoley.com
SUMMARY:Women's Bible Study
DESCRIPTION:We will be studying Paul’s pastoral letters to Timothy.
URL:https://ccoley.com/event/womens-bible-study-7/2023-10-31/
LOCATION:Dave & Alice Coult\, 38 Heiligs School Road\, Oley\, PA\, 19547\, United States
CATEGORIES:Women's Bible Study
ORGANIZER;CN="Alice Coult":MAILTO:acoult@ptd.net
GEO:40.420843;-75.707817
X-APPLE-STRUCTURED-LOCATION;VALUE=URI;X-ADDRESS=Dave & Alice Coult 38 Heiligs School Road Oley PA 19547 United States;X-APPLE-RADIUS=500;X-TITLE=38 Heiligs School Road:geo:-75.707817,40.420843
END:VEVENT
BEGIN:VEVENT
DTSTART;TZID=America/New_York:20231029T113000
DTEND;TZID=America/New_York:20231029T130000
DTSTAMP:20260425T101502
CREATED:20181002T152826Z
LAST-MODIFIED:20260329T184055Z
UID:10000328-1698579000-1698584400@ccoley.com
SUMMARY:Sunday Fellowship
DESCRIPTION:Enjoy fellowship after the service.
URL:https://ccoley.com/event/sunday-fellowship-2020-06-07/2023-10-29/
LOCATION:Oley Fairgrounds\, 26 Jefferson St\, Oley\, PA\, 19547\, United States
CATEGORIES:Family
ORGANIZER;CN="Pastor Fred Bell":MAILTO:pastorfred@ccoley.com
GEO:40.3866624;-75.7846798
X-APPLE-STRUCTURED-LOCATION;VALUE=URI;X-ADDRESS=Oley Fairgrounds 26 Jefferson St Oley PA 19547 United States;X-APPLE-RADIUS=500;X-TITLE=26 Jefferson St:geo:-75.7846798,40.3866624
END:VEVENT
BEGIN:VEVENT
DTSTART;TZID=America/New_York:20231029T100000
DTEND;TZID=America/New_York:20231029T113000
DTSTAMP:20260425T101502
CREATED:20230910T170543Z
LAST-MODIFIED:20241110T183844Z
UID:10003668-1698573600-1698579000@ccoley.com
SUMMARY:Worship Service
DESCRIPTION:We are currently studying Genesis. \nFor those that cannot attend in person\, please join our live stream on Rumble.
URL:https://ccoley.com/event/worship-service-8/2023-10-29/
LOCATION:Oley Fairgrounds\, 26 Jefferson St\, Oley\, PA\, 19547\, United States
CATEGORIES:Worship Service
ORGANIZER;CN="Pastor Fred Bell":MAILTO:pastorfred@ccoley.com
GEO:40.3866624;-75.7846798
X-APPLE-STRUCTURED-LOCATION;VALUE=URI;X-ADDRESS=Oley Fairgrounds 26 Jefferson St Oley PA 19547 United States;X-APPLE-RADIUS=500;X-TITLE=26 Jefferson St:geo:-75.7846798,40.3866624
END:VEVENT
BEGIN:VEVENT
DTSTART;TZID=America/New_York:20231029T090000
DTEND;TZID=America/New_York:20231029T100000
DTSTAMP:20260425T101502
CREATED:20230910T165921Z
LAST-MODIFIED:20241110T182840Z
UID:10003389-1698570000-1698573600@ccoley.com
SUMMARY:Sunday Bible Study
DESCRIPTION:Oskars Rieksts will be studying through the book of John.
URL:https://ccoley.com/event/sunday-bible-study-9/2023-10-29/
LOCATION:Oley Fairgrounds\, 26 Jefferson St\, Oley\, PA\, 19547\, United States
CATEGORIES:Sunday Bible Study
ORGANIZER;CN="Oskars Rieksts":MAILTO:rieksts385@yahoo.com
GEO:40.3866624;-75.7846798
X-APPLE-STRUCTURED-LOCATION;VALUE=URI;X-ADDRESS=Oley Fairgrounds 26 Jefferson St Oley PA 19547 United States;X-APPLE-RADIUS=500;X-TITLE=26 Jefferson St:geo:-75.7846798,40.3866624
END:VEVENT
END:VCALENDAR