BEGIN:VCALENDAR
VERSION:2.0
PRODID:-//Calvary Chapel of the Oley Valley - ECPv6.15.20//NONSGML v1.0//EN
CALSCALE:GREGORIAN
METHOD:PUBLISH
X-WR-CALNAME:Calvary Chapel of the Oley Valley
X-ORIGINAL-URL:https://ccoley.com
X-WR-CALDESC:Events for Calvary Chapel of the Oley Valley
REFRESH-INTERVAL;VALUE=DURATION:PT1H
X-Robots-Tag:noindex
X-PUBLISHED-TTL:PT1H
BEGIN:VTIMEZONE
TZID:America/New_York
BEGIN:DAYLIGHT
TZOFFSETFROM:-0500
TZOFFSETTO:-0400
TZNAME:EDT
DTSTART:20150308T070000
END:DAYLIGHT
BEGIN:STANDARD
TZOFFSETFROM:-0400
TZOFFSETTO:-0500
TZNAME:EST
DTSTART:20151101T060000
END:STANDARD
BEGIN:DAYLIGHT
TZOFFSETFROM:-0500
TZOFFSETTO:-0400
TZNAME:EDT
DTSTART:20160313T070000
END:DAYLIGHT
BEGIN:STANDARD
TZOFFSETFROM:-0400
TZOFFSETTO:-0500
TZNAME:EST
DTSTART:20161106T060000
END:STANDARD
BEGIN:DAYLIGHT
TZOFFSETFROM:-0500
TZOFFSETTO:-0400
TZNAME:EDT
DTSTART:20170312T070000
END:DAYLIGHT
BEGIN:STANDARD
TZOFFSETFROM:-0400
TZOFFSETTO:-0500
TZNAME:EST
DTSTART:20171105T060000
END:STANDARD
END:VTIMEZONE
BEGIN:VEVENT
DTSTART;TZID=America/New_York:20160412T190000
DTEND;TZID=America/New_York:20160412T200000
DTSTAMP:20260423T014324
CREATED:20150318T144843Z
LAST-MODIFIED:20181126T152653Z
UID:10001148-1460487600-1460491200@ccoley.com
SUMMARY:Elder's Meeting
DESCRIPTION:
URL:https://ccoley.com/event/elders-meeting/2016-04-12/
LOCATION:Pastor Fred’s Office\, 603 Main Street\, Oley\, PA\, 19547\, United States
CATEGORIES:Elders
ORGANIZER;CN="Pastor Fred Bell":MAILTO:pastorfred@ccoley.com
GEO:40.385459;-75.785408
X-APPLE-STRUCTURED-LOCATION;VALUE=URI;X-ADDRESS=Pastor Fred’s Office 603 Main Street Oley PA 19547 United States;X-APPLE-RADIUS=500;X-TITLE=603 Main Street:geo:-75.785408,40.385459
END:VEVENT
BEGIN:VEVENT
DTSTART;TZID=America/New_York:20160417T100000
DTEND;TZID=America/New_York:20160417T113000
DTSTAMP:20260423T014324
CREATED:20150315T185919Z
LAST-MODIFIED:20220919T003711Z
UID:10001344-1460887200-1460892600@ccoley.com
SUMMARY:Worship Service
DESCRIPTION:We are currently studying 1 Corinthians.
URL:https://ccoley.com/event/worship-service/2016-04-17/
LOCATION:Oley Valley Elementary School\, 3247 Friedensburg Road\, Oley\, PA\, 19547\, United States
CATEGORIES:Worship Service
ORGANIZER;CN="Pastor Fred Bell":MAILTO:pastorfred@ccoley.com
GEO:40.379717;-75.799139
X-APPLE-STRUCTURED-LOCATION;VALUE=URI;X-ADDRESS=Oley Valley Elementary School 3247 Friedensburg Road Oley PA 19547 United States;X-APPLE-RADIUS=500;X-TITLE=3247 Friedensburg Road:geo:-75.799139,40.379717
END:VEVENT
BEGIN:VEVENT
DTSTART;TZID=America/New_York:20160424T100000
DTEND;TZID=America/New_York:20160424T113000
DTSTAMP:20260423T014324
CREATED:20150315T185919Z
LAST-MODIFIED:20220919T003711Z
UID:10001345-1461492000-1461497400@ccoley.com
SUMMARY:Worship Service
DESCRIPTION:We are currently studying 1 Corinthians.
URL:https://ccoley.com/event/worship-service/2016-04-24/
LOCATION:Oley Valley Elementary School\, 3247 Friedensburg Road\, Oley\, PA\, 19547\, United States
CATEGORIES:Worship Service
ORGANIZER;CN="Pastor Fred Bell":MAILTO:pastorfred@ccoley.com
GEO:40.379717;-75.799139
X-APPLE-STRUCTURED-LOCATION;VALUE=URI;X-ADDRESS=Oley Valley Elementary School 3247 Friedensburg Road Oley PA 19547 United States;X-APPLE-RADIUS=500;X-TITLE=3247 Friedensburg Road:geo:-75.799139,40.379717
END:VEVENT
BEGIN:VEVENT
DTSTART;TZID=America/New_York:20160501T100000
DTEND;TZID=America/New_York:20160501T113000
DTSTAMP:20260423T014324
CREATED:20150315T185919Z
LAST-MODIFIED:20220919T003711Z
UID:10001346-1462096800-1462102200@ccoley.com
SUMMARY:Worship Service
DESCRIPTION:We are currently studying 1 Corinthians.
URL:https://ccoley.com/event/worship-service/2016-05-01/
LOCATION:Oley Valley Elementary School\, 3247 Friedensburg Road\, Oley\, PA\, 19547\, United States
CATEGORIES:Worship Service
ORGANIZER;CN="Pastor Fred Bell":MAILTO:pastorfred@ccoley.com
GEO:40.379717;-75.799139
X-APPLE-STRUCTURED-LOCATION;VALUE=URI;X-ADDRESS=Oley Valley Elementary School 3247 Friedensburg Road Oley PA 19547 United States;X-APPLE-RADIUS=500;X-TITLE=3247 Friedensburg Road:geo:-75.799139,40.379717
END:VEVENT
BEGIN:VEVENT
DTSTART;TZID=America/New_York:20160508T100000
DTEND;TZID=America/New_York:20160508T113000
DTSTAMP:20260423T014324
CREATED:20150315T185919Z
LAST-MODIFIED:20220919T003711Z
UID:10001347-1462701600-1462707000@ccoley.com
SUMMARY:Worship Service
DESCRIPTION:We are currently studying 1 Corinthians.
URL:https://ccoley.com/event/worship-service/2016-05-08/
LOCATION:Oley Valley Elementary School\, 3247 Friedensburg Road\, Oley\, PA\, 19547\, United States
CATEGORIES:Worship Service
ORGANIZER;CN="Pastor Fred Bell":MAILTO:pastorfred@ccoley.com
GEO:40.379717;-75.799139
X-APPLE-STRUCTURED-LOCATION;VALUE=URI;X-ADDRESS=Oley Valley Elementary School 3247 Friedensburg Road Oley PA 19547 United States;X-APPLE-RADIUS=500;X-TITLE=3247 Friedensburg Road:geo:-75.799139,40.379717
END:VEVENT
BEGIN:VEVENT
DTSTART;TZID=America/New_York:20160510T190000
DTEND;TZID=America/New_York:20160510T200000
DTSTAMP:20260423T014324
CREATED:20150318T144843Z
LAST-MODIFIED:20181126T152653Z
UID:10001149-1462906800-1462910400@ccoley.com
SUMMARY:Elder's Meeting
DESCRIPTION:
URL:https://ccoley.com/event/elders-meeting/2016-05-10/
LOCATION:Pastor Fred’s Office\, 603 Main Street\, Oley\, PA\, 19547\, United States
CATEGORIES:Elders
ORGANIZER;CN="Pastor Fred Bell":MAILTO:pastorfred@ccoley.com
GEO:40.385459;-75.785408
X-APPLE-STRUCTURED-LOCATION;VALUE=URI;X-ADDRESS=Pastor Fred’s Office 603 Main Street Oley PA 19547 United States;X-APPLE-RADIUS=500;X-TITLE=603 Main Street:geo:-75.785408,40.385459
END:VEVENT
BEGIN:VEVENT
DTSTART;TZID=America/New_York:20160514T080000
DTEND;TZID=America/New_York:20160514T090000
DTSTAMP:20260423T014324
CREATED:20150315T190521Z
LAST-MODIFIED:20231203T181823Z
UID:10001558-1463212800-1463216400@ccoley.com
SUMMARY:Men's Fellowship Breakfast
DESCRIPTION:
URL:https://ccoley.com/event/mens-fellowship-breakfast/2016-05-14/
LOCATION:Andy Giangiacomo\, 129 Oak Lane\, Fleetwood\, PA\, 19522\, United States
CATEGORIES:Men's Fellowship
ORGANIZER;CN="Andy Giangiacomo":MAILTO:sherandgia@msn.com
GEO:40.429365;-75.813973
X-APPLE-STRUCTURED-LOCATION;VALUE=URI;X-ADDRESS=Andy Giangiacomo 129 Oak Lane Fleetwood PA 19522 United States;X-APPLE-RADIUS=500;X-TITLE=129 Oak Lane:geo:-75.813973,40.429365
END:VEVENT
BEGIN:VEVENT
DTSTART;TZID=America/New_York:20160515T100000
DTEND;TZID=America/New_York:20160515T113000
DTSTAMP:20260423T014324
CREATED:20150315T185919Z
LAST-MODIFIED:20220919T003711Z
UID:10001348-1463306400-1463311800@ccoley.com
SUMMARY:Worship Service
DESCRIPTION:We are currently studying 1 Corinthians.
URL:https://ccoley.com/event/worship-service/2016-05-15/
LOCATION:Oley Valley Elementary School\, 3247 Friedensburg Road\, Oley\, PA\, 19547\, United States
CATEGORIES:Worship Service
ORGANIZER;CN="Pastor Fred Bell":MAILTO:pastorfred@ccoley.com
GEO:40.379717;-75.799139
X-APPLE-STRUCTURED-LOCATION;VALUE=URI;X-ADDRESS=Oley Valley Elementary School 3247 Friedensburg Road Oley PA 19547 United States;X-APPLE-RADIUS=500;X-TITLE=3247 Friedensburg Road:geo:-75.799139,40.379717
END:VEVENT
BEGIN:VEVENT
DTSTART;TZID=America/New_York:20160522T100000
DTEND;TZID=America/New_York:20160522T113000
DTSTAMP:20260423T014324
CREATED:20150315T185919Z
LAST-MODIFIED:20220919T003711Z
UID:10001349-1463911200-1463916600@ccoley.com
SUMMARY:Worship Service
DESCRIPTION:We are currently studying 1 Corinthians.
URL:https://ccoley.com/event/worship-service/2016-05-22/
LOCATION:Oley Valley Elementary School\, 3247 Friedensburg Road\, Oley\, PA\, 19547\, United States
CATEGORIES:Worship Service
ORGANIZER;CN="Pastor Fred Bell":MAILTO:pastorfred@ccoley.com
GEO:40.379717;-75.799139
X-APPLE-STRUCTURED-LOCATION;VALUE=URI;X-ADDRESS=Oley Valley Elementary School 3247 Friedensburg Road Oley PA 19547 United States;X-APPLE-RADIUS=500;X-TITLE=3247 Friedensburg Road:geo:-75.799139,40.379717
END:VEVENT
BEGIN:VEVENT
DTSTART;TZID=America/New_York:20160529T100000
DTEND;TZID=America/New_York:20160529T113000
DTSTAMP:20260423T014324
CREATED:20150315T185919Z
LAST-MODIFIED:20220919T003711Z
UID:10001350-1464516000-1464521400@ccoley.com
SUMMARY:Worship Service
DESCRIPTION:We are currently studying 1 Corinthians.
URL:https://ccoley.com/event/worship-service/2016-05-29/
LOCATION:Oley Valley Elementary School\, 3247 Friedensburg Road\, Oley\, PA\, 19547\, United States
CATEGORIES:Worship Service
ORGANIZER;CN="Pastor Fred Bell":MAILTO:pastorfred@ccoley.com
GEO:40.379717;-75.799139
X-APPLE-STRUCTURED-LOCATION;VALUE=URI;X-ADDRESS=Oley Valley Elementary School 3247 Friedensburg Road Oley PA 19547 United States;X-APPLE-RADIUS=500;X-TITLE=3247 Friedensburg Road:geo:-75.799139,40.379717
END:VEVENT
BEGIN:VEVENT
DTSTART;TZID=America/New_York:20160605T100000
DTEND;TZID=America/New_York:20160605T113000
DTSTAMP:20260423T014324
CREATED:20150315T185919Z
LAST-MODIFIED:20220919T003711Z
UID:10001351-1465120800-1465126200@ccoley.com
SUMMARY:Worship Service
DESCRIPTION:We are currently studying 1 Corinthians.
URL:https://ccoley.com/event/worship-service/2016-06-05/
LOCATION:Oley Valley Elementary School\, 3247 Friedensburg Road\, Oley\, PA\, 19547\, United States
CATEGORIES:Worship Service
ORGANIZER;CN="Pastor Fred Bell":MAILTO:pastorfred@ccoley.com
GEO:40.379717;-75.799139
X-APPLE-STRUCTURED-LOCATION;VALUE=URI;X-ADDRESS=Oley Valley Elementary School 3247 Friedensburg Road Oley PA 19547 United States;X-APPLE-RADIUS=500;X-TITLE=3247 Friedensburg Road:geo:-75.799139,40.379717
END:VEVENT
BEGIN:VEVENT
DTSTART;TZID=America/New_York:20160611T080000
DTEND;TZID=America/New_York:20160611T090000
DTSTAMP:20260423T014324
CREATED:20150315T190521Z
LAST-MODIFIED:20231203T181823Z
UID:10001559-1465632000-1465635600@ccoley.com
SUMMARY:Men's Fellowship Breakfast
DESCRIPTION:
URL:https://ccoley.com/event/mens-fellowship-breakfast/2016-06-11/
LOCATION:Andy Giangiacomo\, 129 Oak Lane\, Fleetwood\, PA\, 19522\, United States
CATEGORIES:Men's Fellowship
ORGANIZER;CN="Andy Giangiacomo":MAILTO:sherandgia@msn.com
GEO:40.429365;-75.813973
X-APPLE-STRUCTURED-LOCATION;VALUE=URI;X-ADDRESS=Andy Giangiacomo 129 Oak Lane Fleetwood PA 19522 United States;X-APPLE-RADIUS=500;X-TITLE=129 Oak Lane:geo:-75.813973,40.429365
END:VEVENT
BEGIN:VEVENT
DTSTART;TZID=America/New_York:20160612T100000
DTEND;TZID=America/New_York:20160612T113000
DTSTAMP:20260423T014324
CREATED:20150315T185919Z
LAST-MODIFIED:20220919T003711Z
UID:10001352-1465725600-1465731000@ccoley.com
SUMMARY:Worship Service
DESCRIPTION:We are currently studying 1 Corinthians.
URL:https://ccoley.com/event/worship-service/2016-06-12/
LOCATION:Oley Valley Elementary School\, 3247 Friedensburg Road\, Oley\, PA\, 19547\, United States
CATEGORIES:Worship Service
ORGANIZER;CN="Pastor Fred Bell":MAILTO:pastorfred@ccoley.com
GEO:40.379717;-75.799139
X-APPLE-STRUCTURED-LOCATION;VALUE=URI;X-ADDRESS=Oley Valley Elementary School 3247 Friedensburg Road Oley PA 19547 United States;X-APPLE-RADIUS=500;X-TITLE=3247 Friedensburg Road:geo:-75.799139,40.379717
END:VEVENT
BEGIN:VEVENT
DTSTART;TZID=America/New_York:20160614T190000
DTEND;TZID=America/New_York:20160614T200000
DTSTAMP:20260423T014324
CREATED:20150318T144843Z
LAST-MODIFIED:20181126T152653Z
UID:10001150-1465930800-1465934400@ccoley.com
SUMMARY:Elder's Meeting
DESCRIPTION:
URL:https://ccoley.com/event/elders-meeting/2016-06-14/
LOCATION:Pastor Fred’s Office\, 603 Main Street\, Oley\, PA\, 19547\, United States
CATEGORIES:Elders
ORGANIZER;CN="Pastor Fred Bell":MAILTO:pastorfred@ccoley.com
GEO:40.385459;-75.785408
X-APPLE-STRUCTURED-LOCATION;VALUE=URI;X-ADDRESS=Pastor Fred’s Office 603 Main Street Oley PA 19547 United States;X-APPLE-RADIUS=500;X-TITLE=603 Main Street:geo:-75.785408,40.385459
END:VEVENT
BEGIN:VEVENT
DTSTART;TZID=America/New_York:20160619T100000
DTEND;TZID=America/New_York:20160619T113000
DTSTAMP:20260423T014324
CREATED:20150315T185919Z
LAST-MODIFIED:20220919T003711Z
UID:10001353-1466330400-1466335800@ccoley.com
SUMMARY:Worship Service
DESCRIPTION:We are currently studying 1 Corinthians.
URL:https://ccoley.com/event/worship-service/2016-06-19/
LOCATION:Oley Valley Elementary School\, 3247 Friedensburg Road\, Oley\, PA\, 19547\, United States
CATEGORIES:Worship Service
ORGANIZER;CN="Pastor Fred Bell":MAILTO:pastorfred@ccoley.com
GEO:40.379717;-75.799139
X-APPLE-STRUCTURED-LOCATION;VALUE=URI;X-ADDRESS=Oley Valley Elementary School 3247 Friedensburg Road Oley PA 19547 United States;X-APPLE-RADIUS=500;X-TITLE=3247 Friedensburg Road:geo:-75.799139,40.379717
END:VEVENT
BEGIN:VEVENT
DTSTART;TZID=America/New_York:20160626T100000
DTEND;TZID=America/New_York:20160626T113000
DTSTAMP:20260423T014324
CREATED:20150315T185919Z
LAST-MODIFIED:20220919T003711Z
UID:10001354-1466935200-1466940600@ccoley.com
SUMMARY:Worship Service
DESCRIPTION:We are currently studying 1 Corinthians.
URL:https://ccoley.com/event/worship-service/2016-06-26/
LOCATION:Oley Valley Elementary School\, 3247 Friedensburg Road\, Oley\, PA\, 19547\, United States
CATEGORIES:Worship Service
ORGANIZER;CN="Pastor Fred Bell":MAILTO:pastorfred@ccoley.com
GEO:40.379717;-75.799139
X-APPLE-STRUCTURED-LOCATION;VALUE=URI;X-ADDRESS=Oley Valley Elementary School 3247 Friedensburg Road Oley PA 19547 United States;X-APPLE-RADIUS=500;X-TITLE=3247 Friedensburg Road:geo:-75.799139,40.379717
END:VEVENT
BEGIN:VEVENT
DTSTART;TZID=America/New_York:20160703T100000
DTEND;TZID=America/New_York:20160703T113000
DTSTAMP:20260423T014324
CREATED:20150315T185919Z
LAST-MODIFIED:20220919T003711Z
UID:10001355-1467540000-1467545400@ccoley.com
SUMMARY:Worship Service
DESCRIPTION:We are currently studying 1 Corinthians.
URL:https://ccoley.com/event/worship-service/2016-07-03/
LOCATION:Oley Valley Elementary School\, 3247 Friedensburg Road\, Oley\, PA\, 19547\, United States
CATEGORIES:Worship Service
ORGANIZER;CN="Pastor Fred Bell":MAILTO:pastorfred@ccoley.com
GEO:40.379717;-75.799139
X-APPLE-STRUCTURED-LOCATION;VALUE=URI;X-ADDRESS=Oley Valley Elementary School 3247 Friedensburg Road Oley PA 19547 United States;X-APPLE-RADIUS=500;X-TITLE=3247 Friedensburg Road:geo:-75.799139,40.379717
END:VEVENT
BEGIN:VEVENT
DTSTART;TZID=America/New_York:20160709T080000
DTEND;TZID=America/New_York:20160709T090000
DTSTAMP:20260423T014324
CREATED:20150315T190521Z
LAST-MODIFIED:20231203T181823Z
UID:10001560-1468051200-1468054800@ccoley.com
SUMMARY:Men's Fellowship Breakfast
DESCRIPTION:
URL:https://ccoley.com/event/mens-fellowship-breakfast/2016-07-09/
LOCATION:Andy Giangiacomo\, 129 Oak Lane\, Fleetwood\, PA\, 19522\, United States
CATEGORIES:Men's Fellowship
ORGANIZER;CN="Andy Giangiacomo":MAILTO:sherandgia@msn.com
GEO:40.429365;-75.813973
X-APPLE-STRUCTURED-LOCATION;VALUE=URI;X-ADDRESS=Andy Giangiacomo 129 Oak Lane Fleetwood PA 19522 United States;X-APPLE-RADIUS=500;X-TITLE=129 Oak Lane:geo:-75.813973,40.429365
END:VEVENT
BEGIN:VEVENT
DTSTART;TZID=America/New_York:20160710T100000
DTEND;TZID=America/New_York:20160710T113000
DTSTAMP:20260423T014324
CREATED:20150315T185919Z
LAST-MODIFIED:20220919T003711Z
UID:10001356-1468144800-1468150200@ccoley.com
SUMMARY:Worship Service
DESCRIPTION:We are currently studying 1 Corinthians.
URL:https://ccoley.com/event/worship-service/2016-07-10/
LOCATION:Oley Valley Elementary School\, 3247 Friedensburg Road\, Oley\, PA\, 19547\, United States
CATEGORIES:Worship Service
ORGANIZER;CN="Pastor Fred Bell":MAILTO:pastorfred@ccoley.com
GEO:40.379717;-75.799139
X-APPLE-STRUCTURED-LOCATION;VALUE=URI;X-ADDRESS=Oley Valley Elementary School 3247 Friedensburg Road Oley PA 19547 United States;X-APPLE-RADIUS=500;X-TITLE=3247 Friedensburg Road:geo:-75.799139,40.379717
END:VEVENT
BEGIN:VEVENT
DTSTART;TZID=America/New_York:20160712T190000
DTEND;TZID=America/New_York:20160712T200000
DTSTAMP:20260423T014324
CREATED:20150318T144843Z
LAST-MODIFIED:20181126T152653Z
UID:10001151-1468350000-1468353600@ccoley.com
SUMMARY:Elder's Meeting
DESCRIPTION:
URL:https://ccoley.com/event/elders-meeting/2016-07-12/
LOCATION:Pastor Fred’s Office\, 603 Main Street\, Oley\, PA\, 19547\, United States
CATEGORIES:Elders
ORGANIZER;CN="Pastor Fred Bell":MAILTO:pastorfred@ccoley.com
GEO:40.385459;-75.785408
X-APPLE-STRUCTURED-LOCATION;VALUE=URI;X-ADDRESS=Pastor Fred’s Office 603 Main Street Oley PA 19547 United States;X-APPLE-RADIUS=500;X-TITLE=603 Main Street:geo:-75.785408,40.385459
END:VEVENT
BEGIN:VEVENT
DTSTART;TZID=America/New_York:20160717T100000
DTEND;TZID=America/New_York:20160717T113000
DTSTAMP:20260423T014324
CREATED:20150315T185919Z
LAST-MODIFIED:20220919T003711Z
UID:10001357-1468749600-1468755000@ccoley.com
SUMMARY:Worship Service
DESCRIPTION:We are currently studying 1 Corinthians.
URL:https://ccoley.com/event/worship-service/2016-07-17/
LOCATION:Oley Valley Elementary School\, 3247 Friedensburg Road\, Oley\, PA\, 19547\, United States
CATEGORIES:Worship Service
ORGANIZER;CN="Pastor Fred Bell":MAILTO:pastorfred@ccoley.com
GEO:40.379717;-75.799139
X-APPLE-STRUCTURED-LOCATION;VALUE=URI;X-ADDRESS=Oley Valley Elementary School 3247 Friedensburg Road Oley PA 19547 United States;X-APPLE-RADIUS=500;X-TITLE=3247 Friedensburg Road:geo:-75.799139,40.379717
END:VEVENT
BEGIN:VEVENT
DTSTART;TZID=America/New_York:20160724T100000
DTEND;TZID=America/New_York:20160724T113000
DTSTAMP:20260423T014324
CREATED:20150315T185919Z
LAST-MODIFIED:20220919T003711Z
UID:10001358-1469354400-1469359800@ccoley.com
SUMMARY:Worship Service
DESCRIPTION:We are currently studying 1 Corinthians.
URL:https://ccoley.com/event/worship-service/2016-07-24/
LOCATION:Oley Valley Elementary School\, 3247 Friedensburg Road\, Oley\, PA\, 19547\, United States
CATEGORIES:Worship Service
ORGANIZER;CN="Pastor Fred Bell":MAILTO:pastorfred@ccoley.com
GEO:40.379717;-75.799139
X-APPLE-STRUCTURED-LOCATION;VALUE=URI;X-ADDRESS=Oley Valley Elementary School 3247 Friedensburg Road Oley PA 19547 United States;X-APPLE-RADIUS=500;X-TITLE=3247 Friedensburg Road:geo:-75.799139,40.379717
END:VEVENT
BEGIN:VEVENT
DTSTART;TZID=America/New_York:20160731T100000
DTEND;TZID=America/New_York:20160731T113000
DTSTAMP:20260423T014324
CREATED:20150315T185919Z
LAST-MODIFIED:20220919T003711Z
UID:10001359-1469959200-1469964600@ccoley.com
SUMMARY:Worship Service
DESCRIPTION:We are currently studying 1 Corinthians.
URL:https://ccoley.com/event/worship-service/2016-07-31/
LOCATION:Oley Valley Elementary School\, 3247 Friedensburg Road\, Oley\, PA\, 19547\, United States
CATEGORIES:Worship Service
ORGANIZER;CN="Pastor Fred Bell":MAILTO:pastorfred@ccoley.com
GEO:40.379717;-75.799139
X-APPLE-STRUCTURED-LOCATION;VALUE=URI;X-ADDRESS=Oley Valley Elementary School 3247 Friedensburg Road Oley PA 19547 United States;X-APPLE-RADIUS=500;X-TITLE=3247 Friedensburg Road:geo:-75.799139,40.379717
END:VEVENT
BEGIN:VEVENT
DTSTART;TZID=America/New_York:20160807T100000
DTEND;TZID=America/New_York:20160807T113000
DTSTAMP:20260423T014324
CREATED:20150315T185919Z
LAST-MODIFIED:20220919T003711Z
UID:10001360-1470564000-1470569400@ccoley.com
SUMMARY:Worship Service
DESCRIPTION:We are currently studying 1 Corinthians.
URL:https://ccoley.com/event/worship-service/2016-08-07/
LOCATION:Oley Valley Elementary School\, 3247 Friedensburg Road\, Oley\, PA\, 19547\, United States
CATEGORIES:Worship Service
ORGANIZER;CN="Pastor Fred Bell":MAILTO:pastorfred@ccoley.com
GEO:40.379717;-75.799139
X-APPLE-STRUCTURED-LOCATION;VALUE=URI;X-ADDRESS=Oley Valley Elementary School 3247 Friedensburg Road Oley PA 19547 United States;X-APPLE-RADIUS=500;X-TITLE=3247 Friedensburg Road:geo:-75.799139,40.379717
END:VEVENT
BEGIN:VEVENT
DTSTART;TZID=America/New_York:20160809T190000
DTEND;TZID=America/New_York:20160809T200000
DTSTAMP:20260423T014324
CREATED:20150318T144843Z
LAST-MODIFIED:20181126T152653Z
UID:10001152-1470769200-1470772800@ccoley.com
SUMMARY:Elder's Meeting
DESCRIPTION:
URL:https://ccoley.com/event/elders-meeting/2016-08-09/
LOCATION:Pastor Fred’s Office\, 603 Main Street\, Oley\, PA\, 19547\, United States
CATEGORIES:Elders
ORGANIZER;CN="Pastor Fred Bell":MAILTO:pastorfred@ccoley.com
GEO:40.385459;-75.785408
X-APPLE-STRUCTURED-LOCATION;VALUE=URI;X-ADDRESS=Pastor Fred’s Office 603 Main Street Oley PA 19547 United States;X-APPLE-RADIUS=500;X-TITLE=603 Main Street:geo:-75.785408,40.385459
END:VEVENT
BEGIN:VEVENT
DTSTART;TZID=America/New_York:20160813T080000
DTEND;TZID=America/New_York:20160813T090000
DTSTAMP:20260423T014324
CREATED:20150315T190521Z
LAST-MODIFIED:20231203T181823Z
UID:10001561-1471075200-1471078800@ccoley.com
SUMMARY:Men's Fellowship Breakfast
DESCRIPTION:
URL:https://ccoley.com/event/mens-fellowship-breakfast/2016-08-13/
LOCATION:Andy Giangiacomo\, 129 Oak Lane\, Fleetwood\, PA\, 19522\, United States
CATEGORIES:Men's Fellowship
ORGANIZER;CN="Andy Giangiacomo":MAILTO:sherandgia@msn.com
GEO:40.429365;-75.813973
X-APPLE-STRUCTURED-LOCATION;VALUE=URI;X-ADDRESS=Andy Giangiacomo 129 Oak Lane Fleetwood PA 19522 United States;X-APPLE-RADIUS=500;X-TITLE=129 Oak Lane:geo:-75.813973,40.429365
END:VEVENT
BEGIN:VEVENT
DTSTART;TZID=America/New_York:20160814T100000
DTEND;TZID=America/New_York:20160814T113000
DTSTAMP:20260423T014324
CREATED:20150315T185919Z
LAST-MODIFIED:20220919T003711Z
UID:10001361-1471168800-1471174200@ccoley.com
SUMMARY:Worship Service
DESCRIPTION:We are currently studying 1 Corinthians.
URL:https://ccoley.com/event/worship-service/2016-08-14/
LOCATION:Oley Valley Elementary School\, 3247 Friedensburg Road\, Oley\, PA\, 19547\, United States
CATEGORIES:Worship Service
ORGANIZER;CN="Pastor Fred Bell":MAILTO:pastorfred@ccoley.com
GEO:40.379717;-75.799139
X-APPLE-STRUCTURED-LOCATION;VALUE=URI;X-ADDRESS=Oley Valley Elementary School 3247 Friedensburg Road Oley PA 19547 United States;X-APPLE-RADIUS=500;X-TITLE=3247 Friedensburg Road:geo:-75.799139,40.379717
END:VEVENT
BEGIN:VEVENT
DTSTART;TZID=America/New_York:20160821T100000
DTEND;TZID=America/New_York:20160821T113000
DTSTAMP:20260423T014324
CREATED:20150315T185919Z
LAST-MODIFIED:20220919T003711Z
UID:10001362-1471773600-1471779000@ccoley.com
SUMMARY:Worship Service
DESCRIPTION:We are currently studying 1 Corinthians.
URL:https://ccoley.com/event/worship-service/2016-08-21/
LOCATION:Oley Valley Elementary School\, 3247 Friedensburg Road\, Oley\, PA\, 19547\, United States
CATEGORIES:Worship Service
ORGANIZER;CN="Pastor Fred Bell":MAILTO:pastorfred@ccoley.com
GEO:40.379717;-75.799139
X-APPLE-STRUCTURED-LOCATION;VALUE=URI;X-ADDRESS=Oley Valley Elementary School 3247 Friedensburg Road Oley PA 19547 United States;X-APPLE-RADIUS=500;X-TITLE=3247 Friedensburg Road:geo:-75.799139,40.379717
END:VEVENT
BEGIN:VEVENT
DTSTART;TZID=America/New_York:20160828T100000
DTEND;TZID=America/New_York:20160828T113000
DTSTAMP:20260423T014324
CREATED:20150315T185919Z
LAST-MODIFIED:20220919T003711Z
UID:10001363-1472378400-1472383800@ccoley.com
SUMMARY:Worship Service
DESCRIPTION:We are currently studying 1 Corinthians.
URL:https://ccoley.com/event/worship-service/2016-08-28/
LOCATION:Oley Valley Elementary School\, 3247 Friedensburg Road\, Oley\, PA\, 19547\, United States
CATEGORIES:Worship Service
ORGANIZER;CN="Pastor Fred Bell":MAILTO:pastorfred@ccoley.com
GEO:40.379717;-75.799139
X-APPLE-STRUCTURED-LOCATION;VALUE=URI;X-ADDRESS=Oley Valley Elementary School 3247 Friedensburg Road Oley PA 19547 United States;X-APPLE-RADIUS=500;X-TITLE=3247 Friedensburg Road:geo:-75.799139,40.379717
END:VEVENT
BEGIN:VEVENT
DTSTART;TZID=America/New_York:20160904T100000
DTEND;TZID=America/New_York:20160904T113000
DTSTAMP:20260423T014324
CREATED:20150315T185919Z
LAST-MODIFIED:20220919T003711Z
UID:10001364-1472983200-1472988600@ccoley.com
SUMMARY:Worship Service
DESCRIPTION:We are currently studying 1 Corinthians.
URL:https://ccoley.com/event/worship-service/2016-09-04/
LOCATION:Oley Valley Elementary School\, 3247 Friedensburg Road\, Oley\, PA\, 19547\, United States
CATEGORIES:Worship Service
ORGANIZER;CN="Pastor Fred Bell":MAILTO:pastorfred@ccoley.com
GEO:40.379717;-75.799139
X-APPLE-STRUCTURED-LOCATION;VALUE=URI;X-ADDRESS=Oley Valley Elementary School 3247 Friedensburg Road Oley PA 19547 United States;X-APPLE-RADIUS=500;X-TITLE=3247 Friedensburg Road:geo:-75.799139,40.379717
END:VEVENT
END:VCALENDAR