BEGIN:VCALENDAR
VERSION:2.0
PRODID:-//Calvary Chapel of the Oley Valley - ECPv6.15.20//NONSGML v1.0//EN
CALSCALE:GREGORIAN
METHOD:PUBLISH
X-WR-CALNAME:Calvary Chapel of the Oley Valley
X-ORIGINAL-URL:https://ccoley.com
X-WR-CALDESC:Events for Calvary Chapel of the Oley Valley
REFRESH-INTERVAL;VALUE=DURATION:PT1H
X-Robots-Tag:noindex
X-PUBLISHED-TTL:PT1H
BEGIN:VTIMEZONE
TZID:America/New_York
BEGIN:DAYLIGHT
TZOFFSETFROM:-0500
TZOFFSETTO:-0400
TZNAME:EDT
DTSTART:20140309T070000
END:DAYLIGHT
BEGIN:STANDARD
TZOFFSETFROM:-0400
TZOFFSETTO:-0500
TZNAME:EST
DTSTART:20141102T060000
END:STANDARD
BEGIN:DAYLIGHT
TZOFFSETFROM:-0500
TZOFFSETTO:-0400
TZNAME:EDT
DTSTART:20150308T070000
END:DAYLIGHT
BEGIN:STANDARD
TZOFFSETFROM:-0400
TZOFFSETTO:-0500
TZNAME:EST
DTSTART:20151101T060000
END:STANDARD
BEGIN:DAYLIGHT
TZOFFSETFROM:-0500
TZOFFSETTO:-0400
TZNAME:EDT
DTSTART:20160313T070000
END:DAYLIGHT
BEGIN:STANDARD
TZOFFSETFROM:-0400
TZOFFSETTO:-0500
TZNAME:EST
DTSTART:20161106T060000
END:STANDARD
END:VTIMEZONE
BEGIN:VEVENT
DTSTART;TZID=America/New_York:20150628T100000
DTEND;TZID=America/New_York:20150628T113000
DTSTAMP:20260422T175435
CREATED:20150315T185919Z
LAST-MODIFIED:20220919T003711Z
UID:10001302-1435485600-1435491000@ccoley.com
SUMMARY:Worship Service
DESCRIPTION:We are currently studying 1 Corinthians.
URL:https://ccoley.com/event/worship-service/2015-06-28/
LOCATION:Oley Valley Elementary School\, 3247 Friedensburg Road\, Oley\, PA\, 19547\, United States
CATEGORIES:Worship Service
ORGANIZER;CN="Pastor Fred Bell":MAILTO:pastorfred@ccoley.com
GEO:40.379717;-75.799139
X-APPLE-STRUCTURED-LOCATION;VALUE=URI;X-ADDRESS=Oley Valley Elementary School 3247 Friedensburg Road Oley PA 19547 United States;X-APPLE-RADIUS=500;X-TITLE=3247 Friedensburg Road:geo:-75.799139,40.379717
END:VEVENT
BEGIN:VEVENT
DTSTART;TZID=America/New_York:20150705T100000
DTEND;TZID=America/New_York:20150705T113000
DTSTAMP:20260422T175435
CREATED:20150315T185919Z
LAST-MODIFIED:20220919T003711Z
UID:10001303-1436090400-1436095800@ccoley.com
SUMMARY:Worship Service
DESCRIPTION:We are currently studying 1 Corinthians.
URL:https://ccoley.com/event/worship-service/2015-07-05/
LOCATION:Oley Valley Elementary School\, 3247 Friedensburg Road\, Oley\, PA\, 19547\, United States
CATEGORIES:Worship Service
ORGANIZER;CN="Pastor Fred Bell":MAILTO:pastorfred@ccoley.com
GEO:40.379717;-75.799139
X-APPLE-STRUCTURED-LOCATION;VALUE=URI;X-ADDRESS=Oley Valley Elementary School 3247 Friedensburg Road Oley PA 19547 United States;X-APPLE-RADIUS=500;X-TITLE=3247 Friedensburg Road:geo:-75.799139,40.379717
END:VEVENT
BEGIN:VEVENT
DTSTART;TZID=America/New_York:20150712T100000
DTEND;TZID=America/New_York:20150712T113000
DTSTAMP:20260422T175435
CREATED:20150315T185919Z
LAST-MODIFIED:20220919T003711Z
UID:10001304-1436695200-1436700600@ccoley.com
SUMMARY:Worship Service
DESCRIPTION:We are currently studying 1 Corinthians.
URL:https://ccoley.com/event/worship-service/2015-07-12/
LOCATION:Oley Valley Elementary School\, 3247 Friedensburg Road\, Oley\, PA\, 19547\, United States
CATEGORIES:Worship Service
ORGANIZER;CN="Pastor Fred Bell":MAILTO:pastorfred@ccoley.com
GEO:40.379717;-75.799139
X-APPLE-STRUCTURED-LOCATION;VALUE=URI;X-ADDRESS=Oley Valley Elementary School 3247 Friedensburg Road Oley PA 19547 United States;X-APPLE-RADIUS=500;X-TITLE=3247 Friedensburg Road:geo:-75.799139,40.379717
END:VEVENT
BEGIN:VEVENT
DTSTART;TZID=America/New_York:20150714T190000
DTEND;TZID=America/New_York:20150714T200000
DTSTAMP:20260422T175435
CREATED:20150318T144843Z
LAST-MODIFIED:20181126T152653Z
UID:10001139-1436900400-1436904000@ccoley.com
SUMMARY:Elder's Meeting
DESCRIPTION:
URL:https://ccoley.com/event/elders-meeting/2015-07-14/
LOCATION:Pastor Fred’s Office\, 603 Main Street\, Oley\, PA\, 19547\, United States
CATEGORIES:Elders
ORGANIZER;CN="Pastor Fred Bell":MAILTO:pastorfred@ccoley.com
GEO:40.385459;-75.785408
X-APPLE-STRUCTURED-LOCATION;VALUE=URI;X-ADDRESS=Pastor Fred’s Office 603 Main Street Oley PA 19547 United States;X-APPLE-RADIUS=500;X-TITLE=603 Main Street:geo:-75.785408,40.385459
END:VEVENT
BEGIN:VEVENT
DTSTART;TZID=America/New_York:20150719T100000
DTEND;TZID=America/New_York:20150719T113000
DTSTAMP:20260422T175435
CREATED:20150315T185919Z
LAST-MODIFIED:20220919T003711Z
UID:10001305-1437300000-1437305400@ccoley.com
SUMMARY:Worship Service
DESCRIPTION:We are currently studying 1 Corinthians.
URL:https://ccoley.com/event/worship-service/2015-07-19/
LOCATION:Oley Valley Elementary School\, 3247 Friedensburg Road\, Oley\, PA\, 19547\, United States
CATEGORIES:Worship Service
ORGANIZER;CN="Pastor Fred Bell":MAILTO:pastorfred@ccoley.com
GEO:40.379717;-75.799139
X-APPLE-STRUCTURED-LOCATION;VALUE=URI;X-ADDRESS=Oley Valley Elementary School 3247 Friedensburg Road Oley PA 19547 United States;X-APPLE-RADIUS=500;X-TITLE=3247 Friedensburg Road:geo:-75.799139,40.379717
END:VEVENT
BEGIN:VEVENT
DTSTART;TZID=America/New_York:20150726T100000
DTEND;TZID=America/New_York:20150726T113000
DTSTAMP:20260422T175435
CREATED:20150315T185919Z
LAST-MODIFIED:20220919T003711Z
UID:10001306-1437904800-1437910200@ccoley.com
SUMMARY:Worship Service
DESCRIPTION:We are currently studying 1 Corinthians.
URL:https://ccoley.com/event/worship-service/2015-07-26/
LOCATION:Oley Valley Elementary School\, 3247 Friedensburg Road\, Oley\, PA\, 19547\, United States
CATEGORIES:Worship Service
ORGANIZER;CN="Pastor Fred Bell":MAILTO:pastorfred@ccoley.com
GEO:40.379717;-75.799139
X-APPLE-STRUCTURED-LOCATION;VALUE=URI;X-ADDRESS=Oley Valley Elementary School 3247 Friedensburg Road Oley PA 19547 United States;X-APPLE-RADIUS=500;X-TITLE=3247 Friedensburg Road:geo:-75.799139,40.379717
END:VEVENT
BEGIN:VEVENT
DTSTART;TZID=America/New_York:20150802T100000
DTEND;TZID=America/New_York:20150802T113000
DTSTAMP:20260422T175435
CREATED:20150315T185919Z
LAST-MODIFIED:20220919T003711Z
UID:10001307-1438509600-1438515000@ccoley.com
SUMMARY:Worship Service
DESCRIPTION:We are currently studying 1 Corinthians.
URL:https://ccoley.com/event/worship-service/2015-08-02/
LOCATION:Oley Valley Elementary School\, 3247 Friedensburg Road\, Oley\, PA\, 19547\, United States
CATEGORIES:Worship Service
ORGANIZER;CN="Pastor Fred Bell":MAILTO:pastorfred@ccoley.com
GEO:40.379717;-75.799139
X-APPLE-STRUCTURED-LOCATION;VALUE=URI;X-ADDRESS=Oley Valley Elementary School 3247 Friedensburg Road Oley PA 19547 United States;X-APPLE-RADIUS=500;X-TITLE=3247 Friedensburg Road:geo:-75.799139,40.379717
END:VEVENT
BEGIN:VEVENT
DTSTART;TZID=America/New_York:20150808T080000
DTEND;TZID=America/New_York:20150808T090000
DTSTAMP:20260422T175435
CREATED:20150315T190521Z
LAST-MODIFIED:20231203T181823Z
UID:10001549-1439020800-1439024400@ccoley.com
SUMMARY:Men's Fellowship Breakfast
DESCRIPTION:
URL:https://ccoley.com/event/mens-fellowship-breakfast/2015-08-08/
LOCATION:Andy Giangiacomo\, 129 Oak Lane\, Fleetwood\, PA\, 19522\, United States
CATEGORIES:Men's Fellowship
ORGANIZER;CN="Andy Giangiacomo":MAILTO:sherandgia@msn.com
GEO:40.429365;-75.813973
X-APPLE-STRUCTURED-LOCATION;VALUE=URI;X-ADDRESS=Andy Giangiacomo 129 Oak Lane Fleetwood PA 19522 United States;X-APPLE-RADIUS=500;X-TITLE=129 Oak Lane:geo:-75.813973,40.429365
END:VEVENT
BEGIN:VEVENT
DTSTART;TZID=America/New_York:20150809T100000
DTEND;TZID=America/New_York:20150809T113000
DTSTAMP:20260422T175435
CREATED:20150315T185919Z
LAST-MODIFIED:20220919T003711Z
UID:10001308-1439114400-1439119800@ccoley.com
SUMMARY:Worship Service
DESCRIPTION:We are currently studying 1 Corinthians.
URL:https://ccoley.com/event/worship-service/2015-08-09/
LOCATION:Oley Valley Elementary School\, 3247 Friedensburg Road\, Oley\, PA\, 19547\, United States
CATEGORIES:Worship Service
ORGANIZER;CN="Pastor Fred Bell":MAILTO:pastorfred@ccoley.com
GEO:40.379717;-75.799139
X-APPLE-STRUCTURED-LOCATION;VALUE=URI;X-ADDRESS=Oley Valley Elementary School 3247 Friedensburg Road Oley PA 19547 United States;X-APPLE-RADIUS=500;X-TITLE=3247 Friedensburg Road:geo:-75.799139,40.379717
END:VEVENT
BEGIN:VEVENT
DTSTART;TZID=America/New_York:20150811T190000
DTEND;TZID=America/New_York:20150811T200000
DTSTAMP:20260422T175435
CREATED:20150318T144843Z
LAST-MODIFIED:20181126T152653Z
UID:10001140-1439319600-1439323200@ccoley.com
SUMMARY:Elder's Meeting
DESCRIPTION:
URL:https://ccoley.com/event/elders-meeting/2015-08-11/
LOCATION:Pastor Fred’s Office\, 603 Main Street\, Oley\, PA\, 19547\, United States
CATEGORIES:Elders
ORGANIZER;CN="Pastor Fred Bell":MAILTO:pastorfred@ccoley.com
GEO:40.385459;-75.785408
X-APPLE-STRUCTURED-LOCATION;VALUE=URI;X-ADDRESS=Pastor Fred’s Office 603 Main Street Oley PA 19547 United States;X-APPLE-RADIUS=500;X-TITLE=603 Main Street:geo:-75.785408,40.385459
END:VEVENT
BEGIN:VEVENT
DTSTART;TZID=America/New_York:20150816T100000
DTEND;TZID=America/New_York:20150816T113000
DTSTAMP:20260422T175435
CREATED:20150315T185919Z
LAST-MODIFIED:20220919T003711Z
UID:10001309-1439719200-1439724600@ccoley.com
SUMMARY:Worship Service
DESCRIPTION:We are currently studying 1 Corinthians.
URL:https://ccoley.com/event/worship-service/2015-08-16/
LOCATION:Oley Valley Elementary School\, 3247 Friedensburg Road\, Oley\, PA\, 19547\, United States
CATEGORIES:Worship Service
ORGANIZER;CN="Pastor Fred Bell":MAILTO:pastorfred@ccoley.com
GEO:40.379717;-75.799139
X-APPLE-STRUCTURED-LOCATION;VALUE=URI;X-ADDRESS=Oley Valley Elementary School 3247 Friedensburg Road Oley PA 19547 United States;X-APPLE-RADIUS=500;X-TITLE=3247 Friedensburg Road:geo:-75.799139,40.379717
END:VEVENT
BEGIN:VEVENT
DTSTART;TZID=America/New_York:20150823T100000
DTEND;TZID=America/New_York:20150823T113000
DTSTAMP:20260422T175435
CREATED:20150315T185919Z
LAST-MODIFIED:20220919T003711Z
UID:10001310-1440324000-1440329400@ccoley.com
SUMMARY:Worship Service
DESCRIPTION:We are currently studying 1 Corinthians.
URL:https://ccoley.com/event/worship-service/2015-08-23/
LOCATION:Oley Valley Elementary School\, 3247 Friedensburg Road\, Oley\, PA\, 19547\, United States
CATEGORIES:Worship Service
ORGANIZER;CN="Pastor Fred Bell":MAILTO:pastorfred@ccoley.com
GEO:40.379717;-75.799139
X-APPLE-STRUCTURED-LOCATION;VALUE=URI;X-ADDRESS=Oley Valley Elementary School 3247 Friedensburg Road Oley PA 19547 United States;X-APPLE-RADIUS=500;X-TITLE=3247 Friedensburg Road:geo:-75.799139,40.379717
END:VEVENT
BEGIN:VEVENT
DTSTART;TZID=America/New_York:20150830T100000
DTEND;TZID=America/New_York:20150830T113000
DTSTAMP:20260422T175435
CREATED:20150315T185919Z
LAST-MODIFIED:20220919T003711Z
UID:10001311-1440928800-1440934200@ccoley.com
SUMMARY:Worship Service
DESCRIPTION:We are currently studying 1 Corinthians.
URL:https://ccoley.com/event/worship-service/2015-08-30/
LOCATION:Oley Valley Elementary School\, 3247 Friedensburg Road\, Oley\, PA\, 19547\, United States
CATEGORIES:Worship Service
ORGANIZER;CN="Pastor Fred Bell":MAILTO:pastorfred@ccoley.com
GEO:40.379717;-75.799139
X-APPLE-STRUCTURED-LOCATION;VALUE=URI;X-ADDRESS=Oley Valley Elementary School 3247 Friedensburg Road Oley PA 19547 United States;X-APPLE-RADIUS=500;X-TITLE=3247 Friedensburg Road:geo:-75.799139,40.379717
END:VEVENT
BEGIN:VEVENT
DTSTART;TZID=America/New_York:20150906T100000
DTEND;TZID=America/New_York:20150906T113000
DTSTAMP:20260422T175435
CREATED:20150315T185919Z
LAST-MODIFIED:20220919T003711Z
UID:10001312-1441533600-1441539000@ccoley.com
SUMMARY:Worship Service
DESCRIPTION:We are currently studying 1 Corinthians.
URL:https://ccoley.com/event/worship-service/2015-09-06/
LOCATION:Oley Valley Elementary School\, 3247 Friedensburg Road\, Oley\, PA\, 19547\, United States
CATEGORIES:Worship Service
ORGANIZER;CN="Pastor Fred Bell":MAILTO:pastorfred@ccoley.com
GEO:40.379717;-75.799139
X-APPLE-STRUCTURED-LOCATION;VALUE=URI;X-ADDRESS=Oley Valley Elementary School 3247 Friedensburg Road Oley PA 19547 United States;X-APPLE-RADIUS=500;X-TITLE=3247 Friedensburg Road:geo:-75.799139,40.379717
END:VEVENT
BEGIN:VEVENT
DTSTART;TZID=America/New_York:20150908T190000
DTEND;TZID=America/New_York:20150908T200000
DTSTAMP:20260422T175435
CREATED:20150318T144843Z
LAST-MODIFIED:20181126T152653Z
UID:10001141-1441738800-1441742400@ccoley.com
SUMMARY:Elder's Meeting
DESCRIPTION:
URL:https://ccoley.com/event/elders-meeting/2015-09-08/
LOCATION:Pastor Fred’s Office\, 603 Main Street\, Oley\, PA\, 19547\, United States
CATEGORIES:Elders
ORGANIZER;CN="Pastor Fred Bell":MAILTO:pastorfred@ccoley.com
GEO:40.385459;-75.785408
X-APPLE-STRUCTURED-LOCATION;VALUE=URI;X-ADDRESS=Pastor Fred’s Office 603 Main Street Oley PA 19547 United States;X-APPLE-RADIUS=500;X-TITLE=603 Main Street:geo:-75.785408,40.385459
END:VEVENT
BEGIN:VEVENT
DTSTART;TZID=America/New_York:20150912T080000
DTEND;TZID=America/New_York:20150912T090000
DTSTAMP:20260422T175435
CREATED:20150315T190521Z
LAST-MODIFIED:20231203T181823Z
UID:10001550-1442044800-1442048400@ccoley.com
SUMMARY:Men's Fellowship Breakfast
DESCRIPTION:
URL:https://ccoley.com/event/mens-fellowship-breakfast/2015-09-12/
LOCATION:Andy Giangiacomo\, 129 Oak Lane\, Fleetwood\, PA\, 19522\, United States
CATEGORIES:Men's Fellowship
ORGANIZER;CN="Andy Giangiacomo":MAILTO:sherandgia@msn.com
GEO:40.429365;-75.813973
X-APPLE-STRUCTURED-LOCATION;VALUE=URI;X-ADDRESS=Andy Giangiacomo 129 Oak Lane Fleetwood PA 19522 United States;X-APPLE-RADIUS=500;X-TITLE=129 Oak Lane:geo:-75.813973,40.429365
END:VEVENT
BEGIN:VEVENT
DTSTART;TZID=America/New_York:20150913T100000
DTEND;TZID=America/New_York:20150913T113000
DTSTAMP:20260422T175435
CREATED:20150315T185919Z
LAST-MODIFIED:20220919T003711Z
UID:10001313-1442138400-1442143800@ccoley.com
SUMMARY:Worship Service
DESCRIPTION:We are currently studying 1 Corinthians.
URL:https://ccoley.com/event/worship-service/2015-09-13/
LOCATION:Oley Valley Elementary School\, 3247 Friedensburg Road\, Oley\, PA\, 19547\, United States
CATEGORIES:Worship Service
ORGANIZER;CN="Pastor Fred Bell":MAILTO:pastorfred@ccoley.com
GEO:40.379717;-75.799139
X-APPLE-STRUCTURED-LOCATION;VALUE=URI;X-ADDRESS=Oley Valley Elementary School 3247 Friedensburg Road Oley PA 19547 United States;X-APPLE-RADIUS=500;X-TITLE=3247 Friedensburg Road:geo:-75.799139,40.379717
END:VEVENT
BEGIN:VEVENT
DTSTART;TZID=America/New_York:20150920T100000
DTEND;TZID=America/New_York:20150920T113000
DTSTAMP:20260422T175435
CREATED:20150315T185919Z
LAST-MODIFIED:20220919T003711Z
UID:10001314-1442743200-1442748600@ccoley.com
SUMMARY:Worship Service
DESCRIPTION:We are currently studying 1 Corinthians.
URL:https://ccoley.com/event/worship-service/2015-09-20/
LOCATION:Oley Valley Elementary School\, 3247 Friedensburg Road\, Oley\, PA\, 19547\, United States
CATEGORIES:Worship Service
ORGANIZER;CN="Pastor Fred Bell":MAILTO:pastorfred@ccoley.com
GEO:40.379717;-75.799139
X-APPLE-STRUCTURED-LOCATION;VALUE=URI;X-ADDRESS=Oley Valley Elementary School 3247 Friedensburg Road Oley PA 19547 United States;X-APPLE-RADIUS=500;X-TITLE=3247 Friedensburg Road:geo:-75.799139,40.379717
END:VEVENT
BEGIN:VEVENT
DTSTART;TZID=America/New_York:20150927T100000
DTEND;TZID=America/New_York:20150927T113000
DTSTAMP:20260422T175435
CREATED:20150315T185919Z
LAST-MODIFIED:20220919T003711Z
UID:10001315-1443348000-1443353400@ccoley.com
SUMMARY:Worship Service
DESCRIPTION:We are currently studying 1 Corinthians.
URL:https://ccoley.com/event/worship-service/2015-09-27/
LOCATION:Oley Valley Elementary School\, 3247 Friedensburg Road\, Oley\, PA\, 19547\, United States
CATEGORIES:Worship Service
ORGANIZER;CN="Pastor Fred Bell":MAILTO:pastorfred@ccoley.com
GEO:40.379717;-75.799139
X-APPLE-STRUCTURED-LOCATION;VALUE=URI;X-ADDRESS=Oley Valley Elementary School 3247 Friedensburg Road Oley PA 19547 United States;X-APPLE-RADIUS=500;X-TITLE=3247 Friedensburg Road:geo:-75.799139,40.379717
END:VEVENT
BEGIN:VEVENT
DTSTART;TZID=America/New_York:20151004T100000
DTEND;TZID=America/New_York:20151004T113000
DTSTAMP:20260422T175435
CREATED:20150315T185919Z
LAST-MODIFIED:20220919T003711Z
UID:10001316-1443952800-1443958200@ccoley.com
SUMMARY:Worship Service
DESCRIPTION:We are currently studying 1 Corinthians.
URL:https://ccoley.com/event/worship-service/2015-10-04/
LOCATION:Oley Valley Elementary School\, 3247 Friedensburg Road\, Oley\, PA\, 19547\, United States
CATEGORIES:Worship Service
ORGANIZER;CN="Pastor Fred Bell":MAILTO:pastorfred@ccoley.com
GEO:40.379717;-75.799139
X-APPLE-STRUCTURED-LOCATION;VALUE=URI;X-ADDRESS=Oley Valley Elementary School 3247 Friedensburg Road Oley PA 19547 United States;X-APPLE-RADIUS=500;X-TITLE=3247 Friedensburg Road:geo:-75.799139,40.379717
END:VEVENT
BEGIN:VEVENT
DTSTART;TZID=America/New_York:20151010T080000
DTEND;TZID=America/New_York:20151010T090000
DTSTAMP:20260422T175435
CREATED:20150315T190521Z
LAST-MODIFIED:20231203T181823Z
UID:10001551-1444464000-1444467600@ccoley.com
SUMMARY:Men's Fellowship Breakfast
DESCRIPTION:
URL:https://ccoley.com/event/mens-fellowship-breakfast/2015-10-10/
LOCATION:Andy Giangiacomo\, 129 Oak Lane\, Fleetwood\, PA\, 19522\, United States
CATEGORIES:Men's Fellowship
ORGANIZER;CN="Andy Giangiacomo":MAILTO:sherandgia@msn.com
GEO:40.429365;-75.813973
X-APPLE-STRUCTURED-LOCATION;VALUE=URI;X-ADDRESS=Andy Giangiacomo 129 Oak Lane Fleetwood PA 19522 United States;X-APPLE-RADIUS=500;X-TITLE=129 Oak Lane:geo:-75.813973,40.429365
END:VEVENT
BEGIN:VEVENT
DTSTART;TZID=America/New_York:20151011T100000
DTEND;TZID=America/New_York:20151011T113000
DTSTAMP:20260422T175435
CREATED:20150315T185919Z
LAST-MODIFIED:20220919T003711Z
UID:10001317-1444557600-1444563000@ccoley.com
SUMMARY:Worship Service
DESCRIPTION:We are currently studying 1 Corinthians.
URL:https://ccoley.com/event/worship-service/2015-10-11/
LOCATION:Oley Valley Elementary School\, 3247 Friedensburg Road\, Oley\, PA\, 19547\, United States
CATEGORIES:Worship Service
ORGANIZER;CN="Pastor Fred Bell":MAILTO:pastorfred@ccoley.com
GEO:40.379717;-75.799139
X-APPLE-STRUCTURED-LOCATION;VALUE=URI;X-ADDRESS=Oley Valley Elementary School 3247 Friedensburg Road Oley PA 19547 United States;X-APPLE-RADIUS=500;X-TITLE=3247 Friedensburg Road:geo:-75.799139,40.379717
END:VEVENT
BEGIN:VEVENT
DTSTART;TZID=America/New_York:20151013T190000
DTEND;TZID=America/New_York:20151013T200000
DTSTAMP:20260422T175435
CREATED:20150318T144843Z
LAST-MODIFIED:20181126T152653Z
UID:10001142-1444762800-1444766400@ccoley.com
SUMMARY:Elder's Meeting
DESCRIPTION:
URL:https://ccoley.com/event/elders-meeting/2015-10-13/
LOCATION:Pastor Fred’s Office\, 603 Main Street\, Oley\, PA\, 19547\, United States
CATEGORIES:Elders
ORGANIZER;CN="Pastor Fred Bell":MAILTO:pastorfred@ccoley.com
GEO:40.385459;-75.785408
X-APPLE-STRUCTURED-LOCATION;VALUE=URI;X-ADDRESS=Pastor Fred’s Office 603 Main Street Oley PA 19547 United States;X-APPLE-RADIUS=500;X-TITLE=603 Main Street:geo:-75.785408,40.385459
END:VEVENT
BEGIN:VEVENT
DTSTART;TZID=America/New_York:20151018T100000
DTEND;TZID=America/New_York:20151018T113000
DTSTAMP:20260422T175435
CREATED:20150315T185919Z
LAST-MODIFIED:20220919T003711Z
UID:10001318-1445162400-1445167800@ccoley.com
SUMMARY:Worship Service
DESCRIPTION:We are currently studying 1 Corinthians.
URL:https://ccoley.com/event/worship-service/2015-10-18/
LOCATION:Oley Valley Elementary School\, 3247 Friedensburg Road\, Oley\, PA\, 19547\, United States
CATEGORIES:Worship Service
ORGANIZER;CN="Pastor Fred Bell":MAILTO:pastorfred@ccoley.com
GEO:40.379717;-75.799139
X-APPLE-STRUCTURED-LOCATION;VALUE=URI;X-ADDRESS=Oley Valley Elementary School 3247 Friedensburg Road Oley PA 19547 United States;X-APPLE-RADIUS=500;X-TITLE=3247 Friedensburg Road:geo:-75.799139,40.379717
END:VEVENT
BEGIN:VEVENT
DTSTART;TZID=America/New_York:20151025T100000
DTEND;TZID=America/New_York:20151025T113000
DTSTAMP:20260422T175435
CREATED:20150315T185919Z
LAST-MODIFIED:20220919T003711Z
UID:10001319-1445767200-1445772600@ccoley.com
SUMMARY:Worship Service
DESCRIPTION:We are currently studying 1 Corinthians.
URL:https://ccoley.com/event/worship-service/2015-10-25/
LOCATION:Oley Valley Elementary School\, 3247 Friedensburg Road\, Oley\, PA\, 19547\, United States
CATEGORIES:Worship Service
ORGANIZER;CN="Pastor Fred Bell":MAILTO:pastorfred@ccoley.com
GEO:40.379717;-75.799139
X-APPLE-STRUCTURED-LOCATION;VALUE=URI;X-ADDRESS=Oley Valley Elementary School 3247 Friedensburg Road Oley PA 19547 United States;X-APPLE-RADIUS=500;X-TITLE=3247 Friedensburg Road:geo:-75.799139,40.379717
END:VEVENT
BEGIN:VEVENT
DTSTART;TZID=America/New_York:20151101T100000
DTEND;TZID=America/New_York:20151101T113000
DTSTAMP:20260422T175435
CREATED:20150315T185919Z
LAST-MODIFIED:20220919T003711Z
UID:10001320-1446372000-1446377400@ccoley.com
SUMMARY:Worship Service
DESCRIPTION:We are currently studying 1 Corinthians.
URL:https://ccoley.com/event/worship-service/2015-11-01/
LOCATION:Oley Valley Elementary School\, 3247 Friedensburg Road\, Oley\, PA\, 19547\, United States
CATEGORIES:Worship Service
ORGANIZER;CN="Pastor Fred Bell":MAILTO:pastorfred@ccoley.com
GEO:40.379717;-75.799139
X-APPLE-STRUCTURED-LOCATION;VALUE=URI;X-ADDRESS=Oley Valley Elementary School 3247 Friedensburg Road Oley PA 19547 United States;X-APPLE-RADIUS=500;X-TITLE=3247 Friedensburg Road:geo:-75.799139,40.379717
END:VEVENT
BEGIN:VEVENT
DTSTART;TZID=America/New_York:20151108T100000
DTEND;TZID=America/New_York:20151108T113000
DTSTAMP:20260422T175435
CREATED:20150315T185919Z
LAST-MODIFIED:20220919T003711Z
UID:10001321-1446976800-1446982200@ccoley.com
SUMMARY:Worship Service
DESCRIPTION:We are currently studying 1 Corinthians.
URL:https://ccoley.com/event/worship-service/2015-11-08/
LOCATION:Oley Valley Elementary School\, 3247 Friedensburg Road\, Oley\, PA\, 19547\, United States
CATEGORIES:Worship Service
ORGANIZER;CN="Pastor Fred Bell":MAILTO:pastorfred@ccoley.com
GEO:40.379717;-75.799139
X-APPLE-STRUCTURED-LOCATION;VALUE=URI;X-ADDRESS=Oley Valley Elementary School 3247 Friedensburg Road Oley PA 19547 United States;X-APPLE-RADIUS=500;X-TITLE=3247 Friedensburg Road:geo:-75.799139,40.379717
END:VEVENT
BEGIN:VEVENT
DTSTART;TZID=America/New_York:20151110T190000
DTEND;TZID=America/New_York:20151110T200000
DTSTAMP:20260422T175435
CREATED:20150318T144843Z
LAST-MODIFIED:20181126T152653Z
UID:10001143-1447182000-1447185600@ccoley.com
SUMMARY:Elder's Meeting
DESCRIPTION:
URL:https://ccoley.com/event/elders-meeting/2015-11-10/
LOCATION:Pastor Fred’s Office\, 603 Main Street\, Oley\, PA\, 19547\, United States
CATEGORIES:Elders
ORGANIZER;CN="Pastor Fred Bell":MAILTO:pastorfred@ccoley.com
GEO:40.385459;-75.785408
X-APPLE-STRUCTURED-LOCATION;VALUE=URI;X-ADDRESS=Pastor Fred’s Office 603 Main Street Oley PA 19547 United States;X-APPLE-RADIUS=500;X-TITLE=603 Main Street:geo:-75.785408,40.385459
END:VEVENT
BEGIN:VEVENT
DTSTART;TZID=America/New_York:20151114T080000
DTEND;TZID=America/New_York:20151114T090000
DTSTAMP:20260422T175435
CREATED:20150315T190521Z
LAST-MODIFIED:20231203T181823Z
UID:10001552-1447488000-1447491600@ccoley.com
SUMMARY:Men's Fellowship Breakfast
DESCRIPTION:
URL:https://ccoley.com/event/mens-fellowship-breakfast/2015-11-14/
LOCATION:Andy Giangiacomo\, 129 Oak Lane\, Fleetwood\, PA\, 19522\, United States
CATEGORIES:Men's Fellowship
ORGANIZER;CN="Andy Giangiacomo":MAILTO:sherandgia@msn.com
GEO:40.429365;-75.813973
X-APPLE-STRUCTURED-LOCATION;VALUE=URI;X-ADDRESS=Andy Giangiacomo 129 Oak Lane Fleetwood PA 19522 United States;X-APPLE-RADIUS=500;X-TITLE=129 Oak Lane:geo:-75.813973,40.429365
END:VEVENT
BEGIN:VEVENT
DTSTART;TZID=America/New_York:20151115T100000
DTEND;TZID=America/New_York:20151115T113000
DTSTAMP:20260422T175435
CREATED:20150315T185919Z
LAST-MODIFIED:20220919T003711Z
UID:10001322-1447581600-1447587000@ccoley.com
SUMMARY:Worship Service
DESCRIPTION:We are currently studying 1 Corinthians.
URL:https://ccoley.com/event/worship-service/2015-11-15/
LOCATION:Oley Valley Elementary School\, 3247 Friedensburg Road\, Oley\, PA\, 19547\, United States
CATEGORIES:Worship Service
ORGANIZER;CN="Pastor Fred Bell":MAILTO:pastorfred@ccoley.com
GEO:40.379717;-75.799139
X-APPLE-STRUCTURED-LOCATION;VALUE=URI;X-ADDRESS=Oley Valley Elementary School 3247 Friedensburg Road Oley PA 19547 United States;X-APPLE-RADIUS=500;X-TITLE=3247 Friedensburg Road:geo:-75.799139,40.379717
END:VEVENT
END:VCALENDAR