BEGIN:VCALENDAR
VERSION:2.0
PRODID:-//Calvary Chapel of the Oley Valley - ECPv6.15.20//NONSGML v1.0//EN
CALSCALE:GREGORIAN
METHOD:PUBLISH
X-WR-CALNAME:Calvary Chapel of the Oley Valley
X-ORIGINAL-URL:https://ccoley.com
X-WR-CALDESC:Events for Calvary Chapel of the Oley Valley
REFRESH-INTERVAL;VALUE=DURATION:PT1H
X-Robots-Tag:noindex
X-PUBLISHED-TTL:PT1H
BEGIN:VTIMEZONE
TZID:America/New_York
BEGIN:DAYLIGHT
TZOFFSETFROM:-0500
TZOFFSETTO:-0400
TZNAME:EDT
DTSTART:20160313T070000
END:DAYLIGHT
BEGIN:STANDARD
TZOFFSETFROM:-0400
TZOFFSETTO:-0500
TZNAME:EST
DTSTART:20161106T060000
END:STANDARD
BEGIN:DAYLIGHT
TZOFFSETFROM:-0500
TZOFFSETTO:-0400
TZNAME:EDT
DTSTART:20170312T070000
END:DAYLIGHT
BEGIN:STANDARD
TZOFFSETFROM:-0400
TZOFFSETTO:-0500
TZNAME:EST
DTSTART:20171105T060000
END:STANDARD
BEGIN:DAYLIGHT
TZOFFSETFROM:-0500
TZOFFSETTO:-0400
TZNAME:EDT
DTSTART:20180311T070000
END:DAYLIGHT
BEGIN:STANDARD
TZOFFSETFROM:-0400
TZOFFSETTO:-0500
TZNAME:EST
DTSTART:20181104T060000
END:STANDARD
END:VTIMEZONE
BEGIN:VEVENT
DTSTART;TZID=America/New_York:20170509T190000
DTEND;TZID=America/New_York:20170509T200000
DTSTAMP:20260424T102904
CREATED:20150318T144843Z
LAST-MODIFIED:20181126T152653Z
UID:10001161-1494356400-1494360000@ccoley.com
SUMMARY:Elder's Meeting
DESCRIPTION:
URL:https://ccoley.com/event/elders-meeting/2017-05-09/
LOCATION:Pastor Fred’s Office\, 603 Main Street\, Oley\, PA\, 19547\, United States
CATEGORIES:Elders
ORGANIZER;CN="Pastor Fred Bell":MAILTO:pastorfred@ccoley.com
GEO:40.385459;-75.785408
X-APPLE-STRUCTURED-LOCATION;VALUE=URI;X-ADDRESS=Pastor Fred’s Office 603 Main Street Oley PA 19547 United States;X-APPLE-RADIUS=500;X-TITLE=603 Main Street:geo:-75.785408,40.385459
END:VEVENT
BEGIN:VEVENT
DTSTART;TZID=America/New_York:20170513T080000
DTEND;TZID=America/New_York:20170513T090000
DTSTAMP:20260424T102904
CREATED:20150315T190521Z
LAST-MODIFIED:20231203T181823Z
UID:10001569-1494662400-1494666000@ccoley.com
SUMMARY:Men's Fellowship Breakfast
DESCRIPTION:
URL:https://ccoley.com/event/mens-fellowship-breakfast/2017-05-13/
LOCATION:Andy Giangiacomo\, 129 Oak Lane\, Fleetwood\, PA\, 19522\, United States
CATEGORIES:Men's Fellowship
ORGANIZER;CN="Andy Giangiacomo":MAILTO:sherandgia@msn.com
GEO:40.429365;-75.813973
X-APPLE-STRUCTURED-LOCATION;VALUE=URI;X-ADDRESS=Andy Giangiacomo 129 Oak Lane Fleetwood PA 19522 United States;X-APPLE-RADIUS=500;X-TITLE=129 Oak Lane:geo:-75.813973,40.429365
END:VEVENT
BEGIN:VEVENT
DTSTART;TZID=America/New_York:20170514T100000
DTEND;TZID=America/New_York:20170514T113000
DTSTAMP:20260424T102904
CREATED:20150315T185919Z
LAST-MODIFIED:20220919T003711Z
UID:10001400-1494756000-1494761400@ccoley.com
SUMMARY:Worship Service
DESCRIPTION:We are currently studying 1 Corinthians.
URL:https://ccoley.com/event/worship-service/2017-05-14/
LOCATION:Oley Valley Elementary School\, 3247 Friedensburg Road\, Oley\, PA\, 19547\, United States
CATEGORIES:Worship Service
ORGANIZER;CN="Pastor Fred Bell":MAILTO:pastorfred@ccoley.com
GEO:40.379717;-75.799139
X-APPLE-STRUCTURED-LOCATION;VALUE=URI;X-ADDRESS=Oley Valley Elementary School 3247 Friedensburg Road Oley PA 19547 United States;X-APPLE-RADIUS=500;X-TITLE=3247 Friedensburg Road:geo:-75.799139,40.379717
END:VEVENT
BEGIN:VEVENT
DTSTART;TZID=America/New_York:20170521T100000
DTEND;TZID=America/New_York:20170521T113000
DTSTAMP:20260424T102904
CREATED:20150315T185919Z
LAST-MODIFIED:20220919T003711Z
UID:10001401-1495360800-1495366200@ccoley.com
SUMMARY:Worship Service
DESCRIPTION:We are currently studying 1 Corinthians.
URL:https://ccoley.com/event/worship-service/2017-05-21/
LOCATION:Oley Valley Elementary School\, 3247 Friedensburg Road\, Oley\, PA\, 19547\, United States
CATEGORIES:Worship Service
ORGANIZER;CN="Pastor Fred Bell":MAILTO:pastorfred@ccoley.com
GEO:40.379717;-75.799139
X-APPLE-STRUCTURED-LOCATION;VALUE=URI;X-ADDRESS=Oley Valley Elementary School 3247 Friedensburg Road Oley PA 19547 United States;X-APPLE-RADIUS=500;X-TITLE=3247 Friedensburg Road:geo:-75.799139,40.379717
END:VEVENT
BEGIN:VEVENT
DTSTART;TZID=America/New_York:20170528T100000
DTEND;TZID=America/New_York:20170528T113000
DTSTAMP:20260424T102904
CREATED:20150315T185919Z
LAST-MODIFIED:20220919T003711Z
UID:10001402-1495965600-1495971000@ccoley.com
SUMMARY:Worship Service
DESCRIPTION:We are currently studying 1 Corinthians.
URL:https://ccoley.com/event/worship-service/2017-05-28/
LOCATION:Oley Valley Elementary School\, 3247 Friedensburg Road\, Oley\, PA\, 19547\, United States
CATEGORIES:Worship Service
ORGANIZER;CN="Pastor Fred Bell":MAILTO:pastorfred@ccoley.com
GEO:40.379717;-75.799139
X-APPLE-STRUCTURED-LOCATION;VALUE=URI;X-ADDRESS=Oley Valley Elementary School 3247 Friedensburg Road Oley PA 19547 United States;X-APPLE-RADIUS=500;X-TITLE=3247 Friedensburg Road:geo:-75.799139,40.379717
END:VEVENT
BEGIN:VEVENT
DTSTART;TZID=America/New_York:20170604T100000
DTEND;TZID=America/New_York:20170604T113000
DTSTAMP:20260424T102904
CREATED:20150315T185919Z
LAST-MODIFIED:20220919T003711Z
UID:10001403-1496570400-1496575800@ccoley.com
SUMMARY:Worship Service
DESCRIPTION:We are currently studying 1 Corinthians.
URL:https://ccoley.com/event/worship-service/2017-06-04/
LOCATION:Oley Valley Elementary School\, 3247 Friedensburg Road\, Oley\, PA\, 19547\, United States
CATEGORIES:Worship Service
ORGANIZER;CN="Pastor Fred Bell":MAILTO:pastorfred@ccoley.com
GEO:40.379717;-75.799139
X-APPLE-STRUCTURED-LOCATION;VALUE=URI;X-ADDRESS=Oley Valley Elementary School 3247 Friedensburg Road Oley PA 19547 United States;X-APPLE-RADIUS=500;X-TITLE=3247 Friedensburg Road:geo:-75.799139,40.379717
END:VEVENT
BEGIN:VEVENT
DTSTART;TZID=America/New_York:20170610T080000
DTEND;TZID=America/New_York:20170610T090000
DTSTAMP:20260424T102904
CREATED:20150315T190521Z
LAST-MODIFIED:20231203T181823Z
UID:10001570-1497081600-1497085200@ccoley.com
SUMMARY:Men's Fellowship Breakfast
DESCRIPTION:
URL:https://ccoley.com/event/mens-fellowship-breakfast/2017-06-10/
LOCATION:Andy Giangiacomo\, 129 Oak Lane\, Fleetwood\, PA\, 19522\, United States
CATEGORIES:Men's Fellowship
ORGANIZER;CN="Andy Giangiacomo":MAILTO:sherandgia@msn.com
GEO:40.429365;-75.813973
X-APPLE-STRUCTURED-LOCATION;VALUE=URI;X-ADDRESS=Andy Giangiacomo 129 Oak Lane Fleetwood PA 19522 United States;X-APPLE-RADIUS=500;X-TITLE=129 Oak Lane:geo:-75.813973,40.429365
END:VEVENT
BEGIN:VEVENT
DTSTART;TZID=America/New_York:20170611T100000
DTEND;TZID=America/New_York:20170611T113000
DTSTAMP:20260424T102904
CREATED:20150315T185919Z
LAST-MODIFIED:20220919T003711Z
UID:10001404-1497175200-1497180600@ccoley.com
SUMMARY:Worship Service
DESCRIPTION:We are currently studying 1 Corinthians.
URL:https://ccoley.com/event/worship-service/2017-06-11/
LOCATION:Oley Valley Elementary School\, 3247 Friedensburg Road\, Oley\, PA\, 19547\, United States
CATEGORIES:Worship Service
ORGANIZER;CN="Pastor Fred Bell":MAILTO:pastorfred@ccoley.com
GEO:40.379717;-75.799139
X-APPLE-STRUCTURED-LOCATION;VALUE=URI;X-ADDRESS=Oley Valley Elementary School 3247 Friedensburg Road Oley PA 19547 United States;X-APPLE-RADIUS=500;X-TITLE=3247 Friedensburg Road:geo:-75.799139,40.379717
END:VEVENT
BEGIN:VEVENT
DTSTART;TZID=America/New_York:20170613T190000
DTEND;TZID=America/New_York:20170613T200000
DTSTAMP:20260424T102904
CREATED:20150318T144843Z
LAST-MODIFIED:20181126T152653Z
UID:10001162-1497380400-1497384000@ccoley.com
SUMMARY:Elder's Meeting
DESCRIPTION:
URL:https://ccoley.com/event/elders-meeting/2017-06-13/
LOCATION:Pastor Fred’s Office\, 603 Main Street\, Oley\, PA\, 19547\, United States
CATEGORIES:Elders
ORGANIZER;CN="Pastor Fred Bell":MAILTO:pastorfred@ccoley.com
GEO:40.385459;-75.785408
X-APPLE-STRUCTURED-LOCATION;VALUE=URI;X-ADDRESS=Pastor Fred’s Office 603 Main Street Oley PA 19547 United States;X-APPLE-RADIUS=500;X-TITLE=603 Main Street:geo:-75.785408,40.385459
END:VEVENT
BEGIN:VEVENT
DTSTART;TZID=America/New_York:20170618T100000
DTEND;TZID=America/New_York:20170618T113000
DTSTAMP:20260424T102904
CREATED:20150315T185919Z
LAST-MODIFIED:20220919T003711Z
UID:10001405-1497780000-1497785400@ccoley.com
SUMMARY:Worship Service
DESCRIPTION:We are currently studying 1 Corinthians.
URL:https://ccoley.com/event/worship-service/2017-06-18/
LOCATION:Oley Valley Elementary School\, 3247 Friedensburg Road\, Oley\, PA\, 19547\, United States
CATEGORIES:Worship Service
ORGANIZER;CN="Pastor Fred Bell":MAILTO:pastorfred@ccoley.com
GEO:40.379717;-75.799139
X-APPLE-STRUCTURED-LOCATION;VALUE=URI;X-ADDRESS=Oley Valley Elementary School 3247 Friedensburg Road Oley PA 19547 United States;X-APPLE-RADIUS=500;X-TITLE=3247 Friedensburg Road:geo:-75.799139,40.379717
END:VEVENT
BEGIN:VEVENT
DTSTART;TZID=America/New_York:20170625T100000
DTEND;TZID=America/New_York:20170625T113000
DTSTAMP:20260424T102904
CREATED:20150315T185919Z
LAST-MODIFIED:20220919T003711Z
UID:10001406-1498384800-1498390200@ccoley.com
SUMMARY:Worship Service
DESCRIPTION:We are currently studying 1 Corinthians.
URL:https://ccoley.com/event/worship-service/2017-06-25/
LOCATION:Oley Valley Elementary School\, 3247 Friedensburg Road\, Oley\, PA\, 19547\, United States
CATEGORIES:Worship Service
ORGANIZER;CN="Pastor Fred Bell":MAILTO:pastorfred@ccoley.com
GEO:40.379717;-75.799139
X-APPLE-STRUCTURED-LOCATION;VALUE=URI;X-ADDRESS=Oley Valley Elementary School 3247 Friedensburg Road Oley PA 19547 United States;X-APPLE-RADIUS=500;X-TITLE=3247 Friedensburg Road:geo:-75.799139,40.379717
END:VEVENT
BEGIN:VEVENT
DTSTART;TZID=America/New_York:20170702T100000
DTEND;TZID=America/New_York:20170702T113000
DTSTAMP:20260424T102904
CREATED:20150315T185919Z
LAST-MODIFIED:20220919T003711Z
UID:10001407-1498989600-1498995000@ccoley.com
SUMMARY:Worship Service
DESCRIPTION:We are currently studying 1 Corinthians.
URL:https://ccoley.com/event/worship-service/2017-07-02/
LOCATION:Oley Valley Elementary School\, 3247 Friedensburg Road\, Oley\, PA\, 19547\, United States
CATEGORIES:Worship Service
ORGANIZER;CN="Pastor Fred Bell":MAILTO:pastorfred@ccoley.com
GEO:40.379717;-75.799139
X-APPLE-STRUCTURED-LOCATION;VALUE=URI;X-ADDRESS=Oley Valley Elementary School 3247 Friedensburg Road Oley PA 19547 United States;X-APPLE-RADIUS=500;X-TITLE=3247 Friedensburg Road:geo:-75.799139,40.379717
END:VEVENT
BEGIN:VEVENT
DTSTART;TZID=America/New_York:20170708T080000
DTEND;TZID=America/New_York:20170708T090000
DTSTAMP:20260424T102904
CREATED:20150315T190521Z
LAST-MODIFIED:20231203T181823Z
UID:10001571-1499500800-1499504400@ccoley.com
SUMMARY:Men's Fellowship Breakfast
DESCRIPTION:
URL:https://ccoley.com/event/mens-fellowship-breakfast/2017-07-08/
LOCATION:Andy Giangiacomo\, 129 Oak Lane\, Fleetwood\, PA\, 19522\, United States
CATEGORIES:Men's Fellowship
ORGANIZER;CN="Andy Giangiacomo":MAILTO:sherandgia@msn.com
GEO:40.429365;-75.813973
X-APPLE-STRUCTURED-LOCATION;VALUE=URI;X-ADDRESS=Andy Giangiacomo 129 Oak Lane Fleetwood PA 19522 United States;X-APPLE-RADIUS=500;X-TITLE=129 Oak Lane:geo:-75.813973,40.429365
END:VEVENT
BEGIN:VEVENT
DTSTART;TZID=America/New_York:20170709T100000
DTEND;TZID=America/New_York:20170709T113000
DTSTAMP:20260424T102904
CREATED:20150315T185919Z
LAST-MODIFIED:20220919T003711Z
UID:10001408-1499594400-1499599800@ccoley.com
SUMMARY:Worship Service
DESCRIPTION:We are currently studying 1 Corinthians.
URL:https://ccoley.com/event/worship-service/2017-07-09/
LOCATION:Oley Valley Elementary School\, 3247 Friedensburg Road\, Oley\, PA\, 19547\, United States
CATEGORIES:Worship Service
ORGANIZER;CN="Pastor Fred Bell":MAILTO:pastorfred@ccoley.com
GEO:40.379717;-75.799139
X-APPLE-STRUCTURED-LOCATION;VALUE=URI;X-ADDRESS=Oley Valley Elementary School 3247 Friedensburg Road Oley PA 19547 United States;X-APPLE-RADIUS=500;X-TITLE=3247 Friedensburg Road:geo:-75.799139,40.379717
END:VEVENT
BEGIN:VEVENT
DTSTART;TZID=America/New_York:20170711T190000
DTEND;TZID=America/New_York:20170711T200000
DTSTAMP:20260424T102904
CREATED:20150318T144843Z
LAST-MODIFIED:20181126T152653Z
UID:10001163-1499799600-1499803200@ccoley.com
SUMMARY:Elder's Meeting
DESCRIPTION:
URL:https://ccoley.com/event/elders-meeting/2017-07-11/
LOCATION:Pastor Fred’s Office\, 603 Main Street\, Oley\, PA\, 19547\, United States
CATEGORIES:Elders
ORGANIZER;CN="Pastor Fred Bell":MAILTO:pastorfred@ccoley.com
GEO:40.385459;-75.785408
X-APPLE-STRUCTURED-LOCATION;VALUE=URI;X-ADDRESS=Pastor Fred’s Office 603 Main Street Oley PA 19547 United States;X-APPLE-RADIUS=500;X-TITLE=603 Main Street:geo:-75.785408,40.385459
END:VEVENT
BEGIN:VEVENT
DTSTART;TZID=America/New_York:20170716T100000
DTEND;TZID=America/New_York:20170716T113000
DTSTAMP:20260424T102904
CREATED:20150315T185919Z
LAST-MODIFIED:20220919T003711Z
UID:10001409-1500199200-1500204600@ccoley.com
SUMMARY:Worship Service
DESCRIPTION:We are currently studying 1 Corinthians.
URL:https://ccoley.com/event/worship-service/2017-07-16/
LOCATION:Oley Valley Elementary School\, 3247 Friedensburg Road\, Oley\, PA\, 19547\, United States
CATEGORIES:Worship Service
ORGANIZER;CN="Pastor Fred Bell":MAILTO:pastorfred@ccoley.com
GEO:40.379717;-75.799139
X-APPLE-STRUCTURED-LOCATION;VALUE=URI;X-ADDRESS=Oley Valley Elementary School 3247 Friedensburg Road Oley PA 19547 United States;X-APPLE-RADIUS=500;X-TITLE=3247 Friedensburg Road:geo:-75.799139,40.379717
END:VEVENT
BEGIN:VEVENT
DTSTART;TZID=America/New_York:20170723T100000
DTEND;TZID=America/New_York:20170723T113000
DTSTAMP:20260424T102904
CREATED:20150315T185919Z
LAST-MODIFIED:20220919T003711Z
UID:10001410-1500804000-1500809400@ccoley.com
SUMMARY:Worship Service
DESCRIPTION:We are currently studying 1 Corinthians.
URL:https://ccoley.com/event/worship-service/2017-07-23/
LOCATION:Oley Valley Elementary School\, 3247 Friedensburg Road\, Oley\, PA\, 19547\, United States
CATEGORIES:Worship Service
ORGANIZER;CN="Pastor Fred Bell":MAILTO:pastorfred@ccoley.com
GEO:40.379717;-75.799139
X-APPLE-STRUCTURED-LOCATION;VALUE=URI;X-ADDRESS=Oley Valley Elementary School 3247 Friedensburg Road Oley PA 19547 United States;X-APPLE-RADIUS=500;X-TITLE=3247 Friedensburg Road:geo:-75.799139,40.379717
END:VEVENT
BEGIN:VEVENT
DTSTART;TZID=America/New_York:20170730T100000
DTEND;TZID=America/New_York:20170730T113000
DTSTAMP:20260424T102904
CREATED:20150315T185919Z
LAST-MODIFIED:20220919T003711Z
UID:10001411-1501408800-1501414200@ccoley.com
SUMMARY:Worship Service
DESCRIPTION:We are currently studying 1 Corinthians.
URL:https://ccoley.com/event/worship-service/2017-07-30/
LOCATION:Oley Valley Elementary School\, 3247 Friedensburg Road\, Oley\, PA\, 19547\, United States
CATEGORIES:Worship Service
ORGANIZER;CN="Pastor Fred Bell":MAILTO:pastorfred@ccoley.com
GEO:40.379717;-75.799139
X-APPLE-STRUCTURED-LOCATION;VALUE=URI;X-ADDRESS=Oley Valley Elementary School 3247 Friedensburg Road Oley PA 19547 United States;X-APPLE-RADIUS=500;X-TITLE=3247 Friedensburg Road:geo:-75.799139,40.379717
END:VEVENT
BEGIN:VEVENT
DTSTART;TZID=America/New_York:20170806T100000
DTEND;TZID=America/New_York:20170806T113000
DTSTAMP:20260424T102904
CREATED:20150315T185919Z
LAST-MODIFIED:20220919T003711Z
UID:10001412-1502013600-1502019000@ccoley.com
SUMMARY:Worship Service
DESCRIPTION:We are currently studying 1 Corinthians.
URL:https://ccoley.com/event/worship-service/2017-08-06/
LOCATION:Oley Valley Elementary School\, 3247 Friedensburg Road\, Oley\, PA\, 19547\, United States
CATEGORIES:Worship Service
ORGANIZER;CN="Pastor Fred Bell":MAILTO:pastorfred@ccoley.com
GEO:40.379717;-75.799139
X-APPLE-STRUCTURED-LOCATION;VALUE=URI;X-ADDRESS=Oley Valley Elementary School 3247 Friedensburg Road Oley PA 19547 United States;X-APPLE-RADIUS=500;X-TITLE=3247 Friedensburg Road:geo:-75.799139,40.379717
END:VEVENT
BEGIN:VEVENT
DTSTART;TZID=America/New_York:20170808T190000
DTEND;TZID=America/New_York:20170808T200000
DTSTAMP:20260424T102904
CREATED:20150318T144843Z
LAST-MODIFIED:20181126T152653Z
UID:10001164-1502218800-1502222400@ccoley.com
SUMMARY:Elder's Meeting
DESCRIPTION:
URL:https://ccoley.com/event/elders-meeting/2017-08-08/
LOCATION:Pastor Fred’s Office\, 603 Main Street\, Oley\, PA\, 19547\, United States
CATEGORIES:Elders
ORGANIZER;CN="Pastor Fred Bell":MAILTO:pastorfred@ccoley.com
GEO:40.385459;-75.785408
X-APPLE-STRUCTURED-LOCATION;VALUE=URI;X-ADDRESS=Pastor Fred’s Office 603 Main Street Oley PA 19547 United States;X-APPLE-RADIUS=500;X-TITLE=603 Main Street:geo:-75.785408,40.385459
END:VEVENT
BEGIN:VEVENT
DTSTART;TZID=America/New_York:20170812T080000
DTEND;TZID=America/New_York:20170812T090000
DTSTAMP:20260424T102904
CREATED:20150315T190521Z
LAST-MODIFIED:20231203T181823Z
UID:10001572-1502524800-1502528400@ccoley.com
SUMMARY:Men's Fellowship Breakfast
DESCRIPTION:
URL:https://ccoley.com/event/mens-fellowship-breakfast/2017-08-12/
LOCATION:Andy Giangiacomo\, 129 Oak Lane\, Fleetwood\, PA\, 19522\, United States
CATEGORIES:Men's Fellowship
ORGANIZER;CN="Andy Giangiacomo":MAILTO:sherandgia@msn.com
GEO:40.429365;-75.813973
X-APPLE-STRUCTURED-LOCATION;VALUE=URI;X-ADDRESS=Andy Giangiacomo 129 Oak Lane Fleetwood PA 19522 United States;X-APPLE-RADIUS=500;X-TITLE=129 Oak Lane:geo:-75.813973,40.429365
END:VEVENT
BEGIN:VEVENT
DTSTART;TZID=America/New_York:20170813T100000
DTEND;TZID=America/New_York:20170813T113000
DTSTAMP:20260424T102904
CREATED:20150315T185919Z
LAST-MODIFIED:20220919T003711Z
UID:10001413-1502618400-1502623800@ccoley.com
SUMMARY:Worship Service
DESCRIPTION:We are currently studying 1 Corinthians.
URL:https://ccoley.com/event/worship-service/2017-08-13/
LOCATION:Oley Valley Elementary School\, 3247 Friedensburg Road\, Oley\, PA\, 19547\, United States
CATEGORIES:Worship Service
ORGANIZER;CN="Pastor Fred Bell":MAILTO:pastorfred@ccoley.com
GEO:40.379717;-75.799139
X-APPLE-STRUCTURED-LOCATION;VALUE=URI;X-ADDRESS=Oley Valley Elementary School 3247 Friedensburg Road Oley PA 19547 United States;X-APPLE-RADIUS=500;X-TITLE=3247 Friedensburg Road:geo:-75.799139,40.379717
END:VEVENT
BEGIN:VEVENT
DTSTART;TZID=America/New_York:20170820T100000
DTEND;TZID=America/New_York:20170820T113000
DTSTAMP:20260424T102904
CREATED:20150315T185919Z
LAST-MODIFIED:20220919T003711Z
UID:10001414-1503223200-1503228600@ccoley.com
SUMMARY:Worship Service
DESCRIPTION:We are currently studying 1 Corinthians.
URL:https://ccoley.com/event/worship-service/2017-08-20/
LOCATION:Oley Valley Elementary School\, 3247 Friedensburg Road\, Oley\, PA\, 19547\, United States
CATEGORIES:Worship Service
ORGANIZER;CN="Pastor Fred Bell":MAILTO:pastorfred@ccoley.com
GEO:40.379717;-75.799139
X-APPLE-STRUCTURED-LOCATION;VALUE=URI;X-ADDRESS=Oley Valley Elementary School 3247 Friedensburg Road Oley PA 19547 United States;X-APPLE-RADIUS=500;X-TITLE=3247 Friedensburg Road:geo:-75.799139,40.379717
END:VEVENT
BEGIN:VEVENT
DTSTART;TZID=America/New_York:20170827T100000
DTEND;TZID=America/New_York:20170827T113000
DTSTAMP:20260424T102904
CREATED:20150315T185919Z
LAST-MODIFIED:20220919T003711Z
UID:10001415-1503828000-1503833400@ccoley.com
SUMMARY:Worship Service
DESCRIPTION:We are currently studying 1 Corinthians.
URL:https://ccoley.com/event/worship-service/2017-08-27/
LOCATION:Oley Valley Elementary School\, 3247 Friedensburg Road\, Oley\, PA\, 19547\, United States
CATEGORIES:Worship Service
ORGANIZER;CN="Pastor Fred Bell":MAILTO:pastorfred@ccoley.com
GEO:40.379717;-75.799139
X-APPLE-STRUCTURED-LOCATION;VALUE=URI;X-ADDRESS=Oley Valley Elementary School 3247 Friedensburg Road Oley PA 19547 United States;X-APPLE-RADIUS=500;X-TITLE=3247 Friedensburg Road:geo:-75.799139,40.379717
END:VEVENT
BEGIN:VEVENT
DTSTART;TZID=America/New_York:20170903T100000
DTEND;TZID=America/New_York:20170903T113000
DTSTAMP:20260424T102904
CREATED:20150315T185919Z
LAST-MODIFIED:20220919T003711Z
UID:10001416-1504432800-1504438200@ccoley.com
SUMMARY:Worship Service
DESCRIPTION:We are currently studying 1 Corinthians.
URL:https://ccoley.com/event/worship-service/2017-09-03/
LOCATION:Oley Valley Elementary School\, 3247 Friedensburg Road\, Oley\, PA\, 19547\, United States
CATEGORIES:Worship Service
ORGANIZER;CN="Pastor Fred Bell":MAILTO:pastorfred@ccoley.com
GEO:40.379717;-75.799139
X-APPLE-STRUCTURED-LOCATION;VALUE=URI;X-ADDRESS=Oley Valley Elementary School 3247 Friedensburg Road Oley PA 19547 United States;X-APPLE-RADIUS=500;X-TITLE=3247 Friedensburg Road:geo:-75.799139,40.379717
END:VEVENT
BEGIN:VEVENT
DTSTART;TZID=America/New_York:20170909T080000
DTEND;TZID=America/New_York:20170909T090000
DTSTAMP:20260424T102904
CREATED:20150315T190521Z
LAST-MODIFIED:20231203T181823Z
UID:10001573-1504944000-1504947600@ccoley.com
SUMMARY:Men's Fellowship Breakfast
DESCRIPTION:
URL:https://ccoley.com/event/mens-fellowship-breakfast/2017-09-09/
LOCATION:Andy Giangiacomo\, 129 Oak Lane\, Fleetwood\, PA\, 19522\, United States
CATEGORIES:Men's Fellowship
ORGANIZER;CN="Andy Giangiacomo":MAILTO:sherandgia@msn.com
GEO:40.429365;-75.813973
X-APPLE-STRUCTURED-LOCATION;VALUE=URI;X-ADDRESS=Andy Giangiacomo 129 Oak Lane Fleetwood PA 19522 United States;X-APPLE-RADIUS=500;X-TITLE=129 Oak Lane:geo:-75.813973,40.429365
END:VEVENT
BEGIN:VEVENT
DTSTART;TZID=America/New_York:20170910T090000
DTEND;TZID=America/New_York:20170910T100000
DTSTAMP:20260424T102904
CREATED:20170828T135653Z
LAST-MODIFIED:20170828T135654Z
UID:10000082-1505034000-1505037600@ccoley.com
SUMMARY:Sunday Bible Study
DESCRIPTION:We are currently studying the Book of Matthew.
URL:https://ccoley.com/event/sunday-bible-study/2017-09-10/
LOCATION:Oley Valley Elementary School\, 3247 Friedensburg Road\, Oley\, PA\, 19547\, United States
CATEGORIES:Sunday Bible Study
ORGANIZER;CN="Oskars Rieksts":MAILTO:rieksts385@yahoo.com
GEO:40.379717;-75.799139
X-APPLE-STRUCTURED-LOCATION;VALUE=URI;X-ADDRESS=Oley Valley Elementary School 3247 Friedensburg Road Oley PA 19547 United States;X-APPLE-RADIUS=500;X-TITLE=3247 Friedensburg Road:geo:-75.799139,40.379717
END:VEVENT
BEGIN:VEVENT
DTSTART;TZID=America/New_York:20170910T100000
DTEND;TZID=America/New_York:20170910T113000
DTSTAMP:20260424T102904
CREATED:20150315T185919Z
LAST-MODIFIED:20220919T003711Z
UID:10001417-1505037600-1505043000@ccoley.com
SUMMARY:Worship Service
DESCRIPTION:We are currently studying 1 Corinthians.
URL:https://ccoley.com/event/worship-service/2017-09-10/
LOCATION:Oley Valley Elementary School\, 3247 Friedensburg Road\, Oley\, PA\, 19547\, United States
CATEGORIES:Worship Service
ORGANIZER;CN="Pastor Fred Bell":MAILTO:pastorfred@ccoley.com
GEO:40.379717;-75.799139
X-APPLE-STRUCTURED-LOCATION;VALUE=URI;X-ADDRESS=Oley Valley Elementary School 3247 Friedensburg Road Oley PA 19547 United States;X-APPLE-RADIUS=500;X-TITLE=3247 Friedensburg Road:geo:-75.799139,40.379717
END:VEVENT
BEGIN:VEVENT
DTSTART;TZID=America/New_York:20170912T091500
DTEND;TZID=America/New_York:20170912T120000
DTSTAMP:20260424T102904
CREATED:20170827T225448Z
LAST-MODIFIED:20170827T225449Z
UID:10000008-1505207700-1505217600@ccoley.com
SUMMARY:Women's Bible Study
DESCRIPTION:
URL:https://ccoley.com/event/womens-bible-study-4/2017-09-12/
LOCATION:Dave & Alice Coult\, 38 Heiligs School Road\, Oley\, PA\, 19547\, United States
CATEGORIES:Women's Bible Study
ORGANIZER;CN="Alice Coult":MAILTO:acoult@ptd.net
GEO:40.420843;-75.707817
X-APPLE-STRUCTURED-LOCATION;VALUE=URI;X-ADDRESS=Dave & Alice Coult 38 Heiligs School Road Oley PA 19547 United States;X-APPLE-RADIUS=500;X-TITLE=38 Heiligs School Road:geo:-75.707817,40.420843
END:VEVENT
BEGIN:VEVENT
DTSTART;TZID=America/New_York:20170912T190000
DTEND;TZID=America/New_York:20170912T200000
DTSTAMP:20260424T102904
CREATED:20150318T144843Z
LAST-MODIFIED:20181126T152653Z
UID:10001165-1505242800-1505246400@ccoley.com
SUMMARY:Elder's Meeting
DESCRIPTION:
URL:https://ccoley.com/event/elders-meeting/2017-09-12/
LOCATION:Pastor Fred’s Office\, 603 Main Street\, Oley\, PA\, 19547\, United States
CATEGORIES:Elders
ORGANIZER;CN="Pastor Fred Bell":MAILTO:pastorfred@ccoley.com
GEO:40.385459;-75.785408
X-APPLE-STRUCTURED-LOCATION;VALUE=URI;X-ADDRESS=Pastor Fred’s Office 603 Main Street Oley PA 19547 United States;X-APPLE-RADIUS=500;X-TITLE=603 Main Street:geo:-75.785408,40.385459
END:VEVENT
END:VCALENDAR