BEGIN:VCALENDAR
VERSION:2.0
PRODID:-//Calvary Chapel of the Oley Valley - ECPv6.15.20//NONSGML v1.0//EN
CALSCALE:GREGORIAN
METHOD:PUBLISH
X-WR-CALNAME:Calvary Chapel of the Oley Valley
X-ORIGINAL-URL:https://ccoley.com
X-WR-CALDESC:Events for Calvary Chapel of the Oley Valley
REFRESH-INTERVAL;VALUE=DURATION:PT1H
X-Robots-Tag:noindex
X-PUBLISHED-TTL:PT1H
BEGIN:VTIMEZONE
TZID:America/New_York
BEGIN:DAYLIGHT
TZOFFSETFROM:-0500
TZOFFSETTO:-0400
TZNAME:EDT
DTSTART:20150308T070000
END:DAYLIGHT
BEGIN:STANDARD
TZOFFSETFROM:-0400
TZOFFSETTO:-0500
TZNAME:EST
DTSTART:20151101T060000
END:STANDARD
BEGIN:DAYLIGHT
TZOFFSETFROM:-0500
TZOFFSETTO:-0400
TZNAME:EDT
DTSTART:20160313T070000
END:DAYLIGHT
BEGIN:STANDARD
TZOFFSETFROM:-0400
TZOFFSETTO:-0500
TZNAME:EST
DTSTART:20161106T060000
END:STANDARD
BEGIN:DAYLIGHT
TZOFFSETFROM:-0500
TZOFFSETTO:-0400
TZNAME:EDT
DTSTART:20170312T070000
END:DAYLIGHT
BEGIN:STANDARD
TZOFFSETFROM:-0400
TZOFFSETTO:-0500
TZNAME:EST
DTSTART:20171105T060000
END:STANDARD
BEGIN:DAYLIGHT
TZOFFSETFROM:-0500
TZOFFSETTO:-0400
TZNAME:EDT
DTSTART:20180311T070000
END:DAYLIGHT
BEGIN:STANDARD
TZOFFSETFROM:-0400
TZOFFSETTO:-0500
TZNAME:EST
DTSTART:20181104T060000
END:STANDARD
END:VTIMEZONE
BEGIN:VEVENT
DTSTART;TZID=America/New_York:20161213T190000
DTEND;TZID=America/New_York:20161213T200000
DTSTAMP:20260424T120002
CREATED:20150318T144843Z
LAST-MODIFIED:20181126T152653Z
UID:10001156-1481655600-1481659200@ccoley.com
SUMMARY:Elder's Meeting
DESCRIPTION:
URL:https://ccoley.com/event/elders-meeting/2016-12-13/
LOCATION:Pastor Fred’s Office\, 603 Main Street\, Oley\, PA\, 19547\, United States
CATEGORIES:Elders
ORGANIZER;CN="Pastor Fred Bell":MAILTO:pastorfred@ccoley.com
GEO:40.385459;-75.785408
X-APPLE-STRUCTURED-LOCATION;VALUE=URI;X-ADDRESS=Pastor Fred’s Office 603 Main Street Oley PA 19547 United States;X-APPLE-RADIUS=500;X-TITLE=603 Main Street:geo:-75.785408,40.385459
END:VEVENT
BEGIN:VEVENT
DTSTART;TZID=America/New_York:20161218T100000
DTEND;TZID=America/New_York:20161218T113000
DTSTAMP:20260424T120002
CREATED:20150315T185919Z
LAST-MODIFIED:20220919T003711Z
UID:10001379-1482055200-1482060600@ccoley.com
SUMMARY:Worship Service
DESCRIPTION:We are currently studying 1 Corinthians.
URL:https://ccoley.com/event/worship-service/2016-12-18/
LOCATION:Oley Valley Elementary School\, 3247 Friedensburg Road\, Oley\, PA\, 19547\, United States
CATEGORIES:Worship Service
ORGANIZER;CN="Pastor Fred Bell":MAILTO:pastorfred@ccoley.com
GEO:40.379717;-75.799139
X-APPLE-STRUCTURED-LOCATION;VALUE=URI;X-ADDRESS=Oley Valley Elementary School 3247 Friedensburg Road Oley PA 19547 United States;X-APPLE-RADIUS=500;X-TITLE=3247 Friedensburg Road:geo:-75.799139,40.379717
END:VEVENT
BEGIN:VEVENT
DTSTART;TZID=America/New_York:20161225T100000
DTEND;TZID=America/New_York:20161225T113000
DTSTAMP:20260424T120002
CREATED:20150315T185919Z
LAST-MODIFIED:20220919T003711Z
UID:10001380-1482660000-1482665400@ccoley.com
SUMMARY:Worship Service
DESCRIPTION:We are currently studying 1 Corinthians.
URL:https://ccoley.com/event/worship-service/2016-12-25/
LOCATION:Oley Valley Elementary School\, 3247 Friedensburg Road\, Oley\, PA\, 19547\, United States
CATEGORIES:Worship Service
ORGANIZER;CN="Pastor Fred Bell":MAILTO:pastorfred@ccoley.com
GEO:40.379717;-75.799139
X-APPLE-STRUCTURED-LOCATION;VALUE=URI;X-ADDRESS=Oley Valley Elementary School 3247 Friedensburg Road Oley PA 19547 United States;X-APPLE-RADIUS=500;X-TITLE=3247 Friedensburg Road:geo:-75.799139,40.379717
END:VEVENT
BEGIN:VEVENT
DTSTART;TZID=America/New_York:20170101T100000
DTEND;TZID=America/New_York:20170101T113000
DTSTAMP:20260424T120002
CREATED:20150315T185919Z
LAST-MODIFIED:20220919T003711Z
UID:10001381-1483264800-1483270200@ccoley.com
SUMMARY:Worship Service
DESCRIPTION:We are currently studying 1 Corinthians.
URL:https://ccoley.com/event/worship-service/2017-01-01/
LOCATION:Oley Valley Elementary School\, 3247 Friedensburg Road\, Oley\, PA\, 19547\, United States
CATEGORIES:Worship Service
ORGANIZER;CN="Pastor Fred Bell":MAILTO:pastorfred@ccoley.com
GEO:40.379717;-75.799139
X-APPLE-STRUCTURED-LOCATION;VALUE=URI;X-ADDRESS=Oley Valley Elementary School 3247 Friedensburg Road Oley PA 19547 United States;X-APPLE-RADIUS=500;X-TITLE=3247 Friedensburg Road:geo:-75.799139,40.379717
END:VEVENT
BEGIN:VEVENT
DTSTART;TZID=America/New_York:20170108T100000
DTEND;TZID=America/New_York:20170108T113000
DTSTAMP:20260424T120002
CREATED:20150315T185919Z
LAST-MODIFIED:20220919T003711Z
UID:10001382-1483869600-1483875000@ccoley.com
SUMMARY:Worship Service
DESCRIPTION:We are currently studying 1 Corinthians.
URL:https://ccoley.com/event/worship-service/2017-01-08/
LOCATION:Oley Valley Elementary School\, 3247 Friedensburg Road\, Oley\, PA\, 19547\, United States
CATEGORIES:Worship Service
ORGANIZER;CN="Pastor Fred Bell":MAILTO:pastorfred@ccoley.com
GEO:40.379717;-75.799139
X-APPLE-STRUCTURED-LOCATION;VALUE=URI;X-ADDRESS=Oley Valley Elementary School 3247 Friedensburg Road Oley PA 19547 United States;X-APPLE-RADIUS=500;X-TITLE=3247 Friedensburg Road:geo:-75.799139,40.379717
END:VEVENT
BEGIN:VEVENT
DTSTART;TZID=America/New_York:20170110T190000
DTEND;TZID=America/New_York:20170110T200000
DTSTAMP:20260424T120002
CREATED:20150318T144843Z
LAST-MODIFIED:20181126T152653Z
UID:10001157-1484074800-1484078400@ccoley.com
SUMMARY:Elder's Meeting
DESCRIPTION:
URL:https://ccoley.com/event/elders-meeting/2017-01-10/
LOCATION:Pastor Fred’s Office\, 603 Main Street\, Oley\, PA\, 19547\, United States
CATEGORIES:Elders
ORGANIZER;CN="Pastor Fred Bell":MAILTO:pastorfred@ccoley.com
GEO:40.385459;-75.785408
X-APPLE-STRUCTURED-LOCATION;VALUE=URI;X-ADDRESS=Pastor Fred’s Office 603 Main Street Oley PA 19547 United States;X-APPLE-RADIUS=500;X-TITLE=603 Main Street:geo:-75.785408,40.385459
END:VEVENT
BEGIN:VEVENT
DTSTART;TZID=America/New_York:20170114T080000
DTEND;TZID=America/New_York:20170114T090000
DTSTAMP:20260424T120002
CREATED:20150315T190521Z
LAST-MODIFIED:20231203T181823Z
UID:10001565-1484380800-1484384400@ccoley.com
SUMMARY:Men's Fellowship Breakfast
DESCRIPTION:
URL:https://ccoley.com/event/mens-fellowship-breakfast/2017-01-14/
LOCATION:Andy Giangiacomo\, 129 Oak Lane\, Fleetwood\, PA\, 19522\, United States
CATEGORIES:Men's Fellowship
ORGANIZER;CN="Andy Giangiacomo":MAILTO:sherandgia@msn.com
GEO:40.429365;-75.813973
X-APPLE-STRUCTURED-LOCATION;VALUE=URI;X-ADDRESS=Andy Giangiacomo 129 Oak Lane Fleetwood PA 19522 United States;X-APPLE-RADIUS=500;X-TITLE=129 Oak Lane:geo:-75.813973,40.429365
END:VEVENT
BEGIN:VEVENT
DTSTART;TZID=America/New_York:20170115T100000
DTEND;TZID=America/New_York:20170115T113000
DTSTAMP:20260424T120002
CREATED:20150315T185919Z
LAST-MODIFIED:20220919T003711Z
UID:10001383-1484474400-1484479800@ccoley.com
SUMMARY:Worship Service
DESCRIPTION:We are currently studying 1 Corinthians.
URL:https://ccoley.com/event/worship-service/2017-01-15/
LOCATION:Oley Valley Elementary School\, 3247 Friedensburg Road\, Oley\, PA\, 19547\, United States
CATEGORIES:Worship Service
ORGANIZER;CN="Pastor Fred Bell":MAILTO:pastorfred@ccoley.com
GEO:40.379717;-75.799139
X-APPLE-STRUCTURED-LOCATION;VALUE=URI;X-ADDRESS=Oley Valley Elementary School 3247 Friedensburg Road Oley PA 19547 United States;X-APPLE-RADIUS=500;X-TITLE=3247 Friedensburg Road:geo:-75.799139,40.379717
END:VEVENT
BEGIN:VEVENT
DTSTART;TZID=America/New_York:20170122T100000
DTEND;TZID=America/New_York:20170122T113000
DTSTAMP:20260424T120002
CREATED:20150315T185919Z
LAST-MODIFIED:20220919T003711Z
UID:10001384-1485079200-1485084600@ccoley.com
SUMMARY:Worship Service
DESCRIPTION:We are currently studying 1 Corinthians.
URL:https://ccoley.com/event/worship-service/2017-01-22/
LOCATION:Oley Valley Elementary School\, 3247 Friedensburg Road\, Oley\, PA\, 19547\, United States
CATEGORIES:Worship Service
ORGANIZER;CN="Pastor Fred Bell":MAILTO:pastorfred@ccoley.com
GEO:40.379717;-75.799139
X-APPLE-STRUCTURED-LOCATION;VALUE=URI;X-ADDRESS=Oley Valley Elementary School 3247 Friedensburg Road Oley PA 19547 United States;X-APPLE-RADIUS=500;X-TITLE=3247 Friedensburg Road:geo:-75.799139,40.379717
END:VEVENT
BEGIN:VEVENT
DTSTART;TZID=America/New_York:20170129T100000
DTEND;TZID=America/New_York:20170129T113000
DTSTAMP:20260424T120002
CREATED:20150315T185919Z
LAST-MODIFIED:20220919T003711Z
UID:10001385-1485684000-1485689400@ccoley.com
SUMMARY:Worship Service
DESCRIPTION:We are currently studying 1 Corinthians.
URL:https://ccoley.com/event/worship-service/2017-01-29/
LOCATION:Oley Valley Elementary School\, 3247 Friedensburg Road\, Oley\, PA\, 19547\, United States
CATEGORIES:Worship Service
ORGANIZER;CN="Pastor Fred Bell":MAILTO:pastorfred@ccoley.com
GEO:40.379717;-75.799139
X-APPLE-STRUCTURED-LOCATION;VALUE=URI;X-ADDRESS=Oley Valley Elementary School 3247 Friedensburg Road Oley PA 19547 United States;X-APPLE-RADIUS=500;X-TITLE=3247 Friedensburg Road:geo:-75.799139,40.379717
END:VEVENT
BEGIN:VEVENT
DTSTART;TZID=America/New_York:20170205T100000
DTEND;TZID=America/New_York:20170205T113000
DTSTAMP:20260424T120002
CREATED:20150315T185919Z
LAST-MODIFIED:20220919T003711Z
UID:10001386-1486288800-1486294200@ccoley.com
SUMMARY:Worship Service
DESCRIPTION:We are currently studying 1 Corinthians.
URL:https://ccoley.com/event/worship-service/2017-02-05/
LOCATION:Oley Valley Elementary School\, 3247 Friedensburg Road\, Oley\, PA\, 19547\, United States
CATEGORIES:Worship Service
ORGANIZER;CN="Pastor Fred Bell":MAILTO:pastorfred@ccoley.com
GEO:40.379717;-75.799139
X-APPLE-STRUCTURED-LOCATION;VALUE=URI;X-ADDRESS=Oley Valley Elementary School 3247 Friedensburg Road Oley PA 19547 United States;X-APPLE-RADIUS=500;X-TITLE=3247 Friedensburg Road:geo:-75.799139,40.379717
END:VEVENT
BEGIN:VEVENT
DTSTART;TZID=America/New_York:20170211T080000
DTEND;TZID=America/New_York:20170211T090000
DTSTAMP:20260424T120002
CREATED:20150315T190521Z
LAST-MODIFIED:20231203T181823Z
UID:10001566-1486800000-1486803600@ccoley.com
SUMMARY:Men's Fellowship Breakfast
DESCRIPTION:
URL:https://ccoley.com/event/mens-fellowship-breakfast/2017-02-11/
LOCATION:Andy Giangiacomo\, 129 Oak Lane\, Fleetwood\, PA\, 19522\, United States
CATEGORIES:Men's Fellowship
ORGANIZER;CN="Andy Giangiacomo":MAILTO:sherandgia@msn.com
GEO:40.429365;-75.813973
X-APPLE-STRUCTURED-LOCATION;VALUE=URI;X-ADDRESS=Andy Giangiacomo 129 Oak Lane Fleetwood PA 19522 United States;X-APPLE-RADIUS=500;X-TITLE=129 Oak Lane:geo:-75.813973,40.429365
END:VEVENT
BEGIN:VEVENT
DTSTART;TZID=America/New_York:20170212T100000
DTEND;TZID=America/New_York:20170212T113000
DTSTAMP:20260424T120002
CREATED:20150315T185919Z
LAST-MODIFIED:20220919T003711Z
UID:10001387-1486893600-1486899000@ccoley.com
SUMMARY:Worship Service
DESCRIPTION:We are currently studying 1 Corinthians.
URL:https://ccoley.com/event/worship-service/2017-02-12/
LOCATION:Oley Valley Elementary School\, 3247 Friedensburg Road\, Oley\, PA\, 19547\, United States
CATEGORIES:Worship Service
ORGANIZER;CN="Pastor Fred Bell":MAILTO:pastorfred@ccoley.com
GEO:40.379717;-75.799139
X-APPLE-STRUCTURED-LOCATION;VALUE=URI;X-ADDRESS=Oley Valley Elementary School 3247 Friedensburg Road Oley PA 19547 United States;X-APPLE-RADIUS=500;X-TITLE=3247 Friedensburg Road:geo:-75.799139,40.379717
END:VEVENT
BEGIN:VEVENT
DTSTART;TZID=America/New_York:20170214T190000
DTEND;TZID=America/New_York:20170214T200000
DTSTAMP:20260424T120002
CREATED:20150318T144843Z
LAST-MODIFIED:20181126T152653Z
UID:10001158-1487098800-1487102400@ccoley.com
SUMMARY:Elder's Meeting
DESCRIPTION:
URL:https://ccoley.com/event/elders-meeting/2017-02-14/
LOCATION:Pastor Fred’s Office\, 603 Main Street\, Oley\, PA\, 19547\, United States
CATEGORIES:Elders
ORGANIZER;CN="Pastor Fred Bell":MAILTO:pastorfred@ccoley.com
GEO:40.385459;-75.785408
X-APPLE-STRUCTURED-LOCATION;VALUE=URI;X-ADDRESS=Pastor Fred’s Office 603 Main Street Oley PA 19547 United States;X-APPLE-RADIUS=500;X-TITLE=603 Main Street:geo:-75.785408,40.385459
END:VEVENT
BEGIN:VEVENT
DTSTART;TZID=America/New_York:20170219T100000
DTEND;TZID=America/New_York:20170219T113000
DTSTAMP:20260424T120002
CREATED:20150315T185919Z
LAST-MODIFIED:20220919T003711Z
UID:10001388-1487498400-1487503800@ccoley.com
SUMMARY:Worship Service
DESCRIPTION:We are currently studying 1 Corinthians.
URL:https://ccoley.com/event/worship-service/2017-02-19/
LOCATION:Oley Valley Elementary School\, 3247 Friedensburg Road\, Oley\, PA\, 19547\, United States
CATEGORIES:Worship Service
ORGANIZER;CN="Pastor Fred Bell":MAILTO:pastorfred@ccoley.com
GEO:40.379717;-75.799139
X-APPLE-STRUCTURED-LOCATION;VALUE=URI;X-ADDRESS=Oley Valley Elementary School 3247 Friedensburg Road Oley PA 19547 United States;X-APPLE-RADIUS=500;X-TITLE=3247 Friedensburg Road:geo:-75.799139,40.379717
END:VEVENT
BEGIN:VEVENT
DTSTART;TZID=America/New_York:20170226T100000
DTEND;TZID=America/New_York:20170226T113000
DTSTAMP:20260424T120002
CREATED:20150315T185919Z
LAST-MODIFIED:20220919T003711Z
UID:10001389-1488103200-1488108600@ccoley.com
SUMMARY:Worship Service
DESCRIPTION:We are currently studying 1 Corinthians.
URL:https://ccoley.com/event/worship-service/2017-02-26/
LOCATION:Oley Valley Elementary School\, 3247 Friedensburg Road\, Oley\, PA\, 19547\, United States
CATEGORIES:Worship Service
ORGANIZER;CN="Pastor Fred Bell":MAILTO:pastorfred@ccoley.com
GEO:40.379717;-75.799139
X-APPLE-STRUCTURED-LOCATION;VALUE=URI;X-ADDRESS=Oley Valley Elementary School 3247 Friedensburg Road Oley PA 19547 United States;X-APPLE-RADIUS=500;X-TITLE=3247 Friedensburg Road:geo:-75.799139,40.379717
END:VEVENT
BEGIN:VEVENT
DTSTART;TZID=America/New_York:20170305T100000
DTEND;TZID=America/New_York:20170305T113000
DTSTAMP:20260424T120002
CREATED:20150315T185919Z
LAST-MODIFIED:20220919T003711Z
UID:10001390-1488708000-1488713400@ccoley.com
SUMMARY:Worship Service
DESCRIPTION:We are currently studying 1 Corinthians.
URL:https://ccoley.com/event/worship-service/2017-03-05/
LOCATION:Oley Valley Elementary School\, 3247 Friedensburg Road\, Oley\, PA\, 19547\, United States
CATEGORIES:Worship Service
ORGANIZER;CN="Pastor Fred Bell":MAILTO:pastorfred@ccoley.com
GEO:40.379717;-75.799139
X-APPLE-STRUCTURED-LOCATION;VALUE=URI;X-ADDRESS=Oley Valley Elementary School 3247 Friedensburg Road Oley PA 19547 United States;X-APPLE-RADIUS=500;X-TITLE=3247 Friedensburg Road:geo:-75.799139,40.379717
END:VEVENT
BEGIN:VEVENT
DTSTART;TZID=America/New_York:20170311T080000
DTEND;TZID=America/New_York:20170311T090000
DTSTAMP:20260424T120002
CREATED:20150315T190521Z
LAST-MODIFIED:20231203T181823Z
UID:10001567-1489219200-1489222800@ccoley.com
SUMMARY:Men's Fellowship Breakfast
DESCRIPTION:
URL:https://ccoley.com/event/mens-fellowship-breakfast/2017-03-11/
LOCATION:Andy Giangiacomo\, 129 Oak Lane\, Fleetwood\, PA\, 19522\, United States
CATEGORIES:Men's Fellowship
ORGANIZER;CN="Andy Giangiacomo":MAILTO:sherandgia@msn.com
GEO:40.429365;-75.813973
X-APPLE-STRUCTURED-LOCATION;VALUE=URI;X-ADDRESS=Andy Giangiacomo 129 Oak Lane Fleetwood PA 19522 United States;X-APPLE-RADIUS=500;X-TITLE=129 Oak Lane:geo:-75.813973,40.429365
END:VEVENT
BEGIN:VEVENT
DTSTART;TZID=America/New_York:20170312T100000
DTEND;TZID=America/New_York:20170312T113000
DTSTAMP:20260424T120002
CREATED:20150315T185919Z
LAST-MODIFIED:20220919T003711Z
UID:10001391-1489312800-1489318200@ccoley.com
SUMMARY:Worship Service
DESCRIPTION:We are currently studying 1 Corinthians.
URL:https://ccoley.com/event/worship-service/2017-03-12/
LOCATION:Oley Valley Elementary School\, 3247 Friedensburg Road\, Oley\, PA\, 19547\, United States
CATEGORIES:Worship Service
ORGANIZER;CN="Pastor Fred Bell":MAILTO:pastorfred@ccoley.com
GEO:40.379717;-75.799139
X-APPLE-STRUCTURED-LOCATION;VALUE=URI;X-ADDRESS=Oley Valley Elementary School 3247 Friedensburg Road Oley PA 19547 United States;X-APPLE-RADIUS=500;X-TITLE=3247 Friedensburg Road:geo:-75.799139,40.379717
END:VEVENT
BEGIN:VEVENT
DTSTART;TZID=America/New_York:20170314T190000
DTEND;TZID=America/New_York:20170314T200000
DTSTAMP:20260424T120002
CREATED:20150318T144843Z
LAST-MODIFIED:20181126T152653Z
UID:10001159-1489518000-1489521600@ccoley.com
SUMMARY:Elder's Meeting
DESCRIPTION:
URL:https://ccoley.com/event/elders-meeting/2017-03-14/
LOCATION:Pastor Fred’s Office\, 603 Main Street\, Oley\, PA\, 19547\, United States
CATEGORIES:Elders
ORGANIZER;CN="Pastor Fred Bell":MAILTO:pastorfred@ccoley.com
GEO:40.385459;-75.785408
X-APPLE-STRUCTURED-LOCATION;VALUE=URI;X-ADDRESS=Pastor Fred’s Office 603 Main Street Oley PA 19547 United States;X-APPLE-RADIUS=500;X-TITLE=603 Main Street:geo:-75.785408,40.385459
END:VEVENT
BEGIN:VEVENT
DTSTART;TZID=America/New_York:20170319T100000
DTEND;TZID=America/New_York:20170319T113000
DTSTAMP:20260424T120002
CREATED:20150315T185919Z
LAST-MODIFIED:20220919T003711Z
UID:10001392-1489917600-1489923000@ccoley.com
SUMMARY:Worship Service
DESCRIPTION:We are currently studying 1 Corinthians.
URL:https://ccoley.com/event/worship-service/2017-03-19/
LOCATION:Oley Valley Elementary School\, 3247 Friedensburg Road\, Oley\, PA\, 19547\, United States
CATEGORIES:Worship Service
ORGANIZER;CN="Pastor Fred Bell":MAILTO:pastorfred@ccoley.com
GEO:40.379717;-75.799139
X-APPLE-STRUCTURED-LOCATION;VALUE=URI;X-ADDRESS=Oley Valley Elementary School 3247 Friedensburg Road Oley PA 19547 United States;X-APPLE-RADIUS=500;X-TITLE=3247 Friedensburg Road:geo:-75.799139,40.379717
END:VEVENT
BEGIN:VEVENT
DTSTART;TZID=America/New_York:20170326T100000
DTEND;TZID=America/New_York:20170326T113000
DTSTAMP:20260424T120002
CREATED:20150315T185919Z
LAST-MODIFIED:20220919T003711Z
UID:10001393-1490522400-1490527800@ccoley.com
SUMMARY:Worship Service
DESCRIPTION:We are currently studying 1 Corinthians.
URL:https://ccoley.com/event/worship-service/2017-03-26/
LOCATION:Oley Valley Elementary School\, 3247 Friedensburg Road\, Oley\, PA\, 19547\, United States
CATEGORIES:Worship Service
ORGANIZER;CN="Pastor Fred Bell":MAILTO:pastorfred@ccoley.com
GEO:40.379717;-75.799139
X-APPLE-STRUCTURED-LOCATION;VALUE=URI;X-ADDRESS=Oley Valley Elementary School 3247 Friedensburg Road Oley PA 19547 United States;X-APPLE-RADIUS=500;X-TITLE=3247 Friedensburg Road:geo:-75.799139,40.379717
END:VEVENT
BEGIN:VEVENT
DTSTART;TZID=America/New_York:20170402T100000
DTEND;TZID=America/New_York:20170402T113000
DTSTAMP:20260424T120002
CREATED:20150315T185919Z
LAST-MODIFIED:20220919T003711Z
UID:10001394-1491127200-1491132600@ccoley.com
SUMMARY:Worship Service
DESCRIPTION:We are currently studying 1 Corinthians.
URL:https://ccoley.com/event/worship-service/2017-04-02/
LOCATION:Oley Valley Elementary School\, 3247 Friedensburg Road\, Oley\, PA\, 19547\, United States
CATEGORIES:Worship Service
ORGANIZER;CN="Pastor Fred Bell":MAILTO:pastorfred@ccoley.com
GEO:40.379717;-75.799139
X-APPLE-STRUCTURED-LOCATION;VALUE=URI;X-ADDRESS=Oley Valley Elementary School 3247 Friedensburg Road Oley PA 19547 United States;X-APPLE-RADIUS=500;X-TITLE=3247 Friedensburg Road:geo:-75.799139,40.379717
END:VEVENT
BEGIN:VEVENT
DTSTART;TZID=America/New_York:20170408T080000
DTEND;TZID=America/New_York:20170408T090000
DTSTAMP:20260424T120002
CREATED:20150315T190521Z
LAST-MODIFIED:20231203T181823Z
UID:10001568-1491638400-1491642000@ccoley.com
SUMMARY:Men's Fellowship Breakfast
DESCRIPTION:
URL:https://ccoley.com/event/mens-fellowship-breakfast/2017-04-08/
LOCATION:Andy Giangiacomo\, 129 Oak Lane\, Fleetwood\, PA\, 19522\, United States
CATEGORIES:Men's Fellowship
ORGANIZER;CN="Andy Giangiacomo":MAILTO:sherandgia@msn.com
GEO:40.429365;-75.813973
X-APPLE-STRUCTURED-LOCATION;VALUE=URI;X-ADDRESS=Andy Giangiacomo 129 Oak Lane Fleetwood PA 19522 United States;X-APPLE-RADIUS=500;X-TITLE=129 Oak Lane:geo:-75.813973,40.429365
END:VEVENT
BEGIN:VEVENT
DTSTART;TZID=America/New_York:20170409T100000
DTEND;TZID=America/New_York:20170409T113000
DTSTAMP:20260424T120002
CREATED:20150315T185919Z
LAST-MODIFIED:20220919T003711Z
UID:10001395-1491732000-1491737400@ccoley.com
SUMMARY:Worship Service
DESCRIPTION:We are currently studying 1 Corinthians.
URL:https://ccoley.com/event/worship-service/2017-04-09/
LOCATION:Oley Valley Elementary School\, 3247 Friedensburg Road\, Oley\, PA\, 19547\, United States
CATEGORIES:Worship Service
ORGANIZER;CN="Pastor Fred Bell":MAILTO:pastorfred@ccoley.com
GEO:40.379717;-75.799139
X-APPLE-STRUCTURED-LOCATION;VALUE=URI;X-ADDRESS=Oley Valley Elementary School 3247 Friedensburg Road Oley PA 19547 United States;X-APPLE-RADIUS=500;X-TITLE=3247 Friedensburg Road:geo:-75.799139,40.379717
END:VEVENT
BEGIN:VEVENT
DTSTART;TZID=America/New_York:20170411T190000
DTEND;TZID=America/New_York:20170411T200000
DTSTAMP:20260424T120002
CREATED:20150318T144843Z
LAST-MODIFIED:20181126T152653Z
UID:10001160-1491937200-1491940800@ccoley.com
SUMMARY:Elder's Meeting
DESCRIPTION:
URL:https://ccoley.com/event/elders-meeting/2017-04-11/
LOCATION:Pastor Fred’s Office\, 603 Main Street\, Oley\, PA\, 19547\, United States
CATEGORIES:Elders
ORGANIZER;CN="Pastor Fred Bell":MAILTO:pastorfred@ccoley.com
GEO:40.385459;-75.785408
X-APPLE-STRUCTURED-LOCATION;VALUE=URI;X-ADDRESS=Pastor Fred’s Office 603 Main Street Oley PA 19547 United States;X-APPLE-RADIUS=500;X-TITLE=603 Main Street:geo:-75.785408,40.385459
END:VEVENT
BEGIN:VEVENT
DTSTART;TZID=America/New_York:20170416T100000
DTEND;TZID=America/New_York:20170416T113000
DTSTAMP:20260424T120002
CREATED:20150315T185919Z
LAST-MODIFIED:20220919T003711Z
UID:10001396-1492336800-1492342200@ccoley.com
SUMMARY:Worship Service
DESCRIPTION:We are currently studying 1 Corinthians.
URL:https://ccoley.com/event/worship-service/2017-04-16/
LOCATION:Oley Valley Elementary School\, 3247 Friedensburg Road\, Oley\, PA\, 19547\, United States
CATEGORIES:Worship Service
ORGANIZER;CN="Pastor Fred Bell":MAILTO:pastorfred@ccoley.com
GEO:40.379717;-75.799139
X-APPLE-STRUCTURED-LOCATION;VALUE=URI;X-ADDRESS=Oley Valley Elementary School 3247 Friedensburg Road Oley PA 19547 United States;X-APPLE-RADIUS=500;X-TITLE=3247 Friedensburg Road:geo:-75.799139,40.379717
END:VEVENT
BEGIN:VEVENT
DTSTART;TZID=America/New_York:20170423T100000
DTEND;TZID=America/New_York:20170423T113000
DTSTAMP:20260424T120002
CREATED:20150315T185919Z
LAST-MODIFIED:20220919T003711Z
UID:10001397-1492941600-1492947000@ccoley.com
SUMMARY:Worship Service
DESCRIPTION:We are currently studying 1 Corinthians.
URL:https://ccoley.com/event/worship-service/2017-04-23/
LOCATION:Oley Valley Elementary School\, 3247 Friedensburg Road\, Oley\, PA\, 19547\, United States
CATEGORIES:Worship Service
ORGANIZER;CN="Pastor Fred Bell":MAILTO:pastorfred@ccoley.com
GEO:40.379717;-75.799139
X-APPLE-STRUCTURED-LOCATION;VALUE=URI;X-ADDRESS=Oley Valley Elementary School 3247 Friedensburg Road Oley PA 19547 United States;X-APPLE-RADIUS=500;X-TITLE=3247 Friedensburg Road:geo:-75.799139,40.379717
END:VEVENT
BEGIN:VEVENT
DTSTART;TZID=America/New_York:20170430T100000
DTEND;TZID=America/New_York:20170430T113000
DTSTAMP:20260424T120002
CREATED:20150315T185919Z
LAST-MODIFIED:20220919T003711Z
UID:10001398-1493546400-1493551800@ccoley.com
SUMMARY:Worship Service
DESCRIPTION:We are currently studying 1 Corinthians.
URL:https://ccoley.com/event/worship-service/2017-04-30/
LOCATION:Oley Valley Elementary School\, 3247 Friedensburg Road\, Oley\, PA\, 19547\, United States
CATEGORIES:Worship Service
ORGANIZER;CN="Pastor Fred Bell":MAILTO:pastorfred@ccoley.com
GEO:40.379717;-75.799139
X-APPLE-STRUCTURED-LOCATION;VALUE=URI;X-ADDRESS=Oley Valley Elementary School 3247 Friedensburg Road Oley PA 19547 United States;X-APPLE-RADIUS=500;X-TITLE=3247 Friedensburg Road:geo:-75.799139,40.379717
END:VEVENT
BEGIN:VEVENT
DTSTART;TZID=America/New_York:20170507T100000
DTEND;TZID=America/New_York:20170507T113000
DTSTAMP:20260424T120002
CREATED:20150315T185919Z
LAST-MODIFIED:20220919T003711Z
UID:10001399-1494151200-1494156600@ccoley.com
SUMMARY:Worship Service
DESCRIPTION:We are currently studying 1 Corinthians.
URL:https://ccoley.com/event/worship-service/2017-05-07/
LOCATION:Oley Valley Elementary School\, 3247 Friedensburg Road\, Oley\, PA\, 19547\, United States
CATEGORIES:Worship Service
ORGANIZER;CN="Pastor Fred Bell":MAILTO:pastorfred@ccoley.com
GEO:40.379717;-75.799139
X-APPLE-STRUCTURED-LOCATION;VALUE=URI;X-ADDRESS=Oley Valley Elementary School 3247 Friedensburg Road Oley PA 19547 United States;X-APPLE-RADIUS=500;X-TITLE=3247 Friedensburg Road:geo:-75.799139,40.379717
END:VEVENT
END:VCALENDAR