BEGIN:VCALENDAR
VERSION:2.0
PRODID:-//Calvary Chapel of the Oley Valley - ECPv6.15.20//NONSGML v1.0//EN
CALSCALE:GREGORIAN
METHOD:PUBLISH
X-WR-CALNAME:Calvary Chapel of the Oley Valley
X-ORIGINAL-URL:https://ccoley.com
X-WR-CALDESC:Events for Calvary Chapel of the Oley Valley
REFRESH-INTERVAL;VALUE=DURATION:PT1H
X-Robots-Tag:noindex
X-PUBLISHED-TTL:PT1H
BEGIN:VTIMEZONE
TZID:America/New_York
BEGIN:DAYLIGHT
TZOFFSETFROM:-0500
TZOFFSETTO:-0400
TZNAME:EDT
DTSTART:20230312T070000
END:DAYLIGHT
BEGIN:STANDARD
TZOFFSETFROM:-0400
TZOFFSETTO:-0500
TZNAME:EST
DTSTART:20231105T060000
END:STANDARD
BEGIN:DAYLIGHT
TZOFFSETFROM:-0500
TZOFFSETTO:-0400
TZNAME:EDT
DTSTART:20240310T070000
END:DAYLIGHT
BEGIN:STANDARD
TZOFFSETFROM:-0400
TZOFFSETTO:-0500
TZNAME:EST
DTSTART:20241103T060000
END:STANDARD
BEGIN:DAYLIGHT
TZOFFSETFROM:-0500
TZOFFSETTO:-0400
TZNAME:EDT
DTSTART:20250309T070000
END:DAYLIGHT
BEGIN:STANDARD
TZOFFSETFROM:-0400
TZOFFSETTO:-0500
TZNAME:EST
DTSTART:20251102T060000
END:STANDARD
END:VTIMEZONE
BEGIN:VEVENT
DTSTART;TZID=America/New_York:20240529T190000
DTEND;TZID=America/New_York:20240529T203000
DTSTAMP:20260424T074743
CREATED:20230924T180808Z
LAST-MODIFIED:20231203T181518Z
UID:10004054-1717009200-1717014600@ccoley.com
SUMMARY:Adult Bible Study
DESCRIPTION:We will be studying 1 Thessalonians.
URL:https://ccoley.com/event/adult-bible-study-6/2024-05-29/
LOCATION:Dave & Alice Coult\, 38 Heiligs School Road\, Oley\, PA\, 19547\, United States
CATEGORIES:Evening Bible Study
ORGANIZER;CN="Pastor Fred Bell":MAILTO:pastorfred@ccoley.com
GEO:40.420843;-75.707817
X-APPLE-STRUCTURED-LOCATION;VALUE=URI;X-ADDRESS=Dave & Alice Coult 38 Heiligs School Road Oley PA 19547 United States;X-APPLE-RADIUS=500;X-TITLE=38 Heiligs School Road:geo:-75.707817,40.420843
END:VEVENT
BEGIN:VEVENT
DTSTART;TZID=America/New_York:20240602T090000
DTEND;TZID=America/New_York:20240602T100000
DTSTAMP:20260424T074743
CREATED:20230910T165921Z
LAST-MODIFIED:20241110T182840Z
UID:10003420-1717318800-1717322400@ccoley.com
SUMMARY:Sunday Bible Study
DESCRIPTION:Oskars Rieksts will be studying through the book of John.
URL:https://ccoley.com/event/sunday-bible-study-9/2024-06-02/
LOCATION:Oley Fairgrounds\, 26 Jefferson St\, Oley\, PA\, 19547\, United States
CATEGORIES:Sunday Bible Study
ORGANIZER;CN="Oskars Rieksts":MAILTO:rieksts385@yahoo.com
GEO:40.3866624;-75.7846798
X-APPLE-STRUCTURED-LOCATION;VALUE=URI;X-ADDRESS=Oley Fairgrounds 26 Jefferson St Oley PA 19547 United States;X-APPLE-RADIUS=500;X-TITLE=26 Jefferson St:geo:-75.7846798,40.3866624
END:VEVENT
BEGIN:VEVENT
DTSTART;TZID=America/New_York:20240602T100000
DTEND;TZID=America/New_York:20240602T113000
DTSTAMP:20260424T074743
CREATED:20230910T170543Z
LAST-MODIFIED:20241110T183844Z
UID:10003699-1717322400-1717327800@ccoley.com
SUMMARY:Worship Service
DESCRIPTION:We are currently studying Genesis. \nFor those that cannot attend in person\, please join our live stream on Rumble.
URL:https://ccoley.com/event/worship-service-8/2024-06-02/
LOCATION:Oley Fairgrounds\, 26 Jefferson St\, Oley\, PA\, 19547\, United States
CATEGORIES:Worship Service
ORGANIZER;CN="Pastor Fred Bell":MAILTO:pastorfred@ccoley.com
GEO:40.3866624;-75.7846798
X-APPLE-STRUCTURED-LOCATION;VALUE=URI;X-ADDRESS=Oley Fairgrounds 26 Jefferson St Oley PA 19547 United States;X-APPLE-RADIUS=500;X-TITLE=26 Jefferson St:geo:-75.7846798,40.3866624
END:VEVENT
BEGIN:VEVENT
DTSTART;TZID=America/New_York:20240602T113000
DTEND;TZID=America/New_York:20240602T130000
DTSTAMP:20260424T074743
CREATED:20181002T152826Z
LAST-MODIFIED:20260329T184055Z
UID:10000359-1717327800-1717333200@ccoley.com
SUMMARY:Sunday Fellowship
DESCRIPTION:Enjoy fellowship after the service.
URL:https://ccoley.com/event/sunday-fellowship-2020-06-07/2024-06-02/
LOCATION:Oley Fairgrounds\, 26 Jefferson St\, Oley\, PA\, 19547\, United States
CATEGORIES:Family
ORGANIZER;CN="Pastor Fred Bell":MAILTO:pastorfred@ccoley.com
GEO:40.3866624;-75.7846798
X-APPLE-STRUCTURED-LOCATION;VALUE=URI;X-ADDRESS=Oley Fairgrounds 26 Jefferson St Oley PA 19547 United States;X-APPLE-RADIUS=500;X-TITLE=26 Jefferson St:geo:-75.7846798,40.3866624
END:VEVENT
BEGIN:VEVENT
DTSTART;TZID=America/New_York:20240608T080000
DTEND;TZID=America/New_York:20240608T090000
DTSTAMP:20260424T074743
CREATED:20150315T190521Z
LAST-MODIFIED:20231203T181823Z
UID:10001653-1717833600-1717837200@ccoley.com
SUMMARY:Men's Fellowship Breakfast
DESCRIPTION:
URL:https://ccoley.com/event/mens-fellowship-breakfast/2024-06-08/
LOCATION:Andy Giangiacomo\, 129 Oak Lane\, Fleetwood\, PA\, 19522\, United States
CATEGORIES:Men's Fellowship
ORGANIZER;CN="Andy Giangiacomo":MAILTO:sherandgia@msn.com
GEO:40.429365;-75.813973
X-APPLE-STRUCTURED-LOCATION;VALUE=URI;X-ADDRESS=Andy Giangiacomo 129 Oak Lane Fleetwood PA 19522 United States;X-APPLE-RADIUS=500;X-TITLE=129 Oak Lane:geo:-75.813973,40.429365
END:VEVENT
BEGIN:VEVENT
DTSTART;TZID=America/New_York:20240609T090000
DTEND;TZID=America/New_York:20240609T100000
DTSTAMP:20260424T074743
CREATED:20230910T165921Z
LAST-MODIFIED:20241110T182840Z
UID:10003421-1717923600-1717927200@ccoley.com
SUMMARY:Sunday Bible Study
DESCRIPTION:Oskars Rieksts will be studying through the book of John.
URL:https://ccoley.com/event/sunday-bible-study-9/2024-06-09/
LOCATION:Oley Fairgrounds\, 26 Jefferson St\, Oley\, PA\, 19547\, United States
CATEGORIES:Sunday Bible Study
ORGANIZER;CN="Oskars Rieksts":MAILTO:rieksts385@yahoo.com
GEO:40.3866624;-75.7846798
X-APPLE-STRUCTURED-LOCATION;VALUE=URI;X-ADDRESS=Oley Fairgrounds 26 Jefferson St Oley PA 19547 United States;X-APPLE-RADIUS=500;X-TITLE=26 Jefferson St:geo:-75.7846798,40.3866624
END:VEVENT
BEGIN:VEVENT
DTSTART;TZID=America/New_York:20240609T100000
DTEND;TZID=America/New_York:20240609T113000
DTSTAMP:20260424T074743
CREATED:20230910T170543Z
LAST-MODIFIED:20241110T183844Z
UID:10003700-1717927200-1717932600@ccoley.com
SUMMARY:Worship Service
DESCRIPTION:We are currently studying Genesis. \nFor those that cannot attend in person\, please join our live stream on Rumble.
URL:https://ccoley.com/event/worship-service-8/2024-06-09/
LOCATION:Oley Fairgrounds\, 26 Jefferson St\, Oley\, PA\, 19547\, United States
CATEGORIES:Worship Service
ORGANIZER;CN="Pastor Fred Bell":MAILTO:pastorfred@ccoley.com
GEO:40.3866624;-75.7846798
X-APPLE-STRUCTURED-LOCATION;VALUE=URI;X-ADDRESS=Oley Fairgrounds 26 Jefferson St Oley PA 19547 United States;X-APPLE-RADIUS=500;X-TITLE=26 Jefferson St:geo:-75.7846798,40.3866624
END:VEVENT
BEGIN:VEVENT
DTSTART;TZID=America/New_York:20240609T113000
DTEND;TZID=America/New_York:20240609T130000
DTSTAMP:20260424T074743
CREATED:20181002T152826Z
LAST-MODIFIED:20260329T184055Z
UID:10000360-1717932600-1717938000@ccoley.com
SUMMARY:Sunday Fellowship
DESCRIPTION:Enjoy fellowship after the service.
URL:https://ccoley.com/event/sunday-fellowship-2020-06-07/2024-06-09/
LOCATION:Oley Fairgrounds\, 26 Jefferson St\, Oley\, PA\, 19547\, United States
CATEGORIES:Family
ORGANIZER;CN="Pastor Fred Bell":MAILTO:pastorfred@ccoley.com
GEO:40.3866624;-75.7846798
X-APPLE-STRUCTURED-LOCATION;VALUE=URI;X-ADDRESS=Oley Fairgrounds 26 Jefferson St Oley PA 19547 United States;X-APPLE-RADIUS=500;X-TITLE=26 Jefferson St:geo:-75.7846798,40.3866624
END:VEVENT
BEGIN:VEVENT
DTSTART;TZID=America/New_York:20240611T190000
DTEND;TZID=America/New_York:20240611T200000
DTSTAMP:20260424T074743
CREATED:20150318T144843Z
LAST-MODIFIED:20181126T152653Z
UID:10001246-1718132400-1718136000@ccoley.com
SUMMARY:Elder's Meeting
DESCRIPTION:
URL:https://ccoley.com/event/elders-meeting/2024-06-11/
LOCATION:Pastor Fred’s Office\, 603 Main Street\, Oley\, PA\, 19547\, United States
CATEGORIES:Elders
ORGANIZER;CN="Pastor Fred Bell":MAILTO:pastorfred@ccoley.com
GEO:40.385459;-75.785408
X-APPLE-STRUCTURED-LOCATION;VALUE=URI;X-ADDRESS=Pastor Fred’s Office 603 Main Street Oley PA 19547 United States;X-APPLE-RADIUS=500;X-TITLE=603 Main Street:geo:-75.785408,40.385459
END:VEVENT
BEGIN:VEVENT
DTSTART;TZID=America/New_York:20240616T100000
DTEND;TZID=America/New_York:20240616T113000
DTSTAMP:20260424T074743
CREATED:20240512T205913Z
LAST-MODIFIED:20240512T205913Z
UID:10004186-1718532000-1718537400@ccoley.com
SUMMARY:Worship Service
DESCRIPTION:We are currently studying Genesis. \nFor those that cannot attend in person\, please join our live stream on Rumble.
URL:https://ccoley.com/event/worship-service-13/
LOCATION:Dave & Alice Coult\, 38 Heiligs School Road\, Oley\, PA\, 19547\, United States
CATEGORIES:Worship Service
ORGANIZER;CN="Pastor Fred Bell":MAILTO:pastorfred@ccoley.com
GEO:40.420843;-75.707817
X-APPLE-STRUCTURED-LOCATION;VALUE=URI;X-ADDRESS=Dave & Alice Coult 38 Heiligs School Road Oley PA 19547 United States;X-APPLE-RADIUS=500;X-TITLE=38 Heiligs School Road:geo:-75.707817,40.420843
END:VEVENT
BEGIN:VEVENT
DTSTART;TZID=America/New_York:20240616T113000
DTEND;TZID=America/New_York:20240616T130000
DTSTAMP:20260424T074743
CREATED:20240512T205600Z
LAST-MODIFIED:20240512T205600Z
UID:10004165-1718537400-1718542800@ccoley.com
SUMMARY:Sunday Fellowship
DESCRIPTION:Enjoy fellowship after the service.
URL:https://ccoley.com/event/sunday-fellowship-10/
LOCATION:Dave & Alice Coult\, 38 Heiligs School Road\, Oley\, PA\, 19547\, United States
CATEGORIES:Family
ORGANIZER;CN="Pastor Fred Bell":MAILTO:pastorfred@ccoley.com
GEO:40.420843;-75.707817
X-APPLE-STRUCTURED-LOCATION;VALUE=URI;X-ADDRESS=Dave & Alice Coult 38 Heiligs School Road Oley PA 19547 United States;X-APPLE-RADIUS=500;X-TITLE=38 Heiligs School Road:geo:-75.707817,40.420843
END:VEVENT
BEGIN:VEVENT
DTSTART;TZID=America/New_York:20240623T090000
DTEND;TZID=America/New_York:20240623T100000
DTSTAMP:20260424T074743
CREATED:20230910T165921Z
LAST-MODIFIED:20241110T182840Z
UID:10003423-1719133200-1719136800@ccoley.com
SUMMARY:Sunday Bible Study
DESCRIPTION:Oskars Rieksts will be studying through the book of John.
URL:https://ccoley.com/event/sunday-bible-study-9/2024-06-23/
LOCATION:Oley Fairgrounds\, 26 Jefferson St\, Oley\, PA\, 19547\, United States
CATEGORIES:Sunday Bible Study
ORGANIZER;CN="Oskars Rieksts":MAILTO:rieksts385@yahoo.com
GEO:40.3866624;-75.7846798
X-APPLE-STRUCTURED-LOCATION;VALUE=URI;X-ADDRESS=Oley Fairgrounds 26 Jefferson St Oley PA 19547 United States;X-APPLE-RADIUS=500;X-TITLE=26 Jefferson St:geo:-75.7846798,40.3866624
END:VEVENT
BEGIN:VEVENT
DTSTART;TZID=America/New_York:20240623T100000
DTEND;TZID=America/New_York:20240623T113000
DTSTAMP:20260424T074743
CREATED:20230910T170543Z
LAST-MODIFIED:20241110T183844Z
UID:10003702-1719136800-1719142200@ccoley.com
SUMMARY:Worship Service
DESCRIPTION:We are currently studying Genesis. \nFor those that cannot attend in person\, please join our live stream on Rumble.
URL:https://ccoley.com/event/worship-service-8/2024-06-23/
LOCATION:Oley Fairgrounds\, 26 Jefferson St\, Oley\, PA\, 19547\, United States
CATEGORIES:Worship Service
ORGANIZER;CN="Pastor Fred Bell":MAILTO:pastorfred@ccoley.com
GEO:40.3866624;-75.7846798
X-APPLE-STRUCTURED-LOCATION;VALUE=URI;X-ADDRESS=Oley Fairgrounds 26 Jefferson St Oley PA 19547 United States;X-APPLE-RADIUS=500;X-TITLE=26 Jefferson St:geo:-75.7846798,40.3866624
END:VEVENT
BEGIN:VEVENT
DTSTART;TZID=America/New_York:20240623T113000
DTEND;TZID=America/New_York:20240623T130000
DTSTAMP:20260424T074743
CREATED:20181002T152826Z
LAST-MODIFIED:20260329T184055Z
UID:10000362-1719142200-1719147600@ccoley.com
SUMMARY:Sunday Fellowship
DESCRIPTION:Enjoy fellowship after the service.
URL:https://ccoley.com/event/sunday-fellowship-2020-06-07/2024-06-23/
LOCATION:Oley Fairgrounds\, 26 Jefferson St\, Oley\, PA\, 19547\, United States
CATEGORIES:Family
ORGANIZER;CN="Pastor Fred Bell":MAILTO:pastorfred@ccoley.com
GEO:40.3866624;-75.7846798
X-APPLE-STRUCTURED-LOCATION;VALUE=URI;X-ADDRESS=Oley Fairgrounds 26 Jefferson St Oley PA 19547 United States;X-APPLE-RADIUS=500;X-TITLE=26 Jefferson St:geo:-75.7846798,40.3866624
END:VEVENT
BEGIN:VEVENT
DTSTART;TZID=America/New_York:20240630T090000
DTEND;TZID=America/New_York:20240630T100000
DTSTAMP:20260424T074743
CREATED:20230910T165921Z
LAST-MODIFIED:20241110T182840Z
UID:10003424-1719738000-1719741600@ccoley.com
SUMMARY:Sunday Bible Study
DESCRIPTION:Oskars Rieksts will be studying through the book of John.
URL:https://ccoley.com/event/sunday-bible-study-9/2024-06-30/
LOCATION:Oley Fairgrounds\, 26 Jefferson St\, Oley\, PA\, 19547\, United States
CATEGORIES:Sunday Bible Study
ORGANIZER;CN="Oskars Rieksts":MAILTO:rieksts385@yahoo.com
GEO:40.3866624;-75.7846798
X-APPLE-STRUCTURED-LOCATION;VALUE=URI;X-ADDRESS=Oley Fairgrounds 26 Jefferson St Oley PA 19547 United States;X-APPLE-RADIUS=500;X-TITLE=26 Jefferson St:geo:-75.7846798,40.3866624
END:VEVENT
BEGIN:VEVENT
DTSTART;TZID=America/New_York:20240630T100000
DTEND;TZID=America/New_York:20240630T113000
DTSTAMP:20260424T074743
CREATED:20230910T170543Z
LAST-MODIFIED:20241110T183844Z
UID:10003703-1719741600-1719747000@ccoley.com
SUMMARY:Worship Service
DESCRIPTION:We are currently studying Genesis. \nFor those that cannot attend in person\, please join our live stream on Rumble.
URL:https://ccoley.com/event/worship-service-8/2024-06-30/
LOCATION:Oley Fairgrounds\, 26 Jefferson St\, Oley\, PA\, 19547\, United States
CATEGORIES:Worship Service
ORGANIZER;CN="Pastor Fred Bell":MAILTO:pastorfred@ccoley.com
GEO:40.3866624;-75.7846798
X-APPLE-STRUCTURED-LOCATION;VALUE=URI;X-ADDRESS=Oley Fairgrounds 26 Jefferson St Oley PA 19547 United States;X-APPLE-RADIUS=500;X-TITLE=26 Jefferson St:geo:-75.7846798,40.3866624
END:VEVENT
BEGIN:VEVENT
DTSTART;TZID=America/New_York:20240630T113000
DTEND;TZID=America/New_York:20240630T130000
DTSTAMP:20260424T074743
CREATED:20181002T152826Z
LAST-MODIFIED:20260329T184055Z
UID:10000363-1719747000-1719752400@ccoley.com
SUMMARY:Sunday Fellowship
DESCRIPTION:Enjoy fellowship after the service.
URL:https://ccoley.com/event/sunday-fellowship-2020-06-07/2024-06-30/
LOCATION:Oley Fairgrounds\, 26 Jefferson St\, Oley\, PA\, 19547\, United States
CATEGORIES:Family
ORGANIZER;CN="Pastor Fred Bell":MAILTO:pastorfred@ccoley.com
GEO:40.3866624;-75.7846798
X-APPLE-STRUCTURED-LOCATION;VALUE=URI;X-ADDRESS=Oley Fairgrounds 26 Jefferson St Oley PA 19547 United States;X-APPLE-RADIUS=500;X-TITLE=26 Jefferson St:geo:-75.7846798,40.3866624
END:VEVENT
BEGIN:VEVENT
DTSTART;TZID=America/New_York:20240630T160000
DTEND;TZID=America/New_York:20240630T210000
DTSTAMP:20260424T074743
CREATED:20240512T210446Z
LAST-MODIFIED:20240617T113834Z
UID:10004187-1719763200-1719781200@ccoley.com
SUMMARY:2024 Hymn Sing
DESCRIPTION:Our annual Hymn Sing and Church Picnic will be held at the Coult’s house.
URL:https://ccoley.com/event/2024-hymn-sing/
LOCATION:Dave & Alice Coult\, 38 Heiligs School Road\, Oley\, PA\, 19547\, United States
CATEGORIES:Family
ORGANIZER;CN="Dave Coult":MAILTO:dgcoult@gmail.com
GEO:40.420843;-75.707817
X-APPLE-STRUCTURED-LOCATION;VALUE=URI;X-ADDRESS=Dave & Alice Coult 38 Heiligs School Road Oley PA 19547 United States;X-APPLE-RADIUS=500;X-TITLE=38 Heiligs School Road:geo:-75.707817,40.420843
END:VEVENT
BEGIN:VEVENT
DTSTART;TZID=America/New_York:20240707T090000
DTEND;TZID=America/New_York:20240707T100000
DTSTAMP:20260424T074743
CREATED:20230910T165921Z
LAST-MODIFIED:20241110T182840Z
UID:10003425-1720342800-1720346400@ccoley.com
SUMMARY:Sunday Bible Study
DESCRIPTION:Oskars Rieksts will be studying through the book of John.
URL:https://ccoley.com/event/sunday-bible-study-9/2024-07-07/
LOCATION:Oley Fairgrounds\, 26 Jefferson St\, Oley\, PA\, 19547\, United States
CATEGORIES:Sunday Bible Study
ORGANIZER;CN="Oskars Rieksts":MAILTO:rieksts385@yahoo.com
GEO:40.3866624;-75.7846798
X-APPLE-STRUCTURED-LOCATION;VALUE=URI;X-ADDRESS=Oley Fairgrounds 26 Jefferson St Oley PA 19547 United States;X-APPLE-RADIUS=500;X-TITLE=26 Jefferson St:geo:-75.7846798,40.3866624
END:VEVENT
BEGIN:VEVENT
DTSTART;TZID=America/New_York:20240707T100000
DTEND;TZID=America/New_York:20240707T113000
DTSTAMP:20260424T074743
CREATED:20230910T170543Z
LAST-MODIFIED:20241110T183844Z
UID:10003704-1720346400-1720351800@ccoley.com
SUMMARY:Worship Service
DESCRIPTION:We are currently studying Genesis. \nFor those that cannot attend in person\, please join our live stream on Rumble.
URL:https://ccoley.com/event/worship-service-8/2024-07-07/
LOCATION:Oley Fairgrounds\, 26 Jefferson St\, Oley\, PA\, 19547\, United States
CATEGORIES:Worship Service
ORGANIZER;CN="Pastor Fred Bell":MAILTO:pastorfred@ccoley.com
GEO:40.3866624;-75.7846798
X-APPLE-STRUCTURED-LOCATION;VALUE=URI;X-ADDRESS=Oley Fairgrounds 26 Jefferson St Oley PA 19547 United States;X-APPLE-RADIUS=500;X-TITLE=26 Jefferson St:geo:-75.7846798,40.3866624
END:VEVENT
BEGIN:VEVENT
DTSTART;TZID=America/New_York:20240707T113000
DTEND;TZID=America/New_York:20240707T130000
DTSTAMP:20260424T074743
CREATED:20181002T152826Z
LAST-MODIFIED:20260329T184055Z
UID:10000364-1720351800-1720357200@ccoley.com
SUMMARY:Sunday Fellowship
DESCRIPTION:Enjoy fellowship after the service.
URL:https://ccoley.com/event/sunday-fellowship-2020-06-07/2024-07-07/
LOCATION:Oley Fairgrounds\, 26 Jefferson St\, Oley\, PA\, 19547\, United States
CATEGORIES:Family
ORGANIZER;CN="Pastor Fred Bell":MAILTO:pastorfred@ccoley.com
GEO:40.3866624;-75.7846798
X-APPLE-STRUCTURED-LOCATION;VALUE=URI;X-ADDRESS=Oley Fairgrounds 26 Jefferson St Oley PA 19547 United States;X-APPLE-RADIUS=500;X-TITLE=26 Jefferson St:geo:-75.7846798,40.3866624
END:VEVENT
BEGIN:VEVENT
DTSTART;TZID=America/New_York:20240709T190000
DTEND;TZID=America/New_York:20240709T200000
DTSTAMP:20260424T074744
CREATED:20150318T144843Z
LAST-MODIFIED:20181126T152653Z
UID:10001247-1720551600-1720555200@ccoley.com
SUMMARY:Elder's Meeting
DESCRIPTION:
URL:https://ccoley.com/event/elders-meeting/2024-07-09/
LOCATION:Pastor Fred’s Office\, 603 Main Street\, Oley\, PA\, 19547\, United States
CATEGORIES:Elders
ORGANIZER;CN="Pastor Fred Bell":MAILTO:pastorfred@ccoley.com
GEO:40.385459;-75.785408
X-APPLE-STRUCTURED-LOCATION;VALUE=URI;X-ADDRESS=Pastor Fred’s Office 603 Main Street Oley PA 19547 United States;X-APPLE-RADIUS=500;X-TITLE=603 Main Street:geo:-75.785408,40.385459
END:VEVENT
BEGIN:VEVENT
DTSTART;TZID=America/New_York:20240713T080000
DTEND;TZID=America/New_York:20240713T090000
DTSTAMP:20260424T074744
CREATED:20150315T190521Z
LAST-MODIFIED:20231203T181823Z
UID:10001654-1720857600-1720861200@ccoley.com
SUMMARY:Men's Fellowship Breakfast
DESCRIPTION:
URL:https://ccoley.com/event/mens-fellowship-breakfast/2024-07-13/
LOCATION:Andy Giangiacomo\, 129 Oak Lane\, Fleetwood\, PA\, 19522\, United States
CATEGORIES:Men's Fellowship
ORGANIZER;CN="Andy Giangiacomo":MAILTO:sherandgia@msn.com
GEO:40.429365;-75.813973
X-APPLE-STRUCTURED-LOCATION;VALUE=URI;X-ADDRESS=Andy Giangiacomo 129 Oak Lane Fleetwood PA 19522 United States;X-APPLE-RADIUS=500;X-TITLE=129 Oak Lane:geo:-75.813973,40.429365
END:VEVENT
BEGIN:VEVENT
DTSTART;TZID=America/New_York:20240714T090000
DTEND;TZID=America/New_York:20240714T100000
DTSTAMP:20260424T074744
CREATED:20230910T165921Z
LAST-MODIFIED:20241110T182840Z
UID:10003426-1720947600-1720951200@ccoley.com
SUMMARY:Sunday Bible Study
DESCRIPTION:Oskars Rieksts will be studying through the book of John.
URL:https://ccoley.com/event/sunday-bible-study-9/2024-07-14/
LOCATION:Oley Fairgrounds\, 26 Jefferson St\, Oley\, PA\, 19547\, United States
CATEGORIES:Sunday Bible Study
ORGANIZER;CN="Oskars Rieksts":MAILTO:rieksts385@yahoo.com
GEO:40.3866624;-75.7846798
X-APPLE-STRUCTURED-LOCATION;VALUE=URI;X-ADDRESS=Oley Fairgrounds 26 Jefferson St Oley PA 19547 United States;X-APPLE-RADIUS=500;X-TITLE=26 Jefferson St:geo:-75.7846798,40.3866624
END:VEVENT
BEGIN:VEVENT
DTSTART;TZID=America/New_York:20240714T100000
DTEND;TZID=America/New_York:20240714T113000
DTSTAMP:20260424T074744
CREATED:20230910T170543Z
LAST-MODIFIED:20241110T183844Z
UID:10003705-1720951200-1720956600@ccoley.com
SUMMARY:Worship Service
DESCRIPTION:We are currently studying Genesis. \nFor those that cannot attend in person\, please join our live stream on Rumble.
URL:https://ccoley.com/event/worship-service-8/2024-07-14/
LOCATION:Oley Fairgrounds\, 26 Jefferson St\, Oley\, PA\, 19547\, United States
CATEGORIES:Worship Service
ORGANIZER;CN="Pastor Fred Bell":MAILTO:pastorfred@ccoley.com
GEO:40.3866624;-75.7846798
X-APPLE-STRUCTURED-LOCATION;VALUE=URI;X-ADDRESS=Oley Fairgrounds 26 Jefferson St Oley PA 19547 United States;X-APPLE-RADIUS=500;X-TITLE=26 Jefferson St:geo:-75.7846798,40.3866624
END:VEVENT
BEGIN:VEVENT
DTSTART;TZID=America/New_York:20240714T113000
DTEND;TZID=America/New_York:20240714T130000
DTSTAMP:20260424T074744
CREATED:20181002T152826Z
LAST-MODIFIED:20260329T184055Z
UID:10000365-1720956600-1720962000@ccoley.com
SUMMARY:Sunday Fellowship
DESCRIPTION:Enjoy fellowship after the service.
URL:https://ccoley.com/event/sunday-fellowship-2020-06-07/2024-07-14/
LOCATION:Oley Fairgrounds\, 26 Jefferson St\, Oley\, PA\, 19547\, United States
CATEGORIES:Family
ORGANIZER;CN="Pastor Fred Bell":MAILTO:pastorfred@ccoley.com
GEO:40.3866624;-75.7846798
X-APPLE-STRUCTURED-LOCATION;VALUE=URI;X-ADDRESS=Oley Fairgrounds 26 Jefferson St Oley PA 19547 United States;X-APPLE-RADIUS=500;X-TITLE=26 Jefferson St:geo:-75.7846798,40.3866624
END:VEVENT
BEGIN:VEVENT
DTSTART;TZID=America/New_York:20240721T090000
DTEND;TZID=America/New_York:20240721T100000
DTSTAMP:20260424T074744
CREATED:20230910T165921Z
LAST-MODIFIED:20241110T182840Z
UID:10003427-1721552400-1721556000@ccoley.com
SUMMARY:Sunday Bible Study
DESCRIPTION:Oskars Rieksts will be studying through the book of John.
URL:https://ccoley.com/event/sunday-bible-study-9/2024-07-21/
LOCATION:Oley Fairgrounds\, 26 Jefferson St\, Oley\, PA\, 19547\, United States
CATEGORIES:Sunday Bible Study
ORGANIZER;CN="Oskars Rieksts":MAILTO:rieksts385@yahoo.com
GEO:40.3866624;-75.7846798
X-APPLE-STRUCTURED-LOCATION;VALUE=URI;X-ADDRESS=Oley Fairgrounds 26 Jefferson St Oley PA 19547 United States;X-APPLE-RADIUS=500;X-TITLE=26 Jefferson St:geo:-75.7846798,40.3866624
END:VEVENT
BEGIN:VEVENT
DTSTART;TZID=America/New_York:20240721T100000
DTEND;TZID=America/New_York:20240721T113000
DTSTAMP:20260424T074744
CREATED:20230910T170543Z
LAST-MODIFIED:20241110T183844Z
UID:10003706-1721556000-1721561400@ccoley.com
SUMMARY:Worship Service
DESCRIPTION:We are currently studying Genesis. \nFor those that cannot attend in person\, please join our live stream on Rumble.
URL:https://ccoley.com/event/worship-service-8/2024-07-21/
LOCATION:Oley Fairgrounds\, 26 Jefferson St\, Oley\, PA\, 19547\, United States
CATEGORIES:Worship Service
ORGANIZER;CN="Pastor Fred Bell":MAILTO:pastorfred@ccoley.com
GEO:40.3866624;-75.7846798
X-APPLE-STRUCTURED-LOCATION;VALUE=URI;X-ADDRESS=Oley Fairgrounds 26 Jefferson St Oley PA 19547 United States;X-APPLE-RADIUS=500;X-TITLE=26 Jefferson St:geo:-75.7846798,40.3866624
END:VEVENT
BEGIN:VEVENT
DTSTART;TZID=America/New_York:20240721T113000
DTEND;TZID=America/New_York:20240721T130000
DTSTAMP:20260424T074744
CREATED:20181002T152826Z
LAST-MODIFIED:20260329T184055Z
UID:10000366-1721561400-1721566800@ccoley.com
SUMMARY:Sunday Fellowship
DESCRIPTION:Enjoy fellowship after the service.
URL:https://ccoley.com/event/sunday-fellowship-2020-06-07/2024-07-21/
LOCATION:Oley Fairgrounds\, 26 Jefferson St\, Oley\, PA\, 19547\, United States
CATEGORIES:Family
ORGANIZER;CN="Pastor Fred Bell":MAILTO:pastorfred@ccoley.com
GEO:40.3866624;-75.7846798
X-APPLE-STRUCTURED-LOCATION;VALUE=URI;X-ADDRESS=Oley Fairgrounds 26 Jefferson St Oley PA 19547 United States;X-APPLE-RADIUS=500;X-TITLE=26 Jefferson St:geo:-75.7846798,40.3866624
END:VEVENT
BEGIN:VEVENT
DTSTART;TZID=America/New_York:20240728T090000
DTEND;TZID=America/New_York:20240728T100000
DTSTAMP:20260424T074744
CREATED:20230910T165921Z
LAST-MODIFIED:20241110T182840Z
UID:10003428-1722157200-1722160800@ccoley.com
SUMMARY:Sunday Bible Study
DESCRIPTION:Oskars Rieksts will be studying through the book of John.
URL:https://ccoley.com/event/sunday-bible-study-9/2024-07-28/
LOCATION:Oley Fairgrounds\, 26 Jefferson St\, Oley\, PA\, 19547\, United States
CATEGORIES:Sunday Bible Study
ORGANIZER;CN="Oskars Rieksts":MAILTO:rieksts385@yahoo.com
GEO:40.3866624;-75.7846798
X-APPLE-STRUCTURED-LOCATION;VALUE=URI;X-ADDRESS=Oley Fairgrounds 26 Jefferson St Oley PA 19547 United States;X-APPLE-RADIUS=500;X-TITLE=26 Jefferson St:geo:-75.7846798,40.3866624
END:VEVENT
END:VCALENDAR