BEGIN:VCALENDAR
VERSION:2.0
PRODID:-//Calvary Chapel of the Oley Valley - ECPv6.15.20//NONSGML v1.0//EN
CALSCALE:GREGORIAN
METHOD:PUBLISH
X-ORIGINAL-URL:https://ccoley.com
X-WR-CALDESC:Events for Calvary Chapel of the Oley Valley
REFRESH-INTERVAL;VALUE=DURATION:PT1H
X-Robots-Tag:noindex
X-PUBLISHED-TTL:PT1H
BEGIN:VTIMEZONE
TZID:America/New_York
BEGIN:DAYLIGHT
TZOFFSETFROM:-0500
TZOFFSETTO:-0400
TZNAME:EDT
DTSTART:20280312T070000
END:DAYLIGHT
BEGIN:STANDARD
TZOFFSETFROM:-0400
TZOFFSETTO:-0500
TZNAME:EST
DTSTART:20281105T060000
END:STANDARD
BEGIN:DAYLIGHT
TZOFFSETFROM:-0500
TZOFFSETTO:-0400
TZNAME:EDT
DTSTART:20290311T070000
END:DAYLIGHT
BEGIN:STANDARD
TZOFFSETFROM:-0400
TZOFFSETTO:-0500
TZNAME:EST
DTSTART:20291104T060000
END:STANDARD
BEGIN:DAYLIGHT
TZOFFSETFROM:-0500
TZOFFSETTO:-0400
TZNAME:EDT
DTSTART:20300310T070000
END:DAYLIGHT
BEGIN:STANDARD
TZOFFSETFROM:-0400
TZOFFSETTO:-0500
TZNAME:EST
DTSTART:20301103T060000
END:STANDARD
END:VTIMEZONE
BEGIN:VEVENT
DTSTART;TZID=America/New_York:20290311T100000
DTEND;TZID=America/New_York:20290311T113000
DTSTAMP:20260423T162011
CREATED:20260222T183241Z
LAST-MODIFIED:20260329T183747Z
UID:10006060-1867917600-1867923000@ccoley.com
SUMMARY:Worship Service
DESCRIPTION:We are currently studying 1 John. \nFor those that cannot attend in person\, please join our live stream on Rumble.
URL:https://ccoley.com/event/worship-service-28/2029-03-11/
LOCATION:Oley Fairgrounds\, 26 Jefferson St\, Oley\, PA\, 19547\, United States
CATEGORIES:Worship Service
ORGANIZER;CN="Pastor Fred Bell":MAILTO:pastorfred@ccoley.com
GEO:40.3866624;-75.7846798
X-APPLE-STRUCTURED-LOCATION;VALUE=URI;X-ADDRESS=Oley Fairgrounds 26 Jefferson St Oley PA 19547 United States;X-APPLE-RADIUS=500;X-TITLE=26 Jefferson St:geo:-75.7846798,40.3866624
END:VEVENT
BEGIN:VEVENT
DTSTART;TZID=America/New_York:20290318T100000
DTEND;TZID=America/New_York:20290318T113000
DTSTAMP:20260423T162011
CREATED:20260222T183241Z
LAST-MODIFIED:20260329T183747Z
UID:10006061-1868522400-1868527800@ccoley.com
SUMMARY:Worship Service
DESCRIPTION:We are currently studying 1 John. \nFor those that cannot attend in person\, please join our live stream on Rumble.
URL:https://ccoley.com/event/worship-service-28/2029-03-18/
LOCATION:Oley Fairgrounds\, 26 Jefferson St\, Oley\, PA\, 19547\, United States
CATEGORIES:Worship Service
ORGANIZER;CN="Pastor Fred Bell":MAILTO:pastorfred@ccoley.com
GEO:40.3866624;-75.7846798
X-APPLE-STRUCTURED-LOCATION;VALUE=URI;X-ADDRESS=Oley Fairgrounds 26 Jefferson St Oley PA 19547 United States;X-APPLE-RADIUS=500;X-TITLE=26 Jefferson St:geo:-75.7846798,40.3866624
END:VEVENT
BEGIN:VEVENT
DTSTART;TZID=America/New_York:20290325T100000
DTEND;TZID=America/New_York:20290325T113000
DTSTAMP:20260423T162011
CREATED:20260222T183241Z
LAST-MODIFIED:20260329T183747Z
UID:10006062-1869127200-1869132600@ccoley.com
SUMMARY:Worship Service
DESCRIPTION:We are currently studying 1 John. \nFor those that cannot attend in person\, please join our live stream on Rumble.
URL:https://ccoley.com/event/worship-service-28/2029-03-25/
LOCATION:Oley Fairgrounds\, 26 Jefferson St\, Oley\, PA\, 19547\, United States
CATEGORIES:Worship Service
ORGANIZER;CN="Pastor Fred Bell":MAILTO:pastorfred@ccoley.com
GEO:40.3866624;-75.7846798
X-APPLE-STRUCTURED-LOCATION;VALUE=URI;X-ADDRESS=Oley Fairgrounds 26 Jefferson St Oley PA 19547 United States;X-APPLE-RADIUS=500;X-TITLE=26 Jefferson St:geo:-75.7846798,40.3866624
END:VEVENT
BEGIN:VEVENT
DTSTART;TZID=America/New_York:20290401T100000
DTEND;TZID=America/New_York:20290401T113000
DTSTAMP:20260423T162011
CREATED:20260222T183241Z
LAST-MODIFIED:20260329T183747Z
UID:10006063-1869732000-1869737400@ccoley.com
SUMMARY:Worship Service
DESCRIPTION:We are currently studying 1 John. \nFor those that cannot attend in person\, please join our live stream on Rumble.
URL:https://ccoley.com/event/worship-service-28/2029-04-01/
LOCATION:Oley Fairgrounds\, 26 Jefferson St\, Oley\, PA\, 19547\, United States
CATEGORIES:Worship Service
ORGANIZER;CN="Pastor Fred Bell":MAILTO:pastorfred@ccoley.com
GEO:40.3866624;-75.7846798
X-APPLE-STRUCTURED-LOCATION;VALUE=URI;X-ADDRESS=Oley Fairgrounds 26 Jefferson St Oley PA 19547 United States;X-APPLE-RADIUS=500;X-TITLE=26 Jefferson St:geo:-75.7846798,40.3866624
END:VEVENT
BEGIN:VEVENT
DTSTART;TZID=America/New_York:20290408T100000
DTEND;TZID=America/New_York:20290408T113000
DTSTAMP:20260423T162011
CREATED:20260222T183241Z
LAST-MODIFIED:20260329T183747Z
UID:10006064-1870336800-1870342200@ccoley.com
SUMMARY:Worship Service
DESCRIPTION:We are currently studying 1 John. \nFor those that cannot attend in person\, please join our live stream on Rumble.
URL:https://ccoley.com/event/worship-service-28/2029-04-08/
LOCATION:Oley Fairgrounds\, 26 Jefferson St\, Oley\, PA\, 19547\, United States
CATEGORIES:Worship Service
ORGANIZER;CN="Pastor Fred Bell":MAILTO:pastorfred@ccoley.com
GEO:40.3866624;-75.7846798
X-APPLE-STRUCTURED-LOCATION;VALUE=URI;X-ADDRESS=Oley Fairgrounds 26 Jefferson St Oley PA 19547 United States;X-APPLE-RADIUS=500;X-TITLE=26 Jefferson St:geo:-75.7846798,40.3866624
END:VEVENT
BEGIN:VEVENT
DTSTART;TZID=America/New_York:20290415T100000
DTEND;TZID=America/New_York:20290415T113000
DTSTAMP:20260423T162011
CREATED:20260222T183241Z
LAST-MODIFIED:20260329T183747Z
UID:10006065-1870941600-1870947000@ccoley.com
SUMMARY:Worship Service
DESCRIPTION:We are currently studying 1 John. \nFor those that cannot attend in person\, please join our live stream on Rumble.
URL:https://ccoley.com/event/worship-service-28/2029-04-15/
LOCATION:Oley Fairgrounds\, 26 Jefferson St\, Oley\, PA\, 19547\, United States
CATEGORIES:Worship Service
ORGANIZER;CN="Pastor Fred Bell":MAILTO:pastorfred@ccoley.com
GEO:40.3866624;-75.7846798
X-APPLE-STRUCTURED-LOCATION;VALUE=URI;X-ADDRESS=Oley Fairgrounds 26 Jefferson St Oley PA 19547 United States;X-APPLE-RADIUS=500;X-TITLE=26 Jefferson St:geo:-75.7846798,40.3866624
END:VEVENT
BEGIN:VEVENT
DTSTART;TZID=America/New_York:20290422T100000
DTEND;TZID=America/New_York:20290422T113000
DTSTAMP:20260423T162011
CREATED:20260222T183241Z
LAST-MODIFIED:20260329T183747Z
UID:10006066-1871546400-1871551800@ccoley.com
SUMMARY:Worship Service
DESCRIPTION:We are currently studying 1 John. \nFor those that cannot attend in person\, please join our live stream on Rumble.
URL:https://ccoley.com/event/worship-service-28/2029-04-22/
LOCATION:Oley Fairgrounds\, 26 Jefferson St\, Oley\, PA\, 19547\, United States
CATEGORIES:Worship Service
ORGANIZER;CN="Pastor Fred Bell":MAILTO:pastorfred@ccoley.com
GEO:40.3866624;-75.7846798
X-APPLE-STRUCTURED-LOCATION;VALUE=URI;X-ADDRESS=Oley Fairgrounds 26 Jefferson St Oley PA 19547 United States;X-APPLE-RADIUS=500;X-TITLE=26 Jefferson St:geo:-75.7846798,40.3866624
END:VEVENT
BEGIN:VEVENT
DTSTART;TZID=America/New_York:20290429T100000
DTEND;TZID=America/New_York:20290429T113000
DTSTAMP:20260423T162011
CREATED:20260222T183241Z
LAST-MODIFIED:20260329T183747Z
UID:10006067-1872151200-1872156600@ccoley.com
SUMMARY:Worship Service
DESCRIPTION:We are currently studying 1 John. \nFor those that cannot attend in person\, please join our live stream on Rumble.
URL:https://ccoley.com/event/worship-service-28/2029-04-29/
LOCATION:Oley Fairgrounds\, 26 Jefferson St\, Oley\, PA\, 19547\, United States
CATEGORIES:Worship Service
ORGANIZER;CN="Pastor Fred Bell":MAILTO:pastorfred@ccoley.com
GEO:40.3866624;-75.7846798
X-APPLE-STRUCTURED-LOCATION;VALUE=URI;X-ADDRESS=Oley Fairgrounds 26 Jefferson St Oley PA 19547 United States;X-APPLE-RADIUS=500;X-TITLE=26 Jefferson St:geo:-75.7846798,40.3866624
END:VEVENT
BEGIN:VEVENT
DTSTART;TZID=America/New_York:20290506T100000
DTEND;TZID=America/New_York:20290506T113000
DTSTAMP:20260423T162011
CREATED:20260222T183241Z
LAST-MODIFIED:20260329T183747Z
UID:10006068-1872756000-1872761400@ccoley.com
SUMMARY:Worship Service
DESCRIPTION:We are currently studying 1 John. \nFor those that cannot attend in person\, please join our live stream on Rumble.
URL:https://ccoley.com/event/worship-service-28/2029-05-06/
LOCATION:Oley Fairgrounds\, 26 Jefferson St\, Oley\, PA\, 19547\, United States
CATEGORIES:Worship Service
ORGANIZER;CN="Pastor Fred Bell":MAILTO:pastorfred@ccoley.com
GEO:40.3866624;-75.7846798
X-APPLE-STRUCTURED-LOCATION;VALUE=URI;X-ADDRESS=Oley Fairgrounds 26 Jefferson St Oley PA 19547 United States;X-APPLE-RADIUS=500;X-TITLE=26 Jefferson St:geo:-75.7846798,40.3866624
END:VEVENT
BEGIN:VEVENT
DTSTART;TZID=America/New_York:20290513T100000
DTEND;TZID=America/New_York:20290513T113000
DTSTAMP:20260423T162011
CREATED:20260222T183241Z
LAST-MODIFIED:20260329T183747Z
UID:10006069-1873360800-1873366200@ccoley.com
SUMMARY:Worship Service
DESCRIPTION:We are currently studying 1 John. \nFor those that cannot attend in person\, please join our live stream on Rumble.
URL:https://ccoley.com/event/worship-service-28/2029-05-13/
LOCATION:Oley Fairgrounds\, 26 Jefferson St\, Oley\, PA\, 19547\, United States
CATEGORIES:Worship Service
ORGANIZER;CN="Pastor Fred Bell":MAILTO:pastorfred@ccoley.com
GEO:40.3866624;-75.7846798
X-APPLE-STRUCTURED-LOCATION;VALUE=URI;X-ADDRESS=Oley Fairgrounds 26 Jefferson St Oley PA 19547 United States;X-APPLE-RADIUS=500;X-TITLE=26 Jefferson St:geo:-75.7846798,40.3866624
END:VEVENT
BEGIN:VEVENT
DTSTART;TZID=America/New_York:20290520T100000
DTEND;TZID=America/New_York:20290520T113000
DTSTAMP:20260423T162011
CREATED:20260222T183241Z
LAST-MODIFIED:20260329T183747Z
UID:10006070-1873965600-1873971000@ccoley.com
SUMMARY:Worship Service
DESCRIPTION:We are currently studying 1 John. \nFor those that cannot attend in person\, please join our live stream on Rumble.
URL:https://ccoley.com/event/worship-service-28/2029-05-20/
LOCATION:Oley Fairgrounds\, 26 Jefferson St\, Oley\, PA\, 19547\, United States
CATEGORIES:Worship Service
ORGANIZER;CN="Pastor Fred Bell":MAILTO:pastorfred@ccoley.com
GEO:40.3866624;-75.7846798
X-APPLE-STRUCTURED-LOCATION;VALUE=URI;X-ADDRESS=Oley Fairgrounds 26 Jefferson St Oley PA 19547 United States;X-APPLE-RADIUS=500;X-TITLE=26 Jefferson St:geo:-75.7846798,40.3866624
END:VEVENT
BEGIN:VEVENT
DTSTART;TZID=America/New_York:20290527T100000
DTEND;TZID=America/New_York:20290527T113000
DTSTAMP:20260423T162011
CREATED:20260222T183241Z
LAST-MODIFIED:20260329T183747Z
UID:10006071-1874570400-1874575800@ccoley.com
SUMMARY:Worship Service
DESCRIPTION:We are currently studying 1 John. \nFor those that cannot attend in person\, please join our live stream on Rumble.
URL:https://ccoley.com/event/worship-service-28/2029-05-27/
LOCATION:Oley Fairgrounds\, 26 Jefferson St\, Oley\, PA\, 19547\, United States
CATEGORIES:Worship Service
ORGANIZER;CN="Pastor Fred Bell":MAILTO:pastorfred@ccoley.com
GEO:40.3866624;-75.7846798
X-APPLE-STRUCTURED-LOCATION;VALUE=URI;X-ADDRESS=Oley Fairgrounds 26 Jefferson St Oley PA 19547 United States;X-APPLE-RADIUS=500;X-TITLE=26 Jefferson St:geo:-75.7846798,40.3866624
END:VEVENT
BEGIN:VEVENT
DTSTART;TZID=America/New_York:20290603T100000
DTEND;TZID=America/New_York:20290603T113000
DTSTAMP:20260423T162011
CREATED:20260222T183241Z
LAST-MODIFIED:20260329T183747Z
UID:10006072-1875175200-1875180600@ccoley.com
SUMMARY:Worship Service
DESCRIPTION:We are currently studying 1 John. \nFor those that cannot attend in person\, please join our live stream on Rumble.
URL:https://ccoley.com/event/worship-service-28/2029-06-03/
LOCATION:Oley Fairgrounds\, 26 Jefferson St\, Oley\, PA\, 19547\, United States
CATEGORIES:Worship Service
ORGANIZER;CN="Pastor Fred Bell":MAILTO:pastorfred@ccoley.com
GEO:40.3866624;-75.7846798
X-APPLE-STRUCTURED-LOCATION;VALUE=URI;X-ADDRESS=Oley Fairgrounds 26 Jefferson St Oley PA 19547 United States;X-APPLE-RADIUS=500;X-TITLE=26 Jefferson St:geo:-75.7846798,40.3866624
END:VEVENT
BEGIN:VEVENT
DTSTART;TZID=America/New_York:20290610T100000
DTEND;TZID=America/New_York:20290610T113000
DTSTAMP:20260423T162011
CREATED:20260222T183241Z
LAST-MODIFIED:20260329T183747Z
UID:10006073-1875780000-1875785400@ccoley.com
SUMMARY:Worship Service
DESCRIPTION:We are currently studying 1 John. \nFor those that cannot attend in person\, please join our live stream on Rumble.
URL:https://ccoley.com/event/worship-service-28/2029-06-10/
LOCATION:Oley Fairgrounds\, 26 Jefferson St\, Oley\, PA\, 19547\, United States
CATEGORIES:Worship Service
ORGANIZER;CN="Pastor Fred Bell":MAILTO:pastorfred@ccoley.com
GEO:40.3866624;-75.7846798
X-APPLE-STRUCTURED-LOCATION;VALUE=URI;X-ADDRESS=Oley Fairgrounds 26 Jefferson St Oley PA 19547 United States;X-APPLE-RADIUS=500;X-TITLE=26 Jefferson St:geo:-75.7846798,40.3866624
END:VEVENT
BEGIN:VEVENT
DTSTART;TZID=America/New_York:20290617T100000
DTEND;TZID=America/New_York:20290617T113000
DTSTAMP:20260423T162011
CREATED:20260222T183241Z
LAST-MODIFIED:20260329T183747Z
UID:10006074-1876384800-1876390200@ccoley.com
SUMMARY:Worship Service
DESCRIPTION:We are currently studying 1 John. \nFor those that cannot attend in person\, please join our live stream on Rumble.
URL:https://ccoley.com/event/worship-service-28/2029-06-17/
LOCATION:Oley Fairgrounds\, 26 Jefferson St\, Oley\, PA\, 19547\, United States
CATEGORIES:Worship Service
ORGANIZER;CN="Pastor Fred Bell":MAILTO:pastorfred@ccoley.com
GEO:40.3866624;-75.7846798
X-APPLE-STRUCTURED-LOCATION;VALUE=URI;X-ADDRESS=Oley Fairgrounds 26 Jefferson St Oley PA 19547 United States;X-APPLE-RADIUS=500;X-TITLE=26 Jefferson St:geo:-75.7846798,40.3866624
END:VEVENT
BEGIN:VEVENT
DTSTART;TZID=America/New_York:20290624T100000
DTEND;TZID=America/New_York:20290624T113000
DTSTAMP:20260423T162011
CREATED:20260222T183241Z
LAST-MODIFIED:20260329T183747Z
UID:10006075-1876989600-1876995000@ccoley.com
SUMMARY:Worship Service
DESCRIPTION:We are currently studying 1 John. \nFor those that cannot attend in person\, please join our live stream on Rumble.
URL:https://ccoley.com/event/worship-service-28/2029-06-24/
LOCATION:Oley Fairgrounds\, 26 Jefferson St\, Oley\, PA\, 19547\, United States
CATEGORIES:Worship Service
ORGANIZER;CN="Pastor Fred Bell":MAILTO:pastorfred@ccoley.com
GEO:40.3866624;-75.7846798
X-APPLE-STRUCTURED-LOCATION;VALUE=URI;X-ADDRESS=Oley Fairgrounds 26 Jefferson St Oley PA 19547 United States;X-APPLE-RADIUS=500;X-TITLE=26 Jefferson St:geo:-75.7846798,40.3866624
END:VEVENT
BEGIN:VEVENT
DTSTART;TZID=America/New_York:20290701T100000
DTEND;TZID=America/New_York:20290701T113000
DTSTAMP:20260423T162011
CREATED:20260222T183241Z
LAST-MODIFIED:20260329T183747Z
UID:10006076-1877594400-1877599800@ccoley.com
SUMMARY:Worship Service
DESCRIPTION:We are currently studying 1 John. \nFor those that cannot attend in person\, please join our live stream on Rumble.
URL:https://ccoley.com/event/worship-service-28/2029-07-01/
LOCATION:Oley Fairgrounds\, 26 Jefferson St\, Oley\, PA\, 19547\, United States
CATEGORIES:Worship Service
ORGANIZER;CN="Pastor Fred Bell":MAILTO:pastorfred@ccoley.com
GEO:40.3866624;-75.7846798
X-APPLE-STRUCTURED-LOCATION;VALUE=URI;X-ADDRESS=Oley Fairgrounds 26 Jefferson St Oley PA 19547 United States;X-APPLE-RADIUS=500;X-TITLE=26 Jefferson St:geo:-75.7846798,40.3866624
END:VEVENT
BEGIN:VEVENT
DTSTART;TZID=America/New_York:20290708T100000
DTEND;TZID=America/New_York:20290708T113000
DTSTAMP:20260423T162011
CREATED:20260222T183241Z
LAST-MODIFIED:20260329T183747Z
UID:10006077-1878199200-1878204600@ccoley.com
SUMMARY:Worship Service
DESCRIPTION:We are currently studying 1 John. \nFor those that cannot attend in person\, please join our live stream on Rumble.
URL:https://ccoley.com/event/worship-service-28/2029-07-08/
LOCATION:Oley Fairgrounds\, 26 Jefferson St\, Oley\, PA\, 19547\, United States
CATEGORIES:Worship Service
ORGANIZER;CN="Pastor Fred Bell":MAILTO:pastorfred@ccoley.com
GEO:40.3866624;-75.7846798
X-APPLE-STRUCTURED-LOCATION;VALUE=URI;X-ADDRESS=Oley Fairgrounds 26 Jefferson St Oley PA 19547 United States;X-APPLE-RADIUS=500;X-TITLE=26 Jefferson St:geo:-75.7846798,40.3866624
END:VEVENT
BEGIN:VEVENT
DTSTART;TZID=America/New_York:20290715T100000
DTEND;TZID=America/New_York:20290715T113000
DTSTAMP:20260423T162011
CREATED:20260222T183241Z
LAST-MODIFIED:20260329T183747Z
UID:10006078-1878804000-1878809400@ccoley.com
SUMMARY:Worship Service
DESCRIPTION:We are currently studying 1 John. \nFor those that cannot attend in person\, please join our live stream on Rumble.
URL:https://ccoley.com/event/worship-service-28/2029-07-15/
LOCATION:Oley Fairgrounds\, 26 Jefferson St\, Oley\, PA\, 19547\, United States
CATEGORIES:Worship Service
ORGANIZER;CN="Pastor Fred Bell":MAILTO:pastorfred@ccoley.com
GEO:40.3866624;-75.7846798
X-APPLE-STRUCTURED-LOCATION;VALUE=URI;X-ADDRESS=Oley Fairgrounds 26 Jefferson St Oley PA 19547 United States;X-APPLE-RADIUS=500;X-TITLE=26 Jefferson St:geo:-75.7846798,40.3866624
END:VEVENT
BEGIN:VEVENT
DTSTART;TZID=America/New_York:20290722T100000
DTEND;TZID=America/New_York:20290722T113000
DTSTAMP:20260423T162011
CREATED:20260222T183241Z
LAST-MODIFIED:20260329T183747Z
UID:10006079-1879408800-1879414200@ccoley.com
SUMMARY:Worship Service
DESCRIPTION:We are currently studying 1 John. \nFor those that cannot attend in person\, please join our live stream on Rumble.
URL:https://ccoley.com/event/worship-service-28/2029-07-22/
LOCATION:Oley Fairgrounds\, 26 Jefferson St\, Oley\, PA\, 19547\, United States
CATEGORIES:Worship Service
ORGANIZER;CN="Pastor Fred Bell":MAILTO:pastorfred@ccoley.com
GEO:40.3866624;-75.7846798
X-APPLE-STRUCTURED-LOCATION;VALUE=URI;X-ADDRESS=Oley Fairgrounds 26 Jefferson St Oley PA 19547 United States;X-APPLE-RADIUS=500;X-TITLE=26 Jefferson St:geo:-75.7846798,40.3866624
END:VEVENT
BEGIN:VEVENT
DTSTART;TZID=America/New_York:20290729T100000
DTEND;TZID=America/New_York:20290729T113000
DTSTAMP:20260423T162011
CREATED:20260222T183241Z
LAST-MODIFIED:20260329T183747Z
UID:10006080-1880013600-1880019000@ccoley.com
SUMMARY:Worship Service
DESCRIPTION:We are currently studying 1 John. \nFor those that cannot attend in person\, please join our live stream on Rumble.
URL:https://ccoley.com/event/worship-service-28/2029-07-29/
LOCATION:Oley Fairgrounds\, 26 Jefferson St\, Oley\, PA\, 19547\, United States
CATEGORIES:Worship Service
ORGANIZER;CN="Pastor Fred Bell":MAILTO:pastorfred@ccoley.com
GEO:40.3866624;-75.7846798
X-APPLE-STRUCTURED-LOCATION;VALUE=URI;X-ADDRESS=Oley Fairgrounds 26 Jefferson St Oley PA 19547 United States;X-APPLE-RADIUS=500;X-TITLE=26 Jefferson St:geo:-75.7846798,40.3866624
END:VEVENT
BEGIN:VEVENT
DTSTART;TZID=America/New_York:20290805T100000
DTEND;TZID=America/New_York:20290805T113000
DTSTAMP:20260423T162011
CREATED:20260222T183241Z
LAST-MODIFIED:20260329T183747Z
UID:10006081-1880618400-1880623800@ccoley.com
SUMMARY:Worship Service
DESCRIPTION:We are currently studying 1 John. \nFor those that cannot attend in person\, please join our live stream on Rumble.
URL:https://ccoley.com/event/worship-service-28/2029-08-05/
LOCATION:Oley Fairgrounds\, 26 Jefferson St\, Oley\, PA\, 19547\, United States
CATEGORIES:Worship Service
ORGANIZER;CN="Pastor Fred Bell":MAILTO:pastorfred@ccoley.com
GEO:40.3866624;-75.7846798
X-APPLE-STRUCTURED-LOCATION;VALUE=URI;X-ADDRESS=Oley Fairgrounds 26 Jefferson St Oley PA 19547 United States;X-APPLE-RADIUS=500;X-TITLE=26 Jefferson St:geo:-75.7846798,40.3866624
END:VEVENT
BEGIN:VEVENT
DTSTART;TZID=America/New_York:20290812T100000
DTEND;TZID=America/New_York:20290812T113000
DTSTAMP:20260423T162011
CREATED:20260222T183241Z
LAST-MODIFIED:20260329T183747Z
UID:10006082-1881223200-1881228600@ccoley.com
SUMMARY:Worship Service
DESCRIPTION:We are currently studying 1 John. \nFor those that cannot attend in person\, please join our live stream on Rumble.
URL:https://ccoley.com/event/worship-service-28/2029-08-12/
LOCATION:Oley Fairgrounds\, 26 Jefferson St\, Oley\, PA\, 19547\, United States
CATEGORIES:Worship Service
ORGANIZER;CN="Pastor Fred Bell":MAILTO:pastorfred@ccoley.com
GEO:40.3866624;-75.7846798
X-APPLE-STRUCTURED-LOCATION;VALUE=URI;X-ADDRESS=Oley Fairgrounds 26 Jefferson St Oley PA 19547 United States;X-APPLE-RADIUS=500;X-TITLE=26 Jefferson St:geo:-75.7846798,40.3866624
END:VEVENT
BEGIN:VEVENT
DTSTART;TZID=America/New_York:20290819T100000
DTEND;TZID=America/New_York:20290819T113000
DTSTAMP:20260423T162011
CREATED:20260222T183241Z
LAST-MODIFIED:20260329T183747Z
UID:10006083-1881828000-1881833400@ccoley.com
SUMMARY:Worship Service
DESCRIPTION:We are currently studying 1 John. \nFor those that cannot attend in person\, please join our live stream on Rumble.
URL:https://ccoley.com/event/worship-service-28/2029-08-19/
LOCATION:Oley Fairgrounds\, 26 Jefferson St\, Oley\, PA\, 19547\, United States
CATEGORIES:Worship Service
ORGANIZER;CN="Pastor Fred Bell":MAILTO:pastorfred@ccoley.com
GEO:40.3866624;-75.7846798
X-APPLE-STRUCTURED-LOCATION;VALUE=URI;X-ADDRESS=Oley Fairgrounds 26 Jefferson St Oley PA 19547 United States;X-APPLE-RADIUS=500;X-TITLE=26 Jefferson St:geo:-75.7846798,40.3866624
END:VEVENT
BEGIN:VEVENT
DTSTART;TZID=America/New_York:20290826T100000
DTEND;TZID=America/New_York:20290826T113000
DTSTAMP:20260423T162011
CREATED:20260222T183241Z
LAST-MODIFIED:20260329T183747Z
UID:10006084-1882432800-1882438200@ccoley.com
SUMMARY:Worship Service
DESCRIPTION:We are currently studying 1 John. \nFor those that cannot attend in person\, please join our live stream on Rumble.
URL:https://ccoley.com/event/worship-service-28/2029-08-26/
LOCATION:Oley Fairgrounds\, 26 Jefferson St\, Oley\, PA\, 19547\, United States
CATEGORIES:Worship Service
ORGANIZER;CN="Pastor Fred Bell":MAILTO:pastorfred@ccoley.com
GEO:40.3866624;-75.7846798
X-APPLE-STRUCTURED-LOCATION;VALUE=URI;X-ADDRESS=Oley Fairgrounds 26 Jefferson St Oley PA 19547 United States;X-APPLE-RADIUS=500;X-TITLE=26 Jefferson St:geo:-75.7846798,40.3866624
END:VEVENT
BEGIN:VEVENT
DTSTART;TZID=America/New_York:20290902T100000
DTEND;TZID=America/New_York:20290902T113000
DTSTAMP:20260423T162011
CREATED:20260222T183241Z
LAST-MODIFIED:20260329T183747Z
UID:10006085-1883037600-1883043000@ccoley.com
SUMMARY:Worship Service
DESCRIPTION:We are currently studying 1 John. \nFor those that cannot attend in person\, please join our live stream on Rumble.
URL:https://ccoley.com/event/worship-service-28/2029-09-02/
LOCATION:Oley Fairgrounds\, 26 Jefferson St\, Oley\, PA\, 19547\, United States
CATEGORIES:Worship Service
ORGANIZER;CN="Pastor Fred Bell":MAILTO:pastorfred@ccoley.com
GEO:40.3866624;-75.7846798
X-APPLE-STRUCTURED-LOCATION;VALUE=URI;X-ADDRESS=Oley Fairgrounds 26 Jefferson St Oley PA 19547 United States;X-APPLE-RADIUS=500;X-TITLE=26 Jefferson St:geo:-75.7846798,40.3866624
END:VEVENT
BEGIN:VEVENT
DTSTART;TZID=America/New_York:20290909T100000
DTEND;TZID=America/New_York:20290909T113000
DTSTAMP:20260423T162011
CREATED:20260222T183241Z
LAST-MODIFIED:20260329T183747Z
UID:10006086-1883642400-1883647800@ccoley.com
SUMMARY:Worship Service
DESCRIPTION:We are currently studying 1 John. \nFor those that cannot attend in person\, please join our live stream on Rumble.
URL:https://ccoley.com/event/worship-service-28/2029-09-09/
LOCATION:Oley Fairgrounds\, 26 Jefferson St\, Oley\, PA\, 19547\, United States
CATEGORIES:Worship Service
ORGANIZER;CN="Pastor Fred Bell":MAILTO:pastorfred@ccoley.com
GEO:40.3866624;-75.7846798
X-APPLE-STRUCTURED-LOCATION;VALUE=URI;X-ADDRESS=Oley Fairgrounds 26 Jefferson St Oley PA 19547 United States;X-APPLE-RADIUS=500;X-TITLE=26 Jefferson St:geo:-75.7846798,40.3866624
END:VEVENT
BEGIN:VEVENT
DTSTART;TZID=America/New_York:20290916T100000
DTEND;TZID=America/New_York:20290916T113000
DTSTAMP:20260423T162011
CREATED:20260222T183241Z
LAST-MODIFIED:20260329T183747Z
UID:10006087-1884247200-1884252600@ccoley.com
SUMMARY:Worship Service
DESCRIPTION:We are currently studying 1 John. \nFor those that cannot attend in person\, please join our live stream on Rumble.
URL:https://ccoley.com/event/worship-service-28/2029-09-16/
LOCATION:Oley Fairgrounds\, 26 Jefferson St\, Oley\, PA\, 19547\, United States
CATEGORIES:Worship Service
ORGANIZER;CN="Pastor Fred Bell":MAILTO:pastorfred@ccoley.com
GEO:40.3866624;-75.7846798
X-APPLE-STRUCTURED-LOCATION;VALUE=URI;X-ADDRESS=Oley Fairgrounds 26 Jefferson St Oley PA 19547 United States;X-APPLE-RADIUS=500;X-TITLE=26 Jefferson St:geo:-75.7846798,40.3866624
END:VEVENT
BEGIN:VEVENT
DTSTART;TZID=America/New_York:20290923T100000
DTEND;TZID=America/New_York:20290923T113000
DTSTAMP:20260423T162011
CREATED:20260222T183241Z
LAST-MODIFIED:20260329T183747Z
UID:10006088-1884852000-1884857400@ccoley.com
SUMMARY:Worship Service
DESCRIPTION:We are currently studying 1 John. \nFor those that cannot attend in person\, please join our live stream on Rumble.
URL:https://ccoley.com/event/worship-service-28/2029-09-23/
LOCATION:Oley Fairgrounds\, 26 Jefferson St\, Oley\, PA\, 19547\, United States
CATEGORIES:Worship Service
ORGANIZER;CN="Pastor Fred Bell":MAILTO:pastorfred@ccoley.com
GEO:40.3866624;-75.7846798
X-APPLE-STRUCTURED-LOCATION;VALUE=URI;X-ADDRESS=Oley Fairgrounds 26 Jefferson St Oley PA 19547 United States;X-APPLE-RADIUS=500;X-TITLE=26 Jefferson St:geo:-75.7846798,40.3866624
END:VEVENT
BEGIN:VEVENT
DTSTART;TZID=America/New_York:20290930T100000
DTEND;TZID=America/New_York:20290930T113000
DTSTAMP:20260423T162011
CREATED:20260222T183241Z
LAST-MODIFIED:20260329T183747Z
UID:10006089-1885456800-1885462200@ccoley.com
SUMMARY:Worship Service
DESCRIPTION:We are currently studying 1 John. \nFor those that cannot attend in person\, please join our live stream on Rumble.
URL:https://ccoley.com/event/worship-service-28/2029-09-30/
LOCATION:Oley Fairgrounds\, 26 Jefferson St\, Oley\, PA\, 19547\, United States
CATEGORIES:Worship Service
ORGANIZER;CN="Pastor Fred Bell":MAILTO:pastorfred@ccoley.com
GEO:40.3866624;-75.7846798
X-APPLE-STRUCTURED-LOCATION;VALUE=URI;X-ADDRESS=Oley Fairgrounds 26 Jefferson St Oley PA 19547 United States;X-APPLE-RADIUS=500;X-TITLE=26 Jefferson St:geo:-75.7846798,40.3866624
END:VEVENT
END:VCALENDAR