BEGIN:VCALENDAR
VERSION:2.0
PRODID:-//Calvary Chapel of the Oley Valley - ECPv6.15.20//NONSGML v1.0//EN
CALSCALE:GREGORIAN
METHOD:PUBLISH
X-WR-CALNAME:Calvary Chapel of the Oley Valley
X-ORIGINAL-URL:https://ccoley.com
X-WR-CALDESC:Events for Calvary Chapel of the Oley Valley
REFRESH-INTERVAL;VALUE=DURATION:PT1H
X-Robots-Tag:noindex
X-PUBLISHED-TTL:PT1H
BEGIN:VTIMEZONE
TZID:America/New_York
BEGIN:DAYLIGHT
TZOFFSETFROM:-0500
TZOFFSETTO:-0400
TZNAME:EDT
DTSTART:20250309T070000
END:DAYLIGHT
BEGIN:STANDARD
TZOFFSETFROM:-0400
TZOFFSETTO:-0500
TZNAME:EST
DTSTART:20251102T060000
END:STANDARD
BEGIN:DAYLIGHT
TZOFFSETFROM:-0500
TZOFFSETTO:-0400
TZNAME:EDT
DTSTART:20260308T070000
END:DAYLIGHT
BEGIN:STANDARD
TZOFFSETFROM:-0400
TZOFFSETTO:-0500
TZNAME:EST
DTSTART:20261101T060000
END:STANDARD
BEGIN:DAYLIGHT
TZOFFSETFROM:-0500
TZOFFSETTO:-0400
TZNAME:EDT
DTSTART:20270314T070000
END:DAYLIGHT
BEGIN:STANDARD
TZOFFSETFROM:-0400
TZOFFSETTO:-0500
TZNAME:EST
DTSTART:20271107T060000
END:STANDARD
END:VTIMEZONE
BEGIN:VEVENT
DTSTART;TZID=America/New_York:20260419T100000
DTEND;TZID=America/New_York:20260419T113000
DTSTAMP:20260422T174748
CREATED:20260222T183241Z
LAST-MODIFIED:20260329T183747Z
UID:10005909-1776592800-1776598200@ccoley.com
SUMMARY:Worship Service
DESCRIPTION:We are currently studying 1 John. \nFor those that cannot attend in person\, please join our live stream on Rumble.
URL:https://ccoley.com/event/worship-service-28/2026-04-19/
LOCATION:Oley Fairgrounds\, 26 Jefferson St\, Oley\, PA\, 19547\, United States
CATEGORIES:Worship Service
ORGANIZER;CN="Pastor Fred Bell":MAILTO:pastorfred@ccoley.com
GEO:40.3866624;-75.7846798
X-APPLE-STRUCTURED-LOCATION;VALUE=URI;X-ADDRESS=Oley Fairgrounds 26 Jefferson St Oley PA 19547 United States;X-APPLE-RADIUS=500;X-TITLE=26 Jefferson St:geo:-75.7846798,40.3866624
END:VEVENT
BEGIN:VEVENT
DTSTART;TZID=America/New_York:20260426T100000
DTEND;TZID=America/New_York:20260426T113000
DTSTAMP:20260422T174748
CREATED:20260222T183241Z
LAST-MODIFIED:20260329T183747Z
UID:10005910-1777197600-1777203000@ccoley.com
SUMMARY:Worship Service
DESCRIPTION:We are currently studying 1 John. \nFor those that cannot attend in person\, please join our live stream on Rumble.
URL:https://ccoley.com/event/worship-service-28/2026-04-26/
LOCATION:Oley Fairgrounds\, 26 Jefferson St\, Oley\, PA\, 19547\, United States
CATEGORIES:Worship Service
ORGANIZER;CN="Pastor Fred Bell":MAILTO:pastorfred@ccoley.com
GEO:40.3866624;-75.7846798
X-APPLE-STRUCTURED-LOCATION;VALUE=URI;X-ADDRESS=Oley Fairgrounds 26 Jefferson St Oley PA 19547 United States;X-APPLE-RADIUS=500;X-TITLE=26 Jefferson St:geo:-75.7846798,40.3866624
END:VEVENT
BEGIN:VEVENT
DTSTART;TZID=America/New_York:20260503T100000
DTEND;TZID=America/New_York:20260503T113000
DTSTAMP:20260422T174748
CREATED:20260222T183241Z
LAST-MODIFIED:20260329T183747Z
UID:10005911-1777802400-1777807800@ccoley.com
SUMMARY:Worship Service
DESCRIPTION:We are currently studying 1 John. \nFor those that cannot attend in person\, please join our live stream on Rumble.
URL:https://ccoley.com/event/worship-service-28/2026-05-03/
LOCATION:Oley Fairgrounds\, 26 Jefferson St\, Oley\, PA\, 19547\, United States
CATEGORIES:Worship Service
ORGANIZER;CN="Pastor Fred Bell":MAILTO:pastorfred@ccoley.com
GEO:40.3866624;-75.7846798
X-APPLE-STRUCTURED-LOCATION;VALUE=URI;X-ADDRESS=Oley Fairgrounds 26 Jefferson St Oley PA 19547 United States;X-APPLE-RADIUS=500;X-TITLE=26 Jefferson St:geo:-75.7846798,40.3866624
END:VEVENT
BEGIN:VEVENT
DTSTART;TZID=America/New_York:20260510T100000
DTEND;TZID=America/New_York:20260510T113000
DTSTAMP:20260422T174748
CREATED:20260222T183241Z
LAST-MODIFIED:20260329T183747Z
UID:10005912-1778407200-1778412600@ccoley.com
SUMMARY:Worship Service
DESCRIPTION:We are currently studying 1 John. \nFor those that cannot attend in person\, please join our live stream on Rumble.
URL:https://ccoley.com/event/worship-service-28/2026-05-10/
LOCATION:Oley Fairgrounds\, 26 Jefferson St\, Oley\, PA\, 19547\, United States
CATEGORIES:Worship Service
ORGANIZER;CN="Pastor Fred Bell":MAILTO:pastorfred@ccoley.com
GEO:40.3866624;-75.7846798
X-APPLE-STRUCTURED-LOCATION;VALUE=URI;X-ADDRESS=Oley Fairgrounds 26 Jefferson St Oley PA 19547 United States;X-APPLE-RADIUS=500;X-TITLE=26 Jefferson St:geo:-75.7846798,40.3866624
END:VEVENT
BEGIN:VEVENT
DTSTART;TZID=America/New_York:20260517T100000
DTEND;TZID=America/New_York:20260517T113000
DTSTAMP:20260422T174748
CREATED:20260222T183241Z
LAST-MODIFIED:20260329T183747Z
UID:10005913-1779012000-1779017400@ccoley.com
SUMMARY:Worship Service
DESCRIPTION:We are currently studying 1 John. \nFor those that cannot attend in person\, please join our live stream on Rumble.
URL:https://ccoley.com/event/worship-service-28/2026-05-17/
LOCATION:Oley Fairgrounds\, 26 Jefferson St\, Oley\, PA\, 19547\, United States
CATEGORIES:Worship Service
ORGANIZER;CN="Pastor Fred Bell":MAILTO:pastorfred@ccoley.com
GEO:40.3866624;-75.7846798
X-APPLE-STRUCTURED-LOCATION;VALUE=URI;X-ADDRESS=Oley Fairgrounds 26 Jefferson St Oley PA 19547 United States;X-APPLE-RADIUS=500;X-TITLE=26 Jefferson St:geo:-75.7846798,40.3866624
END:VEVENT
BEGIN:VEVENT
DTSTART;TZID=America/New_York:20260524T100000
DTEND;TZID=America/New_York:20260524T113000
DTSTAMP:20260422T174748
CREATED:20260222T183241Z
LAST-MODIFIED:20260329T183747Z
UID:10005914-1779616800-1779622200@ccoley.com
SUMMARY:Worship Service
DESCRIPTION:We are currently studying 1 John. \nFor those that cannot attend in person\, please join our live stream on Rumble.
URL:https://ccoley.com/event/worship-service-28/2026-05-24/
LOCATION:Oley Fairgrounds\, 26 Jefferson St\, Oley\, PA\, 19547\, United States
CATEGORIES:Worship Service
ORGANIZER;CN="Pastor Fred Bell":MAILTO:pastorfred@ccoley.com
GEO:40.3866624;-75.7846798
X-APPLE-STRUCTURED-LOCATION;VALUE=URI;X-ADDRESS=Oley Fairgrounds 26 Jefferson St Oley PA 19547 United States;X-APPLE-RADIUS=500;X-TITLE=26 Jefferson St:geo:-75.7846798,40.3866624
END:VEVENT
BEGIN:VEVENT
DTSTART;TZID=America/New_York:20260531T100000
DTEND;TZID=America/New_York:20260531T113000
DTSTAMP:20260422T174748
CREATED:20260222T183241Z
LAST-MODIFIED:20260329T183747Z
UID:10005915-1780221600-1780227000@ccoley.com
SUMMARY:Worship Service
DESCRIPTION:We are currently studying 1 John. \nFor those that cannot attend in person\, please join our live stream on Rumble.
URL:https://ccoley.com/event/worship-service-28/2026-05-31/
LOCATION:Oley Fairgrounds\, 26 Jefferson St\, Oley\, PA\, 19547\, United States
CATEGORIES:Worship Service
ORGANIZER;CN="Pastor Fred Bell":MAILTO:pastorfred@ccoley.com
GEO:40.3866624;-75.7846798
X-APPLE-STRUCTURED-LOCATION;VALUE=URI;X-ADDRESS=Oley Fairgrounds 26 Jefferson St Oley PA 19547 United States;X-APPLE-RADIUS=500;X-TITLE=26 Jefferson St:geo:-75.7846798,40.3866624
END:VEVENT
BEGIN:VEVENT
DTSTART;TZID=America/New_York:20260607T100000
DTEND;TZID=America/New_York:20260607T113000
DTSTAMP:20260422T174748
CREATED:20260222T183241Z
LAST-MODIFIED:20260329T183747Z
UID:10005916-1780826400-1780831800@ccoley.com
SUMMARY:Worship Service
DESCRIPTION:We are currently studying 1 John. \nFor those that cannot attend in person\, please join our live stream on Rumble.
URL:https://ccoley.com/event/worship-service-28/2026-06-07/
LOCATION:Oley Fairgrounds\, 26 Jefferson St\, Oley\, PA\, 19547\, United States
CATEGORIES:Worship Service
ORGANIZER;CN="Pastor Fred Bell":MAILTO:pastorfred@ccoley.com
GEO:40.3866624;-75.7846798
X-APPLE-STRUCTURED-LOCATION;VALUE=URI;X-ADDRESS=Oley Fairgrounds 26 Jefferson St Oley PA 19547 United States;X-APPLE-RADIUS=500;X-TITLE=26 Jefferson St:geo:-75.7846798,40.3866624
END:VEVENT
BEGIN:VEVENT
DTSTART;TZID=America/New_York:20260614T100000
DTEND;TZID=America/New_York:20260614T113000
DTSTAMP:20260422T174748
CREATED:20260222T183241Z
LAST-MODIFIED:20260329T183747Z
UID:10005917-1781431200-1781436600@ccoley.com
SUMMARY:Worship Service
DESCRIPTION:We are currently studying 1 John. \nFor those that cannot attend in person\, please join our live stream on Rumble.
URL:https://ccoley.com/event/worship-service-28/2026-06-14/
LOCATION:Oley Fairgrounds\, 26 Jefferson St\, Oley\, PA\, 19547\, United States
CATEGORIES:Worship Service
ORGANIZER;CN="Pastor Fred Bell":MAILTO:pastorfred@ccoley.com
GEO:40.3866624;-75.7846798
X-APPLE-STRUCTURED-LOCATION;VALUE=URI;X-ADDRESS=Oley Fairgrounds 26 Jefferson St Oley PA 19547 United States;X-APPLE-RADIUS=500;X-TITLE=26 Jefferson St:geo:-75.7846798,40.3866624
END:VEVENT
BEGIN:VEVENT
DTSTART;TZID=America/New_York:20260621T100000
DTEND;TZID=America/New_York:20260621T113000
DTSTAMP:20260422T174748
CREATED:20260222T183241Z
LAST-MODIFIED:20260329T183747Z
UID:10005918-1782036000-1782041400@ccoley.com
SUMMARY:Worship Service
DESCRIPTION:We are currently studying 1 John. \nFor those that cannot attend in person\, please join our live stream on Rumble.
URL:https://ccoley.com/event/worship-service-28/2026-06-21/
LOCATION:Oley Fairgrounds\, 26 Jefferson St\, Oley\, PA\, 19547\, United States
CATEGORIES:Worship Service
ORGANIZER;CN="Pastor Fred Bell":MAILTO:pastorfred@ccoley.com
GEO:40.3866624;-75.7846798
X-APPLE-STRUCTURED-LOCATION;VALUE=URI;X-ADDRESS=Oley Fairgrounds 26 Jefferson St Oley PA 19547 United States;X-APPLE-RADIUS=500;X-TITLE=26 Jefferson St:geo:-75.7846798,40.3866624
END:VEVENT
BEGIN:VEVENT
DTSTART;TZID=America/New_York:20260628T100000
DTEND;TZID=America/New_York:20260628T113000
DTSTAMP:20260422T174748
CREATED:20260222T183241Z
LAST-MODIFIED:20260329T183747Z
UID:10005919-1782640800-1782646200@ccoley.com
SUMMARY:Worship Service
DESCRIPTION:We are currently studying 1 John. \nFor those that cannot attend in person\, please join our live stream on Rumble.
URL:https://ccoley.com/event/worship-service-28/2026-06-28/
LOCATION:Oley Fairgrounds\, 26 Jefferson St\, Oley\, PA\, 19547\, United States
CATEGORIES:Worship Service
ORGANIZER;CN="Pastor Fred Bell":MAILTO:pastorfred@ccoley.com
GEO:40.3866624;-75.7846798
X-APPLE-STRUCTURED-LOCATION;VALUE=URI;X-ADDRESS=Oley Fairgrounds 26 Jefferson St Oley PA 19547 United States;X-APPLE-RADIUS=500;X-TITLE=26 Jefferson St:geo:-75.7846798,40.3866624
END:VEVENT
BEGIN:VEVENT
DTSTART;TZID=America/New_York:20260705T100000
DTEND;TZID=America/New_York:20260705T113000
DTSTAMP:20260422T174748
CREATED:20260222T183241Z
LAST-MODIFIED:20260329T183747Z
UID:10005920-1783245600-1783251000@ccoley.com
SUMMARY:Worship Service
DESCRIPTION:We are currently studying 1 John. \nFor those that cannot attend in person\, please join our live stream on Rumble.
URL:https://ccoley.com/event/worship-service-28/2026-07-05/
LOCATION:Oley Fairgrounds\, 26 Jefferson St\, Oley\, PA\, 19547\, United States
CATEGORIES:Worship Service
ORGANIZER;CN="Pastor Fred Bell":MAILTO:pastorfred@ccoley.com
GEO:40.3866624;-75.7846798
X-APPLE-STRUCTURED-LOCATION;VALUE=URI;X-ADDRESS=Oley Fairgrounds 26 Jefferson St Oley PA 19547 United States;X-APPLE-RADIUS=500;X-TITLE=26 Jefferson St:geo:-75.7846798,40.3866624
END:VEVENT
BEGIN:VEVENT
DTSTART;TZID=America/New_York:20260712T100000
DTEND;TZID=America/New_York:20260712T113000
DTSTAMP:20260422T174748
CREATED:20260222T183241Z
LAST-MODIFIED:20260329T183747Z
UID:10005921-1783850400-1783855800@ccoley.com
SUMMARY:Worship Service
DESCRIPTION:We are currently studying 1 John. \nFor those that cannot attend in person\, please join our live stream on Rumble.
URL:https://ccoley.com/event/worship-service-28/2026-07-12/
LOCATION:Oley Fairgrounds\, 26 Jefferson St\, Oley\, PA\, 19547\, United States
CATEGORIES:Worship Service
ORGANIZER;CN="Pastor Fred Bell":MAILTO:pastorfred@ccoley.com
GEO:40.3866624;-75.7846798
X-APPLE-STRUCTURED-LOCATION;VALUE=URI;X-ADDRESS=Oley Fairgrounds 26 Jefferson St Oley PA 19547 United States;X-APPLE-RADIUS=500;X-TITLE=26 Jefferson St:geo:-75.7846798,40.3866624
END:VEVENT
BEGIN:VEVENT
DTSTART;TZID=America/New_York:20260719T100000
DTEND;TZID=America/New_York:20260719T113000
DTSTAMP:20260422T174748
CREATED:20260222T183241Z
LAST-MODIFIED:20260329T183747Z
UID:10005922-1784455200-1784460600@ccoley.com
SUMMARY:Worship Service
DESCRIPTION:We are currently studying 1 John. \nFor those that cannot attend in person\, please join our live stream on Rumble.
URL:https://ccoley.com/event/worship-service-28/2026-07-19/
LOCATION:Oley Fairgrounds\, 26 Jefferson St\, Oley\, PA\, 19547\, United States
CATEGORIES:Worship Service
ORGANIZER;CN="Pastor Fred Bell":MAILTO:pastorfred@ccoley.com
GEO:40.3866624;-75.7846798
X-APPLE-STRUCTURED-LOCATION;VALUE=URI;X-ADDRESS=Oley Fairgrounds 26 Jefferson St Oley PA 19547 United States;X-APPLE-RADIUS=500;X-TITLE=26 Jefferson St:geo:-75.7846798,40.3866624
END:VEVENT
BEGIN:VEVENT
DTSTART;TZID=America/New_York:20260726T100000
DTEND;TZID=America/New_York:20260726T113000
DTSTAMP:20260422T174748
CREATED:20260222T183241Z
LAST-MODIFIED:20260329T183747Z
UID:10005923-1785060000-1785065400@ccoley.com
SUMMARY:Worship Service
DESCRIPTION:We are currently studying 1 John. \nFor those that cannot attend in person\, please join our live stream on Rumble.
URL:https://ccoley.com/event/worship-service-28/2026-07-26/
LOCATION:Oley Fairgrounds\, 26 Jefferson St\, Oley\, PA\, 19547\, United States
CATEGORIES:Worship Service
ORGANIZER;CN="Pastor Fred Bell":MAILTO:pastorfred@ccoley.com
GEO:40.3866624;-75.7846798
X-APPLE-STRUCTURED-LOCATION;VALUE=URI;X-ADDRESS=Oley Fairgrounds 26 Jefferson St Oley PA 19547 United States;X-APPLE-RADIUS=500;X-TITLE=26 Jefferson St:geo:-75.7846798,40.3866624
END:VEVENT
BEGIN:VEVENT
DTSTART;TZID=America/New_York:20260802T100000
DTEND;TZID=America/New_York:20260802T113000
DTSTAMP:20260422T174748
CREATED:20260222T183241Z
LAST-MODIFIED:20260329T183747Z
UID:10005924-1785664800-1785670200@ccoley.com
SUMMARY:Worship Service
DESCRIPTION:We are currently studying 1 John. \nFor those that cannot attend in person\, please join our live stream on Rumble.
URL:https://ccoley.com/event/worship-service-28/2026-08-02/
LOCATION:Oley Fairgrounds\, 26 Jefferson St\, Oley\, PA\, 19547\, United States
CATEGORIES:Worship Service
ORGANIZER;CN="Pastor Fred Bell":MAILTO:pastorfred@ccoley.com
GEO:40.3866624;-75.7846798
X-APPLE-STRUCTURED-LOCATION;VALUE=URI;X-ADDRESS=Oley Fairgrounds 26 Jefferson St Oley PA 19547 United States;X-APPLE-RADIUS=500;X-TITLE=26 Jefferson St:geo:-75.7846798,40.3866624
END:VEVENT
BEGIN:VEVENT
DTSTART;TZID=America/New_York:20260809T100000
DTEND;TZID=America/New_York:20260809T113000
DTSTAMP:20260422T174748
CREATED:20260222T183241Z
LAST-MODIFIED:20260329T183747Z
UID:10005925-1786269600-1786275000@ccoley.com
SUMMARY:Worship Service
DESCRIPTION:We are currently studying 1 John. \nFor those that cannot attend in person\, please join our live stream on Rumble.
URL:https://ccoley.com/event/worship-service-28/2026-08-09/
LOCATION:Oley Fairgrounds\, 26 Jefferson St\, Oley\, PA\, 19547\, United States
CATEGORIES:Worship Service
ORGANIZER;CN="Pastor Fred Bell":MAILTO:pastorfred@ccoley.com
GEO:40.3866624;-75.7846798
X-APPLE-STRUCTURED-LOCATION;VALUE=URI;X-ADDRESS=Oley Fairgrounds 26 Jefferson St Oley PA 19547 United States;X-APPLE-RADIUS=500;X-TITLE=26 Jefferson St:geo:-75.7846798,40.3866624
END:VEVENT
BEGIN:VEVENT
DTSTART;TZID=America/New_York:20260816T100000
DTEND;TZID=America/New_York:20260816T113000
DTSTAMP:20260422T174748
CREATED:20260222T183241Z
LAST-MODIFIED:20260329T183747Z
UID:10005926-1786874400-1786879800@ccoley.com
SUMMARY:Worship Service
DESCRIPTION:We are currently studying 1 John. \nFor those that cannot attend in person\, please join our live stream on Rumble.
URL:https://ccoley.com/event/worship-service-28/2026-08-16/
LOCATION:Oley Fairgrounds\, 26 Jefferson St\, Oley\, PA\, 19547\, United States
CATEGORIES:Worship Service
ORGANIZER;CN="Pastor Fred Bell":MAILTO:pastorfred@ccoley.com
GEO:40.3866624;-75.7846798
X-APPLE-STRUCTURED-LOCATION;VALUE=URI;X-ADDRESS=Oley Fairgrounds 26 Jefferson St Oley PA 19547 United States;X-APPLE-RADIUS=500;X-TITLE=26 Jefferson St:geo:-75.7846798,40.3866624
END:VEVENT
BEGIN:VEVENT
DTSTART;TZID=America/New_York:20260823T100000
DTEND;TZID=America/New_York:20260823T113000
DTSTAMP:20260422T174748
CREATED:20260222T183241Z
LAST-MODIFIED:20260329T183747Z
UID:10005927-1787479200-1787484600@ccoley.com
SUMMARY:Worship Service
DESCRIPTION:We are currently studying 1 John. \nFor those that cannot attend in person\, please join our live stream on Rumble.
URL:https://ccoley.com/event/worship-service-28/2026-08-23/
LOCATION:Oley Fairgrounds\, 26 Jefferson St\, Oley\, PA\, 19547\, United States
CATEGORIES:Worship Service
ORGANIZER;CN="Pastor Fred Bell":MAILTO:pastorfred@ccoley.com
GEO:40.3866624;-75.7846798
X-APPLE-STRUCTURED-LOCATION;VALUE=URI;X-ADDRESS=Oley Fairgrounds 26 Jefferson St Oley PA 19547 United States;X-APPLE-RADIUS=500;X-TITLE=26 Jefferson St:geo:-75.7846798,40.3866624
END:VEVENT
BEGIN:VEVENT
DTSTART;TZID=America/New_York:20260830T100000
DTEND;TZID=America/New_York:20260830T113000
DTSTAMP:20260422T174748
CREATED:20260222T183241Z
LAST-MODIFIED:20260329T183747Z
UID:10005928-1788084000-1788089400@ccoley.com
SUMMARY:Worship Service
DESCRIPTION:We are currently studying 1 John. \nFor those that cannot attend in person\, please join our live stream on Rumble.
URL:https://ccoley.com/event/worship-service-28/2026-08-30/
LOCATION:Oley Fairgrounds\, 26 Jefferson St\, Oley\, PA\, 19547\, United States
CATEGORIES:Worship Service
ORGANIZER;CN="Pastor Fred Bell":MAILTO:pastorfred@ccoley.com
GEO:40.3866624;-75.7846798
X-APPLE-STRUCTURED-LOCATION;VALUE=URI;X-ADDRESS=Oley Fairgrounds 26 Jefferson St Oley PA 19547 United States;X-APPLE-RADIUS=500;X-TITLE=26 Jefferson St:geo:-75.7846798,40.3866624
END:VEVENT
BEGIN:VEVENT
DTSTART;TZID=America/New_York:20260906T100000
DTEND;TZID=America/New_York:20260906T113000
DTSTAMP:20260422T174748
CREATED:20260222T183241Z
LAST-MODIFIED:20260329T183747Z
UID:10005929-1788688800-1788694200@ccoley.com
SUMMARY:Worship Service
DESCRIPTION:We are currently studying 1 John. \nFor those that cannot attend in person\, please join our live stream on Rumble.
URL:https://ccoley.com/event/worship-service-28/2026-09-06/
LOCATION:Oley Fairgrounds\, 26 Jefferson St\, Oley\, PA\, 19547\, United States
CATEGORIES:Worship Service
ORGANIZER;CN="Pastor Fred Bell":MAILTO:pastorfred@ccoley.com
GEO:40.3866624;-75.7846798
X-APPLE-STRUCTURED-LOCATION;VALUE=URI;X-ADDRESS=Oley Fairgrounds 26 Jefferson St Oley PA 19547 United States;X-APPLE-RADIUS=500;X-TITLE=26 Jefferson St:geo:-75.7846798,40.3866624
END:VEVENT
BEGIN:VEVENT
DTSTART;TZID=America/New_York:20260913T100000
DTEND;TZID=America/New_York:20260913T113000
DTSTAMP:20260422T174748
CREATED:20260222T183241Z
LAST-MODIFIED:20260329T183747Z
UID:10005930-1789293600-1789299000@ccoley.com
SUMMARY:Worship Service
DESCRIPTION:We are currently studying 1 John. \nFor those that cannot attend in person\, please join our live stream on Rumble.
URL:https://ccoley.com/event/worship-service-28/2026-09-13/
LOCATION:Oley Fairgrounds\, 26 Jefferson St\, Oley\, PA\, 19547\, United States
CATEGORIES:Worship Service
ORGANIZER;CN="Pastor Fred Bell":MAILTO:pastorfred@ccoley.com
GEO:40.3866624;-75.7846798
X-APPLE-STRUCTURED-LOCATION;VALUE=URI;X-ADDRESS=Oley Fairgrounds 26 Jefferson St Oley PA 19547 United States;X-APPLE-RADIUS=500;X-TITLE=26 Jefferson St:geo:-75.7846798,40.3866624
END:VEVENT
BEGIN:VEVENT
DTSTART;TZID=America/New_York:20260920T100000
DTEND;TZID=America/New_York:20260920T113000
DTSTAMP:20260422T174748
CREATED:20260222T183241Z
LAST-MODIFIED:20260329T183747Z
UID:10005931-1789898400-1789903800@ccoley.com
SUMMARY:Worship Service
DESCRIPTION:We are currently studying 1 John. \nFor those that cannot attend in person\, please join our live stream on Rumble.
URL:https://ccoley.com/event/worship-service-28/2026-09-20/
LOCATION:Oley Fairgrounds\, 26 Jefferson St\, Oley\, PA\, 19547\, United States
CATEGORIES:Worship Service
ORGANIZER;CN="Pastor Fred Bell":MAILTO:pastorfred@ccoley.com
GEO:40.3866624;-75.7846798
X-APPLE-STRUCTURED-LOCATION;VALUE=URI;X-ADDRESS=Oley Fairgrounds 26 Jefferson St Oley PA 19547 United States;X-APPLE-RADIUS=500;X-TITLE=26 Jefferson St:geo:-75.7846798,40.3866624
END:VEVENT
BEGIN:VEVENT
DTSTART;TZID=America/New_York:20260927T100000
DTEND;TZID=America/New_York:20260927T113000
DTSTAMP:20260422T174748
CREATED:20260222T183241Z
LAST-MODIFIED:20260329T183747Z
UID:10005932-1790503200-1790508600@ccoley.com
SUMMARY:Worship Service
DESCRIPTION:We are currently studying 1 John. \nFor those that cannot attend in person\, please join our live stream on Rumble.
URL:https://ccoley.com/event/worship-service-28/2026-09-27/
LOCATION:Oley Fairgrounds\, 26 Jefferson St\, Oley\, PA\, 19547\, United States
CATEGORIES:Worship Service
ORGANIZER;CN="Pastor Fred Bell":MAILTO:pastorfred@ccoley.com
GEO:40.3866624;-75.7846798
X-APPLE-STRUCTURED-LOCATION;VALUE=URI;X-ADDRESS=Oley Fairgrounds 26 Jefferson St Oley PA 19547 United States;X-APPLE-RADIUS=500;X-TITLE=26 Jefferson St:geo:-75.7846798,40.3866624
END:VEVENT
BEGIN:VEVENT
DTSTART;TZID=America/New_York:20261004T100000
DTEND;TZID=America/New_York:20261004T113000
DTSTAMP:20260422T174748
CREATED:20260222T183241Z
LAST-MODIFIED:20260329T183747Z
UID:10005933-1791108000-1791113400@ccoley.com
SUMMARY:Worship Service
DESCRIPTION:We are currently studying 1 John. \nFor those that cannot attend in person\, please join our live stream on Rumble.
URL:https://ccoley.com/event/worship-service-28/2026-10-04/
LOCATION:Oley Fairgrounds\, 26 Jefferson St\, Oley\, PA\, 19547\, United States
CATEGORIES:Worship Service
ORGANIZER;CN="Pastor Fred Bell":MAILTO:pastorfred@ccoley.com
GEO:40.3866624;-75.7846798
X-APPLE-STRUCTURED-LOCATION;VALUE=URI;X-ADDRESS=Oley Fairgrounds 26 Jefferson St Oley PA 19547 United States;X-APPLE-RADIUS=500;X-TITLE=26 Jefferson St:geo:-75.7846798,40.3866624
END:VEVENT
BEGIN:VEVENT
DTSTART;TZID=America/New_York:20261011T100000
DTEND;TZID=America/New_York:20261011T113000
DTSTAMP:20260422T174748
CREATED:20260222T183241Z
LAST-MODIFIED:20260329T183747Z
UID:10005934-1791712800-1791718200@ccoley.com
SUMMARY:Worship Service
DESCRIPTION:We are currently studying 1 John. \nFor those that cannot attend in person\, please join our live stream on Rumble.
URL:https://ccoley.com/event/worship-service-28/2026-10-11/
LOCATION:Oley Fairgrounds\, 26 Jefferson St\, Oley\, PA\, 19547\, United States
CATEGORIES:Worship Service
ORGANIZER;CN="Pastor Fred Bell":MAILTO:pastorfred@ccoley.com
GEO:40.3866624;-75.7846798
X-APPLE-STRUCTURED-LOCATION;VALUE=URI;X-ADDRESS=Oley Fairgrounds 26 Jefferson St Oley PA 19547 United States;X-APPLE-RADIUS=500;X-TITLE=26 Jefferson St:geo:-75.7846798,40.3866624
END:VEVENT
BEGIN:VEVENT
DTSTART;TZID=America/New_York:20261018T100000
DTEND;TZID=America/New_York:20261018T113000
DTSTAMP:20260422T174748
CREATED:20260222T183241Z
LAST-MODIFIED:20260329T183747Z
UID:10005935-1792317600-1792323000@ccoley.com
SUMMARY:Worship Service
DESCRIPTION:We are currently studying 1 John. \nFor those that cannot attend in person\, please join our live stream on Rumble.
URL:https://ccoley.com/event/worship-service-28/2026-10-18/
LOCATION:Oley Fairgrounds\, 26 Jefferson St\, Oley\, PA\, 19547\, United States
CATEGORIES:Worship Service
ORGANIZER;CN="Pastor Fred Bell":MAILTO:pastorfred@ccoley.com
GEO:40.3866624;-75.7846798
X-APPLE-STRUCTURED-LOCATION;VALUE=URI;X-ADDRESS=Oley Fairgrounds 26 Jefferson St Oley PA 19547 United States;X-APPLE-RADIUS=500;X-TITLE=26 Jefferson St:geo:-75.7846798,40.3866624
END:VEVENT
BEGIN:VEVENT
DTSTART;TZID=America/New_York:20261025T100000
DTEND;TZID=America/New_York:20261025T113000
DTSTAMP:20260422T174748
CREATED:20260222T183241Z
LAST-MODIFIED:20260329T183747Z
UID:10005936-1792922400-1792927800@ccoley.com
SUMMARY:Worship Service
DESCRIPTION:We are currently studying 1 John. \nFor those that cannot attend in person\, please join our live stream on Rumble.
URL:https://ccoley.com/event/worship-service-28/2026-10-25/
LOCATION:Oley Fairgrounds\, 26 Jefferson St\, Oley\, PA\, 19547\, United States
CATEGORIES:Worship Service
ORGANIZER;CN="Pastor Fred Bell":MAILTO:pastorfred@ccoley.com
GEO:40.3866624;-75.7846798
X-APPLE-STRUCTURED-LOCATION;VALUE=URI;X-ADDRESS=Oley Fairgrounds 26 Jefferson St Oley PA 19547 United States;X-APPLE-RADIUS=500;X-TITLE=26 Jefferson St:geo:-75.7846798,40.3866624
END:VEVENT
BEGIN:VEVENT
DTSTART;TZID=America/New_York:20261101T100000
DTEND;TZID=America/New_York:20261101T113000
DTSTAMP:20260422T174748
CREATED:20260222T183241Z
LAST-MODIFIED:20260329T183747Z
UID:10005937-1793527200-1793532600@ccoley.com
SUMMARY:Worship Service
DESCRIPTION:We are currently studying 1 John. \nFor those that cannot attend in person\, please join our live stream on Rumble.
URL:https://ccoley.com/event/worship-service-28/2026-11-01/
LOCATION:Oley Fairgrounds\, 26 Jefferson St\, Oley\, PA\, 19547\, United States
CATEGORIES:Worship Service
ORGANIZER;CN="Pastor Fred Bell":MAILTO:pastorfred@ccoley.com
GEO:40.3866624;-75.7846798
X-APPLE-STRUCTURED-LOCATION;VALUE=URI;X-ADDRESS=Oley Fairgrounds 26 Jefferson St Oley PA 19547 United States;X-APPLE-RADIUS=500;X-TITLE=26 Jefferson St:geo:-75.7846798,40.3866624
END:VEVENT
BEGIN:VEVENT
DTSTART;TZID=America/New_York:20261108T100000
DTEND;TZID=America/New_York:20261108T113000
DTSTAMP:20260422T174748
CREATED:20260222T183241Z
LAST-MODIFIED:20260329T183747Z
UID:10005938-1794132000-1794137400@ccoley.com
SUMMARY:Worship Service
DESCRIPTION:We are currently studying 1 John. \nFor those that cannot attend in person\, please join our live stream on Rumble.
URL:https://ccoley.com/event/worship-service-28/2026-11-08/
LOCATION:Oley Fairgrounds\, 26 Jefferson St\, Oley\, PA\, 19547\, United States
CATEGORIES:Worship Service
ORGANIZER;CN="Pastor Fred Bell":MAILTO:pastorfred@ccoley.com
GEO:40.3866624;-75.7846798
X-APPLE-STRUCTURED-LOCATION;VALUE=URI;X-ADDRESS=Oley Fairgrounds 26 Jefferson St Oley PA 19547 United States;X-APPLE-RADIUS=500;X-TITLE=26 Jefferson St:geo:-75.7846798,40.3866624
END:VEVENT
END:VCALENDAR