BEGIN:VCALENDAR
VERSION:2.0
PRODID:-//Calvary Chapel of the Oley Valley - ECPv6.15.20//NONSGML v1.0//EN
CALSCALE:GREGORIAN
METHOD:PUBLISH
X-ORIGINAL-URL:https://ccoley.com
X-WR-CALDESC:Events for Calvary Chapel of the Oley Valley
REFRESH-INTERVAL;VALUE=DURATION:PT1H
X-Robots-Tag:noindex
X-PUBLISHED-TTL:PT1H
BEGIN:VTIMEZONE
TZID:America/New_York
BEGIN:DAYLIGHT
TZOFFSETFROM:-0500
TZOFFSETTO:-0400
TZNAME:EDT
DTSTART:20270314T070000
END:DAYLIGHT
BEGIN:STANDARD
TZOFFSETFROM:-0400
TZOFFSETTO:-0500
TZNAME:EST
DTSTART:20271107T060000
END:STANDARD
BEGIN:DAYLIGHT
TZOFFSETFROM:-0500
TZOFFSETTO:-0400
TZNAME:EDT
DTSTART:20280312T070000
END:DAYLIGHT
BEGIN:STANDARD
TZOFFSETFROM:-0400
TZOFFSETTO:-0500
TZNAME:EST
DTSTART:20281105T060000
END:STANDARD
BEGIN:DAYLIGHT
TZOFFSETFROM:-0500
TZOFFSETTO:-0400
TZNAME:EDT
DTSTART:20290311T070000
END:DAYLIGHT
BEGIN:STANDARD
TZOFFSETFROM:-0400
TZOFFSETTO:-0500
TZNAME:EST
DTSTART:20291104T060000
END:STANDARD
END:VTIMEZONE
BEGIN:VEVENT
DTSTART;TZID=America/New_York:20280213T113000
DTEND;TZID=America/New_York:20280213T130000
DTSTAMP:20260424T012123
CREATED:20181002T152826Z
LAST-MODIFIED:20260329T184055Z
UID:10003296-1834054200-1834059600@ccoley.com
SUMMARY:Sunday Fellowship
DESCRIPTION:Enjoy fellowship after the service.
URL:https://ccoley.com/event/sunday-fellowship-2020-06-07/2028-02-13/
LOCATION:Oley Fairgrounds\, 26 Jefferson St\, Oley\, PA\, 19547\, United States
CATEGORIES:Family
ORGANIZER;CN="Pastor Fred Bell":MAILTO:pastorfred@ccoley.com
GEO:40.3866624;-75.7846798
X-APPLE-STRUCTURED-LOCATION;VALUE=URI;X-ADDRESS=Oley Fairgrounds 26 Jefferson St Oley PA 19547 United States;X-APPLE-RADIUS=500;X-TITLE=26 Jefferson St:geo:-75.7846798,40.3866624
END:VEVENT
BEGIN:VEVENT
DTSTART;TZID=America/New_York:20280220T113000
DTEND;TZID=America/New_York:20280220T130000
DTSTAMP:20260424T012123
CREATED:20181002T152826Z
LAST-MODIFIED:20260329T184055Z
UID:10003297-1834659000-1834664400@ccoley.com
SUMMARY:Sunday Fellowship
DESCRIPTION:Enjoy fellowship after the service.
URL:https://ccoley.com/event/sunday-fellowship-2020-06-07/2028-02-20/
LOCATION:Oley Fairgrounds\, 26 Jefferson St\, Oley\, PA\, 19547\, United States
CATEGORIES:Family
ORGANIZER;CN="Pastor Fred Bell":MAILTO:pastorfred@ccoley.com
GEO:40.3866624;-75.7846798
X-APPLE-STRUCTURED-LOCATION;VALUE=URI;X-ADDRESS=Oley Fairgrounds 26 Jefferson St Oley PA 19547 United States;X-APPLE-RADIUS=500;X-TITLE=26 Jefferson St:geo:-75.7846798,40.3866624
END:VEVENT
BEGIN:VEVENT
DTSTART;TZID=America/New_York:20280227T113000
DTEND;TZID=America/New_York:20280227T130000
DTSTAMP:20260424T012123
CREATED:20181002T152826Z
LAST-MODIFIED:20260329T184055Z
UID:10003298-1835263800-1835269200@ccoley.com
SUMMARY:Sunday Fellowship
DESCRIPTION:Enjoy fellowship after the service.
URL:https://ccoley.com/event/sunday-fellowship-2020-06-07/2028-02-27/
LOCATION:Oley Fairgrounds\, 26 Jefferson St\, Oley\, PA\, 19547\, United States
CATEGORIES:Family
ORGANIZER;CN="Pastor Fred Bell":MAILTO:pastorfred@ccoley.com
GEO:40.3866624;-75.7846798
X-APPLE-STRUCTURED-LOCATION;VALUE=URI;X-ADDRESS=Oley Fairgrounds 26 Jefferson St Oley PA 19547 United States;X-APPLE-RADIUS=500;X-TITLE=26 Jefferson St:geo:-75.7846798,40.3866624
END:VEVENT
BEGIN:VEVENT
DTSTART;TZID=America/New_York:20280305T113000
DTEND;TZID=America/New_York:20280305T130000
DTSTAMP:20260424T012123
CREATED:20181002T152826Z
LAST-MODIFIED:20260329T184055Z
UID:10003299-1835868600-1835874000@ccoley.com
SUMMARY:Sunday Fellowship
DESCRIPTION:Enjoy fellowship after the service.
URL:https://ccoley.com/event/sunday-fellowship-2020-06-07/2028-03-05/
LOCATION:Oley Fairgrounds\, 26 Jefferson St\, Oley\, PA\, 19547\, United States
CATEGORIES:Family
ORGANIZER;CN="Pastor Fred Bell":MAILTO:pastorfred@ccoley.com
GEO:40.3866624;-75.7846798
X-APPLE-STRUCTURED-LOCATION;VALUE=URI;X-ADDRESS=Oley Fairgrounds 26 Jefferson St Oley PA 19547 United States;X-APPLE-RADIUS=500;X-TITLE=26 Jefferson St:geo:-75.7846798,40.3866624
END:VEVENT
BEGIN:VEVENT
DTSTART;TZID=America/New_York:20280311T080000
DTEND;TZID=America/New_York:20280311T090000
DTSTAMP:20260424T012123
CREATED:20150315T190521Z
LAST-MODIFIED:20231203T181823Z
UID:10004098-1836374400-1836378000@ccoley.com
SUMMARY:Men's Fellowship Breakfast
DESCRIPTION:
URL:https://ccoley.com/event/mens-fellowship-breakfast/2028-03-11/
LOCATION:Andy Giangiacomo\, 129 Oak Lane\, Fleetwood\, PA\, 19522\, United States
CATEGORIES:Men's Fellowship
ORGANIZER;CN="Andy Giangiacomo":MAILTO:sherandgia@msn.com
GEO:40.429365;-75.813973
X-APPLE-STRUCTURED-LOCATION;VALUE=URI;X-ADDRESS=Andy Giangiacomo 129 Oak Lane Fleetwood PA 19522 United States;X-APPLE-RADIUS=500;X-TITLE=129 Oak Lane:geo:-75.813973,40.429365
END:VEVENT
BEGIN:VEVENT
DTSTART;TZID=America/New_York:20280312T113000
DTEND;TZID=America/New_York:20280312T130000
DTSTAMP:20260424T012123
CREATED:20181002T152826Z
LAST-MODIFIED:20260329T184055Z
UID:10003300-1836473400-1836478800@ccoley.com
SUMMARY:Sunday Fellowship
DESCRIPTION:Enjoy fellowship after the service.
URL:https://ccoley.com/event/sunday-fellowship-2020-06-07/2028-03-12/
LOCATION:Oley Fairgrounds\, 26 Jefferson St\, Oley\, PA\, 19547\, United States
CATEGORIES:Family
ORGANIZER;CN="Pastor Fred Bell":MAILTO:pastorfred@ccoley.com
GEO:40.3866624;-75.7846798
X-APPLE-STRUCTURED-LOCATION;VALUE=URI;X-ADDRESS=Oley Fairgrounds 26 Jefferson St Oley PA 19547 United States;X-APPLE-RADIUS=500;X-TITLE=26 Jefferson St:geo:-75.7846798,40.3866624
END:VEVENT
BEGIN:VEVENT
DTSTART;TZID=America/New_York:20280319T113000
DTEND;TZID=America/New_York:20280319T130000
DTSTAMP:20260424T012123
CREATED:20181002T152826Z
LAST-MODIFIED:20260329T184055Z
UID:10003301-1837078200-1837083600@ccoley.com
SUMMARY:Sunday Fellowship
DESCRIPTION:Enjoy fellowship after the service.
URL:https://ccoley.com/event/sunday-fellowship-2020-06-07/2028-03-19/
LOCATION:Oley Fairgrounds\, 26 Jefferson St\, Oley\, PA\, 19547\, United States
CATEGORIES:Family
ORGANIZER;CN="Pastor Fred Bell":MAILTO:pastorfred@ccoley.com
GEO:40.3866624;-75.7846798
X-APPLE-STRUCTURED-LOCATION;VALUE=URI;X-ADDRESS=Oley Fairgrounds 26 Jefferson St Oley PA 19547 United States;X-APPLE-RADIUS=500;X-TITLE=26 Jefferson St:geo:-75.7846798,40.3866624
END:VEVENT
BEGIN:VEVENT
DTSTART;TZID=America/New_York:20280326T113000
DTEND;TZID=America/New_York:20280326T130000
DTSTAMP:20260424T012123
CREATED:20181002T152826Z
LAST-MODIFIED:20260329T184055Z
UID:10003302-1837683000-1837688400@ccoley.com
SUMMARY:Sunday Fellowship
DESCRIPTION:Enjoy fellowship after the service.
URL:https://ccoley.com/event/sunday-fellowship-2020-06-07/2028-03-26/
LOCATION:Oley Fairgrounds\, 26 Jefferson St\, Oley\, PA\, 19547\, United States
CATEGORIES:Family
ORGANIZER;CN="Pastor Fred Bell":MAILTO:pastorfred@ccoley.com
GEO:40.3866624;-75.7846798
X-APPLE-STRUCTURED-LOCATION;VALUE=URI;X-ADDRESS=Oley Fairgrounds 26 Jefferson St Oley PA 19547 United States;X-APPLE-RADIUS=500;X-TITLE=26 Jefferson St:geo:-75.7846798,40.3866624
END:VEVENT
BEGIN:VEVENT
DTSTART;TZID=America/New_York:20280402T113000
DTEND;TZID=America/New_York:20280402T130000
DTSTAMP:20260424T012123
CREATED:20181002T152826Z
LAST-MODIFIED:20260329T184055Z
UID:10003303-1838287800-1838293200@ccoley.com
SUMMARY:Sunday Fellowship
DESCRIPTION:Enjoy fellowship after the service.
URL:https://ccoley.com/event/sunday-fellowship-2020-06-07/2028-04-02/
LOCATION:Oley Fairgrounds\, 26 Jefferson St\, Oley\, PA\, 19547\, United States
CATEGORIES:Family
ORGANIZER;CN="Pastor Fred Bell":MAILTO:pastorfred@ccoley.com
GEO:40.3866624;-75.7846798
X-APPLE-STRUCTURED-LOCATION;VALUE=URI;X-ADDRESS=Oley Fairgrounds 26 Jefferson St Oley PA 19547 United States;X-APPLE-RADIUS=500;X-TITLE=26 Jefferson St:geo:-75.7846798,40.3866624
END:VEVENT
BEGIN:VEVENT
DTSTART;TZID=America/New_York:20280408T080000
DTEND;TZID=America/New_York:20280408T090000
DTSTAMP:20260424T012123
CREATED:20150315T190521Z
LAST-MODIFIED:20231203T181823Z
UID:10004099-1838793600-1838797200@ccoley.com
SUMMARY:Men's Fellowship Breakfast
DESCRIPTION:
URL:https://ccoley.com/event/mens-fellowship-breakfast/2028-04-08/
LOCATION:Andy Giangiacomo\, 129 Oak Lane\, Fleetwood\, PA\, 19522\, United States
CATEGORIES:Men's Fellowship
ORGANIZER;CN="Andy Giangiacomo":MAILTO:sherandgia@msn.com
GEO:40.429365;-75.813973
X-APPLE-STRUCTURED-LOCATION;VALUE=URI;X-ADDRESS=Andy Giangiacomo 129 Oak Lane Fleetwood PA 19522 United States;X-APPLE-RADIUS=500;X-TITLE=129 Oak Lane:geo:-75.813973,40.429365
END:VEVENT
BEGIN:VEVENT
DTSTART;TZID=America/New_York:20280409T113000
DTEND;TZID=America/New_York:20280409T130000
DTSTAMP:20260424T012123
CREATED:20181002T152826Z
LAST-MODIFIED:20260329T184055Z
UID:10003304-1838892600-1838898000@ccoley.com
SUMMARY:Sunday Fellowship
DESCRIPTION:Enjoy fellowship after the service.
URL:https://ccoley.com/event/sunday-fellowship-2020-06-07/2028-04-09/
LOCATION:Oley Fairgrounds\, 26 Jefferson St\, Oley\, PA\, 19547\, United States
CATEGORIES:Family
ORGANIZER;CN="Pastor Fred Bell":MAILTO:pastorfred@ccoley.com
GEO:40.3866624;-75.7846798
X-APPLE-STRUCTURED-LOCATION;VALUE=URI;X-ADDRESS=Oley Fairgrounds 26 Jefferson St Oley PA 19547 United States;X-APPLE-RADIUS=500;X-TITLE=26 Jefferson St:geo:-75.7846798,40.3866624
END:VEVENT
BEGIN:VEVENT
DTSTART;TZID=America/New_York:20280416T113000
DTEND;TZID=America/New_York:20280416T130000
DTSTAMP:20260424T012123
CREATED:20181002T152826Z
LAST-MODIFIED:20260329T184055Z
UID:10003305-1839497400-1839502800@ccoley.com
SUMMARY:Sunday Fellowship
DESCRIPTION:Enjoy fellowship after the service.
URL:https://ccoley.com/event/sunday-fellowship-2020-06-07/2028-04-16/
LOCATION:Oley Fairgrounds\, 26 Jefferson St\, Oley\, PA\, 19547\, United States
CATEGORIES:Family
ORGANIZER;CN="Pastor Fred Bell":MAILTO:pastorfred@ccoley.com
GEO:40.3866624;-75.7846798
X-APPLE-STRUCTURED-LOCATION;VALUE=URI;X-ADDRESS=Oley Fairgrounds 26 Jefferson St Oley PA 19547 United States;X-APPLE-RADIUS=500;X-TITLE=26 Jefferson St:geo:-75.7846798,40.3866624
END:VEVENT
BEGIN:VEVENT
DTSTART;TZID=America/New_York:20280423T113000
DTEND;TZID=America/New_York:20280423T130000
DTSTAMP:20260424T012123
CREATED:20181002T152826Z
LAST-MODIFIED:20260329T184055Z
UID:10003306-1840102200-1840107600@ccoley.com
SUMMARY:Sunday Fellowship
DESCRIPTION:Enjoy fellowship after the service.
URL:https://ccoley.com/event/sunday-fellowship-2020-06-07/2028-04-23/
LOCATION:Oley Fairgrounds\, 26 Jefferson St\, Oley\, PA\, 19547\, United States
CATEGORIES:Family
ORGANIZER;CN="Pastor Fred Bell":MAILTO:pastorfred@ccoley.com
GEO:40.3866624;-75.7846798
X-APPLE-STRUCTURED-LOCATION;VALUE=URI;X-ADDRESS=Oley Fairgrounds 26 Jefferson St Oley PA 19547 United States;X-APPLE-RADIUS=500;X-TITLE=26 Jefferson St:geo:-75.7846798,40.3866624
END:VEVENT
BEGIN:VEVENT
DTSTART;TZID=America/New_York:20280430T113000
DTEND;TZID=America/New_York:20280430T130000
DTSTAMP:20260424T012123
CREATED:20181002T152826Z
LAST-MODIFIED:20260329T184055Z
UID:10003307-1840707000-1840712400@ccoley.com
SUMMARY:Sunday Fellowship
DESCRIPTION:Enjoy fellowship after the service.
URL:https://ccoley.com/event/sunday-fellowship-2020-06-07/2028-04-30/
LOCATION:Oley Fairgrounds\, 26 Jefferson St\, Oley\, PA\, 19547\, United States
CATEGORIES:Family
ORGANIZER;CN="Pastor Fred Bell":MAILTO:pastorfred@ccoley.com
GEO:40.3866624;-75.7846798
X-APPLE-STRUCTURED-LOCATION;VALUE=URI;X-ADDRESS=Oley Fairgrounds 26 Jefferson St Oley PA 19547 United States;X-APPLE-RADIUS=500;X-TITLE=26 Jefferson St:geo:-75.7846798,40.3866624
END:VEVENT
BEGIN:VEVENT
DTSTART;TZID=America/New_York:20280507T113000
DTEND;TZID=America/New_York:20280507T130000
DTSTAMP:20260424T012123
CREATED:20181002T152826Z
LAST-MODIFIED:20260329T184055Z
UID:10003308-1841311800-1841317200@ccoley.com
SUMMARY:Sunday Fellowship
DESCRIPTION:Enjoy fellowship after the service.
URL:https://ccoley.com/event/sunday-fellowship-2020-06-07/2028-05-07/
LOCATION:Oley Fairgrounds\, 26 Jefferson St\, Oley\, PA\, 19547\, United States
CATEGORIES:Family
ORGANIZER;CN="Pastor Fred Bell":MAILTO:pastorfred@ccoley.com
GEO:40.3866624;-75.7846798
X-APPLE-STRUCTURED-LOCATION;VALUE=URI;X-ADDRESS=Oley Fairgrounds 26 Jefferson St Oley PA 19547 United States;X-APPLE-RADIUS=500;X-TITLE=26 Jefferson St:geo:-75.7846798,40.3866624
END:VEVENT
BEGIN:VEVENT
DTSTART;TZID=America/New_York:20280513T080000
DTEND;TZID=America/New_York:20280513T090000
DTSTAMP:20260424T012123
CREATED:20150315T190521Z
LAST-MODIFIED:20231203T181823Z
UID:10004100-1841817600-1841821200@ccoley.com
SUMMARY:Men's Fellowship Breakfast
DESCRIPTION:
URL:https://ccoley.com/event/mens-fellowship-breakfast/2028-05-13/
LOCATION:Andy Giangiacomo\, 129 Oak Lane\, Fleetwood\, PA\, 19522\, United States
CATEGORIES:Men's Fellowship
ORGANIZER;CN="Andy Giangiacomo":MAILTO:sherandgia@msn.com
GEO:40.429365;-75.813973
X-APPLE-STRUCTURED-LOCATION;VALUE=URI;X-ADDRESS=Andy Giangiacomo 129 Oak Lane Fleetwood PA 19522 United States;X-APPLE-RADIUS=500;X-TITLE=129 Oak Lane:geo:-75.813973,40.429365
END:VEVENT
BEGIN:VEVENT
DTSTART;TZID=America/New_York:20280514T113000
DTEND;TZID=America/New_York:20280514T130000
DTSTAMP:20260424T012123
CREATED:20181002T152826Z
LAST-MODIFIED:20260329T184055Z
UID:10003309-1841916600-1841922000@ccoley.com
SUMMARY:Sunday Fellowship
DESCRIPTION:Enjoy fellowship after the service.
URL:https://ccoley.com/event/sunday-fellowship-2020-06-07/2028-05-14/
LOCATION:Oley Fairgrounds\, 26 Jefferson St\, Oley\, PA\, 19547\, United States
CATEGORIES:Family
ORGANIZER;CN="Pastor Fred Bell":MAILTO:pastorfred@ccoley.com
GEO:40.3866624;-75.7846798
X-APPLE-STRUCTURED-LOCATION;VALUE=URI;X-ADDRESS=Oley Fairgrounds 26 Jefferson St Oley PA 19547 United States;X-APPLE-RADIUS=500;X-TITLE=26 Jefferson St:geo:-75.7846798,40.3866624
END:VEVENT
BEGIN:VEVENT
DTSTART;TZID=America/New_York:20280521T113000
DTEND;TZID=America/New_York:20280521T130000
DTSTAMP:20260424T012123
CREATED:20181002T152826Z
LAST-MODIFIED:20260329T184055Z
UID:10003310-1842521400-1842526800@ccoley.com
SUMMARY:Sunday Fellowship
DESCRIPTION:Enjoy fellowship after the service.
URL:https://ccoley.com/event/sunday-fellowship-2020-06-07/2028-05-21/
LOCATION:Oley Fairgrounds\, 26 Jefferson St\, Oley\, PA\, 19547\, United States
CATEGORIES:Family
ORGANIZER;CN="Pastor Fred Bell":MAILTO:pastorfred@ccoley.com
GEO:40.3866624;-75.7846798
X-APPLE-STRUCTURED-LOCATION;VALUE=URI;X-ADDRESS=Oley Fairgrounds 26 Jefferson St Oley PA 19547 United States;X-APPLE-RADIUS=500;X-TITLE=26 Jefferson St:geo:-75.7846798,40.3866624
END:VEVENT
BEGIN:VEVENT
DTSTART;TZID=America/New_York:20280528T113000
DTEND;TZID=America/New_York:20280528T130000
DTSTAMP:20260424T012123
CREATED:20181002T152826Z
LAST-MODIFIED:20260329T184055Z
UID:10003311-1843126200-1843131600@ccoley.com
SUMMARY:Sunday Fellowship
DESCRIPTION:Enjoy fellowship after the service.
URL:https://ccoley.com/event/sunday-fellowship-2020-06-07/2028-05-28/
LOCATION:Oley Fairgrounds\, 26 Jefferson St\, Oley\, PA\, 19547\, United States
CATEGORIES:Family
ORGANIZER;CN="Pastor Fred Bell":MAILTO:pastorfred@ccoley.com
GEO:40.3866624;-75.7846798
X-APPLE-STRUCTURED-LOCATION;VALUE=URI;X-ADDRESS=Oley Fairgrounds 26 Jefferson St Oley PA 19547 United States;X-APPLE-RADIUS=500;X-TITLE=26 Jefferson St:geo:-75.7846798,40.3866624
END:VEVENT
BEGIN:VEVENT
DTSTART;TZID=America/New_York:20280604T113000
DTEND;TZID=America/New_York:20280604T130000
DTSTAMP:20260424T012123
CREATED:20181002T152826Z
LAST-MODIFIED:20260329T184055Z
UID:10003312-1843731000-1843736400@ccoley.com
SUMMARY:Sunday Fellowship
DESCRIPTION:Enjoy fellowship after the service.
URL:https://ccoley.com/event/sunday-fellowship-2020-06-07/2028-06-04/
LOCATION:Oley Fairgrounds\, 26 Jefferson St\, Oley\, PA\, 19547\, United States
CATEGORIES:Family
ORGANIZER;CN="Pastor Fred Bell":MAILTO:pastorfred@ccoley.com
GEO:40.3866624;-75.7846798
X-APPLE-STRUCTURED-LOCATION;VALUE=URI;X-ADDRESS=Oley Fairgrounds 26 Jefferson St Oley PA 19547 United States;X-APPLE-RADIUS=500;X-TITLE=26 Jefferson St:geo:-75.7846798,40.3866624
END:VEVENT
BEGIN:VEVENT
DTSTART;TZID=America/New_York:20280610T080000
DTEND;TZID=America/New_York:20280610T090000
DTSTAMP:20260424T012123
CREATED:20150315T190521Z
LAST-MODIFIED:20231203T181823Z
UID:10004101-1844236800-1844240400@ccoley.com
SUMMARY:Men's Fellowship Breakfast
DESCRIPTION:
URL:https://ccoley.com/event/mens-fellowship-breakfast/2028-06-10/
LOCATION:Andy Giangiacomo\, 129 Oak Lane\, Fleetwood\, PA\, 19522\, United States
CATEGORIES:Men's Fellowship
ORGANIZER;CN="Andy Giangiacomo":MAILTO:sherandgia@msn.com
GEO:40.429365;-75.813973
X-APPLE-STRUCTURED-LOCATION;VALUE=URI;X-ADDRESS=Andy Giangiacomo 129 Oak Lane Fleetwood PA 19522 United States;X-APPLE-RADIUS=500;X-TITLE=129 Oak Lane:geo:-75.813973,40.429365
END:VEVENT
BEGIN:VEVENT
DTSTART;TZID=America/New_York:20280611T113000
DTEND;TZID=America/New_York:20280611T130000
DTSTAMP:20260424T012123
CREATED:20181002T152826Z
LAST-MODIFIED:20260329T184055Z
UID:10003313-1844335800-1844341200@ccoley.com
SUMMARY:Sunday Fellowship
DESCRIPTION:Enjoy fellowship after the service.
URL:https://ccoley.com/event/sunday-fellowship-2020-06-07/2028-06-11/
LOCATION:Oley Fairgrounds\, 26 Jefferson St\, Oley\, PA\, 19547\, United States
CATEGORIES:Family
ORGANIZER;CN="Pastor Fred Bell":MAILTO:pastorfred@ccoley.com
GEO:40.3866624;-75.7846798
X-APPLE-STRUCTURED-LOCATION;VALUE=URI;X-ADDRESS=Oley Fairgrounds 26 Jefferson St Oley PA 19547 United States;X-APPLE-RADIUS=500;X-TITLE=26 Jefferson St:geo:-75.7846798,40.3866624
END:VEVENT
BEGIN:VEVENT
DTSTART;TZID=America/New_York:20280618T113000
DTEND;TZID=America/New_York:20280618T130000
DTSTAMP:20260424T012123
CREATED:20181002T152826Z
LAST-MODIFIED:20260329T184055Z
UID:10003314-1844940600-1844946000@ccoley.com
SUMMARY:Sunday Fellowship
DESCRIPTION:Enjoy fellowship after the service.
URL:https://ccoley.com/event/sunday-fellowship-2020-06-07/2028-06-18/
LOCATION:Oley Fairgrounds\, 26 Jefferson St\, Oley\, PA\, 19547\, United States
CATEGORIES:Family
ORGANIZER;CN="Pastor Fred Bell":MAILTO:pastorfred@ccoley.com
GEO:40.3866624;-75.7846798
X-APPLE-STRUCTURED-LOCATION;VALUE=URI;X-ADDRESS=Oley Fairgrounds 26 Jefferson St Oley PA 19547 United States;X-APPLE-RADIUS=500;X-TITLE=26 Jefferson St:geo:-75.7846798,40.3866624
END:VEVENT
BEGIN:VEVENT
DTSTART;TZID=America/New_York:20280625T113000
DTEND;TZID=America/New_York:20280625T130000
DTSTAMP:20260424T012123
CREATED:20181002T152826Z
LAST-MODIFIED:20260329T184055Z
UID:10003315-1845545400-1845550800@ccoley.com
SUMMARY:Sunday Fellowship
DESCRIPTION:Enjoy fellowship after the service.
URL:https://ccoley.com/event/sunday-fellowship-2020-06-07/2028-06-25/
LOCATION:Oley Fairgrounds\, 26 Jefferson St\, Oley\, PA\, 19547\, United States
CATEGORIES:Family
ORGANIZER;CN="Pastor Fred Bell":MAILTO:pastorfred@ccoley.com
GEO:40.3866624;-75.7846798
X-APPLE-STRUCTURED-LOCATION;VALUE=URI;X-ADDRESS=Oley Fairgrounds 26 Jefferson St Oley PA 19547 United States;X-APPLE-RADIUS=500;X-TITLE=26 Jefferson St:geo:-75.7846798,40.3866624
END:VEVENT
BEGIN:VEVENT
DTSTART;TZID=America/New_York:20280702T113000
DTEND;TZID=America/New_York:20280702T130000
DTSTAMP:20260424T012123
CREATED:20181002T152826Z
LAST-MODIFIED:20260329T184055Z
UID:10003316-1846150200-1846155600@ccoley.com
SUMMARY:Sunday Fellowship
DESCRIPTION:Enjoy fellowship after the service.
URL:https://ccoley.com/event/sunday-fellowship-2020-06-07/2028-07-02/
LOCATION:Oley Fairgrounds\, 26 Jefferson St\, Oley\, PA\, 19547\, United States
CATEGORIES:Family
ORGANIZER;CN="Pastor Fred Bell":MAILTO:pastorfred@ccoley.com
GEO:40.3866624;-75.7846798
X-APPLE-STRUCTURED-LOCATION;VALUE=URI;X-ADDRESS=Oley Fairgrounds 26 Jefferson St Oley PA 19547 United States;X-APPLE-RADIUS=500;X-TITLE=26 Jefferson St:geo:-75.7846798,40.3866624
END:VEVENT
BEGIN:VEVENT
DTSTART;TZID=America/New_York:20280708T080000
DTEND;TZID=America/New_York:20280708T090000
DTSTAMP:20260424T012123
CREATED:20150315T190521Z
LAST-MODIFIED:20231203T181823Z
UID:10004102-1846656000-1846659600@ccoley.com
SUMMARY:Men's Fellowship Breakfast
DESCRIPTION:
URL:https://ccoley.com/event/mens-fellowship-breakfast/2028-07-08/
LOCATION:Andy Giangiacomo\, 129 Oak Lane\, Fleetwood\, PA\, 19522\, United States
CATEGORIES:Men's Fellowship
ORGANIZER;CN="Andy Giangiacomo":MAILTO:sherandgia@msn.com
GEO:40.429365;-75.813973
X-APPLE-STRUCTURED-LOCATION;VALUE=URI;X-ADDRESS=Andy Giangiacomo 129 Oak Lane Fleetwood PA 19522 United States;X-APPLE-RADIUS=500;X-TITLE=129 Oak Lane:geo:-75.813973,40.429365
END:VEVENT
BEGIN:VEVENT
DTSTART;TZID=America/New_York:20280709T113000
DTEND;TZID=America/New_York:20280709T130000
DTSTAMP:20260424T012123
CREATED:20181002T152826Z
LAST-MODIFIED:20260329T184055Z
UID:10003317-1846755000-1846760400@ccoley.com
SUMMARY:Sunday Fellowship
DESCRIPTION:Enjoy fellowship after the service.
URL:https://ccoley.com/event/sunday-fellowship-2020-06-07/2028-07-09/
LOCATION:Oley Fairgrounds\, 26 Jefferson St\, Oley\, PA\, 19547\, United States
CATEGORIES:Family
ORGANIZER;CN="Pastor Fred Bell":MAILTO:pastorfred@ccoley.com
GEO:40.3866624;-75.7846798
X-APPLE-STRUCTURED-LOCATION;VALUE=URI;X-ADDRESS=Oley Fairgrounds 26 Jefferson St Oley PA 19547 United States;X-APPLE-RADIUS=500;X-TITLE=26 Jefferson St:geo:-75.7846798,40.3866624
END:VEVENT
BEGIN:VEVENT
DTSTART;TZID=America/New_York:20280716T113000
DTEND;TZID=America/New_York:20280716T130000
DTSTAMP:20260424T012123
CREATED:20181002T152826Z
LAST-MODIFIED:20260329T184055Z
UID:10003318-1847359800-1847365200@ccoley.com
SUMMARY:Sunday Fellowship
DESCRIPTION:Enjoy fellowship after the service.
URL:https://ccoley.com/event/sunday-fellowship-2020-06-07/2028-07-16/
LOCATION:Oley Fairgrounds\, 26 Jefferson St\, Oley\, PA\, 19547\, United States
CATEGORIES:Family
ORGANIZER;CN="Pastor Fred Bell":MAILTO:pastorfred@ccoley.com
GEO:40.3866624;-75.7846798
X-APPLE-STRUCTURED-LOCATION;VALUE=URI;X-ADDRESS=Oley Fairgrounds 26 Jefferson St Oley PA 19547 United States;X-APPLE-RADIUS=500;X-TITLE=26 Jefferson St:geo:-75.7846798,40.3866624
END:VEVENT
BEGIN:VEVENT
DTSTART;TZID=America/New_York:20280723T113000
DTEND;TZID=America/New_York:20280723T130000
DTSTAMP:20260424T012123
CREATED:20181002T152826Z
LAST-MODIFIED:20260329T184055Z
UID:10003319-1847964600-1847970000@ccoley.com
SUMMARY:Sunday Fellowship
DESCRIPTION:Enjoy fellowship after the service.
URL:https://ccoley.com/event/sunday-fellowship-2020-06-07/2028-07-23/
LOCATION:Oley Fairgrounds\, 26 Jefferson St\, Oley\, PA\, 19547\, United States
CATEGORIES:Family
ORGANIZER;CN="Pastor Fred Bell":MAILTO:pastorfred@ccoley.com
GEO:40.3866624;-75.7846798
X-APPLE-STRUCTURED-LOCATION;VALUE=URI;X-ADDRESS=Oley Fairgrounds 26 Jefferson St Oley PA 19547 United States;X-APPLE-RADIUS=500;X-TITLE=26 Jefferson St:geo:-75.7846798,40.3866624
END:VEVENT
BEGIN:VEVENT
DTSTART;TZID=America/New_York:20280730T113000
DTEND;TZID=America/New_York:20280730T130000
DTSTAMP:20260424T012123
CREATED:20181002T152826Z
LAST-MODIFIED:20260329T184055Z
UID:10003320-1848569400-1848574800@ccoley.com
SUMMARY:Sunday Fellowship
DESCRIPTION:Enjoy fellowship after the service.
URL:https://ccoley.com/event/sunday-fellowship-2020-06-07/2028-07-30/
LOCATION:Oley Fairgrounds\, 26 Jefferson St\, Oley\, PA\, 19547\, United States
CATEGORIES:Family
ORGANIZER;CN="Pastor Fred Bell":MAILTO:pastorfred@ccoley.com
GEO:40.3866624;-75.7846798
X-APPLE-STRUCTURED-LOCATION;VALUE=URI;X-ADDRESS=Oley Fairgrounds 26 Jefferson St Oley PA 19547 United States;X-APPLE-RADIUS=500;X-TITLE=26 Jefferson St:geo:-75.7846798,40.3866624
END:VEVENT
END:VCALENDAR