BEGIN:VCALENDAR
VERSION:2.0
PRODID:-//Calvary Chapel of the Oley Valley - ECPv6.15.20//NONSGML v1.0//EN
CALSCALE:GREGORIAN
METHOD:PUBLISH
X-WR-CALNAME:Calvary Chapel of the Oley Valley
X-ORIGINAL-URL:https://ccoley.com
X-WR-CALDESC:Events for Calvary Chapel of the Oley Valley
REFRESH-INTERVAL;VALUE=DURATION:PT1H
X-Robots-Tag:noindex
X-PUBLISHED-TTL:PT1H
BEGIN:VTIMEZONE
TZID:America/New_York
BEGIN:DAYLIGHT
TZOFFSETFROM:-0500
TZOFFSETTO:-0400
TZNAME:EDT
DTSTART:20160313T070000
END:DAYLIGHT
BEGIN:STANDARD
TZOFFSETFROM:-0400
TZOFFSETTO:-0500
TZNAME:EST
DTSTART:20161106T060000
END:STANDARD
BEGIN:DAYLIGHT
TZOFFSETFROM:-0500
TZOFFSETTO:-0400
TZNAME:EDT
DTSTART:20170312T070000
END:DAYLIGHT
BEGIN:STANDARD
TZOFFSETFROM:-0400
TZOFFSETTO:-0500
TZNAME:EST
DTSTART:20171105T060000
END:STANDARD
BEGIN:DAYLIGHT
TZOFFSETFROM:-0500
TZOFFSETTO:-0400
TZNAME:EDT
DTSTART:20180311T070000
END:DAYLIGHT
BEGIN:STANDARD
TZOFFSETFROM:-0400
TZOFFSETTO:-0500
TZNAME:EST
DTSTART:20181104T060000
END:STANDARD
BEGIN:DAYLIGHT
TZOFFSETFROM:-0500
TZOFFSETTO:-0400
TZNAME:EDT
DTSTART:20190310T070000
END:DAYLIGHT
BEGIN:STANDARD
TZOFFSETFROM:-0400
TZOFFSETTO:-0500
TZNAME:EST
DTSTART:20191103T060000
END:STANDARD
BEGIN:DAYLIGHT
TZOFFSETFROM:-0500
TZOFFSETTO:-0400
TZNAME:EDT
DTSTART:20200308T070000
END:DAYLIGHT
BEGIN:STANDARD
TZOFFSETFROM:-0400
TZOFFSETTO:-0500
TZNAME:EST
DTSTART:20201101T060000
END:STANDARD
END:VTIMEZONE
BEGIN:VEVENT
DTSTART;TZID=America/New_York:20170408T080000
DTEND;TZID=America/New_York:20170408T090000
DTSTAMP:20260422T205042
CREATED:20150315T190521Z
LAST-MODIFIED:20231203T181823Z
UID:10001568-1491638400-1491642000@ccoley.com
SUMMARY:Men's Fellowship Breakfast
DESCRIPTION:
URL:https://ccoley.com/event/mens-fellowship-breakfast/2017-04-08/
LOCATION:Andy Giangiacomo\, 129 Oak Lane\, Fleetwood\, PA\, 19522\, United States
CATEGORIES:Men's Fellowship
ORGANIZER;CN="Andy Giangiacomo":MAILTO:sherandgia@msn.com
GEO:40.429365;-75.813973
X-APPLE-STRUCTURED-LOCATION;VALUE=URI;X-ADDRESS=Andy Giangiacomo 129 Oak Lane Fleetwood PA 19522 United States;X-APPLE-RADIUS=500;X-TITLE=129 Oak Lane:geo:-75.813973,40.429365
END:VEVENT
BEGIN:VEVENT
DTSTART;TZID=America/New_York:20170513T080000
DTEND;TZID=America/New_York:20170513T090000
DTSTAMP:20260422T205042
CREATED:20150315T190521Z
LAST-MODIFIED:20231203T181823Z
UID:10001569-1494662400-1494666000@ccoley.com
SUMMARY:Men's Fellowship Breakfast
DESCRIPTION:
URL:https://ccoley.com/event/mens-fellowship-breakfast/2017-05-13/
LOCATION:Andy Giangiacomo\, 129 Oak Lane\, Fleetwood\, PA\, 19522\, United States
CATEGORIES:Men's Fellowship
ORGANIZER;CN="Andy Giangiacomo":MAILTO:sherandgia@msn.com
GEO:40.429365;-75.813973
X-APPLE-STRUCTURED-LOCATION;VALUE=URI;X-ADDRESS=Andy Giangiacomo 129 Oak Lane Fleetwood PA 19522 United States;X-APPLE-RADIUS=500;X-TITLE=129 Oak Lane:geo:-75.813973,40.429365
END:VEVENT
BEGIN:VEVENT
DTSTART;TZID=America/New_York:20170610T080000
DTEND;TZID=America/New_York:20170610T090000
DTSTAMP:20260422T205042
CREATED:20150315T190521Z
LAST-MODIFIED:20231203T181823Z
UID:10001570-1497081600-1497085200@ccoley.com
SUMMARY:Men's Fellowship Breakfast
DESCRIPTION:
URL:https://ccoley.com/event/mens-fellowship-breakfast/2017-06-10/
LOCATION:Andy Giangiacomo\, 129 Oak Lane\, Fleetwood\, PA\, 19522\, United States
CATEGORIES:Men's Fellowship
ORGANIZER;CN="Andy Giangiacomo":MAILTO:sherandgia@msn.com
GEO:40.429365;-75.813973
X-APPLE-STRUCTURED-LOCATION;VALUE=URI;X-ADDRESS=Andy Giangiacomo 129 Oak Lane Fleetwood PA 19522 United States;X-APPLE-RADIUS=500;X-TITLE=129 Oak Lane:geo:-75.813973,40.429365
END:VEVENT
BEGIN:VEVENT
DTSTART;TZID=America/New_York:20170708T080000
DTEND;TZID=America/New_York:20170708T090000
DTSTAMP:20260422T205042
CREATED:20150315T190521Z
LAST-MODIFIED:20231203T181823Z
UID:10001571-1499500800-1499504400@ccoley.com
SUMMARY:Men's Fellowship Breakfast
DESCRIPTION:
URL:https://ccoley.com/event/mens-fellowship-breakfast/2017-07-08/
LOCATION:Andy Giangiacomo\, 129 Oak Lane\, Fleetwood\, PA\, 19522\, United States
CATEGORIES:Men's Fellowship
ORGANIZER;CN="Andy Giangiacomo":MAILTO:sherandgia@msn.com
GEO:40.429365;-75.813973
X-APPLE-STRUCTURED-LOCATION;VALUE=URI;X-ADDRESS=Andy Giangiacomo 129 Oak Lane Fleetwood PA 19522 United States;X-APPLE-RADIUS=500;X-TITLE=129 Oak Lane:geo:-75.813973,40.429365
END:VEVENT
BEGIN:VEVENT
DTSTART;TZID=America/New_York:20170812T080000
DTEND;TZID=America/New_York:20170812T090000
DTSTAMP:20260422T205042
CREATED:20150315T190521Z
LAST-MODIFIED:20231203T181823Z
UID:10001572-1502524800-1502528400@ccoley.com
SUMMARY:Men's Fellowship Breakfast
DESCRIPTION:
URL:https://ccoley.com/event/mens-fellowship-breakfast/2017-08-12/
LOCATION:Andy Giangiacomo\, 129 Oak Lane\, Fleetwood\, PA\, 19522\, United States
CATEGORIES:Men's Fellowship
ORGANIZER;CN="Andy Giangiacomo":MAILTO:sherandgia@msn.com
GEO:40.429365;-75.813973
X-APPLE-STRUCTURED-LOCATION;VALUE=URI;X-ADDRESS=Andy Giangiacomo 129 Oak Lane Fleetwood PA 19522 United States;X-APPLE-RADIUS=500;X-TITLE=129 Oak Lane:geo:-75.813973,40.429365
END:VEVENT
BEGIN:VEVENT
DTSTART;TZID=America/New_York:20170909T080000
DTEND;TZID=America/New_York:20170909T090000
DTSTAMP:20260422T205042
CREATED:20150315T190521Z
LAST-MODIFIED:20231203T181823Z
UID:10001573-1504944000-1504947600@ccoley.com
SUMMARY:Men's Fellowship Breakfast
DESCRIPTION:
URL:https://ccoley.com/event/mens-fellowship-breakfast/2017-09-09/
LOCATION:Andy Giangiacomo\, 129 Oak Lane\, Fleetwood\, PA\, 19522\, United States
CATEGORIES:Men's Fellowship
ORGANIZER;CN="Andy Giangiacomo":MAILTO:sherandgia@msn.com
GEO:40.429365;-75.813973
X-APPLE-STRUCTURED-LOCATION;VALUE=URI;X-ADDRESS=Andy Giangiacomo 129 Oak Lane Fleetwood PA 19522 United States;X-APPLE-RADIUS=500;X-TITLE=129 Oak Lane:geo:-75.813973,40.429365
END:VEVENT
BEGIN:VEVENT
DTSTART;TZID=America/New_York:20171014T080000
DTEND;TZID=America/New_York:20171014T090000
DTSTAMP:20260422T205042
CREATED:20150315T190521Z
LAST-MODIFIED:20231203T181823Z
UID:10001574-1507968000-1507971600@ccoley.com
SUMMARY:Men's Fellowship Breakfast
DESCRIPTION:
URL:https://ccoley.com/event/mens-fellowship-breakfast/2017-10-14/
LOCATION:Andy Giangiacomo\, 129 Oak Lane\, Fleetwood\, PA\, 19522\, United States
CATEGORIES:Men's Fellowship
ORGANIZER;CN="Andy Giangiacomo":MAILTO:sherandgia@msn.com
GEO:40.429365;-75.813973
X-APPLE-STRUCTURED-LOCATION;VALUE=URI;X-ADDRESS=Andy Giangiacomo 129 Oak Lane Fleetwood PA 19522 United States;X-APPLE-RADIUS=500;X-TITLE=129 Oak Lane:geo:-75.813973,40.429365
END:VEVENT
BEGIN:VEVENT
DTSTART;TZID=America/New_York:20171111T080000
DTEND;TZID=America/New_York:20171111T090000
DTSTAMP:20260422T205042
CREATED:20150315T190521Z
LAST-MODIFIED:20231203T181823Z
UID:10001575-1510387200-1510390800@ccoley.com
SUMMARY:Men's Fellowship Breakfast
DESCRIPTION:
URL:https://ccoley.com/event/mens-fellowship-breakfast/2017-11-11/
LOCATION:Andy Giangiacomo\, 129 Oak Lane\, Fleetwood\, PA\, 19522\, United States
CATEGORIES:Men's Fellowship
ORGANIZER;CN="Andy Giangiacomo":MAILTO:sherandgia@msn.com
GEO:40.429365;-75.813973
X-APPLE-STRUCTURED-LOCATION;VALUE=URI;X-ADDRESS=Andy Giangiacomo 129 Oak Lane Fleetwood PA 19522 United States;X-APPLE-RADIUS=500;X-TITLE=129 Oak Lane:geo:-75.813973,40.429365
END:VEVENT
BEGIN:VEVENT
DTSTART;TZID=America/New_York:20171209T080000
DTEND;TZID=America/New_York:20171209T090000
DTSTAMP:20260422T205042
CREATED:20150315T190521Z
LAST-MODIFIED:20231203T181823Z
UID:10001576-1512806400-1512810000@ccoley.com
SUMMARY:Men's Fellowship Breakfast
DESCRIPTION:
URL:https://ccoley.com/event/mens-fellowship-breakfast/2017-12-09/
LOCATION:Andy Giangiacomo\, 129 Oak Lane\, Fleetwood\, PA\, 19522\, United States
CATEGORIES:Men's Fellowship
ORGANIZER;CN="Andy Giangiacomo":MAILTO:sherandgia@msn.com
GEO:40.429365;-75.813973
X-APPLE-STRUCTURED-LOCATION;VALUE=URI;X-ADDRESS=Andy Giangiacomo 129 Oak Lane Fleetwood PA 19522 United States;X-APPLE-RADIUS=500;X-TITLE=129 Oak Lane:geo:-75.813973,40.429365
END:VEVENT
BEGIN:VEVENT
DTSTART;TZID=America/New_York:20180113T080000
DTEND;TZID=America/New_York:20180113T090000
DTSTAMP:20260422T205042
CREATED:20150315T190521Z
LAST-MODIFIED:20231203T181823Z
UID:10001577-1515830400-1515834000@ccoley.com
SUMMARY:Men's Fellowship Breakfast
DESCRIPTION:
URL:https://ccoley.com/event/mens-fellowship-breakfast/2018-01-13/
LOCATION:Andy Giangiacomo\, 129 Oak Lane\, Fleetwood\, PA\, 19522\, United States
CATEGORIES:Men's Fellowship
ORGANIZER;CN="Andy Giangiacomo":MAILTO:sherandgia@msn.com
GEO:40.429365;-75.813973
X-APPLE-STRUCTURED-LOCATION;VALUE=URI;X-ADDRESS=Andy Giangiacomo 129 Oak Lane Fleetwood PA 19522 United States;X-APPLE-RADIUS=500;X-TITLE=129 Oak Lane:geo:-75.813973,40.429365
END:VEVENT
BEGIN:VEVENT
DTSTART;TZID=America/New_York:20180210T080000
DTEND;TZID=America/New_York:20180210T090000
DTSTAMP:20260422T205042
CREATED:20150315T190521Z
LAST-MODIFIED:20231203T181823Z
UID:10001578-1518249600-1518253200@ccoley.com
SUMMARY:Men's Fellowship Breakfast
DESCRIPTION:
URL:https://ccoley.com/event/mens-fellowship-breakfast/2018-02-10/
LOCATION:Andy Giangiacomo\, 129 Oak Lane\, Fleetwood\, PA\, 19522\, United States
CATEGORIES:Men's Fellowship
ORGANIZER;CN="Andy Giangiacomo":MAILTO:sherandgia@msn.com
GEO:40.429365;-75.813973
X-APPLE-STRUCTURED-LOCATION;VALUE=URI;X-ADDRESS=Andy Giangiacomo 129 Oak Lane Fleetwood PA 19522 United States;X-APPLE-RADIUS=500;X-TITLE=129 Oak Lane:geo:-75.813973,40.429365
END:VEVENT
BEGIN:VEVENT
DTSTART;TZID=America/New_York:20180310T080000
DTEND;TZID=America/New_York:20180310T090000
DTSTAMP:20260422T205042
CREATED:20150315T190521Z
LAST-MODIFIED:20231203T181823Z
UID:10001579-1520668800-1520672400@ccoley.com
SUMMARY:Men's Fellowship Breakfast
DESCRIPTION:
URL:https://ccoley.com/event/mens-fellowship-breakfast/2018-03-10/
LOCATION:Andy Giangiacomo\, 129 Oak Lane\, Fleetwood\, PA\, 19522\, United States
CATEGORIES:Men's Fellowship
ORGANIZER;CN="Andy Giangiacomo":MAILTO:sherandgia@msn.com
GEO:40.429365;-75.813973
X-APPLE-STRUCTURED-LOCATION;VALUE=URI;X-ADDRESS=Andy Giangiacomo 129 Oak Lane Fleetwood PA 19522 United States;X-APPLE-RADIUS=500;X-TITLE=129 Oak Lane:geo:-75.813973,40.429365
END:VEVENT
BEGIN:VEVENT
DTSTART;TZID=America/New_York:20180414T080000
DTEND;TZID=America/New_York:20180414T090000
DTSTAMP:20260422T205042
CREATED:20150315T190521Z
LAST-MODIFIED:20231203T181823Z
UID:10001580-1523692800-1523696400@ccoley.com
SUMMARY:Men's Fellowship Breakfast
DESCRIPTION:
URL:https://ccoley.com/event/mens-fellowship-breakfast/2018-04-14/
LOCATION:Andy Giangiacomo\, 129 Oak Lane\, Fleetwood\, PA\, 19522\, United States
CATEGORIES:Men's Fellowship
ORGANIZER;CN="Andy Giangiacomo":MAILTO:sherandgia@msn.com
GEO:40.429365;-75.813973
X-APPLE-STRUCTURED-LOCATION;VALUE=URI;X-ADDRESS=Andy Giangiacomo 129 Oak Lane Fleetwood PA 19522 United States;X-APPLE-RADIUS=500;X-TITLE=129 Oak Lane:geo:-75.813973,40.429365
END:VEVENT
BEGIN:VEVENT
DTSTART;TZID=America/New_York:20180512T080000
DTEND;TZID=America/New_York:20180512T090000
DTSTAMP:20260422T205042
CREATED:20150315T190521Z
LAST-MODIFIED:20231203T181823Z
UID:10001581-1526112000-1526115600@ccoley.com
SUMMARY:Men's Fellowship Breakfast
DESCRIPTION:
URL:https://ccoley.com/event/mens-fellowship-breakfast/2018-05-12/
LOCATION:Andy Giangiacomo\, 129 Oak Lane\, Fleetwood\, PA\, 19522\, United States
CATEGORIES:Men's Fellowship
ORGANIZER;CN="Andy Giangiacomo":MAILTO:sherandgia@msn.com
GEO:40.429365;-75.813973
X-APPLE-STRUCTURED-LOCATION;VALUE=URI;X-ADDRESS=Andy Giangiacomo 129 Oak Lane Fleetwood PA 19522 United States;X-APPLE-RADIUS=500;X-TITLE=129 Oak Lane:geo:-75.813973,40.429365
END:VEVENT
BEGIN:VEVENT
DTSTART;TZID=America/New_York:20180609T080000
DTEND;TZID=America/New_York:20180609T090000
DTSTAMP:20260422T205042
CREATED:20150315T190521Z
LAST-MODIFIED:20231203T181823Z
UID:10001582-1528531200-1528534800@ccoley.com
SUMMARY:Men's Fellowship Breakfast
DESCRIPTION:
URL:https://ccoley.com/event/mens-fellowship-breakfast/2018-06-09/
LOCATION:Andy Giangiacomo\, 129 Oak Lane\, Fleetwood\, PA\, 19522\, United States
CATEGORIES:Men's Fellowship
ORGANIZER;CN="Andy Giangiacomo":MAILTO:sherandgia@msn.com
GEO:40.429365;-75.813973
X-APPLE-STRUCTURED-LOCATION;VALUE=URI;X-ADDRESS=Andy Giangiacomo 129 Oak Lane Fleetwood PA 19522 United States;X-APPLE-RADIUS=500;X-TITLE=129 Oak Lane:geo:-75.813973,40.429365
END:VEVENT
BEGIN:VEVENT
DTSTART;TZID=America/New_York:20180714T080000
DTEND;TZID=America/New_York:20180714T090000
DTSTAMP:20260422T205042
CREATED:20150315T190521Z
LAST-MODIFIED:20231203T181823Z
UID:10001583-1531555200-1531558800@ccoley.com
SUMMARY:Men's Fellowship Breakfast
DESCRIPTION:
URL:https://ccoley.com/event/mens-fellowship-breakfast/2018-07-14/
LOCATION:Andy Giangiacomo\, 129 Oak Lane\, Fleetwood\, PA\, 19522\, United States
CATEGORIES:Men's Fellowship
ORGANIZER;CN="Andy Giangiacomo":MAILTO:sherandgia@msn.com
GEO:40.429365;-75.813973
X-APPLE-STRUCTURED-LOCATION;VALUE=URI;X-ADDRESS=Andy Giangiacomo 129 Oak Lane Fleetwood PA 19522 United States;X-APPLE-RADIUS=500;X-TITLE=129 Oak Lane:geo:-75.813973,40.429365
END:VEVENT
BEGIN:VEVENT
DTSTART;TZID=America/New_York:20180811T080000
DTEND;TZID=America/New_York:20180811T090000
DTSTAMP:20260422T205042
CREATED:20150315T190521Z
LAST-MODIFIED:20231203T181823Z
UID:10001584-1533974400-1533978000@ccoley.com
SUMMARY:Men's Fellowship Breakfast
DESCRIPTION:
URL:https://ccoley.com/event/mens-fellowship-breakfast/2018-08-11/
LOCATION:Andy Giangiacomo\, 129 Oak Lane\, Fleetwood\, PA\, 19522\, United States
CATEGORIES:Men's Fellowship
ORGANIZER;CN="Andy Giangiacomo":MAILTO:sherandgia@msn.com
GEO:40.429365;-75.813973
X-APPLE-STRUCTURED-LOCATION;VALUE=URI;X-ADDRESS=Andy Giangiacomo 129 Oak Lane Fleetwood PA 19522 United States;X-APPLE-RADIUS=500;X-TITLE=129 Oak Lane:geo:-75.813973,40.429365
END:VEVENT
BEGIN:VEVENT
DTSTART;TZID=America/New_York:20180908T080000
DTEND;TZID=America/New_York:20180908T090000
DTSTAMP:20260422T205042
CREATED:20150315T190521Z
LAST-MODIFIED:20231203T181823Z
UID:10001585-1536393600-1536397200@ccoley.com
SUMMARY:Men's Fellowship Breakfast
DESCRIPTION:
URL:https://ccoley.com/event/mens-fellowship-breakfast/2018-09-08/
LOCATION:Andy Giangiacomo\, 129 Oak Lane\, Fleetwood\, PA\, 19522\, United States
CATEGORIES:Men's Fellowship
ORGANIZER;CN="Andy Giangiacomo":MAILTO:sherandgia@msn.com
GEO:40.429365;-75.813973
X-APPLE-STRUCTURED-LOCATION;VALUE=URI;X-ADDRESS=Andy Giangiacomo 129 Oak Lane Fleetwood PA 19522 United States;X-APPLE-RADIUS=500;X-TITLE=129 Oak Lane:geo:-75.813973,40.429365
END:VEVENT
BEGIN:VEVENT
DTSTART;TZID=America/New_York:20181013T080000
DTEND;TZID=America/New_York:20181013T090000
DTSTAMP:20260422T205042
CREATED:20150315T190521Z
LAST-MODIFIED:20231203T181823Z
UID:10001586-1539417600-1539421200@ccoley.com
SUMMARY:Men's Fellowship Breakfast
DESCRIPTION:
URL:https://ccoley.com/event/mens-fellowship-breakfast/2018-10-13/
LOCATION:Andy Giangiacomo\, 129 Oak Lane\, Fleetwood\, PA\, 19522\, United States
CATEGORIES:Men's Fellowship
ORGANIZER;CN="Andy Giangiacomo":MAILTO:sherandgia@msn.com
GEO:40.429365;-75.813973
X-APPLE-STRUCTURED-LOCATION;VALUE=URI;X-ADDRESS=Andy Giangiacomo 129 Oak Lane Fleetwood PA 19522 United States;X-APPLE-RADIUS=500;X-TITLE=129 Oak Lane:geo:-75.813973,40.429365
END:VEVENT
BEGIN:VEVENT
DTSTART;TZID=America/New_York:20181110T080000
DTEND;TZID=America/New_York:20181110T090000
DTSTAMP:20260422T205042
CREATED:20150315T190521Z
LAST-MODIFIED:20231203T181823Z
UID:10001587-1541836800-1541840400@ccoley.com
SUMMARY:Men's Fellowship Breakfast
DESCRIPTION:
URL:https://ccoley.com/event/mens-fellowship-breakfast/2018-11-10/
LOCATION:Andy Giangiacomo\, 129 Oak Lane\, Fleetwood\, PA\, 19522\, United States
CATEGORIES:Men's Fellowship
ORGANIZER;CN="Andy Giangiacomo":MAILTO:sherandgia@msn.com
GEO:40.429365;-75.813973
X-APPLE-STRUCTURED-LOCATION;VALUE=URI;X-ADDRESS=Andy Giangiacomo 129 Oak Lane Fleetwood PA 19522 United States;X-APPLE-RADIUS=500;X-TITLE=129 Oak Lane:geo:-75.813973,40.429365
END:VEVENT
BEGIN:VEVENT
DTSTART;TZID=America/New_York:20181116T193000
DTEND;TZID=America/New_York:20181117T193000
DTSTAMP:20260422T205042
CREATED:20181029T201935Z
LAST-MODIFIED:20181029T201935Z
UID:10000150-1542396600-1542483000@ccoley.com
SUMMARY:CC Philly 2018 Men's Conference
DESCRIPTION:Nov. 16th 7:30 pm \n\nCommunion with Pastor Joe Wings and fellowship afterwards.\n\nNov. 17th 8:30 am – 3:30 pm \n\n4 general sessions + lunch\n\nThe conference is FREE and there is no registration.  We will receive an offering to help offset the costs.  All men Jr. High age and older are invited. \nGuest speakers:  Sandy Adams\, Mike Rozelle\, John Randall
URL:https://ccoley.com/event/cc-philly-2018-mens-conference/
LOCATION:Calvary Chapel of Philadelphia\, 13500 Philmont Ave\, Philadelphia\, PA\, 19116\, United States
CATEGORIES:Men's Fellowship
ORGANIZER;CN="Pastor Fred Bell":MAILTO:pastorfred@ccoley.com
GEO:40.1297114;-75.0173054
X-APPLE-STRUCTURED-LOCATION;VALUE=URI;X-ADDRESS=Calvary Chapel of Philadelphia 13500 Philmont Ave Philadelphia PA 19116 United States;X-APPLE-RADIUS=500;X-TITLE=13500 Philmont Ave:geo:-75.0173054,40.1297114
END:VEVENT
BEGIN:VEVENT
DTSTART;TZID=America/New_York:20181208T080000
DTEND;TZID=America/New_York:20181208T090000
DTSTAMP:20260422T205042
CREATED:20150315T190521Z
LAST-MODIFIED:20231203T181823Z
UID:10001588-1544256000-1544259600@ccoley.com
SUMMARY:Men's Fellowship Breakfast
DESCRIPTION:
URL:https://ccoley.com/event/mens-fellowship-breakfast/2018-12-08/
LOCATION:Andy Giangiacomo\, 129 Oak Lane\, Fleetwood\, PA\, 19522\, United States
CATEGORIES:Men's Fellowship
ORGANIZER;CN="Andy Giangiacomo":MAILTO:sherandgia@msn.com
GEO:40.429365;-75.813973
X-APPLE-STRUCTURED-LOCATION;VALUE=URI;X-ADDRESS=Andy Giangiacomo 129 Oak Lane Fleetwood PA 19522 United States;X-APPLE-RADIUS=500;X-TITLE=129 Oak Lane:geo:-75.813973,40.429365
END:VEVENT
BEGIN:VEVENT
DTSTART;TZID=America/New_York:20190112T080000
DTEND;TZID=America/New_York:20190112T090000
DTSTAMP:20260422T205042
CREATED:20150315T190521Z
LAST-MODIFIED:20231203T181823Z
UID:10001589-1547280000-1547283600@ccoley.com
SUMMARY:Men's Fellowship Breakfast
DESCRIPTION:
URL:https://ccoley.com/event/mens-fellowship-breakfast/2019-01-12/
LOCATION:Andy Giangiacomo\, 129 Oak Lane\, Fleetwood\, PA\, 19522\, United States
CATEGORIES:Men's Fellowship
ORGANIZER;CN="Andy Giangiacomo":MAILTO:sherandgia@msn.com
GEO:40.429365;-75.813973
X-APPLE-STRUCTURED-LOCATION;VALUE=URI;X-ADDRESS=Andy Giangiacomo 129 Oak Lane Fleetwood PA 19522 United States;X-APPLE-RADIUS=500;X-TITLE=129 Oak Lane:geo:-75.813973,40.429365
END:VEVENT
BEGIN:VEVENT
DTSTART;TZID=America/New_York:20190209T080000
DTEND;TZID=America/New_York:20190209T090000
DTSTAMP:20260422T205042
CREATED:20150315T190521Z
LAST-MODIFIED:20231203T181823Z
UID:10001590-1549699200-1549702800@ccoley.com
SUMMARY:Men's Fellowship Breakfast
DESCRIPTION:
URL:https://ccoley.com/event/mens-fellowship-breakfast/2019-02-09/
LOCATION:Andy Giangiacomo\, 129 Oak Lane\, Fleetwood\, PA\, 19522\, United States
CATEGORIES:Men's Fellowship
ORGANIZER;CN="Andy Giangiacomo":MAILTO:sherandgia@msn.com
GEO:40.429365;-75.813973
X-APPLE-STRUCTURED-LOCATION;VALUE=URI;X-ADDRESS=Andy Giangiacomo 129 Oak Lane Fleetwood PA 19522 United States;X-APPLE-RADIUS=500;X-TITLE=129 Oak Lane:geo:-75.813973,40.429365
END:VEVENT
BEGIN:VEVENT
DTSTART;TZID=America/New_York:20190309T080000
DTEND;TZID=America/New_York:20190309T090000
DTSTAMP:20260422T205042
CREATED:20150315T190521Z
LAST-MODIFIED:20231203T181823Z
UID:10001591-1552118400-1552122000@ccoley.com
SUMMARY:Men's Fellowship Breakfast
DESCRIPTION:
URL:https://ccoley.com/event/mens-fellowship-breakfast/2019-03-09/
LOCATION:Andy Giangiacomo\, 129 Oak Lane\, Fleetwood\, PA\, 19522\, United States
CATEGORIES:Men's Fellowship
ORGANIZER;CN="Andy Giangiacomo":MAILTO:sherandgia@msn.com
GEO:40.429365;-75.813973
X-APPLE-STRUCTURED-LOCATION;VALUE=URI;X-ADDRESS=Andy Giangiacomo 129 Oak Lane Fleetwood PA 19522 United States;X-APPLE-RADIUS=500;X-TITLE=129 Oak Lane:geo:-75.813973,40.429365
END:VEVENT
BEGIN:VEVENT
DTSTART;TZID=America/New_York:20190413T080000
DTEND;TZID=America/New_York:20190413T090000
DTSTAMP:20260422T205042
CREATED:20150315T190521Z
LAST-MODIFIED:20231203T181823Z
UID:10001592-1555142400-1555146000@ccoley.com
SUMMARY:Men's Fellowship Breakfast
DESCRIPTION:
URL:https://ccoley.com/event/mens-fellowship-breakfast/2019-04-13/
LOCATION:Andy Giangiacomo\, 129 Oak Lane\, Fleetwood\, PA\, 19522\, United States
CATEGORIES:Men's Fellowship
ORGANIZER;CN="Andy Giangiacomo":MAILTO:sherandgia@msn.com
GEO:40.429365;-75.813973
X-APPLE-STRUCTURED-LOCATION;VALUE=URI;X-ADDRESS=Andy Giangiacomo 129 Oak Lane Fleetwood PA 19522 United States;X-APPLE-RADIUS=500;X-TITLE=129 Oak Lane:geo:-75.813973,40.429365
END:VEVENT
BEGIN:VEVENT
DTSTART;TZID=America/New_York:20190511T080000
DTEND;TZID=America/New_York:20190511T090000
DTSTAMP:20260422T205042
CREATED:20150315T190521Z
LAST-MODIFIED:20231203T181823Z
UID:10001593-1557561600-1557565200@ccoley.com
SUMMARY:Men's Fellowship Breakfast
DESCRIPTION:
URL:https://ccoley.com/event/mens-fellowship-breakfast/2019-05-11/
LOCATION:Andy Giangiacomo\, 129 Oak Lane\, Fleetwood\, PA\, 19522\, United States
CATEGORIES:Men's Fellowship
ORGANIZER;CN="Andy Giangiacomo":MAILTO:sherandgia@msn.com
GEO:40.429365;-75.813973
X-APPLE-STRUCTURED-LOCATION;VALUE=URI;X-ADDRESS=Andy Giangiacomo 129 Oak Lane Fleetwood PA 19522 United States;X-APPLE-RADIUS=500;X-TITLE=129 Oak Lane:geo:-75.813973,40.429365
END:VEVENT
BEGIN:VEVENT
DTSTART;TZID=America/New_York:20190608T080000
DTEND;TZID=America/New_York:20190608T090000
DTSTAMP:20260422T205042
CREATED:20150315T190521Z
LAST-MODIFIED:20231203T181823Z
UID:10001594-1559980800-1559984400@ccoley.com
SUMMARY:Men's Fellowship Breakfast
DESCRIPTION:
URL:https://ccoley.com/event/mens-fellowship-breakfast/2019-06-08/
LOCATION:Andy Giangiacomo\, 129 Oak Lane\, Fleetwood\, PA\, 19522\, United States
CATEGORIES:Men's Fellowship
ORGANIZER;CN="Andy Giangiacomo":MAILTO:sherandgia@msn.com
GEO:40.429365;-75.813973
X-APPLE-STRUCTURED-LOCATION;VALUE=URI;X-ADDRESS=Andy Giangiacomo 129 Oak Lane Fleetwood PA 19522 United States;X-APPLE-RADIUS=500;X-TITLE=129 Oak Lane:geo:-75.813973,40.429365
END:VEVENT
BEGIN:VEVENT
DTSTART;TZID=America/New_York:20190628T183000
DTEND;TZID=America/New_York:20190628T200000
DTSTAMP:20260422T205042
CREATED:20190624T155540Z
LAST-MODIFIED:20190624T155540Z
UID:10001699-1561746600-1561752000@ccoley.com
SUMMARY:Men's Outreach - Understanding the Father's Love
DESCRIPTION:The Heart of Man is a cinematic retelling of the parable of the Prodigal Son\, intertwined with contemporary and poignant true testimonies of personal and sexual brokenness. The two genres are combined as never before to reveal the compassionate heart of God the father for his sons and daughters illuminating an age-old truth: Shame is not a barrier to God’s love\, but a bridge to absolute transformation\, victory\, and hope. \nFree Admission. \nRefreshments served.
URL:https://ccoley.com/event/mens-outreach-understanding-the-fathers-love/
LOCATION:City Light Fortress\, 940 Spruce St.\, Reading\, PA\, 19602\, United States
CATEGORIES:Men's Fellowship
ORGANIZER;CN="Pastor Fred Bell":MAILTO:pastorfred@ccoley.com
GEO:40.3304716;-75.9189155
X-APPLE-STRUCTURED-LOCATION;VALUE=URI;X-ADDRESS=City Light Fortress 940 Spruce St. Reading PA 19602 United States;X-APPLE-RADIUS=500;X-TITLE=940 Spruce St.:geo:-75.9189155,40.3304716
END:VEVENT
BEGIN:VEVENT
DTSTART;TZID=America/New_York:20190713T080000
DTEND;TZID=America/New_York:20190713T090000
DTSTAMP:20260422T205042
CREATED:20150315T190521Z
LAST-MODIFIED:20231203T181823Z
UID:10001595-1563004800-1563008400@ccoley.com
SUMMARY:Men's Fellowship Breakfast
DESCRIPTION:
URL:https://ccoley.com/event/mens-fellowship-breakfast/2019-07-13/
LOCATION:Andy Giangiacomo\, 129 Oak Lane\, Fleetwood\, PA\, 19522\, United States
CATEGORIES:Men's Fellowship
ORGANIZER;CN="Andy Giangiacomo":MAILTO:sherandgia@msn.com
GEO:40.429365;-75.813973
X-APPLE-STRUCTURED-LOCATION;VALUE=URI;X-ADDRESS=Andy Giangiacomo 129 Oak Lane Fleetwood PA 19522 United States;X-APPLE-RADIUS=500;X-TITLE=129 Oak Lane:geo:-75.813973,40.429365
END:VEVENT
END:VCALENDAR