BEGIN:VCALENDAR
VERSION:2.0
PRODID:-//Calvary Chapel of the Oley Valley - ECPv6.15.20//NONSGML v1.0//EN
CALSCALE:GREGORIAN
METHOD:PUBLISH
X-WR-CALNAME:Calvary Chapel of the Oley Valley
X-ORIGINAL-URL:https://ccoley.com
X-WR-CALDESC:Events for Calvary Chapel of the Oley Valley
REFRESH-INTERVAL;VALUE=DURATION:PT1H
X-Robots-Tag:noindex
X-PUBLISHED-TTL:PT1H
BEGIN:VTIMEZONE
TZID:America/New_York
BEGIN:DAYLIGHT
TZOFFSETFROM:-0500
TZOFFSETTO:-0400
TZNAME:EDT
DTSTART:20230312T070000
END:DAYLIGHT
BEGIN:STANDARD
TZOFFSETFROM:-0400
TZOFFSETTO:-0500
TZNAME:EST
DTSTART:20231105T060000
END:STANDARD
BEGIN:DAYLIGHT
TZOFFSETFROM:-0500
TZOFFSETTO:-0400
TZNAME:EDT
DTSTART:20240310T070000
END:DAYLIGHT
BEGIN:STANDARD
TZOFFSETFROM:-0400
TZOFFSETTO:-0500
TZNAME:EST
DTSTART:20241103T060000
END:STANDARD
BEGIN:DAYLIGHT
TZOFFSETFROM:-0500
TZOFFSETTO:-0400
TZNAME:EDT
DTSTART:20250309T070000
END:DAYLIGHT
BEGIN:STANDARD
TZOFFSETFROM:-0400
TZOFFSETTO:-0500
TZNAME:EST
DTSTART:20251102T060000
END:STANDARD
BEGIN:DAYLIGHT
TZOFFSETFROM:-0500
TZOFFSETTO:-0400
TZNAME:EDT
DTSTART:20260308T070000
END:DAYLIGHT
BEGIN:STANDARD
TZOFFSETFROM:-0400
TZOFFSETTO:-0500
TZNAME:EST
DTSTART:20261101T060000
END:STANDARD
END:VTIMEZONE
BEGIN:VEVENT
DTSTART;TZID=America/New_York:20250112T113000
DTEND;TZID=America/New_York:20250112T130000
DTSTAMP:20260423T022743
CREATED:20181002T152826Z
LAST-MODIFIED:20260329T184055Z
UID:10000391-1736681400-1736686800@ccoley.com
SUMMARY:Sunday Fellowship
DESCRIPTION:Enjoy fellowship after the service.
URL:https://ccoley.com/event/sunday-fellowship-2020-06-07/2025-01-12/
LOCATION:Oley Fairgrounds\, 26 Jefferson St\, Oley\, PA\, 19547\, United States
CATEGORIES:Family
ORGANIZER;CN="Pastor Fred Bell":MAILTO:pastorfred@ccoley.com
GEO:40.3866624;-75.7846798
X-APPLE-STRUCTURED-LOCATION;VALUE=URI;X-ADDRESS=Oley Fairgrounds 26 Jefferson St Oley PA 19547 United States;X-APPLE-RADIUS=500;X-TITLE=26 Jefferson St:geo:-75.7846798,40.3866624
END:VEVENT
BEGIN:VEVENT
DTSTART;TZID=America/New_York:20250105T113000
DTEND;TZID=America/New_York:20250105T130000
DTSTAMP:20260423T022743
CREATED:20181002T152826Z
LAST-MODIFIED:20260329T184055Z
UID:10000390-1736076600-1736082000@ccoley.com
SUMMARY:Sunday Fellowship
DESCRIPTION:Enjoy fellowship after the service.
URL:https://ccoley.com/event/sunday-fellowship-2020-06-07/2025-01-05/
LOCATION:Oley Fairgrounds\, 26 Jefferson St\, Oley\, PA\, 19547\, United States
CATEGORIES:Family
ORGANIZER;CN="Pastor Fred Bell":MAILTO:pastorfred@ccoley.com
GEO:40.3866624;-75.7846798
X-APPLE-STRUCTURED-LOCATION;VALUE=URI;X-ADDRESS=Oley Fairgrounds 26 Jefferson St Oley PA 19547 United States;X-APPLE-RADIUS=500;X-TITLE=26 Jefferson St:geo:-75.7846798,40.3866624
END:VEVENT
BEGIN:VEVENT
DTSTART;TZID=America/New_York:20241229T113000
DTEND;TZID=America/New_York:20241229T130000
DTSTAMP:20260423T022743
CREATED:20181002T152826Z
LAST-MODIFIED:20260329T184055Z
UID:10000389-1735471800-1735477200@ccoley.com
SUMMARY:Sunday Fellowship
DESCRIPTION:Enjoy fellowship after the service.
URL:https://ccoley.com/event/sunday-fellowship-2020-06-07/2024-12-29/
LOCATION:Oley Fairgrounds\, 26 Jefferson St\, Oley\, PA\, 19547\, United States
CATEGORIES:Family
ORGANIZER;CN="Pastor Fred Bell":MAILTO:pastorfred@ccoley.com
GEO:40.3866624;-75.7846798
X-APPLE-STRUCTURED-LOCATION;VALUE=URI;X-ADDRESS=Oley Fairgrounds 26 Jefferson St Oley PA 19547 United States;X-APPLE-RADIUS=500;X-TITLE=26 Jefferson St:geo:-75.7846798,40.3866624
END:VEVENT
BEGIN:VEVENT
DTSTART;TZID=America/New_York:20241224T190000
DTEND;TZID=America/New_York:20241224T210000
DTSTAMP:20260423T022743
CREATED:20191215T174107Z
LAST-MODIFIED:20211224T234331Z
UID:10001841-1735066800-1735074000@ccoley.com
SUMMARY:Christmas Eve Service
DESCRIPTION:Bring cookies and good Christmas cheer for a great time of fellowship afterwards.
URL:https://ccoley.com/event/christmas-eve-service-5/2024-12-24/
LOCATION:Camp Manatawny\, 33 Camp Rd\, Douglasville\, PA\, 19518\, United States
CATEGORIES:Family
ORGANIZER;CN="Pastor Fred Bell":MAILTO:pastorfred@ccoley.com
GEO:40.3236028;-75.7358234
X-APPLE-STRUCTURED-LOCATION;VALUE=URI;X-ADDRESS=Camp Manatawny 33 Camp Rd Douglasville PA 19518 United States;X-APPLE-RADIUS=500;X-TITLE=33 Camp Rd:geo:-75.7358234,40.3236028
END:VEVENT
BEGIN:VEVENT
DTSTART;TZID=America/New_York:20241222T113000
DTEND;TZID=America/New_York:20241222T130000
DTSTAMP:20260423T022743
CREATED:20181002T152826Z
LAST-MODIFIED:20260329T184055Z
UID:10000388-1734867000-1734872400@ccoley.com
SUMMARY:Sunday Fellowship
DESCRIPTION:Enjoy fellowship after the service.
URL:https://ccoley.com/event/sunday-fellowship-2020-06-07/2024-12-22/
LOCATION:Oley Fairgrounds\, 26 Jefferson St\, Oley\, PA\, 19547\, United States
CATEGORIES:Family
ORGANIZER;CN="Pastor Fred Bell":MAILTO:pastorfred@ccoley.com
GEO:40.3866624;-75.7846798
X-APPLE-STRUCTURED-LOCATION;VALUE=URI;X-ADDRESS=Oley Fairgrounds 26 Jefferson St Oley PA 19547 United States;X-APPLE-RADIUS=500;X-TITLE=26 Jefferson St:geo:-75.7846798,40.3866624
END:VEVENT
BEGIN:VEVENT
DTSTART;TZID=America/New_York:20241215T113000
DTEND;TZID=America/New_York:20241215T130000
DTSTAMP:20260423T022743
CREATED:20181002T152826Z
LAST-MODIFIED:20260329T184055Z
UID:10000387-1734262200-1734267600@ccoley.com
SUMMARY:Sunday Fellowship
DESCRIPTION:Enjoy fellowship after the service.
URL:https://ccoley.com/event/sunday-fellowship-2020-06-07/2024-12-15/
LOCATION:Oley Fairgrounds\, 26 Jefferson St\, Oley\, PA\, 19547\, United States
CATEGORIES:Family
ORGANIZER;CN="Pastor Fred Bell":MAILTO:pastorfred@ccoley.com
GEO:40.3866624;-75.7846798
X-APPLE-STRUCTURED-LOCATION;VALUE=URI;X-ADDRESS=Oley Fairgrounds 26 Jefferson St Oley PA 19547 United States;X-APPLE-RADIUS=500;X-TITLE=26 Jefferson St:geo:-75.7846798,40.3866624
END:VEVENT
BEGIN:VEVENT
DTSTART;TZID=America/New_York:20241214T160000
DTEND;TZID=America/New_York:20241214T210000
DTSTAMP:20260423T022743
CREATED:20241206T195822Z
LAST-MODIFIED:20241206T195822Z
UID:10005018-1734192000-1734210000@ccoley.com
SUMMARY:2024 Christmas Dinner
DESCRIPTION:Doors open at 4:00pm with dinner being served at 5:00pm.  See Denise Nutter about helping with setup\, Ken Chandler about bringing food\, and Dave Coult about being a part of the entertainment.
URL:https://ccoley.com/event/2024-christmas-dinner/
LOCATION:Oley Fairgrounds\, 26 Jefferson St\, Oley\, PA\, 19547\, United States
CATEGORIES:Family
ORGANIZER;CN="Pastor Fred Bell":MAILTO:pastorfred@ccoley.com
GEO:40.3866624;-75.7846798
X-APPLE-STRUCTURED-LOCATION;VALUE=URI;X-ADDRESS=Oley Fairgrounds 26 Jefferson St Oley PA 19547 United States;X-APPLE-RADIUS=500;X-TITLE=26 Jefferson St:geo:-75.7846798,40.3866624
END:VEVENT
BEGIN:VEVENT
DTSTART;TZID=America/New_York:20241208T113000
DTEND;TZID=America/New_York:20241208T130000
DTSTAMP:20260423T022743
CREATED:20181002T152826Z
LAST-MODIFIED:20260329T184055Z
UID:10000386-1733657400-1733662800@ccoley.com
SUMMARY:Sunday Fellowship
DESCRIPTION:Enjoy fellowship after the service.
URL:https://ccoley.com/event/sunday-fellowship-2020-06-07/2024-12-08/
LOCATION:Oley Fairgrounds\, 26 Jefferson St\, Oley\, PA\, 19547\, United States
CATEGORIES:Family
ORGANIZER;CN="Pastor Fred Bell":MAILTO:pastorfred@ccoley.com
GEO:40.3866624;-75.7846798
X-APPLE-STRUCTURED-LOCATION;VALUE=URI;X-ADDRESS=Oley Fairgrounds 26 Jefferson St Oley PA 19547 United States;X-APPLE-RADIUS=500;X-TITLE=26 Jefferson St:geo:-75.7846798,40.3866624
END:VEVENT
BEGIN:VEVENT
DTSTART;TZID=America/New_York:20241201T113000
DTEND;TZID=America/New_York:20241201T130000
DTSTAMP:20260423T022743
CREATED:20181002T152826Z
LAST-MODIFIED:20260329T184055Z
UID:10000385-1733052600-1733058000@ccoley.com
SUMMARY:Sunday Fellowship
DESCRIPTION:Enjoy fellowship after the service.
URL:https://ccoley.com/event/sunday-fellowship-2020-06-07/2024-12-01/
LOCATION:Oley Fairgrounds\, 26 Jefferson St\, Oley\, PA\, 19547\, United States
CATEGORIES:Family
ORGANIZER;CN="Pastor Fred Bell":MAILTO:pastorfred@ccoley.com
GEO:40.3866624;-75.7846798
X-APPLE-STRUCTURED-LOCATION;VALUE=URI;X-ADDRESS=Oley Fairgrounds 26 Jefferson St Oley PA 19547 United States;X-APPLE-RADIUS=500;X-TITLE=26 Jefferson St:geo:-75.7846798,40.3866624
END:VEVENT
BEGIN:VEVENT
DTSTART;TZID=America/New_York:20241124T113000
DTEND;TZID=America/New_York:20241124T130000
DTSTAMP:20260423T022743
CREATED:20181002T152826Z
LAST-MODIFIED:20260329T184055Z
UID:10000384-1732447800-1732453200@ccoley.com
SUMMARY:Sunday Fellowship
DESCRIPTION:Enjoy fellowship after the service.
URL:https://ccoley.com/event/sunday-fellowship-2020-06-07/2024-11-24/
LOCATION:Oley Fairgrounds\, 26 Jefferson St\, Oley\, PA\, 19547\, United States
CATEGORIES:Family
ORGANIZER;CN="Pastor Fred Bell":MAILTO:pastorfred@ccoley.com
GEO:40.3866624;-75.7846798
X-APPLE-STRUCTURED-LOCATION;VALUE=URI;X-ADDRESS=Oley Fairgrounds 26 Jefferson St Oley PA 19547 United States;X-APPLE-RADIUS=500;X-TITLE=26 Jefferson St:geo:-75.7846798,40.3866624
END:VEVENT
BEGIN:VEVENT
DTSTART;TZID=America/New_York:20241117T123000
DTEND;TZID=America/New_York:20241117T133000
DTSTAMP:20260423T022743
CREATED:20241110T183328Z
LAST-MODIFIED:20241110T183328Z
UID:10004698-1731846600-1731850200@ccoley.com
SUMMARY:Sunday Fellowship
DESCRIPTION:Enjoy fellowship after the service.
URL:https://ccoley.com/event/sunday-fellowship-14/
LOCATION:Camp Manatawny\, 33 Camp Rd\, Douglasville\, PA\, 19518\, United States
CATEGORIES:Family
ORGANIZER;CN="Pastor Fred Bell":MAILTO:pastorfred@ccoley.com
GEO:40.3236028;-75.7358234
X-APPLE-STRUCTURED-LOCATION;VALUE=URI;X-ADDRESS=Camp Manatawny 33 Camp Rd Douglasville PA 19518 United States;X-APPLE-RADIUS=500;X-TITLE=33 Camp Rd:geo:-75.7358234,40.3236028
END:VEVENT
BEGIN:VEVENT
DTSTART;TZID=America/New_York:20241110T113000
DTEND;TZID=America/New_York:20241110T130000
DTSTAMP:20260423T022743
CREATED:20181002T152826Z
LAST-MODIFIED:20260329T184055Z
UID:10000382-1731238200-1731243600@ccoley.com
SUMMARY:Sunday Fellowship
DESCRIPTION:Enjoy fellowship after the service.
URL:https://ccoley.com/event/sunday-fellowship-2020-06-07/2024-11-10/
LOCATION:Oley Fairgrounds\, 26 Jefferson St\, Oley\, PA\, 19547\, United States
CATEGORIES:Family
ORGANIZER;CN="Pastor Fred Bell":MAILTO:pastorfred@ccoley.com
GEO:40.3866624;-75.7846798
X-APPLE-STRUCTURED-LOCATION;VALUE=URI;X-ADDRESS=Oley Fairgrounds 26 Jefferson St Oley PA 19547 United States;X-APPLE-RADIUS=500;X-TITLE=26 Jefferson St:geo:-75.7846798,40.3866624
END:VEVENT
BEGIN:VEVENT
DTSTART;TZID=America/New_York:20241103T113000
DTEND;TZID=America/New_York:20241103T130000
DTSTAMP:20260423T022743
CREATED:20181002T152826Z
LAST-MODIFIED:20260329T184055Z
UID:10000381-1730633400-1730638800@ccoley.com
SUMMARY:Sunday Fellowship
DESCRIPTION:Enjoy fellowship after the service.
URL:https://ccoley.com/event/sunday-fellowship-2020-06-07/2024-11-03/
LOCATION:Oley Fairgrounds\, 26 Jefferson St\, Oley\, PA\, 19547\, United States
CATEGORIES:Family
ORGANIZER;CN="Pastor Fred Bell":MAILTO:pastorfred@ccoley.com
GEO:40.3866624;-75.7846798
X-APPLE-STRUCTURED-LOCATION;VALUE=URI;X-ADDRESS=Oley Fairgrounds 26 Jefferson St Oley PA 19547 United States;X-APPLE-RADIUS=500;X-TITLE=26 Jefferson St:geo:-75.7846798,40.3866624
END:VEVENT
BEGIN:VEVENT
DTSTART;TZID=America/New_York:20241027T113000
DTEND;TZID=America/New_York:20241027T130000
DTSTAMP:20260423T022743
CREATED:20181002T152826Z
LAST-MODIFIED:20260329T184055Z
UID:10000380-1730028600-1730034000@ccoley.com
SUMMARY:Sunday Fellowship
DESCRIPTION:Enjoy fellowship after the service.
URL:https://ccoley.com/event/sunday-fellowship-2020-06-07/2024-10-27/
LOCATION:Oley Fairgrounds\, 26 Jefferson St\, Oley\, PA\, 19547\, United States
CATEGORIES:Family
ORGANIZER;CN="Pastor Fred Bell":MAILTO:pastorfred@ccoley.com
GEO:40.3866624;-75.7846798
X-APPLE-STRUCTURED-LOCATION;VALUE=URI;X-ADDRESS=Oley Fairgrounds 26 Jefferson St Oley PA 19547 United States;X-APPLE-RADIUS=500;X-TITLE=26 Jefferson St:geo:-75.7846798,40.3866624
END:VEVENT
BEGIN:VEVENT
DTSTART;TZID=America/New_York:20241020T113000
DTEND;TZID=America/New_York:20241020T130000
DTSTAMP:20260423T022743
CREATED:20181002T152826Z
LAST-MODIFIED:20260329T184055Z
UID:10000379-1729423800-1729429200@ccoley.com
SUMMARY:Sunday Fellowship
DESCRIPTION:Enjoy fellowship after the service.
URL:https://ccoley.com/event/sunday-fellowship-2020-06-07/2024-10-20/
LOCATION:Oley Fairgrounds\, 26 Jefferson St\, Oley\, PA\, 19547\, United States
CATEGORIES:Family
ORGANIZER;CN="Pastor Fred Bell":MAILTO:pastorfred@ccoley.com
GEO:40.3866624;-75.7846798
X-APPLE-STRUCTURED-LOCATION;VALUE=URI;X-ADDRESS=Oley Fairgrounds 26 Jefferson St Oley PA 19547 United States;X-APPLE-RADIUS=500;X-TITLE=26 Jefferson St:geo:-75.7846798,40.3866624
END:VEVENT
BEGIN:VEVENT
DTSTART;TZID=America/New_York:20241019T160000
DTEND;TZID=America/New_York:20241019T210000
DTSTAMP:20260423T022743
CREATED:20240825T192056Z
LAST-MODIFIED:20240825T192056Z
UID:10004229-1729353600-1729371600@ccoley.com
SUMMARY:2024 Fall Picnic & Pig Roast
DESCRIPTION:Please set the date aside for a time of good food and fellowship.
URL:https://ccoley.com/event/2024-fall-picnic-pig-roast/
LOCATION:Scott Postell\, Hauseman Road\, Boyertown\, PA\, 19512\, United States
CATEGORIES:Family
ORGANIZER;CN="Pastor Fred Bell":MAILTO:pastorfred@ccoley.com
GEO:40.3543626;-75.6737983
X-APPLE-STRUCTURED-LOCATION;VALUE=URI;X-ADDRESS=Scott Postell Hauseman Road Boyertown PA 19512 United States;X-APPLE-RADIUS=500;X-TITLE=Hauseman Road:geo:-75.6737983,40.3543626
END:VEVENT
BEGIN:VEVENT
DTSTART;TZID=America/New_York:20241013T113000
DTEND;TZID=America/New_York:20241013T130000
DTSTAMP:20260423T022743
CREATED:20181002T152826Z
LAST-MODIFIED:20260329T184055Z
UID:10000378-1728819000-1728824400@ccoley.com
SUMMARY:Sunday Fellowship
DESCRIPTION:Enjoy fellowship after the service.
URL:https://ccoley.com/event/sunday-fellowship-2020-06-07/2024-10-13/
LOCATION:Oley Fairgrounds\, 26 Jefferson St\, Oley\, PA\, 19547\, United States
CATEGORIES:Family
ORGANIZER;CN="Pastor Fred Bell":MAILTO:pastorfred@ccoley.com
GEO:40.3866624;-75.7846798
X-APPLE-STRUCTURED-LOCATION;VALUE=URI;X-ADDRESS=Oley Fairgrounds 26 Jefferson St Oley PA 19547 United States;X-APPLE-RADIUS=500;X-TITLE=26 Jefferson St:geo:-75.7846798,40.3866624
END:VEVENT
BEGIN:VEVENT
DTSTART;TZID=America/New_York:20241006T113000
DTEND;TZID=America/New_York:20241006T130000
DTSTAMP:20260423T022743
CREATED:20181002T152826Z
LAST-MODIFIED:20260329T184055Z
UID:10000377-1728214200-1728219600@ccoley.com
SUMMARY:Sunday Fellowship
DESCRIPTION:Enjoy fellowship after the service.
URL:https://ccoley.com/event/sunday-fellowship-2020-06-07/2024-10-06/
LOCATION:Oley Fairgrounds\, 26 Jefferson St\, Oley\, PA\, 19547\, United States
CATEGORIES:Family
ORGANIZER;CN="Pastor Fred Bell":MAILTO:pastorfred@ccoley.com
GEO:40.3866624;-75.7846798
X-APPLE-STRUCTURED-LOCATION;VALUE=URI;X-ADDRESS=Oley Fairgrounds 26 Jefferson St Oley PA 19547 United States;X-APPLE-RADIUS=500;X-TITLE=26 Jefferson St:geo:-75.7846798,40.3866624
END:VEVENT
BEGIN:VEVENT
DTSTART;TZID=America/New_York:20240929T113000
DTEND;TZID=America/New_York:20240929T130000
DTSTAMP:20260423T022743
CREATED:20181002T152826Z
LAST-MODIFIED:20260329T184055Z
UID:10000376-1727609400-1727614800@ccoley.com
SUMMARY:Sunday Fellowship
DESCRIPTION:Enjoy fellowship after the service.
URL:https://ccoley.com/event/sunday-fellowship-2020-06-07/2024-09-29/
LOCATION:Oley Fairgrounds\, 26 Jefferson St\, Oley\, PA\, 19547\, United States
CATEGORIES:Family
ORGANIZER;CN="Pastor Fred Bell":MAILTO:pastorfred@ccoley.com
GEO:40.3866624;-75.7846798
X-APPLE-STRUCTURED-LOCATION;VALUE=URI;X-ADDRESS=Oley Fairgrounds 26 Jefferson St Oley PA 19547 United States;X-APPLE-RADIUS=500;X-TITLE=26 Jefferson St:geo:-75.7846798,40.3866624
END:VEVENT
BEGIN:VEVENT
DTSTART;TZID=America/New_York:20240922T123000
DTEND;TZID=America/New_York:20240922T133000
DTSTAMP:20260423T022743
CREATED:20240908T183530Z
LAST-MODIFIED:20240908T183530Z
UID:10004250-1727008200-1727011800@ccoley.com
SUMMARY:Sunday Fellowship
DESCRIPTION:Enjoy fellowship after the service.
URL:https://ccoley.com/event/sunday-fellowship-13/
LOCATION:Camp Manatawny\, 33 Camp Rd\, Douglasville\, PA\, 19518\, United States
CATEGORIES:Family
ORGANIZER;CN="Pastor Fred Bell":MAILTO:pastorfred@ccoley.com
GEO:40.3236028;-75.7358234
X-APPLE-STRUCTURED-LOCATION;VALUE=URI;X-ADDRESS=Camp Manatawny 33 Camp Rd Douglasville PA 19518 United States;X-APPLE-RADIUS=500;X-TITLE=33 Camp Rd:geo:-75.7358234,40.3236028
END:VEVENT
BEGIN:VEVENT
DTSTART;TZID=America/New_York:20240915T123000
DTEND;TZID=America/New_York:20240915T133000
DTSTAMP:20260423T022743
CREATED:20240908T183510Z
LAST-MODIFIED:20240908T183510Z
UID:10004249-1726403400-1726407000@ccoley.com
SUMMARY:Sunday Fellowship
DESCRIPTION:Enjoy fellowship after the service.
URL:https://ccoley.com/event/sunday-fellowship-12/
LOCATION:Camp Manatawny\, 33 Camp Rd\, Douglasville\, PA\, 19518\, United States
CATEGORIES:Family
ORGANIZER;CN="Pastor Fred Bell":MAILTO:pastorfred@ccoley.com
GEO:40.3236028;-75.7358234
X-APPLE-STRUCTURED-LOCATION;VALUE=URI;X-ADDRESS=Camp Manatawny 33 Camp Rd Douglasville PA 19518 United States;X-APPLE-RADIUS=500;X-TITLE=33 Camp Rd:geo:-75.7358234,40.3236028
END:VEVENT
BEGIN:VEVENT
DTSTART;TZID=America/New_York:20240908T113000
DTEND;TZID=America/New_York:20240908T130000
DTSTAMP:20260423T022743
CREATED:20181002T152826Z
LAST-MODIFIED:20260329T184055Z
UID:10000373-1725795000-1725800400@ccoley.com
SUMMARY:Sunday Fellowship
DESCRIPTION:Enjoy fellowship after the service.
URL:https://ccoley.com/event/sunday-fellowship-2020-06-07/2024-09-08/
LOCATION:Oley Fairgrounds\, 26 Jefferson St\, Oley\, PA\, 19547\, United States
CATEGORIES:Family
ORGANIZER;CN="Pastor Fred Bell":MAILTO:pastorfred@ccoley.com
GEO:40.3866624;-75.7846798
X-APPLE-STRUCTURED-LOCATION;VALUE=URI;X-ADDRESS=Oley Fairgrounds 26 Jefferson St Oley PA 19547 United States;X-APPLE-RADIUS=500;X-TITLE=26 Jefferson St:geo:-75.7846798,40.3866624
END:VEVENT
BEGIN:VEVENT
DTSTART;TZID=America/New_York:20240901T113000
DTEND;TZID=America/New_York:20240901T130000
DTSTAMP:20260423T022743
CREATED:20181002T152826Z
LAST-MODIFIED:20260329T184055Z
UID:10000372-1725190200-1725195600@ccoley.com
SUMMARY:Sunday Fellowship
DESCRIPTION:Enjoy fellowship after the service.
URL:https://ccoley.com/event/sunday-fellowship-2020-06-07/2024-09-01/
LOCATION:Oley Fairgrounds\, 26 Jefferson St\, Oley\, PA\, 19547\, United States
CATEGORIES:Family
ORGANIZER;CN="Pastor Fred Bell":MAILTO:pastorfred@ccoley.com
GEO:40.3866624;-75.7846798
X-APPLE-STRUCTURED-LOCATION;VALUE=URI;X-ADDRESS=Oley Fairgrounds 26 Jefferson St Oley PA 19547 United States;X-APPLE-RADIUS=500;X-TITLE=26 Jefferson St:geo:-75.7846798,40.3866624
END:VEVENT
BEGIN:VEVENT
DTSTART;TZID=America/New_York:20240825T123000
DTEND;TZID=America/New_York:20240825T133000
DTSTAMP:20260423T022743
CREATED:20240804T175329Z
LAST-MODIFIED:20240804T175329Z
UID:10004227-1724589000-1724592600@ccoley.com
SUMMARY:Sunday Fellowship
DESCRIPTION:Enjoy fellowship after the service.
URL:https://ccoley.com/event/sunday-fellowship-11/
LOCATION:Camp Manatawny\, 33 Camp Rd\, Douglasville\, PA\, 19518\, United States
CATEGORIES:Family
ORGANIZER;CN="Pastor Fred Bell":MAILTO:pastorfred@ccoley.com
GEO:40.3236028;-75.7358234
X-APPLE-STRUCTURED-LOCATION;VALUE=URI;X-ADDRESS=Camp Manatawny 33 Camp Rd Douglasville PA 19518 United States;X-APPLE-RADIUS=500;X-TITLE=33 Camp Rd:geo:-75.7358234,40.3236028
END:VEVENT
BEGIN:VEVENT
DTSTART;TZID=America/New_York:20240818T113000
DTEND;TZID=America/New_York:20240818T130000
DTSTAMP:20260423T022743
CREATED:20181002T152826Z
LAST-MODIFIED:20260329T184055Z
UID:10000370-1723980600-1723986000@ccoley.com
SUMMARY:Sunday Fellowship
DESCRIPTION:Enjoy fellowship after the service.
URL:https://ccoley.com/event/sunday-fellowship-2020-06-07/2024-08-18/
LOCATION:Oley Fairgrounds\, 26 Jefferson St\, Oley\, PA\, 19547\, United States
CATEGORIES:Family
ORGANIZER;CN="Pastor Fred Bell":MAILTO:pastorfred@ccoley.com
GEO:40.3866624;-75.7846798
X-APPLE-STRUCTURED-LOCATION;VALUE=URI;X-ADDRESS=Oley Fairgrounds 26 Jefferson St Oley PA 19547 United States;X-APPLE-RADIUS=500;X-TITLE=26 Jefferson St:geo:-75.7846798,40.3866624
END:VEVENT
BEGIN:VEVENT
DTSTART;TZID=America/New_York:20240811T113000
DTEND;TZID=America/New_York:20240811T130000
DTSTAMP:20260423T022743
CREATED:20181002T152826Z
LAST-MODIFIED:20260329T184055Z
UID:10000369-1723375800-1723381200@ccoley.com
SUMMARY:Sunday Fellowship
DESCRIPTION:Enjoy fellowship after the service.
URL:https://ccoley.com/event/sunday-fellowship-2020-06-07/2024-08-11/
LOCATION:Oley Fairgrounds\, 26 Jefferson St\, Oley\, PA\, 19547\, United States
CATEGORIES:Family
ORGANIZER;CN="Pastor Fred Bell":MAILTO:pastorfred@ccoley.com
GEO:40.3866624;-75.7846798
X-APPLE-STRUCTURED-LOCATION;VALUE=URI;X-ADDRESS=Oley Fairgrounds 26 Jefferson St Oley PA 19547 United States;X-APPLE-RADIUS=500;X-TITLE=26 Jefferson St:geo:-75.7846798,40.3866624
END:VEVENT
BEGIN:VEVENT
DTSTART;TZID=America/New_York:20240804T113000
DTEND;TZID=America/New_York:20240804T130000
DTSTAMP:20260423T022743
CREATED:20181002T152826Z
LAST-MODIFIED:20260329T184055Z
UID:10000368-1722771000-1722776400@ccoley.com
SUMMARY:Sunday Fellowship
DESCRIPTION:Enjoy fellowship after the service.
URL:https://ccoley.com/event/sunday-fellowship-2020-06-07/2024-08-04/
LOCATION:Oley Fairgrounds\, 26 Jefferson St\, Oley\, PA\, 19547\, United States
CATEGORIES:Family
ORGANIZER;CN="Pastor Fred Bell":MAILTO:pastorfred@ccoley.com
GEO:40.3866624;-75.7846798
X-APPLE-STRUCTURED-LOCATION;VALUE=URI;X-ADDRESS=Oley Fairgrounds 26 Jefferson St Oley PA 19547 United States;X-APPLE-RADIUS=500;X-TITLE=26 Jefferson St:geo:-75.7846798,40.3866624
END:VEVENT
BEGIN:VEVENT
DTSTART;TZID=America/New_York:20240728T113000
DTEND;TZID=America/New_York:20240728T130000
DTSTAMP:20260423T022743
CREATED:20181002T152826Z
LAST-MODIFIED:20260329T184055Z
UID:10000367-1722166200-1722171600@ccoley.com
SUMMARY:Sunday Fellowship
DESCRIPTION:Enjoy fellowship after the service.
URL:https://ccoley.com/event/sunday-fellowship-2020-06-07/2024-07-28/
LOCATION:Oley Fairgrounds\, 26 Jefferson St\, Oley\, PA\, 19547\, United States
CATEGORIES:Family
ORGANIZER;CN="Pastor Fred Bell":MAILTO:pastorfred@ccoley.com
GEO:40.3866624;-75.7846798
X-APPLE-STRUCTURED-LOCATION;VALUE=URI;X-ADDRESS=Oley Fairgrounds 26 Jefferson St Oley PA 19547 United States;X-APPLE-RADIUS=500;X-TITLE=26 Jefferson St:geo:-75.7846798,40.3866624
END:VEVENT
BEGIN:VEVENT
DTSTART;TZID=America/New_York:20240721T113000
DTEND;TZID=America/New_York:20240721T130000
DTSTAMP:20260423T022743
CREATED:20181002T152826Z
LAST-MODIFIED:20260329T184055Z
UID:10000366-1721561400-1721566800@ccoley.com
SUMMARY:Sunday Fellowship
DESCRIPTION:Enjoy fellowship after the service.
URL:https://ccoley.com/event/sunday-fellowship-2020-06-07/2024-07-21/
LOCATION:Oley Fairgrounds\, 26 Jefferson St\, Oley\, PA\, 19547\, United States
CATEGORIES:Family
ORGANIZER;CN="Pastor Fred Bell":MAILTO:pastorfred@ccoley.com
GEO:40.3866624;-75.7846798
X-APPLE-STRUCTURED-LOCATION;VALUE=URI;X-ADDRESS=Oley Fairgrounds 26 Jefferson St Oley PA 19547 United States;X-APPLE-RADIUS=500;X-TITLE=26 Jefferson St:geo:-75.7846798,40.3866624
END:VEVENT
BEGIN:VEVENT
DTSTART;TZID=America/New_York:20240714T113000
DTEND;TZID=America/New_York:20240714T130000
DTSTAMP:20260423T022743
CREATED:20181002T152826Z
LAST-MODIFIED:20260329T184055Z
UID:10000365-1720956600-1720962000@ccoley.com
SUMMARY:Sunday Fellowship
DESCRIPTION:Enjoy fellowship after the service.
URL:https://ccoley.com/event/sunday-fellowship-2020-06-07/2024-07-14/
LOCATION:Oley Fairgrounds\, 26 Jefferson St\, Oley\, PA\, 19547\, United States
CATEGORIES:Family
ORGANIZER;CN="Pastor Fred Bell":MAILTO:pastorfred@ccoley.com
GEO:40.3866624;-75.7846798
X-APPLE-STRUCTURED-LOCATION;VALUE=URI;X-ADDRESS=Oley Fairgrounds 26 Jefferson St Oley PA 19547 United States;X-APPLE-RADIUS=500;X-TITLE=26 Jefferson St:geo:-75.7846798,40.3866624
END:VEVENT
END:VCALENDAR