BEGIN:VCALENDAR
VERSION:2.0
PRODID:-//Calvary Chapel of the Oley Valley - ECPv6.15.20//NONSGML v1.0//EN
CALSCALE:GREGORIAN
METHOD:PUBLISH
X-WR-CALNAME:Calvary Chapel of the Oley Valley
X-ORIGINAL-URL:https://ccoley.com
X-WR-CALDESC:Events for Calvary Chapel of the Oley Valley
REFRESH-INTERVAL;VALUE=DURATION:PT1H
X-Robots-Tag:noindex
X-PUBLISHED-TTL:PT1H
BEGIN:VTIMEZONE
TZID:America/New_York
BEGIN:DAYLIGHT
TZOFFSETFROM:-0500
TZOFFSETTO:-0400
TZNAME:EDT
DTSTART:20280312T070000
END:DAYLIGHT
BEGIN:STANDARD
TZOFFSETFROM:-0400
TZOFFSETTO:-0500
TZNAME:EST
DTSTART:20281105T060000
END:STANDARD
BEGIN:DAYLIGHT
TZOFFSETFROM:-0500
TZOFFSETTO:-0400
TZNAME:EDT
DTSTART:20290311T070000
END:DAYLIGHT
BEGIN:STANDARD
TZOFFSETFROM:-0400
TZOFFSETTO:-0500
TZNAME:EST
DTSTART:20291104T060000
END:STANDARD
BEGIN:DAYLIGHT
TZOFFSETFROM:-0500
TZOFFSETTO:-0400
TZNAME:EDT
DTSTART:20300310T070000
END:DAYLIGHT
BEGIN:STANDARD
TZOFFSETFROM:-0400
TZOFFSETTO:-0500
TZNAME:EST
DTSTART:20301103T060000
END:STANDARD
BEGIN:DAYLIGHT
TZOFFSETFROM:-0500
TZOFFSETTO:-0400
TZNAME:EDT
DTSTART:20310309T070000
END:DAYLIGHT
BEGIN:STANDARD
TZOFFSETFROM:-0400
TZOFFSETTO:-0500
TZNAME:EST
DTSTART:20311102T060000
END:STANDARD
END:VTIMEZONE
BEGIN:VEVENT
DTSTART;TZID=America/New_York:20291209T113000
DTEND;TZID=America/New_York:20291209T130000
DTSTAMP:20260424T021455
CREATED:20181002T152826Z
LAST-MODIFIED:20260329T184055Z
UID:10005041-1891510200-1891515600@ccoley.com
SUMMARY:Sunday Fellowship
DESCRIPTION:Enjoy fellowship after the service.
URL:https://ccoley.com/event/sunday-fellowship-2020-06-07/2029-12-09/
LOCATION:Oley Fairgrounds\, 26 Jefferson St\, Oley\, PA\, 19547\, United States
CATEGORIES:Family
ORGANIZER;CN="Pastor Fred Bell":MAILTO:pastorfred@ccoley.com
GEO:40.3866624;-75.7846798
X-APPLE-STRUCTURED-LOCATION;VALUE=URI;X-ADDRESS=Oley Fairgrounds 26 Jefferson St Oley PA 19547 United States;X-APPLE-RADIUS=500;X-TITLE=26 Jefferson St:geo:-75.7846798,40.3866624
END:VEVENT
BEGIN:VEVENT
DTSTART;TZID=America/New_York:20291216T113000
DTEND;TZID=America/New_York:20291216T130000
DTSTAMP:20260424T021455
CREATED:20181002T152826Z
LAST-MODIFIED:20260329T184055Z
UID:10005042-1892115000-1892120400@ccoley.com
SUMMARY:Sunday Fellowship
DESCRIPTION:Enjoy fellowship after the service.
URL:https://ccoley.com/event/sunday-fellowship-2020-06-07/2029-12-16/
LOCATION:Oley Fairgrounds\, 26 Jefferson St\, Oley\, PA\, 19547\, United States
CATEGORIES:Family
ORGANIZER;CN="Pastor Fred Bell":MAILTO:pastorfred@ccoley.com
GEO:40.3866624;-75.7846798
X-APPLE-STRUCTURED-LOCATION;VALUE=URI;X-ADDRESS=Oley Fairgrounds 26 Jefferson St Oley PA 19547 United States;X-APPLE-RADIUS=500;X-TITLE=26 Jefferson St:geo:-75.7846798,40.3866624
END:VEVENT
BEGIN:VEVENT
DTSTART;TZID=America/New_York:20291223T113000
DTEND;TZID=America/New_York:20291223T130000
DTSTAMP:20260424T021455
CREATED:20181002T152826Z
LAST-MODIFIED:20260329T184055Z
UID:10005043-1892719800-1892725200@ccoley.com
SUMMARY:Sunday Fellowship
DESCRIPTION:Enjoy fellowship after the service.
URL:https://ccoley.com/event/sunday-fellowship-2020-06-07/2029-12-23/
LOCATION:Oley Fairgrounds\, 26 Jefferson St\, Oley\, PA\, 19547\, United States
CATEGORIES:Family
ORGANIZER;CN="Pastor Fred Bell":MAILTO:pastorfred@ccoley.com
GEO:40.3866624;-75.7846798
X-APPLE-STRUCTURED-LOCATION;VALUE=URI;X-ADDRESS=Oley Fairgrounds 26 Jefferson St Oley PA 19547 United States;X-APPLE-RADIUS=500;X-TITLE=26 Jefferson St:geo:-75.7846798,40.3866624
END:VEVENT
BEGIN:VEVENT
DTSTART;TZID=America/New_York:20291230T113000
DTEND;TZID=America/New_York:20291230T130000
DTSTAMP:20260424T021455
CREATED:20181002T152826Z
LAST-MODIFIED:20260329T184055Z
UID:10005044-1893324600-1893330000@ccoley.com
SUMMARY:Sunday Fellowship
DESCRIPTION:Enjoy fellowship after the service.
URL:https://ccoley.com/event/sunday-fellowship-2020-06-07/2029-12-30/
LOCATION:Oley Fairgrounds\, 26 Jefferson St\, Oley\, PA\, 19547\, United States
CATEGORIES:Family
ORGANIZER;CN="Pastor Fred Bell":MAILTO:pastorfred@ccoley.com
GEO:40.3866624;-75.7846798
X-APPLE-STRUCTURED-LOCATION;VALUE=URI;X-ADDRESS=Oley Fairgrounds 26 Jefferson St Oley PA 19547 United States;X-APPLE-RADIUS=500;X-TITLE=26 Jefferson St:geo:-75.7846798,40.3866624
END:VEVENT
BEGIN:VEVENT
DTSTART;TZID=America/New_York:20300106T113000
DTEND;TZID=America/New_York:20300106T130000
DTSTAMP:20260424T021455
CREATED:20181002T152826Z
LAST-MODIFIED:20260329T184055Z
UID:10005045-1893929400-1893934800@ccoley.com
SUMMARY:Sunday Fellowship
DESCRIPTION:Enjoy fellowship after the service.
URL:https://ccoley.com/event/sunday-fellowship-2020-06-07/2030-01-06/
LOCATION:Oley Fairgrounds\, 26 Jefferson St\, Oley\, PA\, 19547\, United States
CATEGORIES:Family
ORGANIZER;CN="Pastor Fred Bell":MAILTO:pastorfred@ccoley.com
GEO:40.3866624;-75.7846798
X-APPLE-STRUCTURED-LOCATION;VALUE=URI;X-ADDRESS=Oley Fairgrounds 26 Jefferson St Oley PA 19547 United States;X-APPLE-RADIUS=500;X-TITLE=26 Jefferson St:geo:-75.7846798,40.3866624
END:VEVENT
BEGIN:VEVENT
DTSTART;TZID=America/New_York:20300113T113000
DTEND;TZID=America/New_York:20300113T130000
DTSTAMP:20260424T021455
CREATED:20181002T152826Z
LAST-MODIFIED:20260329T184055Z
UID:10005046-1894534200-1894539600@ccoley.com
SUMMARY:Sunday Fellowship
DESCRIPTION:Enjoy fellowship after the service.
URL:https://ccoley.com/event/sunday-fellowship-2020-06-07/2030-01-13/
LOCATION:Oley Fairgrounds\, 26 Jefferson St\, Oley\, PA\, 19547\, United States
CATEGORIES:Family
ORGANIZER;CN="Pastor Fred Bell":MAILTO:pastorfred@ccoley.com
GEO:40.3866624;-75.7846798
X-APPLE-STRUCTURED-LOCATION;VALUE=URI;X-ADDRESS=Oley Fairgrounds 26 Jefferson St Oley PA 19547 United States;X-APPLE-RADIUS=500;X-TITLE=26 Jefferson St:geo:-75.7846798,40.3866624
END:VEVENT
BEGIN:VEVENT
DTSTART;TZID=America/New_York:20300120T113000
DTEND;TZID=America/New_York:20300120T130000
DTSTAMP:20260424T021455
CREATED:20181002T152826Z
LAST-MODIFIED:20260329T184055Z
UID:10005047-1895139000-1895144400@ccoley.com
SUMMARY:Sunday Fellowship
DESCRIPTION:Enjoy fellowship after the service.
URL:https://ccoley.com/event/sunday-fellowship-2020-06-07/2030-01-20/
LOCATION:Oley Fairgrounds\, 26 Jefferson St\, Oley\, PA\, 19547\, United States
CATEGORIES:Family
ORGANIZER;CN="Pastor Fred Bell":MAILTO:pastorfred@ccoley.com
GEO:40.3866624;-75.7846798
X-APPLE-STRUCTURED-LOCATION;VALUE=URI;X-ADDRESS=Oley Fairgrounds 26 Jefferson St Oley PA 19547 United States;X-APPLE-RADIUS=500;X-TITLE=26 Jefferson St:geo:-75.7846798,40.3866624
END:VEVENT
BEGIN:VEVENT
DTSTART;TZID=America/New_York:20300127T113000
DTEND;TZID=America/New_York:20300127T130000
DTSTAMP:20260424T021455
CREATED:20181002T152826Z
LAST-MODIFIED:20260329T184055Z
UID:10005048-1895743800-1895749200@ccoley.com
SUMMARY:Sunday Fellowship
DESCRIPTION:Enjoy fellowship after the service.
URL:https://ccoley.com/event/sunday-fellowship-2020-06-07/2030-01-27/
LOCATION:Oley Fairgrounds\, 26 Jefferson St\, Oley\, PA\, 19547\, United States
CATEGORIES:Family
ORGANIZER;CN="Pastor Fred Bell":MAILTO:pastorfred@ccoley.com
GEO:40.3866624;-75.7846798
X-APPLE-STRUCTURED-LOCATION;VALUE=URI;X-ADDRESS=Oley Fairgrounds 26 Jefferson St Oley PA 19547 United States;X-APPLE-RADIUS=500;X-TITLE=26 Jefferson St:geo:-75.7846798,40.3866624
END:VEVENT
BEGIN:VEVENT
DTSTART;TZID=America/New_York:20300203T113000
DTEND;TZID=America/New_York:20300203T130000
DTSTAMP:20260424T021455
CREATED:20181002T152826Z
LAST-MODIFIED:20260329T184055Z
UID:10005049-1896348600-1896354000@ccoley.com
SUMMARY:Sunday Fellowship
DESCRIPTION:Enjoy fellowship after the service.
URL:https://ccoley.com/event/sunday-fellowship-2020-06-07/2030-02-03/
LOCATION:Oley Fairgrounds\, 26 Jefferson St\, Oley\, PA\, 19547\, United States
CATEGORIES:Family
ORGANIZER;CN="Pastor Fred Bell":MAILTO:pastorfred@ccoley.com
GEO:40.3866624;-75.7846798
X-APPLE-STRUCTURED-LOCATION;VALUE=URI;X-ADDRESS=Oley Fairgrounds 26 Jefferson St Oley PA 19547 United States;X-APPLE-RADIUS=500;X-TITLE=26 Jefferson St:geo:-75.7846798,40.3866624
END:VEVENT
BEGIN:VEVENT
DTSTART;TZID=America/New_York:20300210T113000
DTEND;TZID=America/New_York:20300210T130000
DTSTAMP:20260424T021455
CREATED:20181002T152826Z
LAST-MODIFIED:20260329T184055Z
UID:10005050-1896953400-1896958800@ccoley.com
SUMMARY:Sunday Fellowship
DESCRIPTION:Enjoy fellowship after the service.
URL:https://ccoley.com/event/sunday-fellowship-2020-06-07/2030-02-10/
LOCATION:Oley Fairgrounds\, 26 Jefferson St\, Oley\, PA\, 19547\, United States
CATEGORIES:Family
ORGANIZER;CN="Pastor Fred Bell":MAILTO:pastorfred@ccoley.com
GEO:40.3866624;-75.7846798
X-APPLE-STRUCTURED-LOCATION;VALUE=URI;X-ADDRESS=Oley Fairgrounds 26 Jefferson St Oley PA 19547 United States;X-APPLE-RADIUS=500;X-TITLE=26 Jefferson St:geo:-75.7846798,40.3866624
END:VEVENT
BEGIN:VEVENT
DTSTART;TZID=America/New_York:20300217T113000
DTEND;TZID=America/New_York:20300217T130000
DTSTAMP:20260424T021455
CREATED:20181002T152826Z
LAST-MODIFIED:20260329T184055Z
UID:10005051-1897558200-1897563600@ccoley.com
SUMMARY:Sunday Fellowship
DESCRIPTION:Enjoy fellowship after the service.
URL:https://ccoley.com/event/sunday-fellowship-2020-06-07/2030-02-17/
LOCATION:Oley Fairgrounds\, 26 Jefferson St\, Oley\, PA\, 19547\, United States
CATEGORIES:Family
ORGANIZER;CN="Pastor Fred Bell":MAILTO:pastorfred@ccoley.com
GEO:40.3866624;-75.7846798
X-APPLE-STRUCTURED-LOCATION;VALUE=URI;X-ADDRESS=Oley Fairgrounds 26 Jefferson St Oley PA 19547 United States;X-APPLE-RADIUS=500;X-TITLE=26 Jefferson St:geo:-75.7846798,40.3866624
END:VEVENT
BEGIN:VEVENT
DTSTART;TZID=America/New_York:20300224T113000
DTEND;TZID=America/New_York:20300224T130000
DTSTAMP:20260424T021455
CREATED:20181002T152826Z
LAST-MODIFIED:20260329T184055Z
UID:10005052-1898163000-1898168400@ccoley.com
SUMMARY:Sunday Fellowship
DESCRIPTION:Enjoy fellowship after the service.
URL:https://ccoley.com/event/sunday-fellowship-2020-06-07/2030-02-24/
LOCATION:Oley Fairgrounds\, 26 Jefferson St\, Oley\, PA\, 19547\, United States
CATEGORIES:Family
ORGANIZER;CN="Pastor Fred Bell":MAILTO:pastorfred@ccoley.com
GEO:40.3866624;-75.7846798
X-APPLE-STRUCTURED-LOCATION;VALUE=URI;X-ADDRESS=Oley Fairgrounds 26 Jefferson St Oley PA 19547 United States;X-APPLE-RADIUS=500;X-TITLE=26 Jefferson St:geo:-75.7846798,40.3866624
END:VEVENT
BEGIN:VEVENT
DTSTART;TZID=America/New_York:20300303T113000
DTEND;TZID=America/New_York:20300303T130000
DTSTAMP:20260424T021455
CREATED:20181002T152826Z
LAST-MODIFIED:20260329T184055Z
UID:10005095-1898767800-1898773200@ccoley.com
SUMMARY:Sunday Fellowship
DESCRIPTION:Enjoy fellowship after the service.
URL:https://ccoley.com/event/sunday-fellowship-2020-06-07/2030-03-03/
LOCATION:Oley Fairgrounds\, 26 Jefferson St\, Oley\, PA\, 19547\, United States
CATEGORIES:Family
ORGANIZER;CN="Pastor Fred Bell":MAILTO:pastorfred@ccoley.com
GEO:40.3866624;-75.7846798
X-APPLE-STRUCTURED-LOCATION;VALUE=URI;X-ADDRESS=Oley Fairgrounds 26 Jefferson St Oley PA 19547 United States;X-APPLE-RADIUS=500;X-TITLE=26 Jefferson St:geo:-75.7846798,40.3866624
END:VEVENT
BEGIN:VEVENT
DTSTART;TZID=America/New_York:20300310T113000
DTEND;TZID=America/New_York:20300310T130000
DTSTAMP:20260424T021455
CREATED:20181002T152826Z
LAST-MODIFIED:20260329T184055Z
UID:10005096-1899372600-1899378000@ccoley.com
SUMMARY:Sunday Fellowship
DESCRIPTION:Enjoy fellowship after the service.
URL:https://ccoley.com/event/sunday-fellowship-2020-06-07/2030-03-10/
LOCATION:Oley Fairgrounds\, 26 Jefferson St\, Oley\, PA\, 19547\, United States
CATEGORIES:Family
ORGANIZER;CN="Pastor Fred Bell":MAILTO:pastorfred@ccoley.com
GEO:40.3866624;-75.7846798
X-APPLE-STRUCTURED-LOCATION;VALUE=URI;X-ADDRESS=Oley Fairgrounds 26 Jefferson St Oley PA 19547 United States;X-APPLE-RADIUS=500;X-TITLE=26 Jefferson St:geo:-75.7846798,40.3866624
END:VEVENT
BEGIN:VEVENT
DTSTART;TZID=America/New_York:20300317T113000
DTEND;TZID=America/New_York:20300317T130000
DTSTAMP:20260424T021455
CREATED:20181002T152826Z
LAST-MODIFIED:20260329T184055Z
UID:10005097-1899977400-1899982800@ccoley.com
SUMMARY:Sunday Fellowship
DESCRIPTION:Enjoy fellowship after the service.
URL:https://ccoley.com/event/sunday-fellowship-2020-06-07/2030-03-17/
LOCATION:Oley Fairgrounds\, 26 Jefferson St\, Oley\, PA\, 19547\, United States
CATEGORIES:Family
ORGANIZER;CN="Pastor Fred Bell":MAILTO:pastorfred@ccoley.com
GEO:40.3866624;-75.7846798
X-APPLE-STRUCTURED-LOCATION;VALUE=URI;X-ADDRESS=Oley Fairgrounds 26 Jefferson St Oley PA 19547 United States;X-APPLE-RADIUS=500;X-TITLE=26 Jefferson St:geo:-75.7846798,40.3866624
END:VEVENT
BEGIN:VEVENT
DTSTART;TZID=America/New_York:20300324T113000
DTEND;TZID=America/New_York:20300324T130000
DTSTAMP:20260424T021455
CREATED:20181002T152826Z
LAST-MODIFIED:20260329T184055Z
UID:10005098-1900582200-1900587600@ccoley.com
SUMMARY:Sunday Fellowship
DESCRIPTION:Enjoy fellowship after the service.
URL:https://ccoley.com/event/sunday-fellowship-2020-06-07/2030-03-24/
LOCATION:Oley Fairgrounds\, 26 Jefferson St\, Oley\, PA\, 19547\, United States
CATEGORIES:Family
ORGANIZER;CN="Pastor Fred Bell":MAILTO:pastorfred@ccoley.com
GEO:40.3866624;-75.7846798
X-APPLE-STRUCTURED-LOCATION;VALUE=URI;X-ADDRESS=Oley Fairgrounds 26 Jefferson St Oley PA 19547 United States;X-APPLE-RADIUS=500;X-TITLE=26 Jefferson St:geo:-75.7846798,40.3866624
END:VEVENT
BEGIN:VEVENT
DTSTART;TZID=America/New_York:20300331T113000
DTEND;TZID=America/New_York:20300331T130000
DTSTAMP:20260424T021455
CREATED:20181002T152826Z
LAST-MODIFIED:20260329T184055Z
UID:10005099-1901187000-1901192400@ccoley.com
SUMMARY:Sunday Fellowship
DESCRIPTION:Enjoy fellowship after the service.
URL:https://ccoley.com/event/sunday-fellowship-2020-06-07/2030-03-31/
LOCATION:Oley Fairgrounds\, 26 Jefferson St\, Oley\, PA\, 19547\, United States
CATEGORIES:Family
ORGANIZER;CN="Pastor Fred Bell":MAILTO:pastorfred@ccoley.com
GEO:40.3866624;-75.7846798
X-APPLE-STRUCTURED-LOCATION;VALUE=URI;X-ADDRESS=Oley Fairgrounds 26 Jefferson St Oley PA 19547 United States;X-APPLE-RADIUS=500;X-TITLE=26 Jefferson St:geo:-75.7846798,40.3866624
END:VEVENT
BEGIN:VEVENT
DTSTART;TZID=America/New_York:20300407T113000
DTEND;TZID=America/New_York:20300407T130000
DTSTAMP:20260424T021455
CREATED:20181002T152826Z
LAST-MODIFIED:20260329T184055Z
UID:10005100-1901791800-1901797200@ccoley.com
SUMMARY:Sunday Fellowship
DESCRIPTION:Enjoy fellowship after the service.
URL:https://ccoley.com/event/sunday-fellowship-2020-06-07/2030-04-07/
LOCATION:Oley Fairgrounds\, 26 Jefferson St\, Oley\, PA\, 19547\, United States
CATEGORIES:Family
ORGANIZER;CN="Pastor Fred Bell":MAILTO:pastorfred@ccoley.com
GEO:40.3866624;-75.7846798
X-APPLE-STRUCTURED-LOCATION;VALUE=URI;X-ADDRESS=Oley Fairgrounds 26 Jefferson St Oley PA 19547 United States;X-APPLE-RADIUS=500;X-TITLE=26 Jefferson St:geo:-75.7846798,40.3866624
END:VEVENT
BEGIN:VEVENT
DTSTART;TZID=America/New_York:20300414T113000
DTEND;TZID=America/New_York:20300414T130000
DTSTAMP:20260424T021455
CREATED:20181002T152826Z
LAST-MODIFIED:20260329T184055Z
UID:10005101-1902396600-1902402000@ccoley.com
SUMMARY:Sunday Fellowship
DESCRIPTION:Enjoy fellowship after the service.
URL:https://ccoley.com/event/sunday-fellowship-2020-06-07/2030-04-14/
LOCATION:Oley Fairgrounds\, 26 Jefferson St\, Oley\, PA\, 19547\, United States
CATEGORIES:Family
ORGANIZER;CN="Pastor Fred Bell":MAILTO:pastorfred@ccoley.com
GEO:40.3866624;-75.7846798
X-APPLE-STRUCTURED-LOCATION;VALUE=URI;X-ADDRESS=Oley Fairgrounds 26 Jefferson St Oley PA 19547 United States;X-APPLE-RADIUS=500;X-TITLE=26 Jefferson St:geo:-75.7846798,40.3866624
END:VEVENT
BEGIN:VEVENT
DTSTART;TZID=America/New_York:20300421T113000
DTEND;TZID=America/New_York:20300421T130000
DTSTAMP:20260424T021455
CREATED:20181002T152826Z
LAST-MODIFIED:20260329T184055Z
UID:10005102-1903001400-1903006800@ccoley.com
SUMMARY:Sunday Fellowship
DESCRIPTION:Enjoy fellowship after the service.
URL:https://ccoley.com/event/sunday-fellowship-2020-06-07/2030-04-21/
LOCATION:Oley Fairgrounds\, 26 Jefferson St\, Oley\, PA\, 19547\, United States
CATEGORIES:Family
ORGANIZER;CN="Pastor Fred Bell":MAILTO:pastorfred@ccoley.com
GEO:40.3866624;-75.7846798
X-APPLE-STRUCTURED-LOCATION;VALUE=URI;X-ADDRESS=Oley Fairgrounds 26 Jefferson St Oley PA 19547 United States;X-APPLE-RADIUS=500;X-TITLE=26 Jefferson St:geo:-75.7846798,40.3866624
END:VEVENT
BEGIN:VEVENT
DTSTART;TZID=America/New_York:20300428T113000
DTEND;TZID=America/New_York:20300428T130000
DTSTAMP:20260424T021455
CREATED:20181002T152826Z
LAST-MODIFIED:20260329T184055Z
UID:10005103-1903606200-1903611600@ccoley.com
SUMMARY:Sunday Fellowship
DESCRIPTION:Enjoy fellowship after the service.
URL:https://ccoley.com/event/sunday-fellowship-2020-06-07/2030-04-28/
LOCATION:Oley Fairgrounds\, 26 Jefferson St\, Oley\, PA\, 19547\, United States
CATEGORIES:Family
ORGANIZER;CN="Pastor Fred Bell":MAILTO:pastorfred@ccoley.com
GEO:40.3866624;-75.7846798
X-APPLE-STRUCTURED-LOCATION;VALUE=URI;X-ADDRESS=Oley Fairgrounds 26 Jefferson St Oley PA 19547 United States;X-APPLE-RADIUS=500;X-TITLE=26 Jefferson St:geo:-75.7846798,40.3866624
END:VEVENT
BEGIN:VEVENT
DTSTART;TZID=America/New_York:20300505T113000
DTEND;TZID=America/New_York:20300505T130000
DTSTAMP:20260424T021455
CREATED:20181002T152826Z
LAST-MODIFIED:20260329T184055Z
UID:10005104-1904211000-1904216400@ccoley.com
SUMMARY:Sunday Fellowship
DESCRIPTION:Enjoy fellowship after the service.
URL:https://ccoley.com/event/sunday-fellowship-2020-06-07/2030-05-05/
LOCATION:Oley Fairgrounds\, 26 Jefferson St\, Oley\, PA\, 19547\, United States
CATEGORIES:Family
ORGANIZER;CN="Pastor Fred Bell":MAILTO:pastorfred@ccoley.com
GEO:40.3866624;-75.7846798
X-APPLE-STRUCTURED-LOCATION;VALUE=URI;X-ADDRESS=Oley Fairgrounds 26 Jefferson St Oley PA 19547 United States;X-APPLE-RADIUS=500;X-TITLE=26 Jefferson St:geo:-75.7846798,40.3866624
END:VEVENT
BEGIN:VEVENT
DTSTART;TZID=America/New_York:20300512T113000
DTEND;TZID=America/New_York:20300512T130000
DTSTAMP:20260424T021455
CREATED:20181002T152826Z
LAST-MODIFIED:20260329T184055Z
UID:10005105-1904815800-1904821200@ccoley.com
SUMMARY:Sunday Fellowship
DESCRIPTION:Enjoy fellowship after the service.
URL:https://ccoley.com/event/sunday-fellowship-2020-06-07/2030-05-12/
LOCATION:Oley Fairgrounds\, 26 Jefferson St\, Oley\, PA\, 19547\, United States
CATEGORIES:Family
ORGANIZER;CN="Pastor Fred Bell":MAILTO:pastorfred@ccoley.com
GEO:40.3866624;-75.7846798
X-APPLE-STRUCTURED-LOCATION;VALUE=URI;X-ADDRESS=Oley Fairgrounds 26 Jefferson St Oley PA 19547 United States;X-APPLE-RADIUS=500;X-TITLE=26 Jefferson St:geo:-75.7846798,40.3866624
END:VEVENT
BEGIN:VEVENT
DTSTART;TZID=America/New_York:20300519T113000
DTEND;TZID=America/New_York:20300519T130000
DTSTAMP:20260424T021455
CREATED:20181002T152826Z
LAST-MODIFIED:20260329T184055Z
UID:10005131-1905420600-1905426000@ccoley.com
SUMMARY:Sunday Fellowship
DESCRIPTION:Enjoy fellowship after the service.
URL:https://ccoley.com/event/sunday-fellowship-2020-06-07/2030-05-19/
LOCATION:Oley Fairgrounds\, 26 Jefferson St\, Oley\, PA\, 19547\, United States
CATEGORIES:Family
ORGANIZER;CN="Pastor Fred Bell":MAILTO:pastorfred@ccoley.com
GEO:40.3866624;-75.7846798
X-APPLE-STRUCTURED-LOCATION;VALUE=URI;X-ADDRESS=Oley Fairgrounds 26 Jefferson St Oley PA 19547 United States;X-APPLE-RADIUS=500;X-TITLE=26 Jefferson St:geo:-75.7846798,40.3866624
END:VEVENT
BEGIN:VEVENT
DTSTART;TZID=America/New_York:20300526T113000
DTEND;TZID=America/New_York:20300526T130000
DTSTAMP:20260424T021455
CREATED:20181002T152826Z
LAST-MODIFIED:20260329T184055Z
UID:10005132-1906025400-1906030800@ccoley.com
SUMMARY:Sunday Fellowship
DESCRIPTION:Enjoy fellowship after the service.
URL:https://ccoley.com/event/sunday-fellowship-2020-06-07/2030-05-26/
LOCATION:Oley Fairgrounds\, 26 Jefferson St\, Oley\, PA\, 19547\, United States
CATEGORIES:Family
ORGANIZER;CN="Pastor Fred Bell":MAILTO:pastorfred@ccoley.com
GEO:40.3866624;-75.7846798
X-APPLE-STRUCTURED-LOCATION;VALUE=URI;X-ADDRESS=Oley Fairgrounds 26 Jefferson St Oley PA 19547 United States;X-APPLE-RADIUS=500;X-TITLE=26 Jefferson St:geo:-75.7846798,40.3866624
END:VEVENT
BEGIN:VEVENT
DTSTART;TZID=America/New_York:20300602T113000
DTEND;TZID=America/New_York:20300602T130000
DTSTAMP:20260424T021455
CREATED:20181002T152826Z
LAST-MODIFIED:20260329T184055Z
UID:10005133-1906630200-1906635600@ccoley.com
SUMMARY:Sunday Fellowship
DESCRIPTION:Enjoy fellowship after the service.
URL:https://ccoley.com/event/sunday-fellowship-2020-06-07/2030-06-02/
LOCATION:Oley Fairgrounds\, 26 Jefferson St\, Oley\, PA\, 19547\, United States
CATEGORIES:Family
ORGANIZER;CN="Pastor Fred Bell":MAILTO:pastorfred@ccoley.com
GEO:40.3866624;-75.7846798
X-APPLE-STRUCTURED-LOCATION;VALUE=URI;X-ADDRESS=Oley Fairgrounds 26 Jefferson St Oley PA 19547 United States;X-APPLE-RADIUS=500;X-TITLE=26 Jefferson St:geo:-75.7846798,40.3866624
END:VEVENT
BEGIN:VEVENT
DTSTART;TZID=America/New_York:20300609T113000
DTEND;TZID=America/New_York:20300609T130000
DTSTAMP:20260424T021455
CREATED:20181002T152826Z
LAST-MODIFIED:20260329T184055Z
UID:10005134-1907235000-1907240400@ccoley.com
SUMMARY:Sunday Fellowship
DESCRIPTION:Enjoy fellowship after the service.
URL:https://ccoley.com/event/sunday-fellowship-2020-06-07/2030-06-09/
LOCATION:Oley Fairgrounds\, 26 Jefferson St\, Oley\, PA\, 19547\, United States
CATEGORIES:Family
ORGANIZER;CN="Pastor Fred Bell":MAILTO:pastorfred@ccoley.com
GEO:40.3866624;-75.7846798
X-APPLE-STRUCTURED-LOCATION;VALUE=URI;X-ADDRESS=Oley Fairgrounds 26 Jefferson St Oley PA 19547 United States;X-APPLE-RADIUS=500;X-TITLE=26 Jefferson St:geo:-75.7846798,40.3866624
END:VEVENT
BEGIN:VEVENT
DTSTART;TZID=America/New_York:20300616T113000
DTEND;TZID=America/New_York:20300616T130000
DTSTAMP:20260424T021455
CREATED:20181002T152826Z
LAST-MODIFIED:20260329T184055Z
UID:10005135-1907839800-1907845200@ccoley.com
SUMMARY:Sunday Fellowship
DESCRIPTION:Enjoy fellowship after the service.
URL:https://ccoley.com/event/sunday-fellowship-2020-06-07/2030-06-16/
LOCATION:Oley Fairgrounds\, 26 Jefferson St\, Oley\, PA\, 19547\, United States
CATEGORIES:Family
ORGANIZER;CN="Pastor Fred Bell":MAILTO:pastorfred@ccoley.com
GEO:40.3866624;-75.7846798
X-APPLE-STRUCTURED-LOCATION;VALUE=URI;X-ADDRESS=Oley Fairgrounds 26 Jefferson St Oley PA 19547 United States;X-APPLE-RADIUS=500;X-TITLE=26 Jefferson St:geo:-75.7846798,40.3866624
END:VEVENT
BEGIN:VEVENT
DTSTART;TZID=America/New_York:20300623T113000
DTEND;TZID=America/New_York:20300623T130000
DTSTAMP:20260424T021455
CREATED:20181002T152826Z
LAST-MODIFIED:20260329T184055Z
UID:10005136-1908444600-1908450000@ccoley.com
SUMMARY:Sunday Fellowship
DESCRIPTION:Enjoy fellowship after the service.
URL:https://ccoley.com/event/sunday-fellowship-2020-06-07/2030-06-23/
LOCATION:Oley Fairgrounds\, 26 Jefferson St\, Oley\, PA\, 19547\, United States
CATEGORIES:Family
ORGANIZER;CN="Pastor Fred Bell":MAILTO:pastorfred@ccoley.com
GEO:40.3866624;-75.7846798
X-APPLE-STRUCTURED-LOCATION;VALUE=URI;X-ADDRESS=Oley Fairgrounds 26 Jefferson St Oley PA 19547 United States;X-APPLE-RADIUS=500;X-TITLE=26 Jefferson St:geo:-75.7846798,40.3866624
END:VEVENT
BEGIN:VEVENT
DTSTART;TZID=America/New_York:20300630T113000
DTEND;TZID=America/New_York:20300630T130000
DTSTAMP:20260424T021455
CREATED:20181002T152826Z
LAST-MODIFIED:20260329T184055Z
UID:10005137-1909049400-1909054800@ccoley.com
SUMMARY:Sunday Fellowship
DESCRIPTION:Enjoy fellowship after the service.
URL:https://ccoley.com/event/sunday-fellowship-2020-06-07/2030-06-30/
LOCATION:Oley Fairgrounds\, 26 Jefferson St\, Oley\, PA\, 19547\, United States
CATEGORIES:Family
ORGANIZER;CN="Pastor Fred Bell":MAILTO:pastorfred@ccoley.com
GEO:40.3866624;-75.7846798
X-APPLE-STRUCTURED-LOCATION;VALUE=URI;X-ADDRESS=Oley Fairgrounds 26 Jefferson St Oley PA 19547 United States;X-APPLE-RADIUS=500;X-TITLE=26 Jefferson St:geo:-75.7846798,40.3866624
END:VEVENT
END:VCALENDAR