BEGIN:VCALENDAR
VERSION:2.0
PRODID:-//Calvary Chapel of the Oley Valley - ECPv6.15.20//NONSGML v1.0//EN
CALSCALE:GREGORIAN
METHOD:PUBLISH
X-ORIGINAL-URL:https://ccoley.com
X-WR-CALDESC:Events for Calvary Chapel of the Oley Valley
REFRESH-INTERVAL;VALUE=DURATION:PT1H
X-Robots-Tag:noindex
X-PUBLISHED-TTL:PT1H
BEGIN:VTIMEZONE
TZID:America/New_York
BEGIN:DAYLIGHT
TZOFFSETFROM:-0500
TZOFFSETTO:-0400
TZNAME:EDT
DTSTART:20170312T070000
END:DAYLIGHT
BEGIN:STANDARD
TZOFFSETFROM:-0400
TZOFFSETTO:-0500
TZNAME:EST
DTSTART:20171105T060000
END:STANDARD
BEGIN:DAYLIGHT
TZOFFSETFROM:-0500
TZOFFSETTO:-0400
TZNAME:EDT
DTSTART:20180311T070000
END:DAYLIGHT
BEGIN:STANDARD
TZOFFSETFROM:-0400
TZOFFSETTO:-0500
TZNAME:EST
DTSTART:20181104T060000
END:STANDARD
BEGIN:DAYLIGHT
TZOFFSETFROM:-0500
TZOFFSETTO:-0400
TZNAME:EDT
DTSTART:20190310T070000
END:DAYLIGHT
BEGIN:STANDARD
TZOFFSETFROM:-0400
TZOFFSETTO:-0500
TZNAME:EST
DTSTART:20191103T060000
END:STANDARD
END:VTIMEZONE
BEGIN:VEVENT
DTSTART;TZID=America/New_York:20180318T113000
DTEND;TZID=America/New_York:20180318T130000
DTSTAMP:20260422T174844
CREATED:20181002T152826Z
LAST-MODIFIED:20220618T232200Z
UID:10000546-1521372600-1521378000@ccoley.com
SUMMARY:Sunday Fellowship
DESCRIPTION:Enjoy fellowship after the service.
URL:https://ccoley.com/event/sunday-fellowship/2018-03-18/
LOCATION:Oley Valley Elementary School\, 3247 Friedensburg Road\, Oley\, PA\, 19547\, United States
CATEGORIES:Family
ORGANIZER;CN="Pastor Fred Bell":MAILTO:pastorfred@ccoley.com
GEO:40.379717;-75.799139
X-APPLE-STRUCTURED-LOCATION;VALUE=URI;X-ADDRESS=Oley Valley Elementary School 3247 Friedensburg Road Oley PA 19547 United States;X-APPLE-RADIUS=500;X-TITLE=3247 Friedensburg Road:geo:-75.799139,40.379717
END:VEVENT
BEGIN:VEVENT
DTSTART;TZID=America/New_York:20180325T113000
DTEND;TZID=America/New_York:20180325T130000
DTSTAMP:20260422T174844
CREATED:20181002T152826Z
LAST-MODIFIED:20220618T232200Z
UID:10000547-1521977400-1521982800@ccoley.com
SUMMARY:Sunday Fellowship
DESCRIPTION:Enjoy fellowship after the service.
URL:https://ccoley.com/event/sunday-fellowship/2018-03-25/
LOCATION:Oley Valley Elementary School\, 3247 Friedensburg Road\, Oley\, PA\, 19547\, United States
CATEGORIES:Family
ORGANIZER;CN="Pastor Fred Bell":MAILTO:pastorfred@ccoley.com
GEO:40.379717;-75.799139
X-APPLE-STRUCTURED-LOCATION;VALUE=URI;X-ADDRESS=Oley Valley Elementary School 3247 Friedensburg Road Oley PA 19547 United States;X-APPLE-RADIUS=500;X-TITLE=3247 Friedensburg Road:geo:-75.799139,40.379717
END:VEVENT
BEGIN:VEVENT
DTSTART;TZID=America/New_York:20180401T113000
DTEND;TZID=America/New_York:20180401T130000
DTSTAMP:20260422T174844
CREATED:20181002T152826Z
LAST-MODIFIED:20220618T232200Z
UID:10000548-1522582200-1522587600@ccoley.com
SUMMARY:Sunday Fellowship
DESCRIPTION:Enjoy fellowship after the service.
URL:https://ccoley.com/event/sunday-fellowship/2018-04-01/
LOCATION:Oley Valley Elementary School\, 3247 Friedensburg Road\, Oley\, PA\, 19547\, United States
CATEGORIES:Family
ORGANIZER;CN="Pastor Fred Bell":MAILTO:pastorfred@ccoley.com
GEO:40.379717;-75.799139
X-APPLE-STRUCTURED-LOCATION;VALUE=URI;X-ADDRESS=Oley Valley Elementary School 3247 Friedensburg Road Oley PA 19547 United States;X-APPLE-RADIUS=500;X-TITLE=3247 Friedensburg Road:geo:-75.799139,40.379717
END:VEVENT
BEGIN:VEVENT
DTSTART;TZID=America/New_York:20180408T113000
DTEND;TZID=America/New_York:20180408T130000
DTSTAMP:20260422T174844
CREATED:20181002T152826Z
LAST-MODIFIED:20220618T232200Z
UID:10000549-1523187000-1523192400@ccoley.com
SUMMARY:Sunday Fellowship
DESCRIPTION:Enjoy fellowship after the service.
URL:https://ccoley.com/event/sunday-fellowship/2018-04-08/
LOCATION:Oley Valley Elementary School\, 3247 Friedensburg Road\, Oley\, PA\, 19547\, United States
CATEGORIES:Family
ORGANIZER;CN="Pastor Fred Bell":MAILTO:pastorfred@ccoley.com
GEO:40.379717;-75.799139
X-APPLE-STRUCTURED-LOCATION;VALUE=URI;X-ADDRESS=Oley Valley Elementary School 3247 Friedensburg Road Oley PA 19547 United States;X-APPLE-RADIUS=500;X-TITLE=3247 Friedensburg Road:geo:-75.799139,40.379717
END:VEVENT
BEGIN:VEVENT
DTSTART;TZID=America/New_York:20180415T113000
DTEND;TZID=America/New_York:20180415T130000
DTSTAMP:20260422T174844
CREATED:20181002T152826Z
LAST-MODIFIED:20220618T232200Z
UID:10000550-1523791800-1523797200@ccoley.com
SUMMARY:Sunday Fellowship
DESCRIPTION:Enjoy fellowship after the service.
URL:https://ccoley.com/event/sunday-fellowship/2018-04-15/
LOCATION:Oley Valley Elementary School\, 3247 Friedensburg Road\, Oley\, PA\, 19547\, United States
CATEGORIES:Family
ORGANIZER;CN="Pastor Fred Bell":MAILTO:pastorfred@ccoley.com
GEO:40.379717;-75.799139
X-APPLE-STRUCTURED-LOCATION;VALUE=URI;X-ADDRESS=Oley Valley Elementary School 3247 Friedensburg Road Oley PA 19547 United States;X-APPLE-RADIUS=500;X-TITLE=3247 Friedensburg Road:geo:-75.799139,40.379717
END:VEVENT
BEGIN:VEVENT
DTSTART;TZID=America/New_York:20180422T113000
DTEND;TZID=America/New_York:20180422T130000
DTSTAMP:20260422T174844
CREATED:20181002T152826Z
LAST-MODIFIED:20220618T232200Z
UID:10000551-1524396600-1524402000@ccoley.com
SUMMARY:Sunday Fellowship
DESCRIPTION:Enjoy fellowship after the service.
URL:https://ccoley.com/event/sunday-fellowship/2018-04-22/
LOCATION:Oley Valley Elementary School\, 3247 Friedensburg Road\, Oley\, PA\, 19547\, United States
CATEGORIES:Family
ORGANIZER;CN="Pastor Fred Bell":MAILTO:pastorfred@ccoley.com
GEO:40.379717;-75.799139
X-APPLE-STRUCTURED-LOCATION;VALUE=URI;X-ADDRESS=Oley Valley Elementary School 3247 Friedensburg Road Oley PA 19547 United States;X-APPLE-RADIUS=500;X-TITLE=3247 Friedensburg Road:geo:-75.799139,40.379717
END:VEVENT
BEGIN:VEVENT
DTSTART;TZID=America/New_York:20180429T113000
DTEND;TZID=America/New_York:20180429T130000
DTSTAMP:20260422T174844
CREATED:20181002T152826Z
LAST-MODIFIED:20220618T232200Z
UID:10000552-1525001400-1525006800@ccoley.com
SUMMARY:Sunday Fellowship
DESCRIPTION:Enjoy fellowship after the service.
URL:https://ccoley.com/event/sunday-fellowship/2018-04-29/
LOCATION:Oley Valley Elementary School\, 3247 Friedensburg Road\, Oley\, PA\, 19547\, United States
CATEGORIES:Family
ORGANIZER;CN="Pastor Fred Bell":MAILTO:pastorfred@ccoley.com
GEO:40.379717;-75.799139
X-APPLE-STRUCTURED-LOCATION;VALUE=URI;X-ADDRESS=Oley Valley Elementary School 3247 Friedensburg Road Oley PA 19547 United States;X-APPLE-RADIUS=500;X-TITLE=3247 Friedensburg Road:geo:-75.799139,40.379717
END:VEVENT
BEGIN:VEVENT
DTSTART;TZID=America/New_York:20180506T113000
DTEND;TZID=America/New_York:20180506T130000
DTSTAMP:20260422T174844
CREATED:20181002T152826Z
LAST-MODIFIED:20220618T232200Z
UID:10000553-1525606200-1525611600@ccoley.com
SUMMARY:Sunday Fellowship
DESCRIPTION:Enjoy fellowship after the service.
URL:https://ccoley.com/event/sunday-fellowship/2018-05-06/
LOCATION:Oley Valley Elementary School\, 3247 Friedensburg Road\, Oley\, PA\, 19547\, United States
CATEGORIES:Family
ORGANIZER;CN="Pastor Fred Bell":MAILTO:pastorfred@ccoley.com
GEO:40.379717;-75.799139
X-APPLE-STRUCTURED-LOCATION;VALUE=URI;X-ADDRESS=Oley Valley Elementary School 3247 Friedensburg Road Oley PA 19547 United States;X-APPLE-RADIUS=500;X-TITLE=3247 Friedensburg Road:geo:-75.799139,40.379717
END:VEVENT
BEGIN:VEVENT
DTSTART;TZID=America/New_York:20180513T113000
DTEND;TZID=America/New_York:20180513T130000
DTSTAMP:20260422T174844
CREATED:20181002T152826Z
LAST-MODIFIED:20220618T232200Z
UID:10000554-1526211000-1526216400@ccoley.com
SUMMARY:Sunday Fellowship
DESCRIPTION:Enjoy fellowship after the service.
URL:https://ccoley.com/event/sunday-fellowship/2018-05-13/
LOCATION:Oley Valley Elementary School\, 3247 Friedensburg Road\, Oley\, PA\, 19547\, United States
CATEGORIES:Family
ORGANIZER;CN="Pastor Fred Bell":MAILTO:pastorfred@ccoley.com
GEO:40.379717;-75.799139
X-APPLE-STRUCTURED-LOCATION;VALUE=URI;X-ADDRESS=Oley Valley Elementary School 3247 Friedensburg Road Oley PA 19547 United States;X-APPLE-RADIUS=500;X-TITLE=3247 Friedensburg Road:geo:-75.799139,40.379717
END:VEVENT
BEGIN:VEVENT
DTSTART;TZID=America/New_York:20180520T113000
DTEND;TZID=America/New_York:20180520T130000
DTSTAMP:20260422T174844
CREATED:20181002T152826Z
LAST-MODIFIED:20220618T232200Z
UID:10000555-1526815800-1526821200@ccoley.com
SUMMARY:Sunday Fellowship
DESCRIPTION:Enjoy fellowship after the service.
URL:https://ccoley.com/event/sunday-fellowship/2018-05-20/
LOCATION:Oley Valley Elementary School\, 3247 Friedensburg Road\, Oley\, PA\, 19547\, United States
CATEGORIES:Family
ORGANIZER;CN="Pastor Fred Bell":MAILTO:pastorfred@ccoley.com
GEO:40.379717;-75.799139
X-APPLE-STRUCTURED-LOCATION;VALUE=URI;X-ADDRESS=Oley Valley Elementary School 3247 Friedensburg Road Oley PA 19547 United States;X-APPLE-RADIUS=500;X-TITLE=3247 Friedensburg Road:geo:-75.799139,40.379717
END:VEVENT
BEGIN:VEVENT
DTSTART;TZID=America/New_York:20180527T113000
DTEND;TZID=America/New_York:20180527T130000
DTSTAMP:20260422T174844
CREATED:20181002T152826Z
LAST-MODIFIED:20220618T232200Z
UID:10000556-1527420600-1527426000@ccoley.com
SUMMARY:Sunday Fellowship
DESCRIPTION:Enjoy fellowship after the service.
URL:https://ccoley.com/event/sunday-fellowship/2018-05-27/
LOCATION:Oley Valley Elementary School\, 3247 Friedensburg Road\, Oley\, PA\, 19547\, United States
CATEGORIES:Family
ORGANIZER;CN="Pastor Fred Bell":MAILTO:pastorfred@ccoley.com
GEO:40.379717;-75.799139
X-APPLE-STRUCTURED-LOCATION;VALUE=URI;X-ADDRESS=Oley Valley Elementary School 3247 Friedensburg Road Oley PA 19547 United States;X-APPLE-RADIUS=500;X-TITLE=3247 Friedensburg Road:geo:-75.799139,40.379717
END:VEVENT
BEGIN:VEVENT
DTSTART;TZID=America/New_York:20180603T113000
DTEND;TZID=America/New_York:20180603T130000
DTSTAMP:20260422T174844
CREATED:20181002T152826Z
LAST-MODIFIED:20220618T232200Z
UID:10000557-1528025400-1528030800@ccoley.com
SUMMARY:Sunday Fellowship
DESCRIPTION:Enjoy fellowship after the service.
URL:https://ccoley.com/event/sunday-fellowship/2018-06-03/
LOCATION:Oley Valley Elementary School\, 3247 Friedensburg Road\, Oley\, PA\, 19547\, United States
CATEGORIES:Family
ORGANIZER;CN="Pastor Fred Bell":MAILTO:pastorfred@ccoley.com
GEO:40.379717;-75.799139
X-APPLE-STRUCTURED-LOCATION;VALUE=URI;X-ADDRESS=Oley Valley Elementary School 3247 Friedensburg Road Oley PA 19547 United States;X-APPLE-RADIUS=500;X-TITLE=3247 Friedensburg Road:geo:-75.799139,40.379717
END:VEVENT
BEGIN:VEVENT
DTSTART;TZID=America/New_York:20180610T113000
DTEND;TZID=America/New_York:20180610T130000
DTSTAMP:20260422T174844
CREATED:20181002T152826Z
LAST-MODIFIED:20220618T232200Z
UID:10000558-1528630200-1528635600@ccoley.com
SUMMARY:Sunday Fellowship
DESCRIPTION:Enjoy fellowship after the service.
URL:https://ccoley.com/event/sunday-fellowship/2018-06-10/
LOCATION:Oley Valley Elementary School\, 3247 Friedensburg Road\, Oley\, PA\, 19547\, United States
CATEGORIES:Family
ORGANIZER;CN="Pastor Fred Bell":MAILTO:pastorfred@ccoley.com
GEO:40.379717;-75.799139
X-APPLE-STRUCTURED-LOCATION;VALUE=URI;X-ADDRESS=Oley Valley Elementary School 3247 Friedensburg Road Oley PA 19547 United States;X-APPLE-RADIUS=500;X-TITLE=3247 Friedensburg Road:geo:-75.799139,40.379717
END:VEVENT
BEGIN:VEVENT
DTSTART;TZID=America/New_York:20180617T113000
DTEND;TZID=America/New_York:20180617T130000
DTSTAMP:20260422T174844
CREATED:20181002T152826Z
LAST-MODIFIED:20220618T232200Z
UID:10000559-1529235000-1529240400@ccoley.com
SUMMARY:Sunday Fellowship
DESCRIPTION:Enjoy fellowship after the service.
URL:https://ccoley.com/event/sunday-fellowship/2018-06-17/
LOCATION:Oley Valley Elementary School\, 3247 Friedensburg Road\, Oley\, PA\, 19547\, United States
CATEGORIES:Family
ORGANIZER;CN="Pastor Fred Bell":MAILTO:pastorfred@ccoley.com
GEO:40.379717;-75.799139
X-APPLE-STRUCTURED-LOCATION;VALUE=URI;X-ADDRESS=Oley Valley Elementary School 3247 Friedensburg Road Oley PA 19547 United States;X-APPLE-RADIUS=500;X-TITLE=3247 Friedensburg Road:geo:-75.799139,40.379717
END:VEVENT
BEGIN:VEVENT
DTSTART;TZID=America/New_York:20180624T113000
DTEND;TZID=America/New_York:20180624T130000
DTSTAMP:20260422T174844
CREATED:20181002T152826Z
LAST-MODIFIED:20220618T232200Z
UID:10000560-1529839800-1529845200@ccoley.com
SUMMARY:Sunday Fellowship
DESCRIPTION:Enjoy fellowship after the service.
URL:https://ccoley.com/event/sunday-fellowship/2018-06-24/
LOCATION:Oley Valley Elementary School\, 3247 Friedensburg Road\, Oley\, PA\, 19547\, United States
CATEGORIES:Family
ORGANIZER;CN="Pastor Fred Bell":MAILTO:pastorfred@ccoley.com
GEO:40.379717;-75.799139
X-APPLE-STRUCTURED-LOCATION;VALUE=URI;X-ADDRESS=Oley Valley Elementary School 3247 Friedensburg Road Oley PA 19547 United States;X-APPLE-RADIUS=500;X-TITLE=3247 Friedensburg Road:geo:-75.799139,40.379717
END:VEVENT
BEGIN:VEVENT
DTSTART;TZID=America/New_York:20180701T113000
DTEND;TZID=America/New_York:20180701T130000
DTSTAMP:20260422T174844
CREATED:20181002T152826Z
LAST-MODIFIED:20220618T232200Z
UID:10000561-1530444600-1530450000@ccoley.com
SUMMARY:Sunday Fellowship
DESCRIPTION:Enjoy fellowship after the service.
URL:https://ccoley.com/event/sunday-fellowship/2018-07-01/
LOCATION:Oley Valley Elementary School\, 3247 Friedensburg Road\, Oley\, PA\, 19547\, United States
CATEGORIES:Family
ORGANIZER;CN="Pastor Fred Bell":MAILTO:pastorfred@ccoley.com
GEO:40.379717;-75.799139
X-APPLE-STRUCTURED-LOCATION;VALUE=URI;X-ADDRESS=Oley Valley Elementary School 3247 Friedensburg Road Oley PA 19547 United States;X-APPLE-RADIUS=500;X-TITLE=3247 Friedensburg Road:geo:-75.799139,40.379717
END:VEVENT
BEGIN:VEVENT
DTSTART;TZID=America/New_York:20180708T113000
DTEND;TZID=America/New_York:20180708T130000
DTSTAMP:20260422T174844
CREATED:20181002T152826Z
LAST-MODIFIED:20220618T232200Z
UID:10000562-1531049400-1531054800@ccoley.com
SUMMARY:Sunday Fellowship
DESCRIPTION:Enjoy fellowship after the service.
URL:https://ccoley.com/event/sunday-fellowship/2018-07-08/
LOCATION:Oley Valley Elementary School\, 3247 Friedensburg Road\, Oley\, PA\, 19547\, United States
CATEGORIES:Family
ORGANIZER;CN="Pastor Fred Bell":MAILTO:pastorfred@ccoley.com
GEO:40.379717;-75.799139
X-APPLE-STRUCTURED-LOCATION;VALUE=URI;X-ADDRESS=Oley Valley Elementary School 3247 Friedensburg Road Oley PA 19547 United States;X-APPLE-RADIUS=500;X-TITLE=3247 Friedensburg Road:geo:-75.799139,40.379717
END:VEVENT
BEGIN:VEVENT
DTSTART;TZID=America/New_York:20180715T113000
DTEND;TZID=America/New_York:20180715T130000
DTSTAMP:20260422T174844
CREATED:20181002T152826Z
LAST-MODIFIED:20220618T232200Z
UID:10000563-1531654200-1531659600@ccoley.com
SUMMARY:Sunday Fellowship
DESCRIPTION:Enjoy fellowship after the service.
URL:https://ccoley.com/event/sunday-fellowship/2018-07-15/
LOCATION:Oley Valley Elementary School\, 3247 Friedensburg Road\, Oley\, PA\, 19547\, United States
CATEGORIES:Family
ORGANIZER;CN="Pastor Fred Bell":MAILTO:pastorfred@ccoley.com
GEO:40.379717;-75.799139
X-APPLE-STRUCTURED-LOCATION;VALUE=URI;X-ADDRESS=Oley Valley Elementary School 3247 Friedensburg Road Oley PA 19547 United States;X-APPLE-RADIUS=500;X-TITLE=3247 Friedensburg Road:geo:-75.799139,40.379717
END:VEVENT
BEGIN:VEVENT
DTSTART;TZID=America/New_York:20180722T113000
DTEND;TZID=America/New_York:20180722T130000
DTSTAMP:20260422T174844
CREATED:20181002T152826Z
LAST-MODIFIED:20220618T232200Z
UID:10000564-1532259000-1532264400@ccoley.com
SUMMARY:Sunday Fellowship
DESCRIPTION:Enjoy fellowship after the service.
URL:https://ccoley.com/event/sunday-fellowship/2018-07-22/
LOCATION:Oley Valley Elementary School\, 3247 Friedensburg Road\, Oley\, PA\, 19547\, United States
CATEGORIES:Family
ORGANIZER;CN="Pastor Fred Bell":MAILTO:pastorfred@ccoley.com
GEO:40.379717;-75.799139
X-APPLE-STRUCTURED-LOCATION;VALUE=URI;X-ADDRESS=Oley Valley Elementary School 3247 Friedensburg Road Oley PA 19547 United States;X-APPLE-RADIUS=500;X-TITLE=3247 Friedensburg Road:geo:-75.799139,40.379717
END:VEVENT
BEGIN:VEVENT
DTSTART;TZID=America/New_York:20180729T113000
DTEND;TZID=America/New_York:20180729T130000
DTSTAMP:20260422T174844
CREATED:20181002T152826Z
LAST-MODIFIED:20220618T232200Z
UID:10000565-1532863800-1532869200@ccoley.com
SUMMARY:Sunday Fellowship
DESCRIPTION:Enjoy fellowship after the service.
URL:https://ccoley.com/event/sunday-fellowship/2018-07-29/
LOCATION:Oley Valley Elementary School\, 3247 Friedensburg Road\, Oley\, PA\, 19547\, United States
CATEGORIES:Family
ORGANIZER;CN="Pastor Fred Bell":MAILTO:pastorfred@ccoley.com
GEO:40.379717;-75.799139
X-APPLE-STRUCTURED-LOCATION;VALUE=URI;X-ADDRESS=Oley Valley Elementary School 3247 Friedensburg Road Oley PA 19547 United States;X-APPLE-RADIUS=500;X-TITLE=3247 Friedensburg Road:geo:-75.799139,40.379717
END:VEVENT
BEGIN:VEVENT
DTSTART;TZID=America/New_York:20180805T113000
DTEND;TZID=America/New_York:20180805T130000
DTSTAMP:20260422T174844
CREATED:20181002T152826Z
LAST-MODIFIED:20220618T232200Z
UID:10000566-1533468600-1533474000@ccoley.com
SUMMARY:Sunday Fellowship
DESCRIPTION:Enjoy fellowship after the service.
URL:https://ccoley.com/event/sunday-fellowship/2018-08-05/
LOCATION:Oley Valley Elementary School\, 3247 Friedensburg Road\, Oley\, PA\, 19547\, United States
CATEGORIES:Family
ORGANIZER;CN="Pastor Fred Bell":MAILTO:pastorfred@ccoley.com
GEO:40.379717;-75.799139
X-APPLE-STRUCTURED-LOCATION;VALUE=URI;X-ADDRESS=Oley Valley Elementary School 3247 Friedensburg Road Oley PA 19547 United States;X-APPLE-RADIUS=500;X-TITLE=3247 Friedensburg Road:geo:-75.799139,40.379717
END:VEVENT
BEGIN:VEVENT
DTSTART;TZID=America/New_York:20180812T113000
DTEND;TZID=America/New_York:20180812T130000
DTSTAMP:20260422T174844
CREATED:20181002T152826Z
LAST-MODIFIED:20220618T232200Z
UID:10000567-1534073400-1534078800@ccoley.com
SUMMARY:Sunday Fellowship
DESCRIPTION:Enjoy fellowship after the service.
URL:https://ccoley.com/event/sunday-fellowship/2018-08-12/
LOCATION:Oley Valley Elementary School\, 3247 Friedensburg Road\, Oley\, PA\, 19547\, United States
CATEGORIES:Family
ORGANIZER;CN="Pastor Fred Bell":MAILTO:pastorfred@ccoley.com
GEO:40.379717;-75.799139
X-APPLE-STRUCTURED-LOCATION;VALUE=URI;X-ADDRESS=Oley Valley Elementary School 3247 Friedensburg Road Oley PA 19547 United States;X-APPLE-RADIUS=500;X-TITLE=3247 Friedensburg Road:geo:-75.799139,40.379717
END:VEVENT
BEGIN:VEVENT
DTSTART;TZID=America/New_York:20180819T113000
DTEND;TZID=America/New_York:20180819T130000
DTSTAMP:20260422T174844
CREATED:20181002T152826Z
LAST-MODIFIED:20220618T232200Z
UID:10000568-1534678200-1534683600@ccoley.com
SUMMARY:Sunday Fellowship
DESCRIPTION:Enjoy fellowship after the service.
URL:https://ccoley.com/event/sunday-fellowship/2018-08-19/
LOCATION:Oley Valley Elementary School\, 3247 Friedensburg Road\, Oley\, PA\, 19547\, United States
CATEGORIES:Family
ORGANIZER;CN="Pastor Fred Bell":MAILTO:pastorfred@ccoley.com
GEO:40.379717;-75.799139
X-APPLE-STRUCTURED-LOCATION;VALUE=URI;X-ADDRESS=Oley Valley Elementary School 3247 Friedensburg Road Oley PA 19547 United States;X-APPLE-RADIUS=500;X-TITLE=3247 Friedensburg Road:geo:-75.799139,40.379717
END:VEVENT
BEGIN:VEVENT
DTSTART;TZID=America/New_York:20180826T113000
DTEND;TZID=America/New_York:20180826T130000
DTSTAMP:20260422T174844
CREATED:20181002T152826Z
LAST-MODIFIED:20220618T232200Z
UID:10000569-1535283000-1535288400@ccoley.com
SUMMARY:Sunday Fellowship
DESCRIPTION:Enjoy fellowship after the service.
URL:https://ccoley.com/event/sunday-fellowship/2018-08-26/
LOCATION:Oley Valley Elementary School\, 3247 Friedensburg Road\, Oley\, PA\, 19547\, United States
CATEGORIES:Family
ORGANIZER;CN="Pastor Fred Bell":MAILTO:pastorfred@ccoley.com
GEO:40.379717;-75.799139
X-APPLE-STRUCTURED-LOCATION;VALUE=URI;X-ADDRESS=Oley Valley Elementary School 3247 Friedensburg Road Oley PA 19547 United States;X-APPLE-RADIUS=500;X-TITLE=3247 Friedensburg Road:geo:-75.799139,40.379717
END:VEVENT
BEGIN:VEVENT
DTSTART;TZID=America/New_York:20180902T113000
DTEND;TZID=America/New_York:20180902T130000
DTSTAMP:20260422T174844
CREATED:20181002T152826Z
LAST-MODIFIED:20220618T232200Z
UID:10000570-1535887800-1535893200@ccoley.com
SUMMARY:Sunday Fellowship
DESCRIPTION:Enjoy fellowship after the service.
URL:https://ccoley.com/event/sunday-fellowship/2018-09-02/
LOCATION:Oley Valley Elementary School\, 3247 Friedensburg Road\, Oley\, PA\, 19547\, United States
CATEGORIES:Family
ORGANIZER;CN="Pastor Fred Bell":MAILTO:pastorfred@ccoley.com
GEO:40.379717;-75.799139
X-APPLE-STRUCTURED-LOCATION;VALUE=URI;X-ADDRESS=Oley Valley Elementary School 3247 Friedensburg Road Oley PA 19547 United States;X-APPLE-RADIUS=500;X-TITLE=3247 Friedensburg Road:geo:-75.799139,40.379717
END:VEVENT
BEGIN:VEVENT
DTSTART;TZID=America/New_York:20180909T113000
DTEND;TZID=America/New_York:20180909T130000
DTSTAMP:20260422T174844
CREATED:20181002T152826Z
LAST-MODIFIED:20220618T232200Z
UID:10000571-1536492600-1536498000@ccoley.com
SUMMARY:Sunday Fellowship
DESCRIPTION:Enjoy fellowship after the service.
URL:https://ccoley.com/event/sunday-fellowship/2018-09-09/
LOCATION:Oley Valley Elementary School\, 3247 Friedensburg Road\, Oley\, PA\, 19547\, United States
CATEGORIES:Family
ORGANIZER;CN="Pastor Fred Bell":MAILTO:pastorfred@ccoley.com
GEO:40.379717;-75.799139
X-APPLE-STRUCTURED-LOCATION;VALUE=URI;X-ADDRESS=Oley Valley Elementary School 3247 Friedensburg Road Oley PA 19547 United States;X-APPLE-RADIUS=500;X-TITLE=3247 Friedensburg Road:geo:-75.799139,40.379717
END:VEVENT
BEGIN:VEVENT
DTSTART;TZID=America/New_York:20180916T113000
DTEND;TZID=America/New_York:20180916T130000
DTSTAMP:20260422T174844
CREATED:20181002T152826Z
LAST-MODIFIED:20220618T232200Z
UID:10000572-1537097400-1537102800@ccoley.com
SUMMARY:Sunday Fellowship
DESCRIPTION:Enjoy fellowship after the service.
URL:https://ccoley.com/event/sunday-fellowship/2018-09-16/
LOCATION:Oley Valley Elementary School\, 3247 Friedensburg Road\, Oley\, PA\, 19547\, United States
CATEGORIES:Family
ORGANIZER;CN="Pastor Fred Bell":MAILTO:pastorfred@ccoley.com
GEO:40.379717;-75.799139
X-APPLE-STRUCTURED-LOCATION;VALUE=URI;X-ADDRESS=Oley Valley Elementary School 3247 Friedensburg Road Oley PA 19547 United States;X-APPLE-RADIUS=500;X-TITLE=3247 Friedensburg Road:geo:-75.799139,40.379717
END:VEVENT
BEGIN:VEVENT
DTSTART;TZID=America/New_York:20180923T113000
DTEND;TZID=America/New_York:20180923T130000
DTSTAMP:20260422T174844
CREATED:20181002T152826Z
LAST-MODIFIED:20220618T232200Z
UID:10000573-1537702200-1537707600@ccoley.com
SUMMARY:Sunday Fellowship
DESCRIPTION:Enjoy fellowship after the service.
URL:https://ccoley.com/event/sunday-fellowship/2018-09-23/
LOCATION:Oley Valley Elementary School\, 3247 Friedensburg Road\, Oley\, PA\, 19547\, United States
CATEGORIES:Family
ORGANIZER;CN="Pastor Fred Bell":MAILTO:pastorfred@ccoley.com
GEO:40.379717;-75.799139
X-APPLE-STRUCTURED-LOCATION;VALUE=URI;X-ADDRESS=Oley Valley Elementary School 3247 Friedensburg Road Oley PA 19547 United States;X-APPLE-RADIUS=500;X-TITLE=3247 Friedensburg Road:geo:-75.799139,40.379717
END:VEVENT
BEGIN:VEVENT
DTSTART;TZID=America/New_York:20180930T113000
DTEND;TZID=America/New_York:20180930T130000
DTSTAMP:20260422T174844
CREATED:20181002T152826Z
LAST-MODIFIED:20220618T232200Z
UID:10000574-1538307000-1538312400@ccoley.com
SUMMARY:Sunday Fellowship
DESCRIPTION:Enjoy fellowship after the service.
URL:https://ccoley.com/event/sunday-fellowship/2018-09-30/
LOCATION:Oley Valley Elementary School\, 3247 Friedensburg Road\, Oley\, PA\, 19547\, United States
CATEGORIES:Family
ORGANIZER;CN="Pastor Fred Bell":MAILTO:pastorfred@ccoley.com
GEO:40.379717;-75.799139
X-APPLE-STRUCTURED-LOCATION;VALUE=URI;X-ADDRESS=Oley Valley Elementary School 3247 Friedensburg Road Oley PA 19547 United States;X-APPLE-RADIUS=500;X-TITLE=3247 Friedensburg Road:geo:-75.799139,40.379717
END:VEVENT
BEGIN:VEVENT
DTSTART;TZID=America/New_York:20181007T113000
DTEND;TZID=America/New_York:20181007T130000
DTSTAMP:20260422T174844
CREATED:20181002T152826Z
LAST-MODIFIED:20220618T232200Z
UID:10000575-1538911800-1538917200@ccoley.com
SUMMARY:Sunday Fellowship
DESCRIPTION:Enjoy fellowship after the service.
URL:https://ccoley.com/event/sunday-fellowship/2018-10-07/
LOCATION:Oley Valley Elementary School\, 3247 Friedensburg Road\, Oley\, PA\, 19547\, United States
CATEGORIES:Family
ORGANIZER;CN="Pastor Fred Bell":MAILTO:pastorfred@ccoley.com
GEO:40.379717;-75.799139
X-APPLE-STRUCTURED-LOCATION;VALUE=URI;X-ADDRESS=Oley Valley Elementary School 3247 Friedensburg Road Oley PA 19547 United States;X-APPLE-RADIUS=500;X-TITLE=3247 Friedensburg Road:geo:-75.799139,40.379717
END:VEVENT
END:VCALENDAR