BEGIN:VCALENDAR
VERSION:2.0
PRODID:-//Calvary Chapel of the Oley Valley - ECPv6.15.20//NONSGML v1.0//EN
CALSCALE:GREGORIAN
METHOD:PUBLISH
X-ORIGINAL-URL:https://ccoley.com
X-WR-CALDESC:Events for Calvary Chapel of the Oley Valley
REFRESH-INTERVAL;VALUE=DURATION:PT1H
X-Robots-Tag:noindex
X-PUBLISHED-TTL:PT1H
BEGIN:VTIMEZONE
TZID:America/New_York
BEGIN:DAYLIGHT
TZOFFSETFROM:-0500
TZOFFSETTO:-0400
TZNAME:EDT
DTSTART:20200308T070000
END:DAYLIGHT
BEGIN:STANDARD
TZOFFSETFROM:-0400
TZOFFSETTO:-0500
TZNAME:EST
DTSTART:20201101T060000
END:STANDARD
BEGIN:DAYLIGHT
TZOFFSETFROM:-0500
TZOFFSETTO:-0400
TZNAME:EDT
DTSTART:20210314T070000
END:DAYLIGHT
BEGIN:STANDARD
TZOFFSETFROM:-0400
TZOFFSETTO:-0500
TZNAME:EST
DTSTART:20211107T060000
END:STANDARD
BEGIN:DAYLIGHT
TZOFFSETFROM:-0500
TZOFFSETTO:-0400
TZNAME:EDT
DTSTART:20220313T070000
END:DAYLIGHT
BEGIN:STANDARD
TZOFFSETFROM:-0400
TZOFFSETTO:-0500
TZNAME:EST
DTSTART:20221106T060000
END:STANDARD
BEGIN:DAYLIGHT
TZOFFSETFROM:-0500
TZOFFSETTO:-0400
TZNAME:EDT
DTSTART:20230312T070000
END:DAYLIGHT
BEGIN:STANDARD
TZOFFSETFROM:-0400
TZOFFSETTO:-0500
TZNAME:EST
DTSTART:20231105T060000
END:STANDARD
END:VTIMEZONE
BEGIN:VEVENT
DTSTART;TZID=America/New_York:20220304T183000
DTEND;TZID=America/New_York:20220304T193000
DTSTAMP:20260422T234644
CREATED:20201115T190830Z
LAST-MODIFIED:20201115T190830Z
UID:10002480-1646418600-1646422200@ccoley.com
SUMMARY:Sign Language Class
DESCRIPTION:This is a beginner’s class. The course is 6:30 pm on Friday evenings. It runs from Dec. 4 through Dec. 18 and picks back up Jan. 8.
URL:https://ccoley.com/event/sign-language-class/2022-03-04/
LOCATION:Sandy Houck\, 1117 Powder Mill Hollow Rd.\, Boyertown\, PA\, 19512\, United States
CATEGORIES:Evangelism and Outreach
ORGANIZER;CN="Sandy Houck":MAILTO:skhouck@dejazzd.com
GEO:40.3302731;-75.7128775
X-APPLE-STRUCTURED-LOCATION;VALUE=URI;X-ADDRESS=Sandy Houck 1117 Powder Mill Hollow Rd. Boyertown PA 19512 United States;X-APPLE-RADIUS=500;X-TITLE=1117 Powder Mill Hollow Rd.:geo:-75.7128775,40.3302731
END:VEVENT
BEGIN:VEVENT
DTSTART;TZID=America/New_York:20220225T183000
DTEND;TZID=America/New_York:20220225T193000
DTSTAMP:20260422T234644
CREATED:20201115T190830Z
LAST-MODIFIED:20201115T190830Z
UID:10002479-1645813800-1645817400@ccoley.com
SUMMARY:Sign Language Class
DESCRIPTION:This is a beginner’s class. The course is 6:30 pm on Friday evenings. It runs from Dec. 4 through Dec. 18 and picks back up Jan. 8.
URL:https://ccoley.com/event/sign-language-class/2022-02-25/
LOCATION:Sandy Houck\, 1117 Powder Mill Hollow Rd.\, Boyertown\, PA\, 19512\, United States
CATEGORIES:Evangelism and Outreach
ORGANIZER;CN="Sandy Houck":MAILTO:skhouck@dejazzd.com
GEO:40.3302731;-75.7128775
X-APPLE-STRUCTURED-LOCATION;VALUE=URI;X-ADDRESS=Sandy Houck 1117 Powder Mill Hollow Rd. Boyertown PA 19512 United States;X-APPLE-RADIUS=500;X-TITLE=1117 Powder Mill Hollow Rd.:geo:-75.7128775,40.3302731
END:VEVENT
BEGIN:VEVENT
DTSTART;TZID=America/New_York:20220218T183000
DTEND;TZID=America/New_York:20220218T193000
DTSTAMP:20260422T234644
CREATED:20201115T190830Z
LAST-MODIFIED:20201115T190830Z
UID:10002478-1645209000-1645212600@ccoley.com
SUMMARY:Sign Language Class
DESCRIPTION:This is a beginner’s class. The course is 6:30 pm on Friday evenings. It runs from Dec. 4 through Dec. 18 and picks back up Jan. 8.
URL:https://ccoley.com/event/sign-language-class/2022-02-18/
LOCATION:Sandy Houck\, 1117 Powder Mill Hollow Rd.\, Boyertown\, PA\, 19512\, United States
CATEGORIES:Evangelism and Outreach
ORGANIZER;CN="Sandy Houck":MAILTO:skhouck@dejazzd.com
GEO:40.3302731;-75.7128775
X-APPLE-STRUCTURED-LOCATION;VALUE=URI;X-ADDRESS=Sandy Houck 1117 Powder Mill Hollow Rd. Boyertown PA 19512 United States;X-APPLE-RADIUS=500;X-TITLE=1117 Powder Mill Hollow Rd.:geo:-75.7128775,40.3302731
END:VEVENT
BEGIN:VEVENT
DTSTART;TZID=America/New_York:20220211T183000
DTEND;TZID=America/New_York:20220211T193000
DTSTAMP:20260422T234644
CREATED:20201115T190830Z
LAST-MODIFIED:20201115T190830Z
UID:10002477-1644604200-1644607800@ccoley.com
SUMMARY:Sign Language Class
DESCRIPTION:This is a beginner’s class. The course is 6:30 pm on Friday evenings. It runs from Dec. 4 through Dec. 18 and picks back up Jan. 8.
URL:https://ccoley.com/event/sign-language-class/2022-02-11/
LOCATION:Sandy Houck\, 1117 Powder Mill Hollow Rd.\, Boyertown\, PA\, 19512\, United States
CATEGORIES:Evangelism and Outreach
ORGANIZER;CN="Sandy Houck":MAILTO:skhouck@dejazzd.com
GEO:40.3302731;-75.7128775
X-APPLE-STRUCTURED-LOCATION;VALUE=URI;X-ADDRESS=Sandy Houck 1117 Powder Mill Hollow Rd. Boyertown PA 19512 United States;X-APPLE-RADIUS=500;X-TITLE=1117 Powder Mill Hollow Rd.:geo:-75.7128775,40.3302731
END:VEVENT
BEGIN:VEVENT
DTSTART;TZID=America/New_York:20220204T183000
DTEND;TZID=America/New_York:20220204T193000
DTSTAMP:20260422T234644
CREATED:20201115T190830Z
LAST-MODIFIED:20201115T190830Z
UID:10002476-1643999400-1644003000@ccoley.com
SUMMARY:Sign Language Class
DESCRIPTION:This is a beginner’s class. The course is 6:30 pm on Friday evenings. It runs from Dec. 4 through Dec. 18 and picks back up Jan. 8.
URL:https://ccoley.com/event/sign-language-class/2022-02-04/
LOCATION:Sandy Houck\, 1117 Powder Mill Hollow Rd.\, Boyertown\, PA\, 19512\, United States
CATEGORIES:Evangelism and Outreach
ORGANIZER;CN="Sandy Houck":MAILTO:skhouck@dejazzd.com
GEO:40.3302731;-75.7128775
X-APPLE-STRUCTURED-LOCATION;VALUE=URI;X-ADDRESS=Sandy Houck 1117 Powder Mill Hollow Rd. Boyertown PA 19512 United States;X-APPLE-RADIUS=500;X-TITLE=1117 Powder Mill Hollow Rd.:geo:-75.7128775,40.3302731
END:VEVENT
BEGIN:VEVENT
DTSTART;TZID=America/New_York:20220128T183000
DTEND;TZID=America/New_York:20220128T193000
DTSTAMP:20260422T234644
CREATED:20201115T190830Z
LAST-MODIFIED:20201115T190830Z
UID:10002475-1643394600-1643398200@ccoley.com
SUMMARY:Sign Language Class
DESCRIPTION:This is a beginner’s class. The course is 6:30 pm on Friday evenings. It runs from Dec. 4 through Dec. 18 and picks back up Jan. 8.
URL:https://ccoley.com/event/sign-language-class/2022-01-28/
LOCATION:Sandy Houck\, 1117 Powder Mill Hollow Rd.\, Boyertown\, PA\, 19512\, United States
CATEGORIES:Evangelism and Outreach
ORGANIZER;CN="Sandy Houck":MAILTO:skhouck@dejazzd.com
GEO:40.3302731;-75.7128775
X-APPLE-STRUCTURED-LOCATION;VALUE=URI;X-ADDRESS=Sandy Houck 1117 Powder Mill Hollow Rd. Boyertown PA 19512 United States;X-APPLE-RADIUS=500;X-TITLE=1117 Powder Mill Hollow Rd.:geo:-75.7128775,40.3302731
END:VEVENT
BEGIN:VEVENT
DTSTART;TZID=America/New_York:20220121T183000
DTEND;TZID=America/New_York:20220121T193000
DTSTAMP:20260422T234644
CREATED:20201115T190830Z
LAST-MODIFIED:20201115T190830Z
UID:10002474-1642789800-1642793400@ccoley.com
SUMMARY:Sign Language Class
DESCRIPTION:This is a beginner’s class. The course is 6:30 pm on Friday evenings. It runs from Dec. 4 through Dec. 18 and picks back up Jan. 8.
URL:https://ccoley.com/event/sign-language-class/2022-01-21/
LOCATION:Sandy Houck\, 1117 Powder Mill Hollow Rd.\, Boyertown\, PA\, 19512\, United States
CATEGORIES:Evangelism and Outreach
ORGANIZER;CN="Sandy Houck":MAILTO:skhouck@dejazzd.com
GEO:40.3302731;-75.7128775
X-APPLE-STRUCTURED-LOCATION;VALUE=URI;X-ADDRESS=Sandy Houck 1117 Powder Mill Hollow Rd. Boyertown PA 19512 United States;X-APPLE-RADIUS=500;X-TITLE=1117 Powder Mill Hollow Rd.:geo:-75.7128775,40.3302731
END:VEVENT
BEGIN:VEVENT
DTSTART;TZID=America/New_York:20220114T183000
DTEND;TZID=America/New_York:20220114T193000
DTSTAMP:20260422T234644
CREATED:20201115T190830Z
LAST-MODIFIED:20201115T190830Z
UID:10002473-1642185000-1642188600@ccoley.com
SUMMARY:Sign Language Class
DESCRIPTION:This is a beginner’s class. The course is 6:30 pm on Friday evenings. It runs from Dec. 4 through Dec. 18 and picks back up Jan. 8.
URL:https://ccoley.com/event/sign-language-class/2022-01-14/
LOCATION:Sandy Houck\, 1117 Powder Mill Hollow Rd.\, Boyertown\, PA\, 19512\, United States
CATEGORIES:Evangelism and Outreach
ORGANIZER;CN="Sandy Houck":MAILTO:skhouck@dejazzd.com
GEO:40.3302731;-75.7128775
X-APPLE-STRUCTURED-LOCATION;VALUE=URI;X-ADDRESS=Sandy Houck 1117 Powder Mill Hollow Rd. Boyertown PA 19512 United States;X-APPLE-RADIUS=500;X-TITLE=1117 Powder Mill Hollow Rd.:geo:-75.7128775,40.3302731
END:VEVENT
BEGIN:VEVENT
DTSTART;TZID=America/New_York:20220107T183000
DTEND;TZID=America/New_York:20220107T193000
DTSTAMP:20260422T234644
CREATED:20201115T190830Z
LAST-MODIFIED:20201115T190830Z
UID:10002472-1641580200-1641583800@ccoley.com
SUMMARY:Sign Language Class
DESCRIPTION:This is a beginner’s class. The course is 6:30 pm on Friday evenings. It runs from Dec. 4 through Dec. 18 and picks back up Jan. 8.
URL:https://ccoley.com/event/sign-language-class/2022-01-07/
LOCATION:Sandy Houck\, 1117 Powder Mill Hollow Rd.\, Boyertown\, PA\, 19512\, United States
CATEGORIES:Evangelism and Outreach
ORGANIZER;CN="Sandy Houck":MAILTO:skhouck@dejazzd.com
GEO:40.3302731;-75.7128775
X-APPLE-STRUCTURED-LOCATION;VALUE=URI;X-ADDRESS=Sandy Houck 1117 Powder Mill Hollow Rd. Boyertown PA 19512 United States;X-APPLE-RADIUS=500;X-TITLE=1117 Powder Mill Hollow Rd.:geo:-75.7128775,40.3302731
END:VEVENT
BEGIN:VEVENT
DTSTART;TZID=America/New_York:20211231T183000
DTEND;TZID=America/New_York:20211231T193000
DTSTAMP:20260422T234644
CREATED:20201115T190830Z
LAST-MODIFIED:20201115T190830Z
UID:10002471-1640975400-1640979000@ccoley.com
SUMMARY:Sign Language Class
DESCRIPTION:This is a beginner’s class. The course is 6:30 pm on Friday evenings. It runs from Dec. 4 through Dec. 18 and picks back up Jan. 8.
URL:https://ccoley.com/event/sign-language-class/2021-12-31/
LOCATION:Sandy Houck\, 1117 Powder Mill Hollow Rd.\, Boyertown\, PA\, 19512\, United States
CATEGORIES:Evangelism and Outreach
ORGANIZER;CN="Sandy Houck":MAILTO:skhouck@dejazzd.com
GEO:40.3302731;-75.7128775
X-APPLE-STRUCTURED-LOCATION;VALUE=URI;X-ADDRESS=Sandy Houck 1117 Powder Mill Hollow Rd. Boyertown PA 19512 United States;X-APPLE-RADIUS=500;X-TITLE=1117 Powder Mill Hollow Rd.:geo:-75.7128775,40.3302731
END:VEVENT
BEGIN:VEVENT
DTSTART;TZID=America/New_York:20211224T183000
DTEND;TZID=America/New_York:20211224T193000
DTSTAMP:20260422T234644
CREATED:20201115T190830Z
LAST-MODIFIED:20201115T190830Z
UID:10002470-1640370600-1640374200@ccoley.com
SUMMARY:Sign Language Class
DESCRIPTION:This is a beginner’s class. The course is 6:30 pm on Friday evenings. It runs from Dec. 4 through Dec. 18 and picks back up Jan. 8.
URL:https://ccoley.com/event/sign-language-class/2021-12-24/
LOCATION:Sandy Houck\, 1117 Powder Mill Hollow Rd.\, Boyertown\, PA\, 19512\, United States
CATEGORIES:Evangelism and Outreach
ORGANIZER;CN="Sandy Houck":MAILTO:skhouck@dejazzd.com
GEO:40.3302731;-75.7128775
X-APPLE-STRUCTURED-LOCATION;VALUE=URI;X-ADDRESS=Sandy Houck 1117 Powder Mill Hollow Rd. Boyertown PA 19512 United States;X-APPLE-RADIUS=500;X-TITLE=1117 Powder Mill Hollow Rd.:geo:-75.7128775,40.3302731
END:VEVENT
BEGIN:VEVENT
DTSTART;TZID=America/New_York:20211217T183000
DTEND;TZID=America/New_York:20211217T193000
DTSTAMP:20260422T234644
CREATED:20201115T190830Z
LAST-MODIFIED:20201115T190830Z
UID:10002469-1639765800-1639769400@ccoley.com
SUMMARY:Sign Language Class
DESCRIPTION:This is a beginner’s class. The course is 6:30 pm on Friday evenings. It runs from Dec. 4 through Dec. 18 and picks back up Jan. 8.
URL:https://ccoley.com/event/sign-language-class/2021-12-17/
LOCATION:Sandy Houck\, 1117 Powder Mill Hollow Rd.\, Boyertown\, PA\, 19512\, United States
CATEGORIES:Evangelism and Outreach
ORGANIZER;CN="Sandy Houck":MAILTO:skhouck@dejazzd.com
GEO:40.3302731;-75.7128775
X-APPLE-STRUCTURED-LOCATION;VALUE=URI;X-ADDRESS=Sandy Houck 1117 Powder Mill Hollow Rd. Boyertown PA 19512 United States;X-APPLE-RADIUS=500;X-TITLE=1117 Powder Mill Hollow Rd.:geo:-75.7128775,40.3302731
END:VEVENT
BEGIN:VEVENT
DTSTART;TZID=America/New_York:20211210T183000
DTEND;TZID=America/New_York:20211210T193000
DTSTAMP:20260422T234644
CREATED:20201115T190830Z
LAST-MODIFIED:20201115T190830Z
UID:10002468-1639161000-1639164600@ccoley.com
SUMMARY:Sign Language Class
DESCRIPTION:This is a beginner’s class. The course is 6:30 pm on Friday evenings. It runs from Dec. 4 through Dec. 18 and picks back up Jan. 8.
URL:https://ccoley.com/event/sign-language-class/2021-12-10/
LOCATION:Sandy Houck\, 1117 Powder Mill Hollow Rd.\, Boyertown\, PA\, 19512\, United States
CATEGORIES:Evangelism and Outreach
ORGANIZER;CN="Sandy Houck":MAILTO:skhouck@dejazzd.com
GEO:40.3302731;-75.7128775
X-APPLE-STRUCTURED-LOCATION;VALUE=URI;X-ADDRESS=Sandy Houck 1117 Powder Mill Hollow Rd. Boyertown PA 19512 United States;X-APPLE-RADIUS=500;X-TITLE=1117 Powder Mill Hollow Rd.:geo:-75.7128775,40.3302731
END:VEVENT
BEGIN:VEVENT
DTSTART;TZID=America/New_York:20211203T183000
DTEND;TZID=America/New_York:20211203T193000
DTSTAMP:20260422T234644
CREATED:20201115T190830Z
LAST-MODIFIED:20201115T190830Z
UID:10002467-1638556200-1638559800@ccoley.com
SUMMARY:Sign Language Class
DESCRIPTION:This is a beginner’s class. The course is 6:30 pm on Friday evenings. It runs from Dec. 4 through Dec. 18 and picks back up Jan. 8.
URL:https://ccoley.com/event/sign-language-class/2021-12-03/
LOCATION:Sandy Houck\, 1117 Powder Mill Hollow Rd.\, Boyertown\, PA\, 19512\, United States
CATEGORIES:Evangelism and Outreach
ORGANIZER;CN="Sandy Houck":MAILTO:skhouck@dejazzd.com
GEO:40.3302731;-75.7128775
X-APPLE-STRUCTURED-LOCATION;VALUE=URI;X-ADDRESS=Sandy Houck 1117 Powder Mill Hollow Rd. Boyertown PA 19512 United States;X-APPLE-RADIUS=500;X-TITLE=1117 Powder Mill Hollow Rd.:geo:-75.7128775,40.3302731
END:VEVENT
BEGIN:VEVENT
DTSTART;TZID=America/New_York:20211126T183000
DTEND;TZID=America/New_York:20211126T193000
DTSTAMP:20260422T234644
CREATED:20201115T190830Z
LAST-MODIFIED:20201115T190830Z
UID:10002466-1637951400-1637955000@ccoley.com
SUMMARY:Sign Language Class
DESCRIPTION:This is a beginner’s class. The course is 6:30 pm on Friday evenings. It runs from Dec. 4 through Dec. 18 and picks back up Jan. 8.
URL:https://ccoley.com/event/sign-language-class/2021-11-26/
LOCATION:Sandy Houck\, 1117 Powder Mill Hollow Rd.\, Boyertown\, PA\, 19512\, United States
CATEGORIES:Evangelism and Outreach
ORGANIZER;CN="Sandy Houck":MAILTO:skhouck@dejazzd.com
GEO:40.3302731;-75.7128775
X-APPLE-STRUCTURED-LOCATION;VALUE=URI;X-ADDRESS=Sandy Houck 1117 Powder Mill Hollow Rd. Boyertown PA 19512 United States;X-APPLE-RADIUS=500;X-TITLE=1117 Powder Mill Hollow Rd.:geo:-75.7128775,40.3302731
END:VEVENT
BEGIN:VEVENT
DTSTART;TZID=America/New_York:20211119T183000
DTEND;TZID=America/New_York:20211119T193000
DTSTAMP:20260422T234644
CREATED:20201115T190830Z
LAST-MODIFIED:20201115T190830Z
UID:10002465-1637346600-1637350200@ccoley.com
SUMMARY:Sign Language Class
DESCRIPTION:This is a beginner’s class. The course is 6:30 pm on Friday evenings. It runs from Dec. 4 through Dec. 18 and picks back up Jan. 8.
URL:https://ccoley.com/event/sign-language-class/2021-11-19/
LOCATION:Sandy Houck\, 1117 Powder Mill Hollow Rd.\, Boyertown\, PA\, 19512\, United States
CATEGORIES:Evangelism and Outreach
ORGANIZER;CN="Sandy Houck":MAILTO:skhouck@dejazzd.com
GEO:40.3302731;-75.7128775
X-APPLE-STRUCTURED-LOCATION;VALUE=URI;X-ADDRESS=Sandy Houck 1117 Powder Mill Hollow Rd. Boyertown PA 19512 United States;X-APPLE-RADIUS=500;X-TITLE=1117 Powder Mill Hollow Rd.:geo:-75.7128775,40.3302731
END:VEVENT
BEGIN:VEVENT
DTSTART;TZID=America/New_York:20211112T183000
DTEND;TZID=America/New_York:20211112T193000
DTSTAMP:20260422T234644
CREATED:20201115T190830Z
LAST-MODIFIED:20201115T190830Z
UID:10002464-1636741800-1636745400@ccoley.com
SUMMARY:Sign Language Class
DESCRIPTION:This is a beginner’s class. The course is 6:30 pm on Friday evenings. It runs from Dec. 4 through Dec. 18 and picks back up Jan. 8.
URL:https://ccoley.com/event/sign-language-class/2021-11-12/
LOCATION:Sandy Houck\, 1117 Powder Mill Hollow Rd.\, Boyertown\, PA\, 19512\, United States
CATEGORIES:Evangelism and Outreach
ORGANIZER;CN="Sandy Houck":MAILTO:skhouck@dejazzd.com
GEO:40.3302731;-75.7128775
X-APPLE-STRUCTURED-LOCATION;VALUE=URI;X-ADDRESS=Sandy Houck 1117 Powder Mill Hollow Rd. Boyertown PA 19512 United States;X-APPLE-RADIUS=500;X-TITLE=1117 Powder Mill Hollow Rd.:geo:-75.7128775,40.3302731
END:VEVENT
BEGIN:VEVENT
DTSTART;TZID=America/New_York:20211105T183000
DTEND;TZID=America/New_York:20211105T193000
DTSTAMP:20260422T234644
CREATED:20201115T190830Z
LAST-MODIFIED:20201115T190830Z
UID:10002463-1636137000-1636140600@ccoley.com
SUMMARY:Sign Language Class
DESCRIPTION:This is a beginner’s class. The course is 6:30 pm on Friday evenings. It runs from Dec. 4 through Dec. 18 and picks back up Jan. 8.
URL:https://ccoley.com/event/sign-language-class/2021-11-05/
LOCATION:Sandy Houck\, 1117 Powder Mill Hollow Rd.\, Boyertown\, PA\, 19512\, United States
CATEGORIES:Evangelism and Outreach
ORGANIZER;CN="Sandy Houck":MAILTO:skhouck@dejazzd.com
GEO:40.3302731;-75.7128775
X-APPLE-STRUCTURED-LOCATION;VALUE=URI;X-ADDRESS=Sandy Houck 1117 Powder Mill Hollow Rd. Boyertown PA 19512 United States;X-APPLE-RADIUS=500;X-TITLE=1117 Powder Mill Hollow Rd.:geo:-75.7128775,40.3302731
END:VEVENT
BEGIN:VEVENT
DTSTART;TZID=America/New_York:20211029T183000
DTEND;TZID=America/New_York:20211029T193000
DTSTAMP:20260422T234644
CREATED:20201115T190830Z
LAST-MODIFIED:20201115T190830Z
UID:10002462-1635532200-1635535800@ccoley.com
SUMMARY:Sign Language Class
DESCRIPTION:This is a beginner’s class. The course is 6:30 pm on Friday evenings. It runs from Dec. 4 through Dec. 18 and picks back up Jan. 8.
URL:https://ccoley.com/event/sign-language-class/2021-10-29/
LOCATION:Sandy Houck\, 1117 Powder Mill Hollow Rd.\, Boyertown\, PA\, 19512\, United States
CATEGORIES:Evangelism and Outreach
ORGANIZER;CN="Sandy Houck":MAILTO:skhouck@dejazzd.com
GEO:40.3302731;-75.7128775
X-APPLE-STRUCTURED-LOCATION;VALUE=URI;X-ADDRESS=Sandy Houck 1117 Powder Mill Hollow Rd. Boyertown PA 19512 United States;X-APPLE-RADIUS=500;X-TITLE=1117 Powder Mill Hollow Rd.:geo:-75.7128775,40.3302731
END:VEVENT
BEGIN:VEVENT
DTSTART;TZID=America/New_York:20211022T183000
DTEND;TZID=America/New_York:20211022T193000
DTSTAMP:20260422T234644
CREATED:20201115T190830Z
LAST-MODIFIED:20201115T190830Z
UID:10002461-1634927400-1634931000@ccoley.com
SUMMARY:Sign Language Class
DESCRIPTION:This is a beginner’s class. The course is 6:30 pm on Friday evenings. It runs from Dec. 4 through Dec. 18 and picks back up Jan. 8.
URL:https://ccoley.com/event/sign-language-class/2021-10-22/
LOCATION:Sandy Houck\, 1117 Powder Mill Hollow Rd.\, Boyertown\, PA\, 19512\, United States
CATEGORIES:Evangelism and Outreach
ORGANIZER;CN="Sandy Houck":MAILTO:skhouck@dejazzd.com
GEO:40.3302731;-75.7128775
X-APPLE-STRUCTURED-LOCATION;VALUE=URI;X-ADDRESS=Sandy Houck 1117 Powder Mill Hollow Rd. Boyertown PA 19512 United States;X-APPLE-RADIUS=500;X-TITLE=1117 Powder Mill Hollow Rd.:geo:-75.7128775,40.3302731
END:VEVENT
BEGIN:VEVENT
DTSTART;TZID=America/New_York:20211015T183000
DTEND;TZID=America/New_York:20211015T193000
DTSTAMP:20260422T234644
CREATED:20201115T190830Z
LAST-MODIFIED:20201115T190830Z
UID:10002460-1634322600-1634326200@ccoley.com
SUMMARY:Sign Language Class
DESCRIPTION:This is a beginner’s class. The course is 6:30 pm on Friday evenings. It runs from Dec. 4 through Dec. 18 and picks back up Jan. 8.
URL:https://ccoley.com/event/sign-language-class/2021-10-15/
LOCATION:Sandy Houck\, 1117 Powder Mill Hollow Rd.\, Boyertown\, PA\, 19512\, United States
CATEGORIES:Evangelism and Outreach
ORGANIZER;CN="Sandy Houck":MAILTO:skhouck@dejazzd.com
GEO:40.3302731;-75.7128775
X-APPLE-STRUCTURED-LOCATION;VALUE=URI;X-ADDRESS=Sandy Houck 1117 Powder Mill Hollow Rd. Boyertown PA 19512 United States;X-APPLE-RADIUS=500;X-TITLE=1117 Powder Mill Hollow Rd.:geo:-75.7128775,40.3302731
END:VEVENT
BEGIN:VEVENT
DTSTART;TZID=America/New_York:20211008T183000
DTEND;TZID=America/New_York:20211008T193000
DTSTAMP:20260422T234644
CREATED:20201115T190830Z
LAST-MODIFIED:20201115T190830Z
UID:10002459-1633717800-1633721400@ccoley.com
SUMMARY:Sign Language Class
DESCRIPTION:This is a beginner’s class. The course is 6:30 pm on Friday evenings. It runs from Dec. 4 through Dec. 18 and picks back up Jan. 8.
URL:https://ccoley.com/event/sign-language-class/2021-10-08/
LOCATION:Sandy Houck\, 1117 Powder Mill Hollow Rd.\, Boyertown\, PA\, 19512\, United States
CATEGORIES:Evangelism and Outreach
ORGANIZER;CN="Sandy Houck":MAILTO:skhouck@dejazzd.com
GEO:40.3302731;-75.7128775
X-APPLE-STRUCTURED-LOCATION;VALUE=URI;X-ADDRESS=Sandy Houck 1117 Powder Mill Hollow Rd. Boyertown PA 19512 United States;X-APPLE-RADIUS=500;X-TITLE=1117 Powder Mill Hollow Rd.:geo:-75.7128775,40.3302731
END:VEVENT
BEGIN:VEVENT
DTSTART;TZID=America/New_York:20211001T183000
DTEND;TZID=America/New_York:20211001T193000
DTSTAMP:20260422T234644
CREATED:20201115T190830Z
LAST-MODIFIED:20201115T190830Z
UID:10002458-1633113000-1633116600@ccoley.com
SUMMARY:Sign Language Class
DESCRIPTION:This is a beginner’s class. The course is 6:30 pm on Friday evenings. It runs from Dec. 4 through Dec. 18 and picks back up Jan. 8.
URL:https://ccoley.com/event/sign-language-class/2021-10-01/
LOCATION:Sandy Houck\, 1117 Powder Mill Hollow Rd.\, Boyertown\, PA\, 19512\, United States
CATEGORIES:Evangelism and Outreach
ORGANIZER;CN="Sandy Houck":MAILTO:skhouck@dejazzd.com
GEO:40.3302731;-75.7128775
X-APPLE-STRUCTURED-LOCATION;VALUE=URI;X-ADDRESS=Sandy Houck 1117 Powder Mill Hollow Rd. Boyertown PA 19512 United States;X-APPLE-RADIUS=500;X-TITLE=1117 Powder Mill Hollow Rd.:geo:-75.7128775,40.3302731
END:VEVENT
BEGIN:VEVENT
DTSTART;TZID=America/New_York:20210924T183000
DTEND;TZID=America/New_York:20210924T193000
DTSTAMP:20260422T234644
CREATED:20201115T190830Z
LAST-MODIFIED:20201115T190830Z
UID:10002457-1632508200-1632511800@ccoley.com
SUMMARY:Sign Language Class
DESCRIPTION:This is a beginner’s class. The course is 6:30 pm on Friday evenings. It runs from Dec. 4 through Dec. 18 and picks back up Jan. 8.
URL:https://ccoley.com/event/sign-language-class/2021-09-24/
LOCATION:Sandy Houck\, 1117 Powder Mill Hollow Rd.\, Boyertown\, PA\, 19512\, United States
CATEGORIES:Evangelism and Outreach
ORGANIZER;CN="Sandy Houck":MAILTO:skhouck@dejazzd.com
GEO:40.3302731;-75.7128775
X-APPLE-STRUCTURED-LOCATION;VALUE=URI;X-ADDRESS=Sandy Houck 1117 Powder Mill Hollow Rd. Boyertown PA 19512 United States;X-APPLE-RADIUS=500;X-TITLE=1117 Powder Mill Hollow Rd.:geo:-75.7128775,40.3302731
END:VEVENT
BEGIN:VEVENT
DTSTART;TZID=America/New_York:20210917T183000
DTEND;TZID=America/New_York:20210917T193000
DTSTAMP:20260422T234644
CREATED:20201115T190830Z
LAST-MODIFIED:20201115T190830Z
UID:10002456-1631903400-1631907000@ccoley.com
SUMMARY:Sign Language Class
DESCRIPTION:This is a beginner’s class. The course is 6:30 pm on Friday evenings. It runs from Dec. 4 through Dec. 18 and picks back up Jan. 8.
URL:https://ccoley.com/event/sign-language-class/2021-09-17/
LOCATION:Sandy Houck\, 1117 Powder Mill Hollow Rd.\, Boyertown\, PA\, 19512\, United States
CATEGORIES:Evangelism and Outreach
ORGANIZER;CN="Sandy Houck":MAILTO:skhouck@dejazzd.com
GEO:40.3302731;-75.7128775
X-APPLE-STRUCTURED-LOCATION;VALUE=URI;X-ADDRESS=Sandy Houck 1117 Powder Mill Hollow Rd. Boyertown PA 19512 United States;X-APPLE-RADIUS=500;X-TITLE=1117 Powder Mill Hollow Rd.:geo:-75.7128775,40.3302731
END:VEVENT
BEGIN:VEVENT
DTSTART;TZID=America/New_York:20210916T090000
DTEND;TZID=America/New_York:20210918T203000
DTSTAMP:20260422T234644
CREATED:20210822T170259Z
LAST-MODIFIED:20210822T170649Z
UID:10002512-1631782800-1631997000@ccoley.com
SUMMARY:Oley Fair
DESCRIPTION:Please come see us at our booth at the fair.
URL:https://ccoley.com/event/oley-fair/
LOCATION:Oley Fairgrounds\, 26 Jefferson St\, Oley\, PA\, 19547\, United States
CATEGORIES:Evangelism and Outreach
ORGANIZER;CN="Pastor Fred Bell":MAILTO:pastorfred@ccoley.com
GEO:40.3866624;-75.7846798
X-APPLE-STRUCTURED-LOCATION;VALUE=URI;X-ADDRESS=Oley Fairgrounds 26 Jefferson St Oley PA 19547 United States;X-APPLE-RADIUS=500;X-TITLE=26 Jefferson St:geo:-75.7846798,40.3866624
END:VEVENT
BEGIN:VEVENT
DTSTART;TZID=America/New_York:20210910T183000
DTEND;TZID=America/New_York:20210910T193000
DTSTAMP:20260422T234644
CREATED:20201115T190830Z
LAST-MODIFIED:20201115T190830Z
UID:10002455-1631298600-1631302200@ccoley.com
SUMMARY:Sign Language Class
DESCRIPTION:This is a beginner’s class. The course is 6:30 pm on Friday evenings. It runs from Dec. 4 through Dec. 18 and picks back up Jan. 8.
URL:https://ccoley.com/event/sign-language-class/2021-09-10/
LOCATION:Sandy Houck\, 1117 Powder Mill Hollow Rd.\, Boyertown\, PA\, 19512\, United States
CATEGORIES:Evangelism and Outreach
ORGANIZER;CN="Sandy Houck":MAILTO:skhouck@dejazzd.com
GEO:40.3302731;-75.7128775
X-APPLE-STRUCTURED-LOCATION;VALUE=URI;X-ADDRESS=Sandy Houck 1117 Powder Mill Hollow Rd. Boyertown PA 19512 United States;X-APPLE-RADIUS=500;X-TITLE=1117 Powder Mill Hollow Rd.:geo:-75.7128775,40.3302731
END:VEVENT
BEGIN:VEVENT
DTSTART;TZID=America/New_York:20210903T183000
DTEND;TZID=America/New_York:20210903T193000
DTSTAMP:20260422T234644
CREATED:20201115T190830Z
LAST-MODIFIED:20201115T190830Z
UID:10002454-1630693800-1630697400@ccoley.com
SUMMARY:Sign Language Class
DESCRIPTION:This is a beginner’s class. The course is 6:30 pm on Friday evenings. It runs from Dec. 4 through Dec. 18 and picks back up Jan. 8.
URL:https://ccoley.com/event/sign-language-class/2021-09-03/
LOCATION:Sandy Houck\, 1117 Powder Mill Hollow Rd.\, Boyertown\, PA\, 19512\, United States
CATEGORIES:Evangelism and Outreach
ORGANIZER;CN="Sandy Houck":MAILTO:skhouck@dejazzd.com
GEO:40.3302731;-75.7128775
X-APPLE-STRUCTURED-LOCATION;VALUE=URI;X-ADDRESS=Sandy Houck 1117 Powder Mill Hollow Rd. Boyertown PA 19512 United States;X-APPLE-RADIUS=500;X-TITLE=1117 Powder Mill Hollow Rd.:geo:-75.7128775,40.3302731
END:VEVENT
BEGIN:VEVENT
DTSTART;TZID=America/New_York:20210827T183000
DTEND;TZID=America/New_York:20210827T193000
DTSTAMP:20260422T234644
CREATED:20201115T190830Z
LAST-MODIFIED:20201115T190830Z
UID:10002453-1630089000-1630092600@ccoley.com
SUMMARY:Sign Language Class
DESCRIPTION:This is a beginner’s class. The course is 6:30 pm on Friday evenings. It runs from Dec. 4 through Dec. 18 and picks back up Jan. 8.
URL:https://ccoley.com/event/sign-language-class/2021-08-27/
LOCATION:Sandy Houck\, 1117 Powder Mill Hollow Rd.\, Boyertown\, PA\, 19512\, United States
CATEGORIES:Evangelism and Outreach
ORGANIZER;CN="Sandy Houck":MAILTO:skhouck@dejazzd.com
GEO:40.3302731;-75.7128775
X-APPLE-STRUCTURED-LOCATION;VALUE=URI;X-ADDRESS=Sandy Houck 1117 Powder Mill Hollow Rd. Boyertown PA 19512 United States;X-APPLE-RADIUS=500;X-TITLE=1117 Powder Mill Hollow Rd.:geo:-75.7128775,40.3302731
END:VEVENT
BEGIN:VEVENT
DTSTART;TZID=America/New_York:20210820T183000
DTEND;TZID=America/New_York:20210820T193000
DTSTAMP:20260422T234644
CREATED:20201115T190830Z
LAST-MODIFIED:20201115T190830Z
UID:10002452-1629484200-1629487800@ccoley.com
SUMMARY:Sign Language Class
DESCRIPTION:This is a beginner’s class. The course is 6:30 pm on Friday evenings. It runs from Dec. 4 through Dec. 18 and picks back up Jan. 8.
URL:https://ccoley.com/event/sign-language-class/2021-08-20/
LOCATION:Sandy Houck\, 1117 Powder Mill Hollow Rd.\, Boyertown\, PA\, 19512\, United States
CATEGORIES:Evangelism and Outreach
ORGANIZER;CN="Sandy Houck":MAILTO:skhouck@dejazzd.com
GEO:40.3302731;-75.7128775
X-APPLE-STRUCTURED-LOCATION;VALUE=URI;X-ADDRESS=Sandy Houck 1117 Powder Mill Hollow Rd. Boyertown PA 19512 United States;X-APPLE-RADIUS=500;X-TITLE=1117 Powder Mill Hollow Rd.:geo:-75.7128775,40.3302731
END:VEVENT
END:VCALENDAR