BEGIN:VCALENDAR
VERSION:2.0
PRODID:-//Calvary Chapel of the Oley Valley - ECPv6.15.20//NONSGML v1.0//EN
CALSCALE:GREGORIAN
METHOD:PUBLISH
X-ORIGINAL-URL:https://ccoley.com
X-WR-CALDESC:Events for Calvary Chapel of the Oley Valley
REFRESH-INTERVAL;VALUE=DURATION:PT1H
X-Robots-Tag:noindex
X-PUBLISHED-TTL:PT1H
BEGIN:VTIMEZONE
TZID:America/New_York
BEGIN:DAYLIGHT
TZOFFSETFROM:-0500
TZOFFSETTO:-0400
TZNAME:EDT
DTSTART:20170312T070000
END:DAYLIGHT
BEGIN:STANDARD
TZOFFSETFROM:-0400
TZOFFSETTO:-0500
TZNAME:EST
DTSTART:20171105T060000
END:STANDARD
BEGIN:DAYLIGHT
TZOFFSETFROM:-0500
TZOFFSETTO:-0400
TZNAME:EDT
DTSTART:20180311T070000
END:DAYLIGHT
BEGIN:STANDARD
TZOFFSETFROM:-0400
TZOFFSETTO:-0500
TZNAME:EST
DTSTART:20181104T060000
END:STANDARD
BEGIN:DAYLIGHT
TZOFFSETFROM:-0500
TZOFFSETTO:-0400
TZNAME:EDT
DTSTART:20190310T070000
END:DAYLIGHT
BEGIN:STANDARD
TZOFFSETFROM:-0400
TZOFFSETTO:-0500
TZNAME:EST
DTSTART:20191103T060000
END:STANDARD
BEGIN:DAYLIGHT
TZOFFSETFROM:-0500
TZOFFSETTO:-0400
TZNAME:EDT
DTSTART:20200308T070000
END:DAYLIGHT
BEGIN:STANDARD
TZOFFSETFROM:-0400
TZOFFSETTO:-0500
TZNAME:EST
DTSTART:20201101T060000
END:STANDARD
BEGIN:DAYLIGHT
TZOFFSETFROM:-0500
TZOFFSETTO:-0400
TZNAME:EDT
DTSTART:20210314T070000
END:DAYLIGHT
BEGIN:STANDARD
TZOFFSETFROM:-0400
TZOFFSETTO:-0500
TZNAME:EST
DTSTART:20211107T060000
END:STANDARD
END:VTIMEZONE
BEGIN:VEVENT
DTSTART;TZID=America/New_York:20180710T190000
DTEND;TZID=America/New_York:20180710T200000
DTSTAMP:20260423T015320
CREATED:20150318T144843Z
LAST-MODIFIED:20181126T152653Z
UID:10001175-1531249200-1531252800@ccoley.com
SUMMARY:Elder's Meeting
DESCRIPTION:
URL:https://ccoley.com/event/elders-meeting/2018-07-10/
LOCATION:Pastor Fred’s Office\, 603 Main Street\, Oley\, PA\, 19547\, United States
CATEGORIES:Elders
ORGANIZER;CN="Pastor Fred Bell":MAILTO:pastorfred@ccoley.com
GEO:40.385459;-75.785408
X-APPLE-STRUCTURED-LOCATION;VALUE=URI;X-ADDRESS=Pastor Fred’s Office 603 Main Street Oley PA 19547 United States;X-APPLE-RADIUS=500;X-TITLE=603 Main Street:geo:-75.785408,40.385459
END:VEVENT
BEGIN:VEVENT
DTSTART;TZID=America/New_York:20180814T190000
DTEND;TZID=America/New_York:20180814T200000
DTSTAMP:20260423T015320
CREATED:20150318T144843Z
LAST-MODIFIED:20181126T152653Z
UID:10001176-1534273200-1534276800@ccoley.com
SUMMARY:Elder's Meeting
DESCRIPTION:
URL:https://ccoley.com/event/elders-meeting/2018-08-14/
LOCATION:Pastor Fred’s Office\, 603 Main Street\, Oley\, PA\, 19547\, United States
CATEGORIES:Elders
ORGANIZER;CN="Pastor Fred Bell":MAILTO:pastorfred@ccoley.com
GEO:40.385459;-75.785408
X-APPLE-STRUCTURED-LOCATION;VALUE=URI;X-ADDRESS=Pastor Fred’s Office 603 Main Street Oley PA 19547 United States;X-APPLE-RADIUS=500;X-TITLE=603 Main Street:geo:-75.785408,40.385459
END:VEVENT
BEGIN:VEVENT
DTSTART;TZID=America/New_York:20180911T190000
DTEND;TZID=America/New_York:20180911T200000
DTSTAMP:20260423T015320
CREATED:20150318T144843Z
LAST-MODIFIED:20181126T152653Z
UID:10001177-1536692400-1536696000@ccoley.com
SUMMARY:Elder's Meeting
DESCRIPTION:
URL:https://ccoley.com/event/elders-meeting/2018-09-11/
LOCATION:Pastor Fred’s Office\, 603 Main Street\, Oley\, PA\, 19547\, United States
CATEGORIES:Elders
ORGANIZER;CN="Pastor Fred Bell":MAILTO:pastorfred@ccoley.com
GEO:40.385459;-75.785408
X-APPLE-STRUCTURED-LOCATION;VALUE=URI;X-ADDRESS=Pastor Fred’s Office 603 Main Street Oley PA 19547 United States;X-APPLE-RADIUS=500;X-TITLE=603 Main Street:geo:-75.785408,40.385459
END:VEVENT
BEGIN:VEVENT
DTSTART;TZID=America/New_York:20181009T190000
DTEND;TZID=America/New_York:20181009T200000
DTSTAMP:20260423T015320
CREATED:20150318T144843Z
LAST-MODIFIED:20181126T152653Z
UID:10001178-1539111600-1539115200@ccoley.com
SUMMARY:Elder's Meeting
DESCRIPTION:
URL:https://ccoley.com/event/elders-meeting/2018-10-09/
LOCATION:Pastor Fred’s Office\, 603 Main Street\, Oley\, PA\, 19547\, United States
CATEGORIES:Elders
ORGANIZER;CN="Pastor Fred Bell":MAILTO:pastorfred@ccoley.com
GEO:40.385459;-75.785408
X-APPLE-STRUCTURED-LOCATION;VALUE=URI;X-ADDRESS=Pastor Fred’s Office 603 Main Street Oley PA 19547 United States;X-APPLE-RADIUS=500;X-TITLE=603 Main Street:geo:-75.785408,40.385459
END:VEVENT
BEGIN:VEVENT
DTSTART;TZID=America/New_York:20181113T190000
DTEND;TZID=America/New_York:20181113T200000
DTSTAMP:20260423T015320
CREATED:20150318T144843Z
LAST-MODIFIED:20181126T152653Z
UID:10001179-1542135600-1542139200@ccoley.com
SUMMARY:Elder's Meeting
DESCRIPTION:
URL:https://ccoley.com/event/elders-meeting/2018-11-13/
LOCATION:Pastor Fred’s Office\, 603 Main Street\, Oley\, PA\, 19547\, United States
CATEGORIES:Elders
ORGANIZER;CN="Pastor Fred Bell":MAILTO:pastorfred@ccoley.com
GEO:40.385459;-75.785408
X-APPLE-STRUCTURED-LOCATION;VALUE=URI;X-ADDRESS=Pastor Fred’s Office 603 Main Street Oley PA 19547 United States;X-APPLE-RADIUS=500;X-TITLE=603 Main Street:geo:-75.785408,40.385459
END:VEVENT
BEGIN:VEVENT
DTSTART;TZID=America/New_York:20181211T190000
DTEND;TZID=America/New_York:20181211T200000
DTSTAMP:20260423T015320
CREATED:20150318T144843Z
LAST-MODIFIED:20181126T152653Z
UID:10001180-1544554800-1544558400@ccoley.com
SUMMARY:Elder's Meeting
DESCRIPTION:
URL:https://ccoley.com/event/elders-meeting/2018-12-11/
LOCATION:Pastor Fred’s Office\, 603 Main Street\, Oley\, PA\, 19547\, United States
CATEGORIES:Elders
ORGANIZER;CN="Pastor Fred Bell":MAILTO:pastorfred@ccoley.com
GEO:40.385459;-75.785408
X-APPLE-STRUCTURED-LOCATION;VALUE=URI;X-ADDRESS=Pastor Fred’s Office 603 Main Street Oley PA 19547 United States;X-APPLE-RADIUS=500;X-TITLE=603 Main Street:geo:-75.785408,40.385459
END:VEVENT
BEGIN:VEVENT
DTSTART;TZID=America/New_York:20190108T190000
DTEND;TZID=America/New_York:20190108T200000
DTSTAMP:20260423T015320
CREATED:20150318T144843Z
LAST-MODIFIED:20181126T152653Z
UID:10001181-1546974000-1546977600@ccoley.com
SUMMARY:Elder's Meeting
DESCRIPTION:
URL:https://ccoley.com/event/elders-meeting/2019-01-08/
LOCATION:Pastor Fred’s Office\, 603 Main Street\, Oley\, PA\, 19547\, United States
CATEGORIES:Elders
ORGANIZER;CN="Pastor Fred Bell":MAILTO:pastorfred@ccoley.com
GEO:40.385459;-75.785408
X-APPLE-STRUCTURED-LOCATION;VALUE=URI;X-ADDRESS=Pastor Fred’s Office 603 Main Street Oley PA 19547 United States;X-APPLE-RADIUS=500;X-TITLE=603 Main Street:geo:-75.785408,40.385459
END:VEVENT
BEGIN:VEVENT
DTSTART;TZID=America/New_York:20190127T120000
DTEND;TZID=America/New_York:20190127T130000
DTSTAMP:20260423T015320
CREATED:20190108T180841Z
LAST-MODIFIED:20190108T180841Z
UID:10000006-1548590400-1548594000@ccoley.com
SUMMARY:Church Finance Meeting
DESCRIPTION:There will be a church finance meeting directly after the service.  We will also have a pot luck lunch.
URL:https://ccoley.com/event/church-finance-meeting/
LOCATION:Oley Valley Elementary School\, 3247 Friedensburg Road\, Oley\, PA\, 19547\, United States
CATEGORIES:Elders
ORGANIZER;CN="Dave Vallejo":MAILTO:ccov@ccoley.com
GEO:40.379717;-75.799139
X-APPLE-STRUCTURED-LOCATION;VALUE=URI;X-ADDRESS=Oley Valley Elementary School 3247 Friedensburg Road Oley PA 19547 United States;X-APPLE-RADIUS=500;X-TITLE=3247 Friedensburg Road:geo:-75.799139,40.379717
END:VEVENT
BEGIN:VEVENT
DTSTART;TZID=America/New_York:20190212T190000
DTEND;TZID=America/New_York:20190212T200000
DTSTAMP:20260423T015320
CREATED:20150318T144843Z
LAST-MODIFIED:20181126T152653Z
UID:10001182-1549998000-1550001600@ccoley.com
SUMMARY:Elder's Meeting
DESCRIPTION:
URL:https://ccoley.com/event/elders-meeting/2019-02-12/
LOCATION:Pastor Fred’s Office\, 603 Main Street\, Oley\, PA\, 19547\, United States
CATEGORIES:Elders
ORGANIZER;CN="Pastor Fred Bell":MAILTO:pastorfred@ccoley.com
GEO:40.385459;-75.785408
X-APPLE-STRUCTURED-LOCATION;VALUE=URI;X-ADDRESS=Pastor Fred’s Office 603 Main Street Oley PA 19547 United States;X-APPLE-RADIUS=500;X-TITLE=603 Main Street:geo:-75.785408,40.385459
END:VEVENT
BEGIN:VEVENT
DTSTART;TZID=America/New_York:20190312T190000
DTEND;TZID=America/New_York:20190312T200000
DTSTAMP:20260423T015320
CREATED:20150318T144843Z
LAST-MODIFIED:20181126T152653Z
UID:10001183-1552417200-1552420800@ccoley.com
SUMMARY:Elder's Meeting
DESCRIPTION:
URL:https://ccoley.com/event/elders-meeting/2019-03-12/
LOCATION:Pastor Fred’s Office\, 603 Main Street\, Oley\, PA\, 19547\, United States
CATEGORIES:Elders
ORGANIZER;CN="Pastor Fred Bell":MAILTO:pastorfred@ccoley.com
GEO:40.385459;-75.785408
X-APPLE-STRUCTURED-LOCATION;VALUE=URI;X-ADDRESS=Pastor Fred’s Office 603 Main Street Oley PA 19547 United States;X-APPLE-RADIUS=500;X-TITLE=603 Main Street:geo:-75.785408,40.385459
END:VEVENT
BEGIN:VEVENT
DTSTART;TZID=America/New_York:20190409T190000
DTEND;TZID=America/New_York:20190409T200000
DTSTAMP:20260423T015320
CREATED:20150318T144843Z
LAST-MODIFIED:20181126T152653Z
UID:10001184-1554836400-1554840000@ccoley.com
SUMMARY:Elder's Meeting
DESCRIPTION:
URL:https://ccoley.com/event/elders-meeting/2019-04-09/
LOCATION:Pastor Fred’s Office\, 603 Main Street\, Oley\, PA\, 19547\, United States
CATEGORIES:Elders
ORGANIZER;CN="Pastor Fred Bell":MAILTO:pastorfred@ccoley.com
GEO:40.385459;-75.785408
X-APPLE-STRUCTURED-LOCATION;VALUE=URI;X-ADDRESS=Pastor Fred’s Office 603 Main Street Oley PA 19547 United States;X-APPLE-RADIUS=500;X-TITLE=603 Main Street:geo:-75.785408,40.385459
END:VEVENT
BEGIN:VEVENT
DTSTART;TZID=America/New_York:20190514T190000
DTEND;TZID=America/New_York:20190514T200000
DTSTAMP:20260423T015320
CREATED:20150318T144843Z
LAST-MODIFIED:20181126T152653Z
UID:10001185-1557860400-1557864000@ccoley.com
SUMMARY:Elder's Meeting
DESCRIPTION:
URL:https://ccoley.com/event/elders-meeting/2019-05-14/
LOCATION:Pastor Fred’s Office\, 603 Main Street\, Oley\, PA\, 19547\, United States
CATEGORIES:Elders
ORGANIZER;CN="Pastor Fred Bell":MAILTO:pastorfred@ccoley.com
GEO:40.385459;-75.785408
X-APPLE-STRUCTURED-LOCATION;VALUE=URI;X-ADDRESS=Pastor Fred’s Office 603 Main Street Oley PA 19547 United States;X-APPLE-RADIUS=500;X-TITLE=603 Main Street:geo:-75.785408,40.385459
END:VEVENT
BEGIN:VEVENT
DTSTART;TZID=America/New_York:20190611T190000
DTEND;TZID=America/New_York:20190611T200000
DTSTAMP:20260423T015320
CREATED:20150318T144843Z
LAST-MODIFIED:20181126T152653Z
UID:10001186-1560279600-1560283200@ccoley.com
SUMMARY:Elder's Meeting
DESCRIPTION:
URL:https://ccoley.com/event/elders-meeting/2019-06-11/
LOCATION:Pastor Fred’s Office\, 603 Main Street\, Oley\, PA\, 19547\, United States
CATEGORIES:Elders
ORGANIZER;CN="Pastor Fred Bell":MAILTO:pastorfred@ccoley.com
GEO:40.385459;-75.785408
X-APPLE-STRUCTURED-LOCATION;VALUE=URI;X-ADDRESS=Pastor Fred’s Office 603 Main Street Oley PA 19547 United States;X-APPLE-RADIUS=500;X-TITLE=603 Main Street:geo:-75.785408,40.385459
END:VEVENT
BEGIN:VEVENT
DTSTART;TZID=America/New_York:20190709T190000
DTEND;TZID=America/New_York:20190709T200000
DTSTAMP:20260423T015320
CREATED:20150318T144843Z
LAST-MODIFIED:20181126T152653Z
UID:10001187-1562698800-1562702400@ccoley.com
SUMMARY:Elder's Meeting
DESCRIPTION:
URL:https://ccoley.com/event/elders-meeting/2019-07-09/
LOCATION:Pastor Fred’s Office\, 603 Main Street\, Oley\, PA\, 19547\, United States
CATEGORIES:Elders
ORGANIZER;CN="Pastor Fred Bell":MAILTO:pastorfred@ccoley.com
GEO:40.385459;-75.785408
X-APPLE-STRUCTURED-LOCATION;VALUE=URI;X-ADDRESS=Pastor Fred’s Office 603 Main Street Oley PA 19547 United States;X-APPLE-RADIUS=500;X-TITLE=603 Main Street:geo:-75.785408,40.385459
END:VEVENT
BEGIN:VEVENT
DTSTART;TZID=America/New_York:20190813T190000
DTEND;TZID=America/New_York:20190813T200000
DTSTAMP:20260423T015320
CREATED:20150318T144843Z
LAST-MODIFIED:20181126T152653Z
UID:10001188-1565722800-1565726400@ccoley.com
SUMMARY:Elder's Meeting
DESCRIPTION:
URL:https://ccoley.com/event/elders-meeting/2019-08-13/
LOCATION:Pastor Fred’s Office\, 603 Main Street\, Oley\, PA\, 19547\, United States
CATEGORIES:Elders
ORGANIZER;CN="Pastor Fred Bell":MAILTO:pastorfred@ccoley.com
GEO:40.385459;-75.785408
X-APPLE-STRUCTURED-LOCATION;VALUE=URI;X-ADDRESS=Pastor Fred’s Office 603 Main Street Oley PA 19547 United States;X-APPLE-RADIUS=500;X-TITLE=603 Main Street:geo:-75.785408,40.385459
END:VEVENT
BEGIN:VEVENT
DTSTART;TZID=America/New_York:20190910T190000
DTEND;TZID=America/New_York:20190910T200000
DTSTAMP:20260423T015320
CREATED:20150318T144843Z
LAST-MODIFIED:20181126T152653Z
UID:10001189-1568142000-1568145600@ccoley.com
SUMMARY:Elder's Meeting
DESCRIPTION:
URL:https://ccoley.com/event/elders-meeting/2019-09-10/
LOCATION:Pastor Fred’s Office\, 603 Main Street\, Oley\, PA\, 19547\, United States
CATEGORIES:Elders
ORGANIZER;CN="Pastor Fred Bell":MAILTO:pastorfred@ccoley.com
GEO:40.385459;-75.785408
X-APPLE-STRUCTURED-LOCATION;VALUE=URI;X-ADDRESS=Pastor Fred’s Office 603 Main Street Oley PA 19547 United States;X-APPLE-RADIUS=500;X-TITLE=603 Main Street:geo:-75.785408,40.385459
END:VEVENT
BEGIN:VEVENT
DTSTART;TZID=America/New_York:20191008T190000
DTEND;TZID=America/New_York:20191008T200000
DTSTAMP:20260423T015320
CREATED:20150318T144843Z
LAST-MODIFIED:20181126T152653Z
UID:10001190-1570561200-1570564800@ccoley.com
SUMMARY:Elder's Meeting
DESCRIPTION:
URL:https://ccoley.com/event/elders-meeting/2019-10-08/
LOCATION:Pastor Fred’s Office\, 603 Main Street\, Oley\, PA\, 19547\, United States
CATEGORIES:Elders
ORGANIZER;CN="Pastor Fred Bell":MAILTO:pastorfred@ccoley.com
GEO:40.385459;-75.785408
X-APPLE-STRUCTURED-LOCATION;VALUE=URI;X-ADDRESS=Pastor Fred’s Office 603 Main Street Oley PA 19547 United States;X-APPLE-RADIUS=500;X-TITLE=603 Main Street:geo:-75.785408,40.385459
END:VEVENT
BEGIN:VEVENT
DTSTART;TZID=America/New_York:20191112T190000
DTEND;TZID=America/New_York:20191112T200000
DTSTAMP:20260423T015320
CREATED:20150318T144843Z
LAST-MODIFIED:20181126T152653Z
UID:10001191-1573585200-1573588800@ccoley.com
SUMMARY:Elder's Meeting
DESCRIPTION:
URL:https://ccoley.com/event/elders-meeting/2019-11-12/
LOCATION:Pastor Fred’s Office\, 603 Main Street\, Oley\, PA\, 19547\, United States
CATEGORIES:Elders
ORGANIZER;CN="Pastor Fred Bell":MAILTO:pastorfred@ccoley.com
GEO:40.385459;-75.785408
X-APPLE-STRUCTURED-LOCATION;VALUE=URI;X-ADDRESS=Pastor Fred’s Office 603 Main Street Oley PA 19547 United States;X-APPLE-RADIUS=500;X-TITLE=603 Main Street:geo:-75.785408,40.385459
END:VEVENT
BEGIN:VEVENT
DTSTART;TZID=America/New_York:20191210T190000
DTEND;TZID=America/New_York:20191210T200000
DTSTAMP:20260423T015320
CREATED:20150318T144843Z
LAST-MODIFIED:20181126T152653Z
UID:10001192-1576004400-1576008000@ccoley.com
SUMMARY:Elder's Meeting
DESCRIPTION:
URL:https://ccoley.com/event/elders-meeting/2019-12-10/
LOCATION:Pastor Fred’s Office\, 603 Main Street\, Oley\, PA\, 19547\, United States
CATEGORIES:Elders
ORGANIZER;CN="Pastor Fred Bell":MAILTO:pastorfred@ccoley.com
GEO:40.385459;-75.785408
X-APPLE-STRUCTURED-LOCATION;VALUE=URI;X-ADDRESS=Pastor Fred’s Office 603 Main Street Oley PA 19547 United States;X-APPLE-RADIUS=500;X-TITLE=603 Main Street:geo:-75.785408,40.385459
END:VEVENT
BEGIN:VEVENT
DTSTART;TZID=America/New_York:20200114T190000
DTEND;TZID=America/New_York:20200114T200000
DTSTAMP:20260423T015320
CREATED:20150318T144843Z
LAST-MODIFIED:20181126T152653Z
UID:10001193-1579028400-1579032000@ccoley.com
SUMMARY:Elder's Meeting
DESCRIPTION:
URL:https://ccoley.com/event/elders-meeting/2020-01-14/
LOCATION:Pastor Fred’s Office\, 603 Main Street\, Oley\, PA\, 19547\, United States
CATEGORIES:Elders
ORGANIZER;CN="Pastor Fred Bell":MAILTO:pastorfred@ccoley.com
GEO:40.385459;-75.785408
X-APPLE-STRUCTURED-LOCATION;VALUE=URI;X-ADDRESS=Pastor Fred’s Office 603 Main Street Oley PA 19547 United States;X-APPLE-RADIUS=500;X-TITLE=603 Main Street:geo:-75.785408,40.385459
END:VEVENT
BEGIN:VEVENT
DTSTART;TZID=America/New_York:20200211T190000
DTEND;TZID=America/New_York:20200211T200000
DTSTAMP:20260423T015320
CREATED:20150318T144843Z
LAST-MODIFIED:20181126T152653Z
UID:10001194-1581447600-1581451200@ccoley.com
SUMMARY:Elder's Meeting
DESCRIPTION:
URL:https://ccoley.com/event/elders-meeting/2020-02-11/
LOCATION:Pastor Fred’s Office\, 603 Main Street\, Oley\, PA\, 19547\, United States
CATEGORIES:Elders
ORGANIZER;CN="Pastor Fred Bell":MAILTO:pastorfred@ccoley.com
GEO:40.385459;-75.785408
X-APPLE-STRUCTURED-LOCATION;VALUE=URI;X-ADDRESS=Pastor Fred’s Office 603 Main Street Oley PA 19547 United States;X-APPLE-RADIUS=500;X-TITLE=603 Main Street:geo:-75.785408,40.385459
END:VEVENT
BEGIN:VEVENT
DTSTART;TZID=America/New_York:20200310T190000
DTEND;TZID=America/New_York:20200310T200000
DTSTAMP:20260423T015320
CREATED:20150318T144843Z
LAST-MODIFIED:20181126T152653Z
UID:10001195-1583866800-1583870400@ccoley.com
SUMMARY:Elder's Meeting
DESCRIPTION:
URL:https://ccoley.com/event/elders-meeting/2020-03-10/
LOCATION:Pastor Fred’s Office\, 603 Main Street\, Oley\, PA\, 19547\, United States
CATEGORIES:Elders
ORGANIZER;CN="Pastor Fred Bell":MAILTO:pastorfred@ccoley.com
GEO:40.385459;-75.785408
X-APPLE-STRUCTURED-LOCATION;VALUE=URI;X-ADDRESS=Pastor Fred’s Office 603 Main Street Oley PA 19547 United States;X-APPLE-RADIUS=500;X-TITLE=603 Main Street:geo:-75.785408,40.385459
END:VEVENT
BEGIN:VEVENT
DTSTART;TZID=America/New_York:20200414T190000
DTEND;TZID=America/New_York:20200414T200000
DTSTAMP:20260423T015320
CREATED:20150318T144843Z
LAST-MODIFIED:20181126T152653Z
UID:10001196-1586890800-1586894400@ccoley.com
SUMMARY:Elder's Meeting
DESCRIPTION:
URL:https://ccoley.com/event/elders-meeting/2020-04-14/
LOCATION:Pastor Fred’s Office\, 603 Main Street\, Oley\, PA\, 19547\, United States
CATEGORIES:Elders
ORGANIZER;CN="Pastor Fred Bell":MAILTO:pastorfred@ccoley.com
GEO:40.385459;-75.785408
X-APPLE-STRUCTURED-LOCATION;VALUE=URI;X-ADDRESS=Pastor Fred’s Office 603 Main Street Oley PA 19547 United States;X-APPLE-RADIUS=500;X-TITLE=603 Main Street:geo:-75.785408,40.385459
END:VEVENT
BEGIN:VEVENT
DTSTART;TZID=America/New_York:20200512T190000
DTEND;TZID=America/New_York:20200512T200000
DTSTAMP:20260423T015320
CREATED:20150318T144843Z
LAST-MODIFIED:20181126T152653Z
UID:10001197-1589310000-1589313600@ccoley.com
SUMMARY:Elder's Meeting
DESCRIPTION:
URL:https://ccoley.com/event/elders-meeting/2020-05-12/
LOCATION:Pastor Fred’s Office\, 603 Main Street\, Oley\, PA\, 19547\, United States
CATEGORIES:Elders
ORGANIZER;CN="Pastor Fred Bell":MAILTO:pastorfred@ccoley.com
GEO:40.385459;-75.785408
X-APPLE-STRUCTURED-LOCATION;VALUE=URI;X-ADDRESS=Pastor Fred’s Office 603 Main Street Oley PA 19547 United States;X-APPLE-RADIUS=500;X-TITLE=603 Main Street:geo:-75.785408,40.385459
END:VEVENT
BEGIN:VEVENT
DTSTART;TZID=America/New_York:20200609T190000
DTEND;TZID=America/New_York:20200609T200000
DTSTAMP:20260423T015320
CREATED:20150318T144843Z
LAST-MODIFIED:20181126T152653Z
UID:10001198-1591729200-1591732800@ccoley.com
SUMMARY:Elder's Meeting
DESCRIPTION:
URL:https://ccoley.com/event/elders-meeting/2020-06-09/
LOCATION:Pastor Fred’s Office\, 603 Main Street\, Oley\, PA\, 19547\, United States
CATEGORIES:Elders
ORGANIZER;CN="Pastor Fred Bell":MAILTO:pastorfred@ccoley.com
GEO:40.385459;-75.785408
X-APPLE-STRUCTURED-LOCATION;VALUE=URI;X-ADDRESS=Pastor Fred’s Office 603 Main Street Oley PA 19547 United States;X-APPLE-RADIUS=500;X-TITLE=603 Main Street:geo:-75.785408,40.385459
END:VEVENT
BEGIN:VEVENT
DTSTART;TZID=America/New_York:20200714T190000
DTEND;TZID=America/New_York:20200714T200000
DTSTAMP:20260423T015320
CREATED:20150318T144843Z
LAST-MODIFIED:20181126T152653Z
UID:10001199-1594753200-1594756800@ccoley.com
SUMMARY:Elder's Meeting
DESCRIPTION:
URL:https://ccoley.com/event/elders-meeting/2020-07-14/
LOCATION:Pastor Fred’s Office\, 603 Main Street\, Oley\, PA\, 19547\, United States
CATEGORIES:Elders
ORGANIZER;CN="Pastor Fred Bell":MAILTO:pastorfred@ccoley.com
GEO:40.385459;-75.785408
X-APPLE-STRUCTURED-LOCATION;VALUE=URI;X-ADDRESS=Pastor Fred’s Office 603 Main Street Oley PA 19547 United States;X-APPLE-RADIUS=500;X-TITLE=603 Main Street:geo:-75.785408,40.385459
END:VEVENT
BEGIN:VEVENT
DTSTART;TZID=America/New_York:20200811T190000
DTEND;TZID=America/New_York:20200811T200000
DTSTAMP:20260423T015320
CREATED:20150318T144843Z
LAST-MODIFIED:20181126T152653Z
UID:10001200-1597172400-1597176000@ccoley.com
SUMMARY:Elder's Meeting
DESCRIPTION:
URL:https://ccoley.com/event/elders-meeting/2020-08-11/
LOCATION:Pastor Fred’s Office\, 603 Main Street\, Oley\, PA\, 19547\, United States
CATEGORIES:Elders
ORGANIZER;CN="Pastor Fred Bell":MAILTO:pastorfred@ccoley.com
GEO:40.385459;-75.785408
X-APPLE-STRUCTURED-LOCATION;VALUE=URI;X-ADDRESS=Pastor Fred’s Office 603 Main Street Oley PA 19547 United States;X-APPLE-RADIUS=500;X-TITLE=603 Main Street:geo:-75.785408,40.385459
END:VEVENT
BEGIN:VEVENT
DTSTART;TZID=America/New_York:20200908T190000
DTEND;TZID=America/New_York:20200908T200000
DTSTAMP:20260423T015320
CREATED:20150318T144843Z
LAST-MODIFIED:20181126T152653Z
UID:10001201-1599591600-1599595200@ccoley.com
SUMMARY:Elder's Meeting
DESCRIPTION:
URL:https://ccoley.com/event/elders-meeting/2020-09-08/
LOCATION:Pastor Fred’s Office\, 603 Main Street\, Oley\, PA\, 19547\, United States
CATEGORIES:Elders
ORGANIZER;CN="Pastor Fred Bell":MAILTO:pastorfred@ccoley.com
GEO:40.385459;-75.785408
X-APPLE-STRUCTURED-LOCATION;VALUE=URI;X-ADDRESS=Pastor Fred’s Office 603 Main Street Oley PA 19547 United States;X-APPLE-RADIUS=500;X-TITLE=603 Main Street:geo:-75.785408,40.385459
END:VEVENT
BEGIN:VEVENT
DTSTART;TZID=America/New_York:20201013T190000
DTEND;TZID=America/New_York:20201013T200000
DTSTAMP:20260423T015320
CREATED:20150318T144843Z
LAST-MODIFIED:20181126T152653Z
UID:10001202-1602615600-1602619200@ccoley.com
SUMMARY:Elder's Meeting
DESCRIPTION:
URL:https://ccoley.com/event/elders-meeting/2020-10-13/
LOCATION:Pastor Fred’s Office\, 603 Main Street\, Oley\, PA\, 19547\, United States
CATEGORIES:Elders
ORGANIZER;CN="Pastor Fred Bell":MAILTO:pastorfred@ccoley.com
GEO:40.385459;-75.785408
X-APPLE-STRUCTURED-LOCATION;VALUE=URI;X-ADDRESS=Pastor Fred’s Office 603 Main Street Oley PA 19547 United States;X-APPLE-RADIUS=500;X-TITLE=603 Main Street:geo:-75.785408,40.385459
END:VEVENT
BEGIN:VEVENT
DTSTART;TZID=America/New_York:20201110T190000
DTEND;TZID=America/New_York:20201110T200000
DTSTAMP:20260423T015320
CREATED:20150318T144843Z
LAST-MODIFIED:20181126T152653Z
UID:10001203-1605034800-1605038400@ccoley.com
SUMMARY:Elder's Meeting
DESCRIPTION:
URL:https://ccoley.com/event/elders-meeting/2020-11-10/
LOCATION:Pastor Fred’s Office\, 603 Main Street\, Oley\, PA\, 19547\, United States
CATEGORIES:Elders
ORGANIZER;CN="Pastor Fred Bell":MAILTO:pastorfred@ccoley.com
GEO:40.385459;-75.785408
X-APPLE-STRUCTURED-LOCATION;VALUE=URI;X-ADDRESS=Pastor Fred’s Office 603 Main Street Oley PA 19547 United States;X-APPLE-RADIUS=500;X-TITLE=603 Main Street:geo:-75.785408,40.385459
END:VEVENT
END:VCALENDAR