BEGIN:VCALENDAR
VERSION:2.0
PRODID:-//Calvary Chapel of the Oley Valley - ECPv6.15.20//NONSGML v1.0//EN
CALSCALE:GREGORIAN
METHOD:PUBLISH
X-ORIGINAL-URL:https://ccoley.com
X-WR-CALDESC:Events for Calvary Chapel of the Oley Valley
REFRESH-INTERVAL;VALUE=DURATION:PT1H
X-Robots-Tag:noindex
X-PUBLISHED-TTL:PT1H
BEGIN:VTIMEZONE
TZID:America/New_York
BEGIN:DAYLIGHT
TZOFFSETFROM:-0500
TZOFFSETTO:-0400
TZNAME:EDT
DTSTART:20230312T070000
END:DAYLIGHT
BEGIN:STANDARD
TZOFFSETFROM:-0400
TZOFFSETTO:-0500
TZNAME:EST
DTSTART:20231105T060000
END:STANDARD
BEGIN:DAYLIGHT
TZOFFSETFROM:-0500
TZOFFSETTO:-0400
TZNAME:EDT
DTSTART:20240310T070000
END:DAYLIGHT
BEGIN:STANDARD
TZOFFSETFROM:-0400
TZOFFSETTO:-0500
TZNAME:EST
DTSTART:20241103T060000
END:STANDARD
BEGIN:DAYLIGHT
TZOFFSETFROM:-0500
TZOFFSETTO:-0400
TZNAME:EDT
DTSTART:20250309T070000
END:DAYLIGHT
BEGIN:STANDARD
TZOFFSETFROM:-0400
TZOFFSETTO:-0500
TZNAME:EST
DTSTART:20251102T060000
END:STANDARD
BEGIN:DAYLIGHT
TZOFFSETFROM:-0500
TZOFFSETTO:-0400
TZNAME:EDT
DTSTART:20260308T070000
END:DAYLIGHT
BEGIN:STANDARD
TZOFFSETFROM:-0400
TZOFFSETTO:-0500
TZNAME:EST
DTSTART:20261101T060000
END:STANDARD
END:VTIMEZONE
BEGIN:VEVENT
DTSTART;TZID=America/New_York:20251202T091500
DTEND;TZID=America/New_York:20251202T110000
DTSTAMP:20260422T204009
CREATED:20250928T170516Z
LAST-MODIFIED:20250928T170528Z
UID:10005244-1764666900-1764673200@ccoley.com
SUMMARY:Women's Bible Study
DESCRIPTION:The study will be on the book of Matthew.
URL:https://ccoley.com/event/womens-bible-study-9/2025-12-02/
LOCATION:Dave & Alice Coult\, 38 Heiligs School Road\, Oley\, PA\, 19547\, United States
CATEGORIES:Women's Bible Study
ORGANIZER;CN="Alice Coult":MAILTO:acoult@ptd.net
GEO:40.420843;-75.707817
X-APPLE-STRUCTURED-LOCATION;VALUE=URI;X-ADDRESS=Dave & Alice Coult 38 Heiligs School Road Oley PA 19547 United States;X-APPLE-RADIUS=500;X-TITLE=38 Heiligs School Road:geo:-75.707817,40.420843
END:VEVENT
BEGIN:VEVENT
DTSTART;TZID=America/New_York:20251125T091500
DTEND;TZID=America/New_York:20251125T110000
DTSTAMP:20260422T204009
CREATED:20250928T170516Z
LAST-MODIFIED:20250928T170528Z
UID:10005243-1764062100-1764068400@ccoley.com
SUMMARY:Women's Bible Study
DESCRIPTION:The study will be on the book of Matthew.
URL:https://ccoley.com/event/womens-bible-study-9/2025-11-25/
LOCATION:Dave & Alice Coult\, 38 Heiligs School Road\, Oley\, PA\, 19547\, United States
CATEGORIES:Women's Bible Study
ORGANIZER;CN="Alice Coult":MAILTO:acoult@ptd.net
GEO:40.420843;-75.707817
X-APPLE-STRUCTURED-LOCATION;VALUE=URI;X-ADDRESS=Dave & Alice Coult 38 Heiligs School Road Oley PA 19547 United States;X-APPLE-RADIUS=500;X-TITLE=38 Heiligs School Road:geo:-75.707817,40.420843
END:VEVENT
BEGIN:VEVENT
DTSTART;TZID=America/New_York:20251118T091500
DTEND;TZID=America/New_York:20251118T110000
DTSTAMP:20260422T204009
CREATED:20250928T170516Z
LAST-MODIFIED:20250928T170528Z
UID:10005242-1763457300-1763463600@ccoley.com
SUMMARY:Women's Bible Study
DESCRIPTION:The study will be on the book of Matthew.
URL:https://ccoley.com/event/womens-bible-study-9/2025-11-18/
LOCATION:Dave & Alice Coult\, 38 Heiligs School Road\, Oley\, PA\, 19547\, United States
CATEGORIES:Women's Bible Study
ORGANIZER;CN="Alice Coult":MAILTO:acoult@ptd.net
GEO:40.420843;-75.707817
X-APPLE-STRUCTURED-LOCATION;VALUE=URI;X-ADDRESS=Dave & Alice Coult 38 Heiligs School Road Oley PA 19547 United States;X-APPLE-RADIUS=500;X-TITLE=38 Heiligs School Road:geo:-75.707817,40.420843
END:VEVENT
BEGIN:VEVENT
DTSTART;TZID=America/New_York:20251111T091500
DTEND;TZID=America/New_York:20251111T110000
DTSTAMP:20260422T204009
CREATED:20250928T170516Z
LAST-MODIFIED:20250928T170528Z
UID:10005241-1762852500-1762858800@ccoley.com
SUMMARY:Women's Bible Study
DESCRIPTION:The study will be on the book of Matthew.
URL:https://ccoley.com/event/womens-bible-study-9/2025-11-11/
LOCATION:Dave & Alice Coult\, 38 Heiligs School Road\, Oley\, PA\, 19547\, United States
CATEGORIES:Women's Bible Study
ORGANIZER;CN="Alice Coult":MAILTO:acoult@ptd.net
GEO:40.420843;-75.707817
X-APPLE-STRUCTURED-LOCATION;VALUE=URI;X-ADDRESS=Dave & Alice Coult 38 Heiligs School Road Oley PA 19547 United States;X-APPLE-RADIUS=500;X-TITLE=38 Heiligs School Road:geo:-75.707817,40.420843
END:VEVENT
BEGIN:VEVENT
DTSTART;TZID=America/New_York:20251104T091500
DTEND;TZID=America/New_York:20251104T110000
DTSTAMP:20260422T204009
CREATED:20250928T170516Z
LAST-MODIFIED:20250928T170528Z
UID:10005240-1762247700-1762254000@ccoley.com
SUMMARY:Women's Bible Study
DESCRIPTION:The study will be on the book of Matthew.
URL:https://ccoley.com/event/womens-bible-study-9/2025-11-04/
LOCATION:Dave & Alice Coult\, 38 Heiligs School Road\, Oley\, PA\, 19547\, United States
CATEGORIES:Women's Bible Study
ORGANIZER;CN="Alice Coult":MAILTO:acoult@ptd.net
GEO:40.420843;-75.707817
X-APPLE-STRUCTURED-LOCATION;VALUE=URI;X-ADDRESS=Dave & Alice Coult 38 Heiligs School Road Oley PA 19547 United States;X-APPLE-RADIUS=500;X-TITLE=38 Heiligs School Road:geo:-75.707817,40.420843
END:VEVENT
BEGIN:VEVENT
DTSTART;TZID=America/New_York:20251028T091500
DTEND;TZID=America/New_York:20251028T110000
DTSTAMP:20260422T204009
CREATED:20250928T170516Z
LAST-MODIFIED:20250928T170528Z
UID:10005239-1761642900-1761649200@ccoley.com
SUMMARY:Women's Bible Study
DESCRIPTION:The study will be on the book of Matthew.
URL:https://ccoley.com/event/womens-bible-study-9/2025-10-28/
LOCATION:Dave & Alice Coult\, 38 Heiligs School Road\, Oley\, PA\, 19547\, United States
CATEGORIES:Women's Bible Study
ORGANIZER;CN="Alice Coult":MAILTO:acoult@ptd.net
GEO:40.420843;-75.707817
X-APPLE-STRUCTURED-LOCATION;VALUE=URI;X-ADDRESS=Dave & Alice Coult 38 Heiligs School Road Oley PA 19547 United States;X-APPLE-RADIUS=500;X-TITLE=38 Heiligs School Road:geo:-75.707817,40.420843
END:VEVENT
BEGIN:VEVENT
DTSTART;TZID=America/New_York:20251021T091500
DTEND;TZID=America/New_York:20251021T110000
DTSTAMP:20260422T204009
CREATED:20250928T170516Z
LAST-MODIFIED:20250928T170528Z
UID:10005238-1761038100-1761044400@ccoley.com
SUMMARY:Women's Bible Study
DESCRIPTION:The study will be on the book of Matthew.
URL:https://ccoley.com/event/womens-bible-study-9/2025-10-21/
LOCATION:Dave & Alice Coult\, 38 Heiligs School Road\, Oley\, PA\, 19547\, United States
CATEGORIES:Women's Bible Study
ORGANIZER;CN="Alice Coult":MAILTO:acoult@ptd.net
GEO:40.420843;-75.707817
X-APPLE-STRUCTURED-LOCATION;VALUE=URI;X-ADDRESS=Dave & Alice Coult 38 Heiligs School Road Oley PA 19547 United States;X-APPLE-RADIUS=500;X-TITLE=38 Heiligs School Road:geo:-75.707817,40.420843
END:VEVENT
BEGIN:VEVENT
DTSTART;TZID=America/New_York:20251014T091500
DTEND;TZID=America/New_York:20251014T110000
DTSTAMP:20260422T204009
CREATED:20250928T170516Z
LAST-MODIFIED:20250928T170528Z
UID:10005237-1760433300-1760439600@ccoley.com
SUMMARY:Women's Bible Study
DESCRIPTION:The study will be on the book of Matthew.
URL:https://ccoley.com/event/womens-bible-study-9/2025-10-14/
LOCATION:Dave & Alice Coult\, 38 Heiligs School Road\, Oley\, PA\, 19547\, United States
CATEGORIES:Women's Bible Study
ORGANIZER;CN="Alice Coult":MAILTO:acoult@ptd.net
GEO:40.420843;-75.707817
X-APPLE-STRUCTURED-LOCATION;VALUE=URI;X-ADDRESS=Dave & Alice Coult 38 Heiligs School Road Oley PA 19547 United States;X-APPLE-RADIUS=500;X-TITLE=38 Heiligs School Road:geo:-75.707817,40.420843
END:VEVENT
BEGIN:VEVENT
DTSTART;TZID=America/New_York:20250520T091500
DTEND;TZID=America/New_York:20250520T110000
DTSTAMP:20260422T204009
CREATED:20241013T182037Z
LAST-MODIFIED:20241013T182326Z
UID:10004311-1747732500-1747738800@ccoley.com
SUMMARY:Women's Bible Study
DESCRIPTION:The study will be on God’s Grace.
URL:https://ccoley.com/event/womens-bible-study-8/2025-05-20/
LOCATION:Dave & Alice Coult\, 38 Heiligs School Road\, Oley\, PA\, 19547\, United States
CATEGORIES:Women's Bible Study
ORGANIZER;CN="Alice Coult":MAILTO:acoult@ptd.net
GEO:40.420843;-75.707817
X-APPLE-STRUCTURED-LOCATION;VALUE=URI;X-ADDRESS=Dave & Alice Coult 38 Heiligs School Road Oley PA 19547 United States;X-APPLE-RADIUS=500;X-TITLE=38 Heiligs School Road:geo:-75.707817,40.420843
END:VEVENT
BEGIN:VEVENT
DTSTART;TZID=America/New_York:20250513T091500
DTEND;TZID=America/New_York:20250513T110000
DTSTAMP:20260422T204009
CREATED:20241013T182037Z
LAST-MODIFIED:20241013T182326Z
UID:10004310-1747127700-1747134000@ccoley.com
SUMMARY:Women's Bible Study
DESCRIPTION:The study will be on God’s Grace.
URL:https://ccoley.com/event/womens-bible-study-8/2025-05-13/
LOCATION:Dave & Alice Coult\, 38 Heiligs School Road\, Oley\, PA\, 19547\, United States
CATEGORIES:Women's Bible Study
ORGANIZER;CN="Alice Coult":MAILTO:acoult@ptd.net
GEO:40.420843;-75.707817
X-APPLE-STRUCTURED-LOCATION;VALUE=URI;X-ADDRESS=Dave & Alice Coult 38 Heiligs School Road Oley PA 19547 United States;X-APPLE-RADIUS=500;X-TITLE=38 Heiligs School Road:geo:-75.707817,40.420843
END:VEVENT
BEGIN:VEVENT
DTSTART;TZID=America/New_York:20250506T091500
DTEND;TZID=America/New_York:20250506T110000
DTSTAMP:20260422T204009
CREATED:20241013T182037Z
LAST-MODIFIED:20241013T182326Z
UID:10004309-1746522900-1746529200@ccoley.com
SUMMARY:Women's Bible Study
DESCRIPTION:The study will be on God’s Grace.
URL:https://ccoley.com/event/womens-bible-study-8/2025-05-06/
LOCATION:Dave & Alice Coult\, 38 Heiligs School Road\, Oley\, PA\, 19547\, United States
CATEGORIES:Women's Bible Study
ORGANIZER;CN="Alice Coult":MAILTO:acoult@ptd.net
GEO:40.420843;-75.707817
X-APPLE-STRUCTURED-LOCATION;VALUE=URI;X-ADDRESS=Dave & Alice Coult 38 Heiligs School Road Oley PA 19547 United States;X-APPLE-RADIUS=500;X-TITLE=38 Heiligs School Road:geo:-75.707817,40.420843
END:VEVENT
BEGIN:VEVENT
DTSTART;TZID=America/New_York:20250429T091500
DTEND;TZID=America/New_York:20250429T110000
DTSTAMP:20260422T204009
CREATED:20241013T182037Z
LAST-MODIFIED:20241013T182326Z
UID:10004308-1745918100-1745924400@ccoley.com
SUMMARY:Women's Bible Study
DESCRIPTION:The study will be on God’s Grace.
URL:https://ccoley.com/event/womens-bible-study-8/2025-04-29/
LOCATION:Dave & Alice Coult\, 38 Heiligs School Road\, Oley\, PA\, 19547\, United States
CATEGORIES:Women's Bible Study
ORGANIZER;CN="Alice Coult":MAILTO:acoult@ptd.net
GEO:40.420843;-75.707817
X-APPLE-STRUCTURED-LOCATION;VALUE=URI;X-ADDRESS=Dave & Alice Coult 38 Heiligs School Road Oley PA 19547 United States;X-APPLE-RADIUS=500;X-TITLE=38 Heiligs School Road:geo:-75.707817,40.420843
END:VEVENT
BEGIN:VEVENT
DTSTART;TZID=America/New_York:20250422T091500
DTEND;TZID=America/New_York:20250422T110000
DTSTAMP:20260422T204009
CREATED:20241013T182037Z
LAST-MODIFIED:20241013T182326Z
UID:10004307-1745313300-1745319600@ccoley.com
SUMMARY:Women's Bible Study
DESCRIPTION:The study will be on God’s Grace.
URL:https://ccoley.com/event/womens-bible-study-8/2025-04-22/
LOCATION:Dave & Alice Coult\, 38 Heiligs School Road\, Oley\, PA\, 19547\, United States
CATEGORIES:Women's Bible Study
ORGANIZER;CN="Alice Coult":MAILTO:acoult@ptd.net
GEO:40.420843;-75.707817
X-APPLE-STRUCTURED-LOCATION;VALUE=URI;X-ADDRESS=Dave & Alice Coult 38 Heiligs School Road Oley PA 19547 United States;X-APPLE-RADIUS=500;X-TITLE=38 Heiligs School Road:geo:-75.707817,40.420843
END:VEVENT
BEGIN:VEVENT
DTSTART;TZID=America/New_York:20250415T091500
DTEND;TZID=America/New_York:20250415T110000
DTSTAMP:20260422T204009
CREATED:20241013T182037Z
LAST-MODIFIED:20241013T182326Z
UID:10004306-1744708500-1744714800@ccoley.com
SUMMARY:Women's Bible Study
DESCRIPTION:The study will be on God’s Grace.
URL:https://ccoley.com/event/womens-bible-study-8/2025-04-15/
LOCATION:Dave & Alice Coult\, 38 Heiligs School Road\, Oley\, PA\, 19547\, United States
CATEGORIES:Women's Bible Study
ORGANIZER;CN="Alice Coult":MAILTO:acoult@ptd.net
GEO:40.420843;-75.707817
X-APPLE-STRUCTURED-LOCATION;VALUE=URI;X-ADDRESS=Dave & Alice Coult 38 Heiligs School Road Oley PA 19547 United States;X-APPLE-RADIUS=500;X-TITLE=38 Heiligs School Road:geo:-75.707817,40.420843
END:VEVENT
BEGIN:VEVENT
DTSTART;TZID=America/New_York:20250408T091500
DTEND;TZID=America/New_York:20250408T110000
DTSTAMP:20260422T204009
CREATED:20241013T182037Z
LAST-MODIFIED:20241013T182326Z
UID:10004305-1744103700-1744110000@ccoley.com
SUMMARY:Women's Bible Study
DESCRIPTION:The study will be on God’s Grace.
URL:https://ccoley.com/event/womens-bible-study-8/2025-04-08/
LOCATION:Dave & Alice Coult\, 38 Heiligs School Road\, Oley\, PA\, 19547\, United States
CATEGORIES:Women's Bible Study
ORGANIZER;CN="Alice Coult":MAILTO:acoult@ptd.net
GEO:40.420843;-75.707817
X-APPLE-STRUCTURED-LOCATION;VALUE=URI;X-ADDRESS=Dave & Alice Coult 38 Heiligs School Road Oley PA 19547 United States;X-APPLE-RADIUS=500;X-TITLE=38 Heiligs School Road:geo:-75.707817,40.420843
END:VEVENT
BEGIN:VEVENT
DTSTART;TZID=America/New_York:20250401T091500
DTEND;TZID=America/New_York:20250401T110000
DTSTAMP:20260422T204009
CREATED:20241013T182037Z
LAST-MODIFIED:20241013T182326Z
UID:10004304-1743498900-1743505200@ccoley.com
SUMMARY:Women's Bible Study
DESCRIPTION:The study will be on God’s Grace.
URL:https://ccoley.com/event/womens-bible-study-8/2025-04-01/
LOCATION:Dave & Alice Coult\, 38 Heiligs School Road\, Oley\, PA\, 19547\, United States
CATEGORIES:Women's Bible Study
ORGANIZER;CN="Alice Coult":MAILTO:acoult@ptd.net
GEO:40.420843;-75.707817
X-APPLE-STRUCTURED-LOCATION;VALUE=URI;X-ADDRESS=Dave & Alice Coult 38 Heiligs School Road Oley PA 19547 United States;X-APPLE-RADIUS=500;X-TITLE=38 Heiligs School Road:geo:-75.707817,40.420843
END:VEVENT
BEGIN:VEVENT
DTSTART;TZID=America/New_York:20250325T091500
DTEND;TZID=America/New_York:20250325T110000
DTSTAMP:20260422T204009
CREATED:20241013T182037Z
LAST-MODIFIED:20241013T182326Z
UID:10004303-1742894100-1742900400@ccoley.com
SUMMARY:Women's Bible Study
DESCRIPTION:The study will be on God’s Grace.
URL:https://ccoley.com/event/womens-bible-study-8/2025-03-25/
LOCATION:Dave & Alice Coult\, 38 Heiligs School Road\, Oley\, PA\, 19547\, United States
CATEGORIES:Women's Bible Study
ORGANIZER;CN="Alice Coult":MAILTO:acoult@ptd.net
GEO:40.420843;-75.707817
X-APPLE-STRUCTURED-LOCATION;VALUE=URI;X-ADDRESS=Dave & Alice Coult 38 Heiligs School Road Oley PA 19547 United States;X-APPLE-RADIUS=500;X-TITLE=38 Heiligs School Road:geo:-75.707817,40.420843
END:VEVENT
BEGIN:VEVENT
DTSTART;TZID=America/New_York:20250318T091500
DTEND;TZID=America/New_York:20250318T110000
DTSTAMP:20260422T204009
CREATED:20241013T182037Z
LAST-MODIFIED:20241013T182326Z
UID:10004302-1742289300-1742295600@ccoley.com
SUMMARY:Women's Bible Study
DESCRIPTION:The study will be on God’s Grace.
URL:https://ccoley.com/event/womens-bible-study-8/2025-03-18/
LOCATION:Dave & Alice Coult\, 38 Heiligs School Road\, Oley\, PA\, 19547\, United States
CATEGORIES:Women's Bible Study
ORGANIZER;CN="Alice Coult":MAILTO:acoult@ptd.net
GEO:40.420843;-75.707817
X-APPLE-STRUCTURED-LOCATION;VALUE=URI;X-ADDRESS=Dave & Alice Coult 38 Heiligs School Road Oley PA 19547 United States;X-APPLE-RADIUS=500;X-TITLE=38 Heiligs School Road:geo:-75.707817,40.420843
END:VEVENT
BEGIN:VEVENT
DTSTART;TZID=America/New_York:20250311T091500
DTEND;TZID=America/New_York:20250311T110000
DTSTAMP:20260422T204009
CREATED:20241013T182037Z
LAST-MODIFIED:20241013T182326Z
UID:10004301-1741684500-1741690800@ccoley.com
SUMMARY:Women's Bible Study
DESCRIPTION:The study will be on God’s Grace.
URL:https://ccoley.com/event/womens-bible-study-8/2025-03-11/
LOCATION:Dave & Alice Coult\, 38 Heiligs School Road\, Oley\, PA\, 19547\, United States
CATEGORIES:Women's Bible Study
ORGANIZER;CN="Alice Coult":MAILTO:acoult@ptd.net
GEO:40.420843;-75.707817
X-APPLE-STRUCTURED-LOCATION;VALUE=URI;X-ADDRESS=Dave & Alice Coult 38 Heiligs School Road Oley PA 19547 United States;X-APPLE-RADIUS=500;X-TITLE=38 Heiligs School Road:geo:-75.707817,40.420843
END:VEVENT
BEGIN:VEVENT
DTSTART;TZID=America/New_York:20250304T091500
DTEND;TZID=America/New_York:20250304T110000
DTSTAMP:20260422T204009
CREATED:20241013T182037Z
LAST-MODIFIED:20241013T182326Z
UID:10004300-1741079700-1741086000@ccoley.com
SUMMARY:Women's Bible Study
DESCRIPTION:The study will be on God’s Grace.
URL:https://ccoley.com/event/womens-bible-study-8/2025-03-04/
LOCATION:Dave & Alice Coult\, 38 Heiligs School Road\, Oley\, PA\, 19547\, United States
CATEGORIES:Women's Bible Study
ORGANIZER;CN="Alice Coult":MAILTO:acoult@ptd.net
GEO:40.420843;-75.707817
X-APPLE-STRUCTURED-LOCATION;VALUE=URI;X-ADDRESS=Dave & Alice Coult 38 Heiligs School Road Oley PA 19547 United States;X-APPLE-RADIUS=500;X-TITLE=38 Heiligs School Road:geo:-75.707817,40.420843
END:VEVENT
BEGIN:VEVENT
DTSTART;TZID=America/New_York:20250225T091500
DTEND;TZID=America/New_York:20250225T110000
DTSTAMP:20260422T204009
CREATED:20241013T182037Z
LAST-MODIFIED:20241013T182326Z
UID:10004299-1740474900-1740481200@ccoley.com
SUMMARY:Women's Bible Study
DESCRIPTION:The study will be on God’s Grace.
URL:https://ccoley.com/event/womens-bible-study-8/2025-02-25/
LOCATION:Dave & Alice Coult\, 38 Heiligs School Road\, Oley\, PA\, 19547\, United States
CATEGORIES:Women's Bible Study
ORGANIZER;CN="Alice Coult":MAILTO:acoult@ptd.net
GEO:40.420843;-75.707817
X-APPLE-STRUCTURED-LOCATION;VALUE=URI;X-ADDRESS=Dave & Alice Coult 38 Heiligs School Road Oley PA 19547 United States;X-APPLE-RADIUS=500;X-TITLE=38 Heiligs School Road:geo:-75.707817,40.420843
END:VEVENT
BEGIN:VEVENT
DTSTART;TZID=America/New_York:20250218T091500
DTEND;TZID=America/New_York:20250218T110000
DTSTAMP:20260422T204009
CREATED:20241013T182037Z
LAST-MODIFIED:20241013T182326Z
UID:10004298-1739870100-1739876400@ccoley.com
SUMMARY:Women's Bible Study
DESCRIPTION:The study will be on God’s Grace.
URL:https://ccoley.com/event/womens-bible-study-8/2025-02-18/
LOCATION:Dave & Alice Coult\, 38 Heiligs School Road\, Oley\, PA\, 19547\, United States
CATEGORIES:Women's Bible Study
ORGANIZER;CN="Alice Coult":MAILTO:acoult@ptd.net
GEO:40.420843;-75.707817
X-APPLE-STRUCTURED-LOCATION;VALUE=URI;X-ADDRESS=Dave & Alice Coult 38 Heiligs School Road Oley PA 19547 United States;X-APPLE-RADIUS=500;X-TITLE=38 Heiligs School Road:geo:-75.707817,40.420843
END:VEVENT
BEGIN:VEVENT
DTSTART;TZID=America/New_York:20250211T091500
DTEND;TZID=America/New_York:20250211T110000
DTSTAMP:20260422T204009
CREATED:20241013T182037Z
LAST-MODIFIED:20241013T182326Z
UID:10004297-1739265300-1739271600@ccoley.com
SUMMARY:Women's Bible Study
DESCRIPTION:The study will be on God’s Grace.
URL:https://ccoley.com/event/womens-bible-study-8/2025-02-11/
LOCATION:Dave & Alice Coult\, 38 Heiligs School Road\, Oley\, PA\, 19547\, United States
CATEGORIES:Women's Bible Study
ORGANIZER;CN="Alice Coult":MAILTO:acoult@ptd.net
GEO:40.420843;-75.707817
X-APPLE-STRUCTURED-LOCATION;VALUE=URI;X-ADDRESS=Dave & Alice Coult 38 Heiligs School Road Oley PA 19547 United States;X-APPLE-RADIUS=500;X-TITLE=38 Heiligs School Road:geo:-75.707817,40.420843
END:VEVENT
BEGIN:VEVENT
DTSTART;TZID=America/New_York:20250204T091500
DTEND;TZID=America/New_York:20250204T110000
DTSTAMP:20260422T204009
CREATED:20241013T182037Z
LAST-MODIFIED:20241013T182326Z
UID:10004296-1738660500-1738666800@ccoley.com
SUMMARY:Women's Bible Study
DESCRIPTION:The study will be on God’s Grace.
URL:https://ccoley.com/event/womens-bible-study-8/2025-02-04/
LOCATION:Dave & Alice Coult\, 38 Heiligs School Road\, Oley\, PA\, 19547\, United States
CATEGORIES:Women's Bible Study
ORGANIZER;CN="Alice Coult":MAILTO:acoult@ptd.net
GEO:40.420843;-75.707817
X-APPLE-STRUCTURED-LOCATION;VALUE=URI;X-ADDRESS=Dave & Alice Coult 38 Heiligs School Road Oley PA 19547 United States;X-APPLE-RADIUS=500;X-TITLE=38 Heiligs School Road:geo:-75.707817,40.420843
END:VEVENT
BEGIN:VEVENT
DTSTART;TZID=America/New_York:20250128T091500
DTEND;TZID=America/New_York:20250128T110000
DTSTAMP:20260422T204009
CREATED:20241013T182037Z
LAST-MODIFIED:20241013T182326Z
UID:10004295-1738055700-1738062000@ccoley.com
SUMMARY:Women's Bible Study
DESCRIPTION:The study will be on God’s Grace.
URL:https://ccoley.com/event/womens-bible-study-8/2025-01-28/
LOCATION:Dave & Alice Coult\, 38 Heiligs School Road\, Oley\, PA\, 19547\, United States
CATEGORIES:Women's Bible Study
ORGANIZER;CN="Alice Coult":MAILTO:acoult@ptd.net
GEO:40.420843;-75.707817
X-APPLE-STRUCTURED-LOCATION;VALUE=URI;X-ADDRESS=Dave & Alice Coult 38 Heiligs School Road Oley PA 19547 United States;X-APPLE-RADIUS=500;X-TITLE=38 Heiligs School Road:geo:-75.707817,40.420843
END:VEVENT
BEGIN:VEVENT
DTSTART;TZID=America/New_York:20250121T091500
DTEND;TZID=America/New_York:20250121T110000
DTSTAMP:20260422T204009
CREATED:20241013T182037Z
LAST-MODIFIED:20241013T182326Z
UID:10004294-1737450900-1737457200@ccoley.com
SUMMARY:Women's Bible Study
DESCRIPTION:The study will be on God’s Grace.
URL:https://ccoley.com/event/womens-bible-study-8/2025-01-21/
LOCATION:Dave & Alice Coult\, 38 Heiligs School Road\, Oley\, PA\, 19547\, United States
CATEGORIES:Women's Bible Study
ORGANIZER;CN="Alice Coult":MAILTO:acoult@ptd.net
GEO:40.420843;-75.707817
X-APPLE-STRUCTURED-LOCATION;VALUE=URI;X-ADDRESS=Dave & Alice Coult 38 Heiligs School Road Oley PA 19547 United States;X-APPLE-RADIUS=500;X-TITLE=38 Heiligs School Road:geo:-75.707817,40.420843
END:VEVENT
BEGIN:VEVENT
DTSTART;TZID=America/New_York:20250114T091500
DTEND;TZID=America/New_York:20250114T110000
DTSTAMP:20260422T204009
CREATED:20241013T182037Z
LAST-MODIFIED:20241013T182326Z
UID:10004293-1736846100-1736852400@ccoley.com
SUMMARY:Women's Bible Study
DESCRIPTION:The study will be on God’s Grace.
URL:https://ccoley.com/event/womens-bible-study-8/2025-01-14/
LOCATION:Dave & Alice Coult\, 38 Heiligs School Road\, Oley\, PA\, 19547\, United States
CATEGORIES:Women's Bible Study
ORGANIZER;CN="Alice Coult":MAILTO:acoult@ptd.net
GEO:40.420843;-75.707817
X-APPLE-STRUCTURED-LOCATION;VALUE=URI;X-ADDRESS=Dave & Alice Coult 38 Heiligs School Road Oley PA 19547 United States;X-APPLE-RADIUS=500;X-TITLE=38 Heiligs School Road:geo:-75.707817,40.420843
END:VEVENT
BEGIN:VEVENT
DTSTART;TZID=America/New_York:20250107T091500
DTEND;TZID=America/New_York:20250107T110000
DTSTAMP:20260422T204009
CREATED:20241013T182037Z
LAST-MODIFIED:20241013T182326Z
UID:10004292-1736241300-1736247600@ccoley.com
SUMMARY:Women's Bible Study
DESCRIPTION:The study will be on God’s Grace.
URL:https://ccoley.com/event/womens-bible-study-8/2025-01-07/
LOCATION:Dave & Alice Coult\, 38 Heiligs School Road\, Oley\, PA\, 19547\, United States
CATEGORIES:Women's Bible Study
ORGANIZER;CN="Alice Coult":MAILTO:acoult@ptd.net
GEO:40.420843;-75.707817
X-APPLE-STRUCTURED-LOCATION;VALUE=URI;X-ADDRESS=Dave & Alice Coult 38 Heiligs School Road Oley PA 19547 United States;X-APPLE-RADIUS=500;X-TITLE=38 Heiligs School Road:geo:-75.707817,40.420843
END:VEVENT
BEGIN:VEVENT
DTSTART;TZID=America/New_York:20241231T091500
DTEND;TZID=America/New_York:20241231T110000
DTSTAMP:20260422T204009
CREATED:20241013T182037Z
LAST-MODIFIED:20241013T182326Z
UID:10004291-1735636500-1735642800@ccoley.com
SUMMARY:Women's Bible Study
DESCRIPTION:The study will be on God’s Grace.
URL:https://ccoley.com/event/womens-bible-study-8/2024-12-31/
LOCATION:Dave & Alice Coult\, 38 Heiligs School Road\, Oley\, PA\, 19547\, United States
CATEGORIES:Women's Bible Study
ORGANIZER;CN="Alice Coult":MAILTO:acoult@ptd.net
GEO:40.420843;-75.707817
X-APPLE-STRUCTURED-LOCATION;VALUE=URI;X-ADDRESS=Dave & Alice Coult 38 Heiligs School Road Oley PA 19547 United States;X-APPLE-RADIUS=500;X-TITLE=38 Heiligs School Road:geo:-75.707817,40.420843
END:VEVENT
BEGIN:VEVENT
DTSTART;TZID=America/New_York:20241224T091500
DTEND;TZID=America/New_York:20241224T110000
DTSTAMP:20260422T204009
CREATED:20241013T182037Z
LAST-MODIFIED:20241013T182326Z
UID:10004290-1735031700-1735038000@ccoley.com
SUMMARY:Women's Bible Study
DESCRIPTION:The study will be on God’s Grace.
URL:https://ccoley.com/event/womens-bible-study-8/2024-12-24/
LOCATION:Dave & Alice Coult\, 38 Heiligs School Road\, Oley\, PA\, 19547\, United States
CATEGORIES:Women's Bible Study
ORGANIZER;CN="Alice Coult":MAILTO:acoult@ptd.net
GEO:40.420843;-75.707817
X-APPLE-STRUCTURED-LOCATION;VALUE=URI;X-ADDRESS=Dave & Alice Coult 38 Heiligs School Road Oley PA 19547 United States;X-APPLE-RADIUS=500;X-TITLE=38 Heiligs School Road:geo:-75.707817,40.420843
END:VEVENT
END:VCALENDAR