BEGIN:VCALENDAR
VERSION:2.0
PRODID:-//Calvary Chapel of the Oley Valley - ECPv6.15.20//NONSGML v1.0//EN
CALSCALE:GREGORIAN
METHOD:PUBLISH
X-ORIGINAL-URL:https://ccoley.com
X-WR-CALDESC:Events for Calvary Chapel of the Oley Valley
REFRESH-INTERVAL;VALUE=DURATION:PT1H
X-Robots-Tag:noindex
X-PUBLISHED-TTL:PT1H
BEGIN:VTIMEZONE
TZID:America/New_York
BEGIN:DAYLIGHT
TZOFFSETFROM:-0500
TZOFFSETTO:-0400
TZNAME:EDT
DTSTART:20180311T070000
END:DAYLIGHT
BEGIN:STANDARD
TZOFFSETFROM:-0400
TZOFFSETTO:-0500
TZNAME:EST
DTSTART:20181104T060000
END:STANDARD
BEGIN:DAYLIGHT
TZOFFSETFROM:-0500
TZOFFSETTO:-0400
TZNAME:EDT
DTSTART:20190310T070000
END:DAYLIGHT
BEGIN:STANDARD
TZOFFSETFROM:-0400
TZOFFSETTO:-0500
TZNAME:EST
DTSTART:20191103T060000
END:STANDARD
BEGIN:DAYLIGHT
TZOFFSETFROM:-0500
TZOFFSETTO:-0400
TZNAME:EDT
DTSTART:20200308T070000
END:DAYLIGHT
BEGIN:STANDARD
TZOFFSETFROM:-0400
TZOFFSETTO:-0500
TZNAME:EST
DTSTART:20201101T060000
END:STANDARD
BEGIN:DAYLIGHT
TZOFFSETFROM:-0500
TZOFFSETTO:-0400
TZNAME:EDT
DTSTART:20210314T070000
END:DAYLIGHT
BEGIN:STANDARD
TZOFFSETFROM:-0400
TZOFFSETTO:-0500
TZNAME:EST
DTSTART:20211107T060000
END:STANDARD
END:VTIMEZONE
BEGIN:VEVENT
DTSTART;TZID=America/New_York:20190521T091500
DTEND;TZID=America/New_York:20190521T113000
DTSTAMP:20260425T091408
CREATED:20181002T151226Z
LAST-MODIFIED:20220919T005016Z
UID:10001090-1558430100-1558438200@ccoley.com
SUMMARY:Women's Bible Study
DESCRIPTION:The study will center on the Life and Ministry of John
URL:https://ccoley.com/event/womens-bible-study-5/2019-05-21/
LOCATION:Dave & Alice Coult\, 38 Heiligs School Road\, Oley\, PA\, 19547\, United States
CATEGORIES:Women's Bible Study
ORGANIZER;CN="Alice Coult":MAILTO:acoult@ptd.net
GEO:40.420843;-75.707817
X-APPLE-STRUCTURED-LOCATION;VALUE=URI;X-ADDRESS=Dave & Alice Coult 38 Heiligs School Road Oley PA 19547 United States;X-APPLE-RADIUS=500;X-TITLE=38 Heiligs School Road:geo:-75.707817,40.420843
END:VEVENT
BEGIN:VEVENT
DTSTART;TZID=America/New_York:20190528T091500
DTEND;TZID=America/New_York:20190528T113000
DTSTAMP:20260425T091408
CREATED:20181002T151226Z
LAST-MODIFIED:20220919T005016Z
UID:10001091-1559034900-1559043000@ccoley.com
SUMMARY:Women's Bible Study
DESCRIPTION:The study will center on the Life and Ministry of John
URL:https://ccoley.com/event/womens-bible-study-5/2019-05-28/
LOCATION:Dave & Alice Coult\, 38 Heiligs School Road\, Oley\, PA\, 19547\, United States
CATEGORIES:Women's Bible Study
ORGANIZER;CN="Alice Coult":MAILTO:acoult@ptd.net
GEO:40.420843;-75.707817
X-APPLE-STRUCTURED-LOCATION;VALUE=URI;X-ADDRESS=Dave & Alice Coult 38 Heiligs School Road Oley PA 19547 United States;X-APPLE-RADIUS=500;X-TITLE=38 Heiligs School Road:geo:-75.707817,40.420843
END:VEVENT
BEGIN:VEVENT
DTSTART;TZID=America/New_York:20190924T091500
DTEND;TZID=America/New_York:20190924T110000
DTSTAMP:20260425T091408
CREATED:20190825T171416Z
LAST-MODIFIED:20220919T005732Z
UID:10001736-1569316500-1569322800@ccoley.com
SUMMARY:Women's Bible Study
DESCRIPTION:
URL:https://ccoley.com/event/womens-bible-study-6/2019-09-24/
LOCATION:Dave & Alice Coult\, 38 Heiligs School Road\, Oley\, PA\, 19547\, United States
CATEGORIES:Women's Bible Study
ORGANIZER;CN="Alice Coult":MAILTO:acoult@ptd.net
GEO:40.420843;-75.707817
X-APPLE-STRUCTURED-LOCATION;VALUE=URI;X-ADDRESS=Dave & Alice Coult 38 Heiligs School Road Oley PA 19547 United States;X-APPLE-RADIUS=500;X-TITLE=38 Heiligs School Road:geo:-75.707817,40.420843
END:VEVENT
BEGIN:VEVENT
DTSTART;TZID=America/New_York:20191001T091500
DTEND;TZID=America/New_York:20191001T110000
DTSTAMP:20260425T091408
CREATED:20190825T171416Z
LAST-MODIFIED:20220919T005732Z
UID:10001737-1569921300-1569927600@ccoley.com
SUMMARY:Women's Bible Study
DESCRIPTION:
URL:https://ccoley.com/event/womens-bible-study-6/2019-10-01/
LOCATION:Dave & Alice Coult\, 38 Heiligs School Road\, Oley\, PA\, 19547\, United States
CATEGORIES:Women's Bible Study
ORGANIZER;CN="Alice Coult":MAILTO:acoult@ptd.net
GEO:40.420843;-75.707817
X-APPLE-STRUCTURED-LOCATION;VALUE=URI;X-ADDRESS=Dave & Alice Coult 38 Heiligs School Road Oley PA 19547 United States;X-APPLE-RADIUS=500;X-TITLE=38 Heiligs School Road:geo:-75.707817,40.420843
END:VEVENT
BEGIN:VEVENT
DTSTART;TZID=America/New_York:20191008T091500
DTEND;TZID=America/New_York:20191008T110000
DTSTAMP:20260425T091408
CREATED:20190825T171416Z
LAST-MODIFIED:20220919T005732Z
UID:10001738-1570526100-1570532400@ccoley.com
SUMMARY:Women's Bible Study
DESCRIPTION:
URL:https://ccoley.com/event/womens-bible-study-6/2019-10-08/
LOCATION:Dave & Alice Coult\, 38 Heiligs School Road\, Oley\, PA\, 19547\, United States
CATEGORIES:Women's Bible Study
ORGANIZER;CN="Alice Coult":MAILTO:acoult@ptd.net
GEO:40.420843;-75.707817
X-APPLE-STRUCTURED-LOCATION;VALUE=URI;X-ADDRESS=Dave & Alice Coult 38 Heiligs School Road Oley PA 19547 United States;X-APPLE-RADIUS=500;X-TITLE=38 Heiligs School Road:geo:-75.707817,40.420843
END:VEVENT
BEGIN:VEVENT
DTSTART;TZID=America/New_York:20191015T091500
DTEND;TZID=America/New_York:20191015T110000
DTSTAMP:20260425T091408
CREATED:20190825T171416Z
LAST-MODIFIED:20220919T005732Z
UID:10001739-1571130900-1571137200@ccoley.com
SUMMARY:Women's Bible Study
DESCRIPTION:
URL:https://ccoley.com/event/womens-bible-study-6/2019-10-15/
LOCATION:Dave & Alice Coult\, 38 Heiligs School Road\, Oley\, PA\, 19547\, United States
CATEGORIES:Women's Bible Study
ORGANIZER;CN="Alice Coult":MAILTO:acoult@ptd.net
GEO:40.420843;-75.707817
X-APPLE-STRUCTURED-LOCATION;VALUE=URI;X-ADDRESS=Dave & Alice Coult 38 Heiligs School Road Oley PA 19547 United States;X-APPLE-RADIUS=500;X-TITLE=38 Heiligs School Road:geo:-75.707817,40.420843
END:VEVENT
BEGIN:VEVENT
DTSTART;TZID=America/New_York:20191022T091500
DTEND;TZID=America/New_York:20191022T110000
DTSTAMP:20260425T091408
CREATED:20190825T171416Z
LAST-MODIFIED:20220919T005732Z
UID:10001740-1571735700-1571742000@ccoley.com
SUMMARY:Women's Bible Study
DESCRIPTION:
URL:https://ccoley.com/event/womens-bible-study-6/2019-10-22/
LOCATION:Dave & Alice Coult\, 38 Heiligs School Road\, Oley\, PA\, 19547\, United States
CATEGORIES:Women's Bible Study
ORGANIZER;CN="Alice Coult":MAILTO:acoult@ptd.net
GEO:40.420843;-75.707817
X-APPLE-STRUCTURED-LOCATION;VALUE=URI;X-ADDRESS=Dave & Alice Coult 38 Heiligs School Road Oley PA 19547 United States;X-APPLE-RADIUS=500;X-TITLE=38 Heiligs School Road:geo:-75.707817,40.420843
END:VEVENT
BEGIN:VEVENT
DTSTART;TZID=America/New_York:20191029T091500
DTEND;TZID=America/New_York:20191029T110000
DTSTAMP:20260425T091408
CREATED:20190825T171416Z
LAST-MODIFIED:20220919T005732Z
UID:10001741-1572340500-1572346800@ccoley.com
SUMMARY:Women's Bible Study
DESCRIPTION:
URL:https://ccoley.com/event/womens-bible-study-6/2019-10-29/
LOCATION:Dave & Alice Coult\, 38 Heiligs School Road\, Oley\, PA\, 19547\, United States
CATEGORIES:Women's Bible Study
ORGANIZER;CN="Alice Coult":MAILTO:acoult@ptd.net
GEO:40.420843;-75.707817
X-APPLE-STRUCTURED-LOCATION;VALUE=URI;X-ADDRESS=Dave & Alice Coult 38 Heiligs School Road Oley PA 19547 United States;X-APPLE-RADIUS=500;X-TITLE=38 Heiligs School Road:geo:-75.707817,40.420843
END:VEVENT
BEGIN:VEVENT
DTSTART;TZID=America/New_York:20191105T091500
DTEND;TZID=America/New_York:20191105T110000
DTSTAMP:20260425T091408
CREATED:20190825T171416Z
LAST-MODIFIED:20220919T005732Z
UID:10001742-1572945300-1572951600@ccoley.com
SUMMARY:Women's Bible Study
DESCRIPTION:
URL:https://ccoley.com/event/womens-bible-study-6/2019-11-05/
LOCATION:Dave & Alice Coult\, 38 Heiligs School Road\, Oley\, PA\, 19547\, United States
CATEGORIES:Women's Bible Study
ORGANIZER;CN="Alice Coult":MAILTO:acoult@ptd.net
GEO:40.420843;-75.707817
X-APPLE-STRUCTURED-LOCATION;VALUE=URI;X-ADDRESS=Dave & Alice Coult 38 Heiligs School Road Oley PA 19547 United States;X-APPLE-RADIUS=500;X-TITLE=38 Heiligs School Road:geo:-75.707817,40.420843
END:VEVENT
BEGIN:VEVENT
DTSTART;TZID=America/New_York:20191112T091500
DTEND;TZID=America/New_York:20191112T110000
DTSTAMP:20260425T091408
CREATED:20190825T171416Z
LAST-MODIFIED:20220919T005732Z
UID:10001743-1573550100-1573556400@ccoley.com
SUMMARY:Women's Bible Study
DESCRIPTION:
URL:https://ccoley.com/event/womens-bible-study-6/2019-11-12/
LOCATION:Dave & Alice Coult\, 38 Heiligs School Road\, Oley\, PA\, 19547\, United States
CATEGORIES:Women's Bible Study
ORGANIZER;CN="Alice Coult":MAILTO:acoult@ptd.net
GEO:40.420843;-75.707817
X-APPLE-STRUCTURED-LOCATION;VALUE=URI;X-ADDRESS=Dave & Alice Coult 38 Heiligs School Road Oley PA 19547 United States;X-APPLE-RADIUS=500;X-TITLE=38 Heiligs School Road:geo:-75.707817,40.420843
END:VEVENT
BEGIN:VEVENT
DTSTART;TZID=America/New_York:20191119T091500
DTEND;TZID=America/New_York:20191119T110000
DTSTAMP:20260425T091408
CREATED:20190825T171416Z
LAST-MODIFIED:20220919T005732Z
UID:10001744-1574154900-1574161200@ccoley.com
SUMMARY:Women's Bible Study
DESCRIPTION:
URL:https://ccoley.com/event/womens-bible-study-6/2019-11-19/
LOCATION:Dave & Alice Coult\, 38 Heiligs School Road\, Oley\, PA\, 19547\, United States
CATEGORIES:Women's Bible Study
ORGANIZER;CN="Alice Coult":MAILTO:acoult@ptd.net
GEO:40.420843;-75.707817
X-APPLE-STRUCTURED-LOCATION;VALUE=URI;X-ADDRESS=Dave & Alice Coult 38 Heiligs School Road Oley PA 19547 United States;X-APPLE-RADIUS=500;X-TITLE=38 Heiligs School Road:geo:-75.707817,40.420843
END:VEVENT
BEGIN:VEVENT
DTSTART;TZID=America/New_York:20191126T091500
DTEND;TZID=America/New_York:20191126T110000
DTSTAMP:20260425T091408
CREATED:20190825T171416Z
LAST-MODIFIED:20220919T005732Z
UID:10001745-1574759700-1574766000@ccoley.com
SUMMARY:Women's Bible Study
DESCRIPTION:
URL:https://ccoley.com/event/womens-bible-study-6/2019-11-26/
LOCATION:Dave & Alice Coult\, 38 Heiligs School Road\, Oley\, PA\, 19547\, United States
CATEGORIES:Women's Bible Study
ORGANIZER;CN="Alice Coult":MAILTO:acoult@ptd.net
GEO:40.420843;-75.707817
X-APPLE-STRUCTURED-LOCATION;VALUE=URI;X-ADDRESS=Dave & Alice Coult 38 Heiligs School Road Oley PA 19547 United States;X-APPLE-RADIUS=500;X-TITLE=38 Heiligs School Road:geo:-75.707817,40.420843
END:VEVENT
BEGIN:VEVENT
DTSTART;TZID=America/New_York:20191203T091500
DTEND;TZID=America/New_York:20191203T110000
DTSTAMP:20260425T091408
CREATED:20190825T171416Z
LAST-MODIFIED:20220919T005732Z
UID:10001746-1575364500-1575370800@ccoley.com
SUMMARY:Women's Bible Study
DESCRIPTION:
URL:https://ccoley.com/event/womens-bible-study-6/2019-12-03/
LOCATION:Dave & Alice Coult\, 38 Heiligs School Road\, Oley\, PA\, 19547\, United States
CATEGORIES:Women's Bible Study
ORGANIZER;CN="Alice Coult":MAILTO:acoult@ptd.net
GEO:40.420843;-75.707817
X-APPLE-STRUCTURED-LOCATION;VALUE=URI;X-ADDRESS=Dave & Alice Coult 38 Heiligs School Road Oley PA 19547 United States;X-APPLE-RADIUS=500;X-TITLE=38 Heiligs School Road:geo:-75.707817,40.420843
END:VEVENT
BEGIN:VEVENT
DTSTART;TZID=America/New_York:20191210T091500
DTEND;TZID=America/New_York:20191210T110000
DTSTAMP:20260425T091408
CREATED:20190825T171416Z
LAST-MODIFIED:20220919T005732Z
UID:10001747-1575969300-1575975600@ccoley.com
SUMMARY:Women's Bible Study
DESCRIPTION:
URL:https://ccoley.com/event/womens-bible-study-6/2019-12-10/
LOCATION:Dave & Alice Coult\, 38 Heiligs School Road\, Oley\, PA\, 19547\, United States
CATEGORIES:Women's Bible Study
ORGANIZER;CN="Alice Coult":MAILTO:acoult@ptd.net
GEO:40.420843;-75.707817
X-APPLE-STRUCTURED-LOCATION;VALUE=URI;X-ADDRESS=Dave & Alice Coult 38 Heiligs School Road Oley PA 19547 United States;X-APPLE-RADIUS=500;X-TITLE=38 Heiligs School Road:geo:-75.707817,40.420843
END:VEVENT
BEGIN:VEVENT
DTSTART;TZID=America/New_York:20191217T091500
DTEND;TZID=America/New_York:20191217T110000
DTSTAMP:20260425T091408
CREATED:20190825T171416Z
LAST-MODIFIED:20220919T005732Z
UID:10001748-1576574100-1576580400@ccoley.com
SUMMARY:Women's Bible Study
DESCRIPTION:
URL:https://ccoley.com/event/womens-bible-study-6/2019-12-17/
LOCATION:Dave & Alice Coult\, 38 Heiligs School Road\, Oley\, PA\, 19547\, United States
CATEGORIES:Women's Bible Study
ORGANIZER;CN="Alice Coult":MAILTO:acoult@ptd.net
GEO:40.420843;-75.707817
X-APPLE-STRUCTURED-LOCATION;VALUE=URI;X-ADDRESS=Dave & Alice Coult 38 Heiligs School Road Oley PA 19547 United States;X-APPLE-RADIUS=500;X-TITLE=38 Heiligs School Road:geo:-75.707817,40.420843
END:VEVENT
BEGIN:VEVENT
DTSTART;TZID=America/New_York:20191224T091500
DTEND;TZID=America/New_York:20191224T110000
DTSTAMP:20260425T091408
CREATED:20190825T171416Z
LAST-MODIFIED:20220919T005732Z
UID:10001749-1577178900-1577185200@ccoley.com
SUMMARY:Women's Bible Study
DESCRIPTION:
URL:https://ccoley.com/event/womens-bible-study-6/2019-12-24/
LOCATION:Dave & Alice Coult\, 38 Heiligs School Road\, Oley\, PA\, 19547\, United States
CATEGORIES:Women's Bible Study
ORGANIZER;CN="Alice Coult":MAILTO:acoult@ptd.net
GEO:40.420843;-75.707817
X-APPLE-STRUCTURED-LOCATION;VALUE=URI;X-ADDRESS=Dave & Alice Coult 38 Heiligs School Road Oley PA 19547 United States;X-APPLE-RADIUS=500;X-TITLE=38 Heiligs School Road:geo:-75.707817,40.420843
END:VEVENT
BEGIN:VEVENT
DTSTART;TZID=America/New_York:20191231T091500
DTEND;TZID=America/New_York:20191231T110000
DTSTAMP:20260425T091408
CREATED:20190825T171416Z
LAST-MODIFIED:20220919T005732Z
UID:10001750-1577783700-1577790000@ccoley.com
SUMMARY:Women's Bible Study
DESCRIPTION:
URL:https://ccoley.com/event/womens-bible-study-6/2019-12-31/
LOCATION:Dave & Alice Coult\, 38 Heiligs School Road\, Oley\, PA\, 19547\, United States
CATEGORIES:Women's Bible Study
ORGANIZER;CN="Alice Coult":MAILTO:acoult@ptd.net
GEO:40.420843;-75.707817
X-APPLE-STRUCTURED-LOCATION;VALUE=URI;X-ADDRESS=Dave & Alice Coult 38 Heiligs School Road Oley PA 19547 United States;X-APPLE-RADIUS=500;X-TITLE=38 Heiligs School Road:geo:-75.707817,40.420843
END:VEVENT
BEGIN:VEVENT
DTSTART;TZID=America/New_York:20200107T091500
DTEND;TZID=America/New_York:20200107T110000
DTSTAMP:20260425T091408
CREATED:20190825T171416Z
LAST-MODIFIED:20220919T005732Z
UID:10001751-1578388500-1578394800@ccoley.com
SUMMARY:Women's Bible Study
DESCRIPTION:
URL:https://ccoley.com/event/womens-bible-study-6/2020-01-07/
LOCATION:Dave & Alice Coult\, 38 Heiligs School Road\, Oley\, PA\, 19547\, United States
CATEGORIES:Women's Bible Study
ORGANIZER;CN="Alice Coult":MAILTO:acoult@ptd.net
GEO:40.420843;-75.707817
X-APPLE-STRUCTURED-LOCATION;VALUE=URI;X-ADDRESS=Dave & Alice Coult 38 Heiligs School Road Oley PA 19547 United States;X-APPLE-RADIUS=500;X-TITLE=38 Heiligs School Road:geo:-75.707817,40.420843
END:VEVENT
BEGIN:VEVENT
DTSTART;TZID=America/New_York:20200114T091500
DTEND;TZID=America/New_York:20200114T110000
DTSTAMP:20260425T091408
CREATED:20190825T171416Z
LAST-MODIFIED:20220919T005732Z
UID:10001752-1578993300-1578999600@ccoley.com
SUMMARY:Women's Bible Study
DESCRIPTION:
URL:https://ccoley.com/event/womens-bible-study-6/2020-01-14/
LOCATION:Dave & Alice Coult\, 38 Heiligs School Road\, Oley\, PA\, 19547\, United States
CATEGORIES:Women's Bible Study
ORGANIZER;CN="Alice Coult":MAILTO:acoult@ptd.net
GEO:40.420843;-75.707817
X-APPLE-STRUCTURED-LOCATION;VALUE=URI;X-ADDRESS=Dave & Alice Coult 38 Heiligs School Road Oley PA 19547 United States;X-APPLE-RADIUS=500;X-TITLE=38 Heiligs School Road:geo:-75.707817,40.420843
END:VEVENT
BEGIN:VEVENT
DTSTART;TZID=America/New_York:20200121T091500
DTEND;TZID=America/New_York:20200121T110000
DTSTAMP:20260425T091408
CREATED:20190825T171416Z
LAST-MODIFIED:20220919T005732Z
UID:10001753-1579598100-1579604400@ccoley.com
SUMMARY:Women's Bible Study
DESCRIPTION:
URL:https://ccoley.com/event/womens-bible-study-6/2020-01-21/
LOCATION:Dave & Alice Coult\, 38 Heiligs School Road\, Oley\, PA\, 19547\, United States
CATEGORIES:Women's Bible Study
ORGANIZER;CN="Alice Coult":MAILTO:acoult@ptd.net
GEO:40.420843;-75.707817
X-APPLE-STRUCTURED-LOCATION;VALUE=URI;X-ADDRESS=Dave & Alice Coult 38 Heiligs School Road Oley PA 19547 United States;X-APPLE-RADIUS=500;X-TITLE=38 Heiligs School Road:geo:-75.707817,40.420843
END:VEVENT
BEGIN:VEVENT
DTSTART;TZID=America/New_York:20200128T091500
DTEND;TZID=America/New_York:20200128T110000
DTSTAMP:20260425T091408
CREATED:20190825T171416Z
LAST-MODIFIED:20220919T005732Z
UID:10001754-1580202900-1580209200@ccoley.com
SUMMARY:Women's Bible Study
DESCRIPTION:
URL:https://ccoley.com/event/womens-bible-study-6/2020-01-28/
LOCATION:Dave & Alice Coult\, 38 Heiligs School Road\, Oley\, PA\, 19547\, United States
CATEGORIES:Women's Bible Study
ORGANIZER;CN="Alice Coult":MAILTO:acoult@ptd.net
GEO:40.420843;-75.707817
X-APPLE-STRUCTURED-LOCATION;VALUE=URI;X-ADDRESS=Dave & Alice Coult 38 Heiligs School Road Oley PA 19547 United States;X-APPLE-RADIUS=500;X-TITLE=38 Heiligs School Road:geo:-75.707817,40.420843
END:VEVENT
BEGIN:VEVENT
DTSTART;TZID=America/New_York:20200204T091500
DTEND;TZID=America/New_York:20200204T110000
DTSTAMP:20260425T091408
CREATED:20190825T171416Z
LAST-MODIFIED:20220919T005732Z
UID:10001755-1580807700-1580814000@ccoley.com
SUMMARY:Women's Bible Study
DESCRIPTION:
URL:https://ccoley.com/event/womens-bible-study-6/2020-02-04/
LOCATION:Dave & Alice Coult\, 38 Heiligs School Road\, Oley\, PA\, 19547\, United States
CATEGORIES:Women's Bible Study
ORGANIZER;CN="Alice Coult":MAILTO:acoult@ptd.net
GEO:40.420843;-75.707817
X-APPLE-STRUCTURED-LOCATION;VALUE=URI;X-ADDRESS=Dave & Alice Coult 38 Heiligs School Road Oley PA 19547 United States;X-APPLE-RADIUS=500;X-TITLE=38 Heiligs School Road:geo:-75.707817,40.420843
END:VEVENT
BEGIN:VEVENT
DTSTART;TZID=America/New_York:20200211T091500
DTEND;TZID=America/New_York:20200211T110000
DTSTAMP:20260425T091408
CREATED:20190825T171416Z
LAST-MODIFIED:20220919T005732Z
UID:10001756-1581412500-1581418800@ccoley.com
SUMMARY:Women's Bible Study
DESCRIPTION:
URL:https://ccoley.com/event/womens-bible-study-6/2020-02-11/
LOCATION:Dave & Alice Coult\, 38 Heiligs School Road\, Oley\, PA\, 19547\, United States
CATEGORIES:Women's Bible Study
ORGANIZER;CN="Alice Coult":MAILTO:acoult@ptd.net
GEO:40.420843;-75.707817
X-APPLE-STRUCTURED-LOCATION;VALUE=URI;X-ADDRESS=Dave & Alice Coult 38 Heiligs School Road Oley PA 19547 United States;X-APPLE-RADIUS=500;X-TITLE=38 Heiligs School Road:geo:-75.707817,40.420843
END:VEVENT
BEGIN:VEVENT
DTSTART;TZID=America/New_York:20200218T091500
DTEND;TZID=America/New_York:20200218T110000
DTSTAMP:20260425T091408
CREATED:20190825T171416Z
LAST-MODIFIED:20220919T005732Z
UID:10001757-1582017300-1582023600@ccoley.com
SUMMARY:Women's Bible Study
DESCRIPTION:
URL:https://ccoley.com/event/womens-bible-study-6/2020-02-18/
LOCATION:Dave & Alice Coult\, 38 Heiligs School Road\, Oley\, PA\, 19547\, United States
CATEGORIES:Women's Bible Study
ORGANIZER;CN="Alice Coult":MAILTO:acoult@ptd.net
GEO:40.420843;-75.707817
X-APPLE-STRUCTURED-LOCATION;VALUE=URI;X-ADDRESS=Dave & Alice Coult 38 Heiligs School Road Oley PA 19547 United States;X-APPLE-RADIUS=500;X-TITLE=38 Heiligs School Road:geo:-75.707817,40.420843
END:VEVENT
BEGIN:VEVENT
DTSTART;TZID=America/New_York:20200225T091500
DTEND;TZID=America/New_York:20200225T110000
DTSTAMP:20260425T091408
CREATED:20190825T171416Z
LAST-MODIFIED:20220919T005732Z
UID:10001758-1582622100-1582628400@ccoley.com
SUMMARY:Women's Bible Study
DESCRIPTION:
URL:https://ccoley.com/event/womens-bible-study-6/2020-02-25/
LOCATION:Dave & Alice Coult\, 38 Heiligs School Road\, Oley\, PA\, 19547\, United States
CATEGORIES:Women's Bible Study
ORGANIZER;CN="Alice Coult":MAILTO:acoult@ptd.net
GEO:40.420843;-75.707817
X-APPLE-STRUCTURED-LOCATION;VALUE=URI;X-ADDRESS=Dave & Alice Coult 38 Heiligs School Road Oley PA 19547 United States;X-APPLE-RADIUS=500;X-TITLE=38 Heiligs School Road:geo:-75.707817,40.420843
END:VEVENT
BEGIN:VEVENT
DTSTART;TZID=America/New_York:20200303T091500
DTEND;TZID=America/New_York:20200303T110000
DTSTAMP:20260425T091408
CREATED:20190825T171416Z
LAST-MODIFIED:20220919T005732Z
UID:10001759-1583226900-1583233200@ccoley.com
SUMMARY:Women's Bible Study
DESCRIPTION:
URL:https://ccoley.com/event/womens-bible-study-6/2020-03-03/
LOCATION:Dave & Alice Coult\, 38 Heiligs School Road\, Oley\, PA\, 19547\, United States
CATEGORIES:Women's Bible Study
ORGANIZER;CN="Alice Coult":MAILTO:acoult@ptd.net
GEO:40.420843;-75.707817
X-APPLE-STRUCTURED-LOCATION;VALUE=URI;X-ADDRESS=Dave & Alice Coult 38 Heiligs School Road Oley PA 19547 United States;X-APPLE-RADIUS=500;X-TITLE=38 Heiligs School Road:geo:-75.707817,40.420843
END:VEVENT
BEGIN:VEVENT
DTSTART;TZID=America/New_York:20200310T091500
DTEND;TZID=America/New_York:20200310T110000
DTSTAMP:20260425T091408
CREATED:20190825T171416Z
LAST-MODIFIED:20220919T005732Z
UID:10001760-1583831700-1583838000@ccoley.com
SUMMARY:Women's Bible Study
DESCRIPTION:
URL:https://ccoley.com/event/womens-bible-study-6/2020-03-10/
LOCATION:Dave & Alice Coult\, 38 Heiligs School Road\, Oley\, PA\, 19547\, United States
CATEGORIES:Women's Bible Study
ORGANIZER;CN="Alice Coult":MAILTO:acoult@ptd.net
GEO:40.420843;-75.707817
X-APPLE-STRUCTURED-LOCATION;VALUE=URI;X-ADDRESS=Dave & Alice Coult 38 Heiligs School Road Oley PA 19547 United States;X-APPLE-RADIUS=500;X-TITLE=38 Heiligs School Road:geo:-75.707817,40.420843
END:VEVENT
BEGIN:VEVENT
DTSTART;TZID=America/New_York:20200317T091500
DTEND;TZID=America/New_York:20200317T110000
DTSTAMP:20260425T091408
CREATED:20190825T171416Z
LAST-MODIFIED:20220919T005732Z
UID:10001761-1584436500-1584442800@ccoley.com
SUMMARY:Women's Bible Study
DESCRIPTION:
URL:https://ccoley.com/event/womens-bible-study-6/2020-03-17/
LOCATION:Dave & Alice Coult\, 38 Heiligs School Road\, Oley\, PA\, 19547\, United States
CATEGORIES:Women's Bible Study
ORGANIZER;CN="Alice Coult":MAILTO:acoult@ptd.net
GEO:40.420843;-75.707817
X-APPLE-STRUCTURED-LOCATION;VALUE=URI;X-ADDRESS=Dave & Alice Coult 38 Heiligs School Road Oley PA 19547 United States;X-APPLE-RADIUS=500;X-TITLE=38 Heiligs School Road:geo:-75.707817,40.420843
END:VEVENT
BEGIN:VEVENT
DTSTART;TZID=America/New_York:20200324T091500
DTEND;TZID=America/New_York:20200324T110000
DTSTAMP:20260425T091408
CREATED:20190825T171416Z
LAST-MODIFIED:20220919T005732Z
UID:10001762-1585041300-1585047600@ccoley.com
SUMMARY:Women's Bible Study
DESCRIPTION:
URL:https://ccoley.com/event/womens-bible-study-6/2020-03-24/
LOCATION:Dave & Alice Coult\, 38 Heiligs School Road\, Oley\, PA\, 19547\, United States
CATEGORIES:Women's Bible Study
ORGANIZER;CN="Alice Coult":MAILTO:acoult@ptd.net
GEO:40.420843;-75.707817
X-APPLE-STRUCTURED-LOCATION;VALUE=URI;X-ADDRESS=Dave & Alice Coult 38 Heiligs School Road Oley PA 19547 United States;X-APPLE-RADIUS=500;X-TITLE=38 Heiligs School Road:geo:-75.707817,40.420843
END:VEVENT
BEGIN:VEVENT
DTSTART;TZID=America/New_York:20200331T091500
DTEND;TZID=America/New_York:20200331T110000
DTSTAMP:20260425T091408
CREATED:20190825T171416Z
LAST-MODIFIED:20220919T005732Z
UID:10001763-1585646100-1585652400@ccoley.com
SUMMARY:Women's Bible Study
DESCRIPTION:
URL:https://ccoley.com/event/womens-bible-study-6/2020-03-31/
LOCATION:Dave & Alice Coult\, 38 Heiligs School Road\, Oley\, PA\, 19547\, United States
CATEGORIES:Women's Bible Study
ORGANIZER;CN="Alice Coult":MAILTO:acoult@ptd.net
GEO:40.420843;-75.707817
X-APPLE-STRUCTURED-LOCATION;VALUE=URI;X-ADDRESS=Dave & Alice Coult 38 Heiligs School Road Oley PA 19547 United States;X-APPLE-RADIUS=500;X-TITLE=38 Heiligs School Road:geo:-75.707817,40.420843
END:VEVENT
END:VCALENDAR