BEGIN:VCALENDAR
VERSION:2.0
PRODID:-//Calvary Chapel of the Oley Valley - ECPv6.15.20//NONSGML v1.0//EN
CALSCALE:GREGORIAN
METHOD:PUBLISH
X-WR-CALNAME:Calvary Chapel of the Oley Valley
X-ORIGINAL-URL:https://ccoley.com
X-WR-CALDESC:Events for Calvary Chapel of the Oley Valley
REFRESH-INTERVAL;VALUE=DURATION:PT1H
X-Robots-Tag:noindex
X-PUBLISHED-TTL:PT1H
BEGIN:VTIMEZONE
TZID:America/New_York
BEGIN:DAYLIGHT
TZOFFSETFROM:-0500
TZOFFSETTO:-0400
TZNAME:EDT
DTSTART:20190310T070000
END:DAYLIGHT
BEGIN:STANDARD
TZOFFSETFROM:-0400
TZOFFSETTO:-0500
TZNAME:EST
DTSTART:20191103T060000
END:STANDARD
BEGIN:DAYLIGHT
TZOFFSETFROM:-0500
TZOFFSETTO:-0400
TZNAME:EDT
DTSTART:20200308T070000
END:DAYLIGHT
BEGIN:STANDARD
TZOFFSETFROM:-0400
TZOFFSETTO:-0500
TZNAME:EST
DTSTART:20201101T060000
END:STANDARD
BEGIN:DAYLIGHT
TZOFFSETFROM:-0500
TZOFFSETTO:-0400
TZNAME:EDT
DTSTART:20210314T070000
END:DAYLIGHT
BEGIN:STANDARD
TZOFFSETFROM:-0400
TZOFFSETTO:-0500
TZNAME:EST
DTSTART:20211107T060000
END:STANDARD
BEGIN:DAYLIGHT
TZOFFSETFROM:-0500
TZOFFSETTO:-0400
TZNAME:EDT
DTSTART:20220313T070000
END:DAYLIGHT
BEGIN:STANDARD
TZOFFSETFROM:-0400
TZOFFSETTO:-0500
TZNAME:EST
DTSTART:20221106T060000
END:STANDARD
END:VTIMEZONE
BEGIN:VEVENT
DTSTART;TZID=America/New_York:20201006T091500
DTEND;TZID=America/New_York:20201006T110000
DTSTAMP:20260425T183557
CREATED:20200816T170714Z
LAST-MODIFIED:20220919T165956Z
UID:10002110-1601975700-1601982000@ccoley.com
SUMMARY:Women's Bible Study
DESCRIPTION:
URL:https://ccoley.com/event/womens-bible-study/2020-10-06/
LOCATION:Dave & Alice Coult\, 38 Heiligs School Road\, Oley\, PA\, 19547\, United States
CATEGORIES:Women's Bible Study
ORGANIZER;CN="Alice Coult":MAILTO:acoult@ptd.net
GEO:40.420843;-75.707817
X-APPLE-STRUCTURED-LOCATION;VALUE=URI;X-ADDRESS=Dave & Alice Coult 38 Heiligs School Road Oley PA 19547 United States;X-APPLE-RADIUS=500;X-TITLE=38 Heiligs School Road:geo:-75.707817,40.420843
END:VEVENT
BEGIN:VEVENT
DTSTART;TZID=America/New_York:20201013T091500
DTEND;TZID=America/New_York:20201013T110000
DTSTAMP:20260425T183557
CREATED:20200816T170714Z
LAST-MODIFIED:20220919T165956Z
UID:10002111-1602580500-1602586800@ccoley.com
SUMMARY:Women's Bible Study
DESCRIPTION:
URL:https://ccoley.com/event/womens-bible-study/2020-10-13/
LOCATION:Dave & Alice Coult\, 38 Heiligs School Road\, Oley\, PA\, 19547\, United States
CATEGORIES:Women's Bible Study
ORGANIZER;CN="Alice Coult":MAILTO:acoult@ptd.net
GEO:40.420843;-75.707817
X-APPLE-STRUCTURED-LOCATION;VALUE=URI;X-ADDRESS=Dave & Alice Coult 38 Heiligs School Road Oley PA 19547 United States;X-APPLE-RADIUS=500;X-TITLE=38 Heiligs School Road:geo:-75.707817,40.420843
END:VEVENT
BEGIN:VEVENT
DTSTART;TZID=America/New_York:20201020T091500
DTEND;TZID=America/New_York:20201020T110000
DTSTAMP:20260425T183557
CREATED:20200816T170714Z
LAST-MODIFIED:20220919T165956Z
UID:10002112-1603185300-1603191600@ccoley.com
SUMMARY:Women's Bible Study
DESCRIPTION:
URL:https://ccoley.com/event/womens-bible-study/2020-10-20/
LOCATION:Dave & Alice Coult\, 38 Heiligs School Road\, Oley\, PA\, 19547\, United States
CATEGORIES:Women's Bible Study
ORGANIZER;CN="Alice Coult":MAILTO:acoult@ptd.net
GEO:40.420843;-75.707817
X-APPLE-STRUCTURED-LOCATION;VALUE=URI;X-ADDRESS=Dave & Alice Coult 38 Heiligs School Road Oley PA 19547 United States;X-APPLE-RADIUS=500;X-TITLE=38 Heiligs School Road:geo:-75.707817,40.420843
END:VEVENT
BEGIN:VEVENT
DTSTART;TZID=America/New_York:20201027T091500
DTEND;TZID=America/New_York:20201027T110000
DTSTAMP:20260425T183557
CREATED:20200816T170714Z
LAST-MODIFIED:20220919T165956Z
UID:10002113-1603790100-1603796400@ccoley.com
SUMMARY:Women's Bible Study
DESCRIPTION:
URL:https://ccoley.com/event/womens-bible-study/2020-10-27/
LOCATION:Dave & Alice Coult\, 38 Heiligs School Road\, Oley\, PA\, 19547\, United States
CATEGORIES:Women's Bible Study
ORGANIZER;CN="Alice Coult":MAILTO:acoult@ptd.net
GEO:40.420843;-75.707817
X-APPLE-STRUCTURED-LOCATION;VALUE=URI;X-ADDRESS=Dave & Alice Coult 38 Heiligs School Road Oley PA 19547 United States;X-APPLE-RADIUS=500;X-TITLE=38 Heiligs School Road:geo:-75.707817,40.420843
END:VEVENT
BEGIN:VEVENT
DTSTART;TZID=America/New_York:20201103T091500
DTEND;TZID=America/New_York:20201103T110000
DTSTAMP:20260425T183557
CREATED:20200816T170714Z
LAST-MODIFIED:20220919T165956Z
UID:10002114-1604394900-1604401200@ccoley.com
SUMMARY:Women's Bible Study
DESCRIPTION:
URL:https://ccoley.com/event/womens-bible-study/2020-11-03/
LOCATION:Dave & Alice Coult\, 38 Heiligs School Road\, Oley\, PA\, 19547\, United States
CATEGORIES:Women's Bible Study
ORGANIZER;CN="Alice Coult":MAILTO:acoult@ptd.net
GEO:40.420843;-75.707817
X-APPLE-STRUCTURED-LOCATION;VALUE=URI;X-ADDRESS=Dave & Alice Coult 38 Heiligs School Road Oley PA 19547 United States;X-APPLE-RADIUS=500;X-TITLE=38 Heiligs School Road:geo:-75.707817,40.420843
END:VEVENT
BEGIN:VEVENT
DTSTART;TZID=America/New_York:20201110T091500
DTEND;TZID=America/New_York:20201110T110000
DTSTAMP:20260425T183557
CREATED:20200816T170714Z
LAST-MODIFIED:20220919T165956Z
UID:10002115-1604999700-1605006000@ccoley.com
SUMMARY:Women's Bible Study
DESCRIPTION:
URL:https://ccoley.com/event/womens-bible-study/2020-11-10/
LOCATION:Dave & Alice Coult\, 38 Heiligs School Road\, Oley\, PA\, 19547\, United States
CATEGORIES:Women's Bible Study
ORGANIZER;CN="Alice Coult":MAILTO:acoult@ptd.net
GEO:40.420843;-75.707817
X-APPLE-STRUCTURED-LOCATION;VALUE=URI;X-ADDRESS=Dave & Alice Coult 38 Heiligs School Road Oley PA 19547 United States;X-APPLE-RADIUS=500;X-TITLE=38 Heiligs School Road:geo:-75.707817,40.420843
END:VEVENT
BEGIN:VEVENT
DTSTART;TZID=America/New_York:20201117T091500
DTEND;TZID=America/New_York:20201117T110000
DTSTAMP:20260425T183557
CREATED:20200816T170714Z
LAST-MODIFIED:20220919T165956Z
UID:10002116-1605604500-1605610800@ccoley.com
SUMMARY:Women's Bible Study
DESCRIPTION:
URL:https://ccoley.com/event/womens-bible-study/2020-11-17/
LOCATION:Dave & Alice Coult\, 38 Heiligs School Road\, Oley\, PA\, 19547\, United States
CATEGORIES:Women's Bible Study
ORGANIZER;CN="Alice Coult":MAILTO:acoult@ptd.net
GEO:40.420843;-75.707817
X-APPLE-STRUCTURED-LOCATION;VALUE=URI;X-ADDRESS=Dave & Alice Coult 38 Heiligs School Road Oley PA 19547 United States;X-APPLE-RADIUS=500;X-TITLE=38 Heiligs School Road:geo:-75.707817,40.420843
END:VEVENT
BEGIN:VEVENT
DTSTART;TZID=America/New_York:20201124T091500
DTEND;TZID=America/New_York:20201124T110000
DTSTAMP:20260425T183557
CREATED:20200816T170714Z
LAST-MODIFIED:20220919T165956Z
UID:10002117-1606209300-1606215600@ccoley.com
SUMMARY:Women's Bible Study
DESCRIPTION:
URL:https://ccoley.com/event/womens-bible-study/2020-11-24/
LOCATION:Dave & Alice Coult\, 38 Heiligs School Road\, Oley\, PA\, 19547\, United States
CATEGORIES:Women's Bible Study
ORGANIZER;CN="Alice Coult":MAILTO:acoult@ptd.net
GEO:40.420843;-75.707817
X-APPLE-STRUCTURED-LOCATION;VALUE=URI;X-ADDRESS=Dave & Alice Coult 38 Heiligs School Road Oley PA 19547 United States;X-APPLE-RADIUS=500;X-TITLE=38 Heiligs School Road:geo:-75.707817,40.420843
END:VEVENT
BEGIN:VEVENT
DTSTART;TZID=America/New_York:20201201T091500
DTEND;TZID=America/New_York:20201201T110000
DTSTAMP:20260425T183557
CREATED:20200816T170714Z
LAST-MODIFIED:20220919T165956Z
UID:10002118-1606814100-1606820400@ccoley.com
SUMMARY:Women's Bible Study
DESCRIPTION:
URL:https://ccoley.com/event/womens-bible-study/2020-12-01/
LOCATION:Dave & Alice Coult\, 38 Heiligs School Road\, Oley\, PA\, 19547\, United States
CATEGORIES:Women's Bible Study
ORGANIZER;CN="Alice Coult":MAILTO:acoult@ptd.net
GEO:40.420843;-75.707817
X-APPLE-STRUCTURED-LOCATION;VALUE=URI;X-ADDRESS=Dave & Alice Coult 38 Heiligs School Road Oley PA 19547 United States;X-APPLE-RADIUS=500;X-TITLE=38 Heiligs School Road:geo:-75.707817,40.420843
END:VEVENT
BEGIN:VEVENT
DTSTART;TZID=America/New_York:20201208T091500
DTEND;TZID=America/New_York:20201208T110000
DTSTAMP:20260425T183557
CREATED:20200816T170714Z
LAST-MODIFIED:20220919T165956Z
UID:10002119-1607418900-1607425200@ccoley.com
SUMMARY:Women's Bible Study
DESCRIPTION:
URL:https://ccoley.com/event/womens-bible-study/2020-12-08/
LOCATION:Dave & Alice Coult\, 38 Heiligs School Road\, Oley\, PA\, 19547\, United States
CATEGORIES:Women's Bible Study
ORGANIZER;CN="Alice Coult":MAILTO:acoult@ptd.net
GEO:40.420843;-75.707817
X-APPLE-STRUCTURED-LOCATION;VALUE=URI;X-ADDRESS=Dave & Alice Coult 38 Heiligs School Road Oley PA 19547 United States;X-APPLE-RADIUS=500;X-TITLE=38 Heiligs School Road:geo:-75.707817,40.420843
END:VEVENT
BEGIN:VEVENT
DTSTART;TZID=America/New_York:20201215T091500
DTEND;TZID=America/New_York:20201215T110000
DTSTAMP:20260425T183557
CREATED:20200816T170714Z
LAST-MODIFIED:20220919T165956Z
UID:10002120-1608023700-1608030000@ccoley.com
SUMMARY:Women's Bible Study
DESCRIPTION:
URL:https://ccoley.com/event/womens-bible-study/2020-12-15/
LOCATION:Dave & Alice Coult\, 38 Heiligs School Road\, Oley\, PA\, 19547\, United States
CATEGORIES:Women's Bible Study
ORGANIZER;CN="Alice Coult":MAILTO:acoult@ptd.net
GEO:40.420843;-75.707817
X-APPLE-STRUCTURED-LOCATION;VALUE=URI;X-ADDRESS=Dave & Alice Coult 38 Heiligs School Road Oley PA 19547 United States;X-APPLE-RADIUS=500;X-TITLE=38 Heiligs School Road:geo:-75.707817,40.420843
END:VEVENT
BEGIN:VEVENT
DTSTART;TZID=America/New_York:20201222T091500
DTEND;TZID=America/New_York:20201222T110000
DTSTAMP:20260425T183557
CREATED:20200816T170714Z
LAST-MODIFIED:20220919T165956Z
UID:10002121-1608628500-1608634800@ccoley.com
SUMMARY:Women's Bible Study
DESCRIPTION:
URL:https://ccoley.com/event/womens-bible-study/2020-12-22/
LOCATION:Dave & Alice Coult\, 38 Heiligs School Road\, Oley\, PA\, 19547\, United States
CATEGORIES:Women's Bible Study
ORGANIZER;CN="Alice Coult":MAILTO:acoult@ptd.net
GEO:40.420843;-75.707817
X-APPLE-STRUCTURED-LOCATION;VALUE=URI;X-ADDRESS=Dave & Alice Coult 38 Heiligs School Road Oley PA 19547 United States;X-APPLE-RADIUS=500;X-TITLE=38 Heiligs School Road:geo:-75.707817,40.420843
END:VEVENT
BEGIN:VEVENT
DTSTART;TZID=America/New_York:20201229T091500
DTEND;TZID=America/New_York:20201229T110000
DTSTAMP:20260425T183557
CREATED:20200816T170714Z
LAST-MODIFIED:20220919T165956Z
UID:10002122-1609233300-1609239600@ccoley.com
SUMMARY:Women's Bible Study
DESCRIPTION:
URL:https://ccoley.com/event/womens-bible-study/2020-12-29/
LOCATION:Dave & Alice Coult\, 38 Heiligs School Road\, Oley\, PA\, 19547\, United States
CATEGORIES:Women's Bible Study
ORGANIZER;CN="Alice Coult":MAILTO:acoult@ptd.net
GEO:40.420843;-75.707817
X-APPLE-STRUCTURED-LOCATION;VALUE=URI;X-ADDRESS=Dave & Alice Coult 38 Heiligs School Road Oley PA 19547 United States;X-APPLE-RADIUS=500;X-TITLE=38 Heiligs School Road:geo:-75.707817,40.420843
END:VEVENT
BEGIN:VEVENT
DTSTART;TZID=America/New_York:20210105T091500
DTEND;TZID=America/New_York:20210105T110000
DTSTAMP:20260425T183557
CREATED:20200816T170714Z
LAST-MODIFIED:20220919T165956Z
UID:10002123-1609838100-1609844400@ccoley.com
SUMMARY:Women's Bible Study
DESCRIPTION:
URL:https://ccoley.com/event/womens-bible-study/2021-01-05/
LOCATION:Dave & Alice Coult\, 38 Heiligs School Road\, Oley\, PA\, 19547\, United States
CATEGORIES:Women's Bible Study
ORGANIZER;CN="Alice Coult":MAILTO:acoult@ptd.net
GEO:40.420843;-75.707817
X-APPLE-STRUCTURED-LOCATION;VALUE=URI;X-ADDRESS=Dave & Alice Coult 38 Heiligs School Road Oley PA 19547 United States;X-APPLE-RADIUS=500;X-TITLE=38 Heiligs School Road:geo:-75.707817,40.420843
END:VEVENT
BEGIN:VEVENT
DTSTART;TZID=America/New_York:20210112T091500
DTEND;TZID=America/New_York:20210112T110000
DTSTAMP:20260425T183557
CREATED:20200816T170714Z
LAST-MODIFIED:20220919T165956Z
UID:10002124-1610442900-1610449200@ccoley.com
SUMMARY:Women's Bible Study
DESCRIPTION:
URL:https://ccoley.com/event/womens-bible-study/2021-01-12/
LOCATION:Dave & Alice Coult\, 38 Heiligs School Road\, Oley\, PA\, 19547\, United States
CATEGORIES:Women's Bible Study
ORGANIZER;CN="Alice Coult":MAILTO:acoult@ptd.net
GEO:40.420843;-75.707817
X-APPLE-STRUCTURED-LOCATION;VALUE=URI;X-ADDRESS=Dave & Alice Coult 38 Heiligs School Road Oley PA 19547 United States;X-APPLE-RADIUS=500;X-TITLE=38 Heiligs School Road:geo:-75.707817,40.420843
END:VEVENT
BEGIN:VEVENT
DTSTART;TZID=America/New_York:20210119T091500
DTEND;TZID=America/New_York:20210119T110000
DTSTAMP:20260425T183557
CREATED:20200816T170714Z
LAST-MODIFIED:20220919T165956Z
UID:10002125-1611047700-1611054000@ccoley.com
SUMMARY:Women's Bible Study
DESCRIPTION:
URL:https://ccoley.com/event/womens-bible-study/2021-01-19/
LOCATION:Dave & Alice Coult\, 38 Heiligs School Road\, Oley\, PA\, 19547\, United States
CATEGORIES:Women's Bible Study
ORGANIZER;CN="Alice Coult":MAILTO:acoult@ptd.net
GEO:40.420843;-75.707817
X-APPLE-STRUCTURED-LOCATION;VALUE=URI;X-ADDRESS=Dave & Alice Coult 38 Heiligs School Road Oley PA 19547 United States;X-APPLE-RADIUS=500;X-TITLE=38 Heiligs School Road:geo:-75.707817,40.420843
END:VEVENT
BEGIN:VEVENT
DTSTART;TZID=America/New_York:20210126T091500
DTEND;TZID=America/New_York:20210126T110000
DTSTAMP:20260425T183557
CREATED:20200816T170714Z
LAST-MODIFIED:20220919T165956Z
UID:10002126-1611652500-1611658800@ccoley.com
SUMMARY:Women's Bible Study
DESCRIPTION:
URL:https://ccoley.com/event/womens-bible-study/2021-01-26/
LOCATION:Dave & Alice Coult\, 38 Heiligs School Road\, Oley\, PA\, 19547\, United States
CATEGORIES:Women's Bible Study
ORGANIZER;CN="Alice Coult":MAILTO:acoult@ptd.net
GEO:40.420843;-75.707817
X-APPLE-STRUCTURED-LOCATION;VALUE=URI;X-ADDRESS=Dave & Alice Coult 38 Heiligs School Road Oley PA 19547 United States;X-APPLE-RADIUS=500;X-TITLE=38 Heiligs School Road:geo:-75.707817,40.420843
END:VEVENT
BEGIN:VEVENT
DTSTART;TZID=America/New_York:20210202T091500
DTEND;TZID=America/New_York:20210202T110000
DTSTAMP:20260425T183557
CREATED:20200816T170714Z
LAST-MODIFIED:20220919T165956Z
UID:10002127-1612257300-1612263600@ccoley.com
SUMMARY:Women's Bible Study
DESCRIPTION:
URL:https://ccoley.com/event/womens-bible-study/2021-02-02/
LOCATION:Dave & Alice Coult\, 38 Heiligs School Road\, Oley\, PA\, 19547\, United States
CATEGORIES:Women's Bible Study
ORGANIZER;CN="Alice Coult":MAILTO:acoult@ptd.net
GEO:40.420843;-75.707817
X-APPLE-STRUCTURED-LOCATION;VALUE=URI;X-ADDRESS=Dave & Alice Coult 38 Heiligs School Road Oley PA 19547 United States;X-APPLE-RADIUS=500;X-TITLE=38 Heiligs School Road:geo:-75.707817,40.420843
END:VEVENT
BEGIN:VEVENT
DTSTART;TZID=America/New_York:20210209T091500
DTEND;TZID=America/New_York:20210209T110000
DTSTAMP:20260425T183557
CREATED:20200816T170714Z
LAST-MODIFIED:20220919T165956Z
UID:10002128-1612862100-1612868400@ccoley.com
SUMMARY:Women's Bible Study
DESCRIPTION:
URL:https://ccoley.com/event/womens-bible-study/2021-02-09/
LOCATION:Dave & Alice Coult\, 38 Heiligs School Road\, Oley\, PA\, 19547\, United States
CATEGORIES:Women's Bible Study
ORGANIZER;CN="Alice Coult":MAILTO:acoult@ptd.net
GEO:40.420843;-75.707817
X-APPLE-STRUCTURED-LOCATION;VALUE=URI;X-ADDRESS=Dave & Alice Coult 38 Heiligs School Road Oley PA 19547 United States;X-APPLE-RADIUS=500;X-TITLE=38 Heiligs School Road:geo:-75.707817,40.420843
END:VEVENT
BEGIN:VEVENT
DTSTART;TZID=America/New_York:20210216T091500
DTEND;TZID=America/New_York:20210216T110000
DTSTAMP:20260425T183557
CREATED:20200816T170714Z
LAST-MODIFIED:20220919T165956Z
UID:10002129-1613466900-1613473200@ccoley.com
SUMMARY:Women's Bible Study
DESCRIPTION:
URL:https://ccoley.com/event/womens-bible-study/2021-02-16/
LOCATION:Dave & Alice Coult\, 38 Heiligs School Road\, Oley\, PA\, 19547\, United States
CATEGORIES:Women's Bible Study
ORGANIZER;CN="Alice Coult":MAILTO:acoult@ptd.net
GEO:40.420843;-75.707817
X-APPLE-STRUCTURED-LOCATION;VALUE=URI;X-ADDRESS=Dave & Alice Coult 38 Heiligs School Road Oley PA 19547 United States;X-APPLE-RADIUS=500;X-TITLE=38 Heiligs School Road:geo:-75.707817,40.420843
END:VEVENT
BEGIN:VEVENT
DTSTART;TZID=America/New_York:20210223T091500
DTEND;TZID=America/New_York:20210223T110000
DTSTAMP:20260425T183557
CREATED:20200816T170714Z
LAST-MODIFIED:20220919T165956Z
UID:10002130-1614071700-1614078000@ccoley.com
SUMMARY:Women's Bible Study
DESCRIPTION:
URL:https://ccoley.com/event/womens-bible-study/2021-02-23/
LOCATION:Dave & Alice Coult\, 38 Heiligs School Road\, Oley\, PA\, 19547\, United States
CATEGORIES:Women's Bible Study
ORGANIZER;CN="Alice Coult":MAILTO:acoult@ptd.net
GEO:40.420843;-75.707817
X-APPLE-STRUCTURED-LOCATION;VALUE=URI;X-ADDRESS=Dave & Alice Coult 38 Heiligs School Road Oley PA 19547 United States;X-APPLE-RADIUS=500;X-TITLE=38 Heiligs School Road:geo:-75.707817,40.420843
END:VEVENT
BEGIN:VEVENT
DTSTART;TZID=America/New_York:20210302T091500
DTEND;TZID=America/New_York:20210302T110000
DTSTAMP:20260425T183557
CREATED:20200816T170714Z
LAST-MODIFIED:20220919T165956Z
UID:10002131-1614676500-1614682800@ccoley.com
SUMMARY:Women's Bible Study
DESCRIPTION:
URL:https://ccoley.com/event/womens-bible-study/2021-03-02/
LOCATION:Dave & Alice Coult\, 38 Heiligs School Road\, Oley\, PA\, 19547\, United States
CATEGORIES:Women's Bible Study
ORGANIZER;CN="Alice Coult":MAILTO:acoult@ptd.net
GEO:40.420843;-75.707817
X-APPLE-STRUCTURED-LOCATION;VALUE=URI;X-ADDRESS=Dave & Alice Coult 38 Heiligs School Road Oley PA 19547 United States;X-APPLE-RADIUS=500;X-TITLE=38 Heiligs School Road:geo:-75.707817,40.420843
END:VEVENT
BEGIN:VEVENT
DTSTART;TZID=America/New_York:20210309T091500
DTEND;TZID=America/New_York:20210309T110000
DTSTAMP:20260425T183557
CREATED:20200816T170714Z
LAST-MODIFIED:20220919T165956Z
UID:10002132-1615281300-1615287600@ccoley.com
SUMMARY:Women's Bible Study
DESCRIPTION:
URL:https://ccoley.com/event/womens-bible-study/2021-03-09/
LOCATION:Dave & Alice Coult\, 38 Heiligs School Road\, Oley\, PA\, 19547\, United States
CATEGORIES:Women's Bible Study
ORGANIZER;CN="Alice Coult":MAILTO:acoult@ptd.net
GEO:40.420843;-75.707817
X-APPLE-STRUCTURED-LOCATION;VALUE=URI;X-ADDRESS=Dave & Alice Coult 38 Heiligs School Road Oley PA 19547 United States;X-APPLE-RADIUS=500;X-TITLE=38 Heiligs School Road:geo:-75.707817,40.420843
END:VEVENT
BEGIN:VEVENT
DTSTART;TZID=America/New_York:20210316T091500
DTEND;TZID=America/New_York:20210316T110000
DTSTAMP:20260425T183557
CREATED:20200816T170714Z
LAST-MODIFIED:20220919T165956Z
UID:10002133-1615886100-1615892400@ccoley.com
SUMMARY:Women's Bible Study
DESCRIPTION:
URL:https://ccoley.com/event/womens-bible-study/2021-03-16/
LOCATION:Dave & Alice Coult\, 38 Heiligs School Road\, Oley\, PA\, 19547\, United States
CATEGORIES:Women's Bible Study
ORGANIZER;CN="Alice Coult":MAILTO:acoult@ptd.net
GEO:40.420843;-75.707817
X-APPLE-STRUCTURED-LOCATION;VALUE=URI;X-ADDRESS=Dave & Alice Coult 38 Heiligs School Road Oley PA 19547 United States;X-APPLE-RADIUS=500;X-TITLE=38 Heiligs School Road:geo:-75.707817,40.420843
END:VEVENT
BEGIN:VEVENT
DTSTART;TZID=America/New_York:20210323T091500
DTEND;TZID=America/New_York:20210323T110000
DTSTAMP:20260425T183557
CREATED:20200816T170714Z
LAST-MODIFIED:20220919T165956Z
UID:10002134-1616490900-1616497200@ccoley.com
SUMMARY:Women's Bible Study
DESCRIPTION:
URL:https://ccoley.com/event/womens-bible-study/2021-03-23/
LOCATION:Dave & Alice Coult\, 38 Heiligs School Road\, Oley\, PA\, 19547\, United States
CATEGORIES:Women's Bible Study
ORGANIZER;CN="Alice Coult":MAILTO:acoult@ptd.net
GEO:40.420843;-75.707817
X-APPLE-STRUCTURED-LOCATION;VALUE=URI;X-ADDRESS=Dave & Alice Coult 38 Heiligs School Road Oley PA 19547 United States;X-APPLE-RADIUS=500;X-TITLE=38 Heiligs School Road:geo:-75.707817,40.420843
END:VEVENT
BEGIN:VEVENT
DTSTART;TZID=America/New_York:20210330T091500
DTEND;TZID=America/New_York:20210330T110000
DTSTAMP:20260425T183557
CREATED:20200816T170714Z
LAST-MODIFIED:20220919T165956Z
UID:10002135-1617095700-1617102000@ccoley.com
SUMMARY:Women's Bible Study
DESCRIPTION:
URL:https://ccoley.com/event/womens-bible-study/2021-03-30/
LOCATION:Dave & Alice Coult\, 38 Heiligs School Road\, Oley\, PA\, 19547\, United States
CATEGORIES:Women's Bible Study
ORGANIZER;CN="Alice Coult":MAILTO:acoult@ptd.net
GEO:40.420843;-75.707817
X-APPLE-STRUCTURED-LOCATION;VALUE=URI;X-ADDRESS=Dave & Alice Coult 38 Heiligs School Road Oley PA 19547 United States;X-APPLE-RADIUS=500;X-TITLE=38 Heiligs School Road:geo:-75.707817,40.420843
END:VEVENT
BEGIN:VEVENT
DTSTART;TZID=America/New_York:20210406T091500
DTEND;TZID=America/New_York:20210406T110000
DTSTAMP:20260425T183557
CREATED:20200816T170714Z
LAST-MODIFIED:20220919T165956Z
UID:10002136-1617700500-1617706800@ccoley.com
SUMMARY:Women's Bible Study
DESCRIPTION:
URL:https://ccoley.com/event/womens-bible-study/2021-04-06/
LOCATION:Dave & Alice Coult\, 38 Heiligs School Road\, Oley\, PA\, 19547\, United States
CATEGORIES:Women's Bible Study
ORGANIZER;CN="Alice Coult":MAILTO:acoult@ptd.net
GEO:40.420843;-75.707817
X-APPLE-STRUCTURED-LOCATION;VALUE=URI;X-ADDRESS=Dave & Alice Coult 38 Heiligs School Road Oley PA 19547 United States;X-APPLE-RADIUS=500;X-TITLE=38 Heiligs School Road:geo:-75.707817,40.420843
END:VEVENT
BEGIN:VEVENT
DTSTART;TZID=America/New_York:20210413T091500
DTEND;TZID=America/New_York:20210413T110000
DTSTAMP:20260425T183557
CREATED:20200816T170714Z
LAST-MODIFIED:20220919T165956Z
UID:10002137-1618305300-1618311600@ccoley.com
SUMMARY:Women's Bible Study
DESCRIPTION:
URL:https://ccoley.com/event/womens-bible-study/2021-04-13/
LOCATION:Dave & Alice Coult\, 38 Heiligs School Road\, Oley\, PA\, 19547\, United States
CATEGORIES:Women's Bible Study
ORGANIZER;CN="Alice Coult":MAILTO:acoult@ptd.net
GEO:40.420843;-75.707817
X-APPLE-STRUCTURED-LOCATION;VALUE=URI;X-ADDRESS=Dave & Alice Coult 38 Heiligs School Road Oley PA 19547 United States;X-APPLE-RADIUS=500;X-TITLE=38 Heiligs School Road:geo:-75.707817,40.420843
END:VEVENT
BEGIN:VEVENT
DTSTART;TZID=America/New_York:20210420T091500
DTEND;TZID=America/New_York:20210420T110000
DTSTAMP:20260425T183557
CREATED:20200816T170714Z
LAST-MODIFIED:20220919T165956Z
UID:10002138-1618910100-1618916400@ccoley.com
SUMMARY:Women's Bible Study
DESCRIPTION:
URL:https://ccoley.com/event/womens-bible-study/2021-04-20/
LOCATION:Dave & Alice Coult\, 38 Heiligs School Road\, Oley\, PA\, 19547\, United States
CATEGORIES:Women's Bible Study
ORGANIZER;CN="Alice Coult":MAILTO:acoult@ptd.net
GEO:40.420843;-75.707817
X-APPLE-STRUCTURED-LOCATION;VALUE=URI;X-ADDRESS=Dave & Alice Coult 38 Heiligs School Road Oley PA 19547 United States;X-APPLE-RADIUS=500;X-TITLE=38 Heiligs School Road:geo:-75.707817,40.420843
END:VEVENT
BEGIN:VEVENT
DTSTART;TZID=America/New_York:20210427T091500
DTEND;TZID=America/New_York:20210427T110000
DTSTAMP:20260425T183557
CREATED:20200816T170714Z
LAST-MODIFIED:20220919T165956Z
UID:10002139-1619514900-1619521200@ccoley.com
SUMMARY:Women's Bible Study
DESCRIPTION:
URL:https://ccoley.com/event/womens-bible-study/2021-04-27/
LOCATION:Dave & Alice Coult\, 38 Heiligs School Road\, Oley\, PA\, 19547\, United States
CATEGORIES:Women's Bible Study
ORGANIZER;CN="Alice Coult":MAILTO:acoult@ptd.net
GEO:40.420843;-75.707817
X-APPLE-STRUCTURED-LOCATION;VALUE=URI;X-ADDRESS=Dave & Alice Coult 38 Heiligs School Road Oley PA 19547 United States;X-APPLE-RADIUS=500;X-TITLE=38 Heiligs School Road:geo:-75.707817,40.420843
END:VEVENT
END:VCALENDAR