BEGIN:VCALENDAR
VERSION:2.0
PRODID:-//Calvary Chapel of the Oley Valley - ECPv6.15.20//NONSGML v1.0//EN
CALSCALE:GREGORIAN
METHOD:PUBLISH
X-ORIGINAL-URL:https://ccoley.com
X-WR-CALDESC:Events for Calvary Chapel of the Oley Valley
REFRESH-INTERVAL;VALUE=DURATION:PT1H
X-Robots-Tag:noindex
X-PUBLISHED-TTL:PT1H
BEGIN:VTIMEZONE
TZID:America/New_York
BEGIN:DAYLIGHT
TZOFFSETFROM:-0500
TZOFFSETTO:-0400
TZNAME:EDT
DTSTART:20160313T070000
END:DAYLIGHT
BEGIN:STANDARD
TZOFFSETFROM:-0400
TZOFFSETTO:-0500
TZNAME:EST
DTSTART:20161106T060000
END:STANDARD
BEGIN:DAYLIGHT
TZOFFSETFROM:-0500
TZOFFSETTO:-0400
TZNAME:EDT
DTSTART:20170312T070000
END:DAYLIGHT
BEGIN:STANDARD
TZOFFSETFROM:-0400
TZOFFSETTO:-0500
TZNAME:EST
DTSTART:20171105T060000
END:STANDARD
BEGIN:DAYLIGHT
TZOFFSETFROM:-0500
TZOFFSETTO:-0400
TZNAME:EDT
DTSTART:20180311T070000
END:DAYLIGHT
BEGIN:STANDARD
TZOFFSETFROM:-0400
TZOFFSETTO:-0500
TZNAME:EST
DTSTART:20181104T060000
END:STANDARD
BEGIN:DAYLIGHT
TZOFFSETFROM:-0500
TZOFFSETTO:-0400
TZNAME:EDT
DTSTART:20190310T070000
END:DAYLIGHT
BEGIN:STANDARD
TZOFFSETFROM:-0400
TZOFFSETTO:-0500
TZNAME:EST
DTSTART:20191103T060000
END:STANDARD
END:VTIMEZONE
BEGIN:VEVENT
DTSTART;TZID=America/New_York:20170910T090000
DTEND;TZID=America/New_York:20170910T100000
DTSTAMP:20260425T091141
CREATED:20170828T135653Z
LAST-MODIFIED:20170828T135654Z
UID:10000082-1505034000-1505037600@ccoley.com
SUMMARY:Sunday Bible Study
DESCRIPTION:We are currently studying the Book of Matthew.
URL:https://ccoley.com/event/sunday-bible-study/2017-09-10/
LOCATION:Oley Valley Elementary School\, 3247 Friedensburg Road\, Oley\, PA\, 19547\, United States
CATEGORIES:Sunday Bible Study
ORGANIZER;CN="Oskars Rieksts":MAILTO:rieksts385@yahoo.com
GEO:40.379717;-75.799139
X-APPLE-STRUCTURED-LOCATION;VALUE=URI;X-ADDRESS=Oley Valley Elementary School 3247 Friedensburg Road Oley PA 19547 United States;X-APPLE-RADIUS=500;X-TITLE=3247 Friedensburg Road:geo:-75.799139,40.379717
END:VEVENT
BEGIN:VEVENT
DTSTART;TZID=America/New_York:20170917T090000
DTEND;TZID=America/New_York:20170917T100000
DTSTAMP:20260425T091141
CREATED:20170828T135653Z
LAST-MODIFIED:20170828T135654Z
UID:10000083-1505638800-1505642400@ccoley.com
SUMMARY:Sunday Bible Study
DESCRIPTION:We are currently studying the Book of Matthew.
URL:https://ccoley.com/event/sunday-bible-study/2017-09-17/
LOCATION:Oley Valley Elementary School\, 3247 Friedensburg Road\, Oley\, PA\, 19547\, United States
CATEGORIES:Sunday Bible Study
ORGANIZER;CN="Oskars Rieksts":MAILTO:rieksts385@yahoo.com
GEO:40.379717;-75.799139
X-APPLE-STRUCTURED-LOCATION;VALUE=URI;X-ADDRESS=Oley Valley Elementary School 3247 Friedensburg Road Oley PA 19547 United States;X-APPLE-RADIUS=500;X-TITLE=3247 Friedensburg Road:geo:-75.799139,40.379717
END:VEVENT
BEGIN:VEVENT
DTSTART;TZID=America/New_York:20170924T090000
DTEND;TZID=America/New_York:20170924T100000
DTSTAMP:20260425T091141
CREATED:20170828T135653Z
LAST-MODIFIED:20170828T135654Z
UID:10000084-1506243600-1506247200@ccoley.com
SUMMARY:Sunday Bible Study
DESCRIPTION:We are currently studying the Book of Matthew.
URL:https://ccoley.com/event/sunday-bible-study/2017-09-24/
LOCATION:Oley Valley Elementary School\, 3247 Friedensburg Road\, Oley\, PA\, 19547\, United States
CATEGORIES:Sunday Bible Study
ORGANIZER;CN="Oskars Rieksts":MAILTO:rieksts385@yahoo.com
GEO:40.379717;-75.799139
X-APPLE-STRUCTURED-LOCATION;VALUE=URI;X-ADDRESS=Oley Valley Elementary School 3247 Friedensburg Road Oley PA 19547 United States;X-APPLE-RADIUS=500;X-TITLE=3247 Friedensburg Road:geo:-75.799139,40.379717
END:VEVENT
BEGIN:VEVENT
DTSTART;TZID=America/New_York:20171001T090000
DTEND;TZID=America/New_York:20171001T100000
DTSTAMP:20260425T091141
CREATED:20170828T135653Z
LAST-MODIFIED:20170828T135654Z
UID:10000085-1506848400-1506852000@ccoley.com
SUMMARY:Sunday Bible Study
DESCRIPTION:We are currently studying the Book of Matthew.
URL:https://ccoley.com/event/sunday-bible-study/2017-10-01/
LOCATION:Oley Valley Elementary School\, 3247 Friedensburg Road\, Oley\, PA\, 19547\, United States
CATEGORIES:Sunday Bible Study
ORGANIZER;CN="Oskars Rieksts":MAILTO:rieksts385@yahoo.com
GEO:40.379717;-75.799139
X-APPLE-STRUCTURED-LOCATION;VALUE=URI;X-ADDRESS=Oley Valley Elementary School 3247 Friedensburg Road Oley PA 19547 United States;X-APPLE-RADIUS=500;X-TITLE=3247 Friedensburg Road:geo:-75.799139,40.379717
END:VEVENT
BEGIN:VEVENT
DTSTART;TZID=America/New_York:20171008T090000
DTEND;TZID=America/New_York:20171008T100000
DTSTAMP:20260425T091141
CREATED:20170828T135653Z
LAST-MODIFIED:20170828T135654Z
UID:10000086-1507453200-1507456800@ccoley.com
SUMMARY:Sunday Bible Study
DESCRIPTION:We are currently studying the Book of Matthew.
URL:https://ccoley.com/event/sunday-bible-study/2017-10-08/
LOCATION:Oley Valley Elementary School\, 3247 Friedensburg Road\, Oley\, PA\, 19547\, United States
CATEGORIES:Sunday Bible Study
ORGANIZER;CN="Oskars Rieksts":MAILTO:rieksts385@yahoo.com
GEO:40.379717;-75.799139
X-APPLE-STRUCTURED-LOCATION;VALUE=URI;X-ADDRESS=Oley Valley Elementary School 3247 Friedensburg Road Oley PA 19547 United States;X-APPLE-RADIUS=500;X-TITLE=3247 Friedensburg Road:geo:-75.799139,40.379717
END:VEVENT
BEGIN:VEVENT
DTSTART;TZID=America/New_York:20171015T090000
DTEND;TZID=America/New_York:20171015T100000
DTSTAMP:20260425T091141
CREATED:20170828T135653Z
LAST-MODIFIED:20170828T135654Z
UID:10000087-1508058000-1508061600@ccoley.com
SUMMARY:Sunday Bible Study
DESCRIPTION:We are currently studying the Book of Matthew.
URL:https://ccoley.com/event/sunday-bible-study/2017-10-15/
LOCATION:Oley Valley Elementary School\, 3247 Friedensburg Road\, Oley\, PA\, 19547\, United States
CATEGORIES:Sunday Bible Study
ORGANIZER;CN="Oskars Rieksts":MAILTO:rieksts385@yahoo.com
GEO:40.379717;-75.799139
X-APPLE-STRUCTURED-LOCATION;VALUE=URI;X-ADDRESS=Oley Valley Elementary School 3247 Friedensburg Road Oley PA 19547 United States;X-APPLE-RADIUS=500;X-TITLE=3247 Friedensburg Road:geo:-75.799139,40.379717
END:VEVENT
BEGIN:VEVENT
DTSTART;TZID=America/New_York:20171022T090000
DTEND;TZID=America/New_York:20171022T100000
DTSTAMP:20260425T091141
CREATED:20170828T135653Z
LAST-MODIFIED:20170828T135654Z
UID:10000088-1508662800-1508666400@ccoley.com
SUMMARY:Sunday Bible Study
DESCRIPTION:We are currently studying the Book of Matthew.
URL:https://ccoley.com/event/sunday-bible-study/2017-10-22/
LOCATION:Oley Valley Elementary School\, 3247 Friedensburg Road\, Oley\, PA\, 19547\, United States
CATEGORIES:Sunday Bible Study
ORGANIZER;CN="Oskars Rieksts":MAILTO:rieksts385@yahoo.com
GEO:40.379717;-75.799139
X-APPLE-STRUCTURED-LOCATION;VALUE=URI;X-ADDRESS=Oley Valley Elementary School 3247 Friedensburg Road Oley PA 19547 United States;X-APPLE-RADIUS=500;X-TITLE=3247 Friedensburg Road:geo:-75.799139,40.379717
END:VEVENT
BEGIN:VEVENT
DTSTART;TZID=America/New_York:20171029T090000
DTEND;TZID=America/New_York:20171029T100000
DTSTAMP:20260425T091141
CREATED:20170828T135653Z
LAST-MODIFIED:20170828T135654Z
UID:10000089-1509267600-1509271200@ccoley.com
SUMMARY:Sunday Bible Study
DESCRIPTION:We are currently studying the Book of Matthew.
URL:https://ccoley.com/event/sunday-bible-study/2017-10-29/
LOCATION:Oley Valley Elementary School\, 3247 Friedensburg Road\, Oley\, PA\, 19547\, United States
CATEGORIES:Sunday Bible Study
ORGANIZER;CN="Oskars Rieksts":MAILTO:rieksts385@yahoo.com
GEO:40.379717;-75.799139
X-APPLE-STRUCTURED-LOCATION;VALUE=URI;X-ADDRESS=Oley Valley Elementary School 3247 Friedensburg Road Oley PA 19547 United States;X-APPLE-RADIUS=500;X-TITLE=3247 Friedensburg Road:geo:-75.799139,40.379717
END:VEVENT
BEGIN:VEVENT
DTSTART;TZID=America/New_York:20171105T090000
DTEND;TZID=America/New_York:20171105T100000
DTSTAMP:20260425T091141
CREATED:20170828T135653Z
LAST-MODIFIED:20170828T135654Z
UID:10000090-1509872400-1509876000@ccoley.com
SUMMARY:Sunday Bible Study
DESCRIPTION:We are currently studying the Book of Matthew.
URL:https://ccoley.com/event/sunday-bible-study/2017-11-05/
LOCATION:Oley Valley Elementary School\, 3247 Friedensburg Road\, Oley\, PA\, 19547\, United States
CATEGORIES:Sunday Bible Study
ORGANIZER;CN="Oskars Rieksts":MAILTO:rieksts385@yahoo.com
GEO:40.379717;-75.799139
X-APPLE-STRUCTURED-LOCATION;VALUE=URI;X-ADDRESS=Oley Valley Elementary School 3247 Friedensburg Road Oley PA 19547 United States;X-APPLE-RADIUS=500;X-TITLE=3247 Friedensburg Road:geo:-75.799139,40.379717
END:VEVENT
BEGIN:VEVENT
DTSTART;TZID=America/New_York:20171112T090000
DTEND;TZID=America/New_York:20171112T100000
DTSTAMP:20260425T091141
CREATED:20170828T135653Z
LAST-MODIFIED:20170828T135654Z
UID:10000091-1510477200-1510480800@ccoley.com
SUMMARY:Sunday Bible Study
DESCRIPTION:We are currently studying the Book of Matthew.
URL:https://ccoley.com/event/sunday-bible-study/2017-11-12/
LOCATION:Oley Valley Elementary School\, 3247 Friedensburg Road\, Oley\, PA\, 19547\, United States
CATEGORIES:Sunday Bible Study
ORGANIZER;CN="Oskars Rieksts":MAILTO:rieksts385@yahoo.com
GEO:40.379717;-75.799139
X-APPLE-STRUCTURED-LOCATION;VALUE=URI;X-ADDRESS=Oley Valley Elementary School 3247 Friedensburg Road Oley PA 19547 United States;X-APPLE-RADIUS=500;X-TITLE=3247 Friedensburg Road:geo:-75.799139,40.379717
END:VEVENT
BEGIN:VEVENT
DTSTART;TZID=America/New_York:20171119T090000
DTEND;TZID=America/New_York:20171119T100000
DTSTAMP:20260425T091141
CREATED:20170828T135653Z
LAST-MODIFIED:20170828T135654Z
UID:10000092-1511082000-1511085600@ccoley.com
SUMMARY:Sunday Bible Study
DESCRIPTION:We are currently studying the Book of Matthew.
URL:https://ccoley.com/event/sunday-bible-study/2017-11-19/
LOCATION:Oley Valley Elementary School\, 3247 Friedensburg Road\, Oley\, PA\, 19547\, United States
CATEGORIES:Sunday Bible Study
ORGANIZER;CN="Oskars Rieksts":MAILTO:rieksts385@yahoo.com
GEO:40.379717;-75.799139
X-APPLE-STRUCTURED-LOCATION;VALUE=URI;X-ADDRESS=Oley Valley Elementary School 3247 Friedensburg Road Oley PA 19547 United States;X-APPLE-RADIUS=500;X-TITLE=3247 Friedensburg Road:geo:-75.799139,40.379717
END:VEVENT
BEGIN:VEVENT
DTSTART;TZID=America/New_York:20171126T090000
DTEND;TZID=America/New_York:20171126T100000
DTSTAMP:20260425T091141
CREATED:20170828T135653Z
LAST-MODIFIED:20170828T135654Z
UID:10000093-1511686800-1511690400@ccoley.com
SUMMARY:Sunday Bible Study
DESCRIPTION:We are currently studying the Book of Matthew.
URL:https://ccoley.com/event/sunday-bible-study/2017-11-26/
LOCATION:Oley Valley Elementary School\, 3247 Friedensburg Road\, Oley\, PA\, 19547\, United States
CATEGORIES:Sunday Bible Study
ORGANIZER;CN="Oskars Rieksts":MAILTO:rieksts385@yahoo.com
GEO:40.379717;-75.799139
X-APPLE-STRUCTURED-LOCATION;VALUE=URI;X-ADDRESS=Oley Valley Elementary School 3247 Friedensburg Road Oley PA 19547 United States;X-APPLE-RADIUS=500;X-TITLE=3247 Friedensburg Road:geo:-75.799139,40.379717
END:VEVENT
BEGIN:VEVENT
DTSTART;TZID=America/New_York:20171203T090000
DTEND;TZID=America/New_York:20171203T100000
DTSTAMP:20260425T091141
CREATED:20170828T135653Z
LAST-MODIFIED:20170828T135654Z
UID:10000094-1512291600-1512295200@ccoley.com
SUMMARY:Sunday Bible Study
DESCRIPTION:We are currently studying the Book of Matthew.
URL:https://ccoley.com/event/sunday-bible-study/2017-12-03/
LOCATION:Oley Valley Elementary School\, 3247 Friedensburg Road\, Oley\, PA\, 19547\, United States
CATEGORIES:Sunday Bible Study
ORGANIZER;CN="Oskars Rieksts":MAILTO:rieksts385@yahoo.com
GEO:40.379717;-75.799139
X-APPLE-STRUCTURED-LOCATION;VALUE=URI;X-ADDRESS=Oley Valley Elementary School 3247 Friedensburg Road Oley PA 19547 United States;X-APPLE-RADIUS=500;X-TITLE=3247 Friedensburg Road:geo:-75.799139,40.379717
END:VEVENT
BEGIN:VEVENT
DTSTART;TZID=America/New_York:20171210T090000
DTEND;TZID=America/New_York:20171210T100000
DTSTAMP:20260425T091141
CREATED:20170828T135653Z
LAST-MODIFIED:20170828T135654Z
UID:10000095-1512896400-1512900000@ccoley.com
SUMMARY:Sunday Bible Study
DESCRIPTION:We are currently studying the Book of Matthew.
URL:https://ccoley.com/event/sunday-bible-study/2017-12-10/
LOCATION:Oley Valley Elementary School\, 3247 Friedensburg Road\, Oley\, PA\, 19547\, United States
CATEGORIES:Sunday Bible Study
ORGANIZER;CN="Oskars Rieksts":MAILTO:rieksts385@yahoo.com
GEO:40.379717;-75.799139
X-APPLE-STRUCTURED-LOCATION;VALUE=URI;X-ADDRESS=Oley Valley Elementary School 3247 Friedensburg Road Oley PA 19547 United States;X-APPLE-RADIUS=500;X-TITLE=3247 Friedensburg Road:geo:-75.799139,40.379717
END:VEVENT
BEGIN:VEVENT
DTSTART;TZID=America/New_York:20171217T090000
DTEND;TZID=America/New_York:20171217T100000
DTSTAMP:20260425T091141
CREATED:20170828T135653Z
LAST-MODIFIED:20170828T135654Z
UID:10000096-1513501200-1513504800@ccoley.com
SUMMARY:Sunday Bible Study
DESCRIPTION:We are currently studying the Book of Matthew.
URL:https://ccoley.com/event/sunday-bible-study/2017-12-17/
LOCATION:Oley Valley Elementary School\, 3247 Friedensburg Road\, Oley\, PA\, 19547\, United States
CATEGORIES:Sunday Bible Study
ORGANIZER;CN="Oskars Rieksts":MAILTO:rieksts385@yahoo.com
GEO:40.379717;-75.799139
X-APPLE-STRUCTURED-LOCATION;VALUE=URI;X-ADDRESS=Oley Valley Elementary School 3247 Friedensburg Road Oley PA 19547 United States;X-APPLE-RADIUS=500;X-TITLE=3247 Friedensburg Road:geo:-75.799139,40.379717
END:VEVENT
BEGIN:VEVENT
DTSTART;TZID=America/New_York:20171224T090000
DTEND;TZID=America/New_York:20171224T100000
DTSTAMP:20260425T091141
CREATED:20170828T135653Z
LAST-MODIFIED:20170828T135654Z
UID:10000097-1514106000-1514109600@ccoley.com
SUMMARY:Sunday Bible Study
DESCRIPTION:We are currently studying the Book of Matthew.
URL:https://ccoley.com/event/sunday-bible-study/2017-12-24/
LOCATION:Oley Valley Elementary School\, 3247 Friedensburg Road\, Oley\, PA\, 19547\, United States
CATEGORIES:Sunday Bible Study
ORGANIZER;CN="Oskars Rieksts":MAILTO:rieksts385@yahoo.com
GEO:40.379717;-75.799139
X-APPLE-STRUCTURED-LOCATION;VALUE=URI;X-ADDRESS=Oley Valley Elementary School 3247 Friedensburg Road Oley PA 19547 United States;X-APPLE-RADIUS=500;X-TITLE=3247 Friedensburg Road:geo:-75.799139,40.379717
END:VEVENT
BEGIN:VEVENT
DTSTART;TZID=America/New_York:20171231T090000
DTEND;TZID=America/New_York:20171231T100000
DTSTAMP:20260425T091141
CREATED:20170828T135653Z
LAST-MODIFIED:20170828T135654Z
UID:10000098-1514710800-1514714400@ccoley.com
SUMMARY:Sunday Bible Study
DESCRIPTION:We are currently studying the Book of Matthew.
URL:https://ccoley.com/event/sunday-bible-study/2017-12-31/
LOCATION:Oley Valley Elementary School\, 3247 Friedensburg Road\, Oley\, PA\, 19547\, United States
CATEGORIES:Sunday Bible Study
ORGANIZER;CN="Oskars Rieksts":MAILTO:rieksts385@yahoo.com
GEO:40.379717;-75.799139
X-APPLE-STRUCTURED-LOCATION;VALUE=URI;X-ADDRESS=Oley Valley Elementary School 3247 Friedensburg Road Oley PA 19547 United States;X-APPLE-RADIUS=500;X-TITLE=3247 Friedensburg Road:geo:-75.799139,40.379717
END:VEVENT
BEGIN:VEVENT
DTSTART;TZID=America/New_York:20180107T090000
DTEND;TZID=America/New_York:20180107T100000
DTSTAMP:20260425T091141
CREATED:20170828T135653Z
LAST-MODIFIED:20170828T135654Z
UID:10000099-1515315600-1515319200@ccoley.com
SUMMARY:Sunday Bible Study
DESCRIPTION:We are currently studying the Book of Matthew.
URL:https://ccoley.com/event/sunday-bible-study/2018-01-07/
LOCATION:Oley Valley Elementary School\, 3247 Friedensburg Road\, Oley\, PA\, 19547\, United States
CATEGORIES:Sunday Bible Study
ORGANIZER;CN="Oskars Rieksts":MAILTO:rieksts385@yahoo.com
GEO:40.379717;-75.799139
X-APPLE-STRUCTURED-LOCATION;VALUE=URI;X-ADDRESS=Oley Valley Elementary School 3247 Friedensburg Road Oley PA 19547 United States;X-APPLE-RADIUS=500;X-TITLE=3247 Friedensburg Road:geo:-75.799139,40.379717
END:VEVENT
BEGIN:VEVENT
DTSTART;TZID=America/New_York:20180114T090000
DTEND;TZID=America/New_York:20180114T100000
DTSTAMP:20260425T091141
CREATED:20170828T135653Z
LAST-MODIFIED:20170828T135654Z
UID:10000100-1515920400-1515924000@ccoley.com
SUMMARY:Sunday Bible Study
DESCRIPTION:We are currently studying the Book of Matthew.
URL:https://ccoley.com/event/sunday-bible-study/2018-01-14/
LOCATION:Oley Valley Elementary School\, 3247 Friedensburg Road\, Oley\, PA\, 19547\, United States
CATEGORIES:Sunday Bible Study
ORGANIZER;CN="Oskars Rieksts":MAILTO:rieksts385@yahoo.com
GEO:40.379717;-75.799139
X-APPLE-STRUCTURED-LOCATION;VALUE=URI;X-ADDRESS=Oley Valley Elementary School 3247 Friedensburg Road Oley PA 19547 United States;X-APPLE-RADIUS=500;X-TITLE=3247 Friedensburg Road:geo:-75.799139,40.379717
END:VEVENT
BEGIN:VEVENT
DTSTART;TZID=America/New_York:20180121T090000
DTEND;TZID=America/New_York:20180121T100000
DTSTAMP:20260425T091141
CREATED:20170828T135653Z
LAST-MODIFIED:20170828T135654Z
UID:10000101-1516525200-1516528800@ccoley.com
SUMMARY:Sunday Bible Study
DESCRIPTION:We are currently studying the Book of Matthew.
URL:https://ccoley.com/event/sunday-bible-study/2018-01-21/
LOCATION:Oley Valley Elementary School\, 3247 Friedensburg Road\, Oley\, PA\, 19547\, United States
CATEGORIES:Sunday Bible Study
ORGANIZER;CN="Oskars Rieksts":MAILTO:rieksts385@yahoo.com
GEO:40.379717;-75.799139
X-APPLE-STRUCTURED-LOCATION;VALUE=URI;X-ADDRESS=Oley Valley Elementary School 3247 Friedensburg Road Oley PA 19547 United States;X-APPLE-RADIUS=500;X-TITLE=3247 Friedensburg Road:geo:-75.799139,40.379717
END:VEVENT
BEGIN:VEVENT
DTSTART;TZID=America/New_York:20180128T090000
DTEND;TZID=America/New_York:20180128T100000
DTSTAMP:20260425T091141
CREATED:20170828T135653Z
LAST-MODIFIED:20170828T135654Z
UID:10000102-1517130000-1517133600@ccoley.com
SUMMARY:Sunday Bible Study
DESCRIPTION:We are currently studying the Book of Matthew.
URL:https://ccoley.com/event/sunday-bible-study/2018-01-28/
LOCATION:Oley Valley Elementary School\, 3247 Friedensburg Road\, Oley\, PA\, 19547\, United States
CATEGORIES:Sunday Bible Study
ORGANIZER;CN="Oskars Rieksts":MAILTO:rieksts385@yahoo.com
GEO:40.379717;-75.799139
X-APPLE-STRUCTURED-LOCATION;VALUE=URI;X-ADDRESS=Oley Valley Elementary School 3247 Friedensburg Road Oley PA 19547 United States;X-APPLE-RADIUS=500;X-TITLE=3247 Friedensburg Road:geo:-75.799139,40.379717
END:VEVENT
BEGIN:VEVENT
DTSTART;TZID=America/New_York:20180204T090000
DTEND;TZID=America/New_York:20180204T100000
DTSTAMP:20260425T091141
CREATED:20170828T135653Z
LAST-MODIFIED:20170828T135654Z
UID:10000103-1517734800-1517738400@ccoley.com
SUMMARY:Sunday Bible Study
DESCRIPTION:We are currently studying the Book of Matthew.
URL:https://ccoley.com/event/sunday-bible-study/2018-02-04/
LOCATION:Oley Valley Elementary School\, 3247 Friedensburg Road\, Oley\, PA\, 19547\, United States
CATEGORIES:Sunday Bible Study
ORGANIZER;CN="Oskars Rieksts":MAILTO:rieksts385@yahoo.com
GEO:40.379717;-75.799139
X-APPLE-STRUCTURED-LOCATION;VALUE=URI;X-ADDRESS=Oley Valley Elementary School 3247 Friedensburg Road Oley PA 19547 United States;X-APPLE-RADIUS=500;X-TITLE=3247 Friedensburg Road:geo:-75.799139,40.379717
END:VEVENT
BEGIN:VEVENT
DTSTART;TZID=America/New_York:20180211T090000
DTEND;TZID=America/New_York:20180211T100000
DTSTAMP:20260425T091141
CREATED:20170828T135653Z
LAST-MODIFIED:20170828T135654Z
UID:10000104-1518339600-1518343200@ccoley.com
SUMMARY:Sunday Bible Study
DESCRIPTION:We are currently studying the Book of Matthew.
URL:https://ccoley.com/event/sunday-bible-study/2018-02-11/
LOCATION:Oley Valley Elementary School\, 3247 Friedensburg Road\, Oley\, PA\, 19547\, United States
CATEGORIES:Sunday Bible Study
ORGANIZER;CN="Oskars Rieksts":MAILTO:rieksts385@yahoo.com
GEO:40.379717;-75.799139
X-APPLE-STRUCTURED-LOCATION;VALUE=URI;X-ADDRESS=Oley Valley Elementary School 3247 Friedensburg Road Oley PA 19547 United States;X-APPLE-RADIUS=500;X-TITLE=3247 Friedensburg Road:geo:-75.799139,40.379717
END:VEVENT
BEGIN:VEVENT
DTSTART;TZID=America/New_York:20180218T090000
DTEND;TZID=America/New_York:20180218T100000
DTSTAMP:20260425T091141
CREATED:20170828T135653Z
LAST-MODIFIED:20170828T135654Z
UID:10000105-1518944400-1518948000@ccoley.com
SUMMARY:Sunday Bible Study
DESCRIPTION:We are currently studying the Book of Matthew.
URL:https://ccoley.com/event/sunday-bible-study/2018-02-18/
LOCATION:Oley Valley Elementary School\, 3247 Friedensburg Road\, Oley\, PA\, 19547\, United States
CATEGORIES:Sunday Bible Study
ORGANIZER;CN="Oskars Rieksts":MAILTO:rieksts385@yahoo.com
GEO:40.379717;-75.799139
X-APPLE-STRUCTURED-LOCATION;VALUE=URI;X-ADDRESS=Oley Valley Elementary School 3247 Friedensburg Road Oley PA 19547 United States;X-APPLE-RADIUS=500;X-TITLE=3247 Friedensburg Road:geo:-75.799139,40.379717
END:VEVENT
BEGIN:VEVENT
DTSTART;TZID=America/New_York:20180225T090000
DTEND;TZID=America/New_York:20180225T100000
DTSTAMP:20260425T091141
CREATED:20170828T135653Z
LAST-MODIFIED:20170828T135654Z
UID:10000106-1519549200-1519552800@ccoley.com
SUMMARY:Sunday Bible Study
DESCRIPTION:We are currently studying the Book of Matthew.
URL:https://ccoley.com/event/sunday-bible-study/2018-02-25/
LOCATION:Oley Valley Elementary School\, 3247 Friedensburg Road\, Oley\, PA\, 19547\, United States
CATEGORIES:Sunday Bible Study
ORGANIZER;CN="Oskars Rieksts":MAILTO:rieksts385@yahoo.com
GEO:40.379717;-75.799139
X-APPLE-STRUCTURED-LOCATION;VALUE=URI;X-ADDRESS=Oley Valley Elementary School 3247 Friedensburg Road Oley PA 19547 United States;X-APPLE-RADIUS=500;X-TITLE=3247 Friedensburg Road:geo:-75.799139,40.379717
END:VEVENT
BEGIN:VEVENT
DTSTART;TZID=America/New_York:20180304T090000
DTEND;TZID=America/New_York:20180304T100000
DTSTAMP:20260425T091141
CREATED:20170828T135653Z
LAST-MODIFIED:20170828T135654Z
UID:10000107-1520154000-1520157600@ccoley.com
SUMMARY:Sunday Bible Study
DESCRIPTION:We are currently studying the Book of Matthew.
URL:https://ccoley.com/event/sunday-bible-study/2018-03-04/
LOCATION:Oley Valley Elementary School\, 3247 Friedensburg Road\, Oley\, PA\, 19547\, United States
CATEGORIES:Sunday Bible Study
ORGANIZER;CN="Oskars Rieksts":MAILTO:rieksts385@yahoo.com
GEO:40.379717;-75.799139
X-APPLE-STRUCTURED-LOCATION;VALUE=URI;X-ADDRESS=Oley Valley Elementary School 3247 Friedensburg Road Oley PA 19547 United States;X-APPLE-RADIUS=500;X-TITLE=3247 Friedensburg Road:geo:-75.799139,40.379717
END:VEVENT
BEGIN:VEVENT
DTSTART;TZID=America/New_York:20180311T090000
DTEND;TZID=America/New_York:20180311T100000
DTSTAMP:20260425T091141
CREATED:20170828T135653Z
LAST-MODIFIED:20170828T135654Z
UID:10000108-1520758800-1520762400@ccoley.com
SUMMARY:Sunday Bible Study
DESCRIPTION:We are currently studying the Book of Matthew.
URL:https://ccoley.com/event/sunday-bible-study/2018-03-11/
LOCATION:Oley Valley Elementary School\, 3247 Friedensburg Road\, Oley\, PA\, 19547\, United States
CATEGORIES:Sunday Bible Study
ORGANIZER;CN="Oskars Rieksts":MAILTO:rieksts385@yahoo.com
GEO:40.379717;-75.799139
X-APPLE-STRUCTURED-LOCATION;VALUE=URI;X-ADDRESS=Oley Valley Elementary School 3247 Friedensburg Road Oley PA 19547 United States;X-APPLE-RADIUS=500;X-TITLE=3247 Friedensburg Road:geo:-75.799139,40.379717
END:VEVENT
BEGIN:VEVENT
DTSTART;TZID=America/New_York:20180318T090000
DTEND;TZID=America/New_York:20180318T100000
DTSTAMP:20260425T091141
CREATED:20170828T135653Z
LAST-MODIFIED:20170828T135654Z
UID:10000109-1521363600-1521367200@ccoley.com
SUMMARY:Sunday Bible Study
DESCRIPTION:We are currently studying the Book of Matthew.
URL:https://ccoley.com/event/sunday-bible-study/2018-03-18/
LOCATION:Oley Valley Elementary School\, 3247 Friedensburg Road\, Oley\, PA\, 19547\, United States
CATEGORIES:Sunday Bible Study
ORGANIZER;CN="Oskars Rieksts":MAILTO:rieksts385@yahoo.com
GEO:40.379717;-75.799139
X-APPLE-STRUCTURED-LOCATION;VALUE=URI;X-ADDRESS=Oley Valley Elementary School 3247 Friedensburg Road Oley PA 19547 United States;X-APPLE-RADIUS=500;X-TITLE=3247 Friedensburg Road:geo:-75.799139,40.379717
END:VEVENT
BEGIN:VEVENT
DTSTART;TZID=America/New_York:20180325T090000
DTEND;TZID=America/New_York:20180325T100000
DTSTAMP:20260425T091141
CREATED:20170828T135653Z
LAST-MODIFIED:20170828T135654Z
UID:10000110-1521968400-1521972000@ccoley.com
SUMMARY:Sunday Bible Study
DESCRIPTION:We are currently studying the Book of Matthew.
URL:https://ccoley.com/event/sunday-bible-study/2018-03-25/
LOCATION:Oley Valley Elementary School\, 3247 Friedensburg Road\, Oley\, PA\, 19547\, United States
CATEGORIES:Sunday Bible Study
ORGANIZER;CN="Oskars Rieksts":MAILTO:rieksts385@yahoo.com
GEO:40.379717;-75.799139
X-APPLE-STRUCTURED-LOCATION;VALUE=URI;X-ADDRESS=Oley Valley Elementary School 3247 Friedensburg Road Oley PA 19547 United States;X-APPLE-RADIUS=500;X-TITLE=3247 Friedensburg Road:geo:-75.799139,40.379717
END:VEVENT
BEGIN:VEVENT
DTSTART;TZID=America/New_York:20180401T090000
DTEND;TZID=America/New_York:20180401T100000
DTSTAMP:20260425T091141
CREATED:20170828T135653Z
LAST-MODIFIED:20170828T135654Z
UID:10000111-1522573200-1522576800@ccoley.com
SUMMARY:Sunday Bible Study
DESCRIPTION:We are currently studying the Book of Matthew.
URL:https://ccoley.com/event/sunday-bible-study/2018-04-01/
LOCATION:Oley Valley Elementary School\, 3247 Friedensburg Road\, Oley\, PA\, 19547\, United States
CATEGORIES:Sunday Bible Study
ORGANIZER;CN="Oskars Rieksts":MAILTO:rieksts385@yahoo.com
GEO:40.379717;-75.799139
X-APPLE-STRUCTURED-LOCATION;VALUE=URI;X-ADDRESS=Oley Valley Elementary School 3247 Friedensburg Road Oley PA 19547 United States;X-APPLE-RADIUS=500;X-TITLE=3247 Friedensburg Road:geo:-75.799139,40.379717
END:VEVENT
END:VCALENDAR