BEGIN:VCALENDAR
VERSION:2.0
PRODID:-//Calvary Chapel of the Oley Valley - ECPv6.15.20//NONSGML v1.0//EN
CALSCALE:GREGORIAN
METHOD:PUBLISH
X-ORIGINAL-URL:https://ccoley.com
X-WR-CALDESC:Events for Calvary Chapel of the Oley Valley
REFRESH-INTERVAL;VALUE=DURATION:PT1H
X-Robots-Tag:noindex
X-PUBLISHED-TTL:PT1H
BEGIN:VTIMEZONE
TZID:America/New_York
BEGIN:DAYLIGHT
TZOFFSETFROM:-0500
TZOFFSETTO:-0400
TZNAME:EDT
DTSTART:20270314T070000
END:DAYLIGHT
BEGIN:STANDARD
TZOFFSETFROM:-0400
TZOFFSETTO:-0500
TZNAME:EST
DTSTART:20271107T060000
END:STANDARD
BEGIN:DAYLIGHT
TZOFFSETFROM:-0500
TZOFFSETTO:-0400
TZNAME:EDT
DTSTART:20280312T070000
END:DAYLIGHT
BEGIN:STANDARD
TZOFFSETFROM:-0400
TZOFFSETTO:-0500
TZNAME:EST
DTSTART:20281105T060000
END:STANDARD
BEGIN:DAYLIGHT
TZOFFSETFROM:-0500
TZOFFSETTO:-0400
TZNAME:EDT
DTSTART:20290311T070000
END:DAYLIGHT
BEGIN:STANDARD
TZOFFSETFROM:-0400
TZOFFSETTO:-0500
TZNAME:EST
DTSTART:20291104T060000
END:STANDARD
END:VTIMEZONE
BEGIN:VEVENT
DTSTART;TZID=America/New_York:20280604T090000
DTEND;TZID=America/New_York:20280604T100000
DTSTAMP:20260423T134255
CREATED:20241110T182654Z
LAST-MODIFIED:20260329T183928Z
UID:10004614-1843722000-1843725600@ccoley.com
SUMMARY:Sunday Bible Study
DESCRIPTION:Oskars Rieksts will be studying through the book of Psalms.
URL:https://ccoley.com/event/sunday-bible-study-17/2028-06-04/
LOCATION:Oley Fairgrounds\, 26 Jefferson St\, Oley\, PA\, 19547\, United States
CATEGORIES:Sunday Bible Study
ORGANIZER;CN="Oskars Rieksts":MAILTO:rieksts385@yahoo.com
GEO:40.3866624;-75.7846798
X-APPLE-STRUCTURED-LOCATION;VALUE=URI;X-ADDRESS=Oley Fairgrounds 26 Jefferson St Oley PA 19547 United States;X-APPLE-RADIUS=500;X-TITLE=26 Jefferson St:geo:-75.7846798,40.3866624
END:VEVENT
BEGIN:VEVENT
DTSTART;TZID=America/New_York:20280611T090000
DTEND;TZID=America/New_York:20280611T100000
DTSTAMP:20260423T134255
CREATED:20241110T182654Z
LAST-MODIFIED:20260329T183928Z
UID:10004615-1844326800-1844330400@ccoley.com
SUMMARY:Sunday Bible Study
DESCRIPTION:Oskars Rieksts will be studying through the book of Psalms.
URL:https://ccoley.com/event/sunday-bible-study-17/2028-06-11/
LOCATION:Oley Fairgrounds\, 26 Jefferson St\, Oley\, PA\, 19547\, United States
CATEGORIES:Sunday Bible Study
ORGANIZER;CN="Oskars Rieksts":MAILTO:rieksts385@yahoo.com
GEO:40.3866624;-75.7846798
X-APPLE-STRUCTURED-LOCATION;VALUE=URI;X-ADDRESS=Oley Fairgrounds 26 Jefferson St Oley PA 19547 United States;X-APPLE-RADIUS=500;X-TITLE=26 Jefferson St:geo:-75.7846798,40.3866624
END:VEVENT
BEGIN:VEVENT
DTSTART;TZID=America/New_York:20280618T090000
DTEND;TZID=America/New_York:20280618T100000
DTSTAMP:20260423T134255
CREATED:20241110T182654Z
LAST-MODIFIED:20260329T183928Z
UID:10004616-1844931600-1844935200@ccoley.com
SUMMARY:Sunday Bible Study
DESCRIPTION:Oskars Rieksts will be studying through the book of Psalms.
URL:https://ccoley.com/event/sunday-bible-study-17/2028-06-18/
LOCATION:Oley Fairgrounds\, 26 Jefferson St\, Oley\, PA\, 19547\, United States
CATEGORIES:Sunday Bible Study
ORGANIZER;CN="Oskars Rieksts":MAILTO:rieksts385@yahoo.com
GEO:40.3866624;-75.7846798
X-APPLE-STRUCTURED-LOCATION;VALUE=URI;X-ADDRESS=Oley Fairgrounds 26 Jefferson St Oley PA 19547 United States;X-APPLE-RADIUS=500;X-TITLE=26 Jefferson St:geo:-75.7846798,40.3866624
END:VEVENT
BEGIN:VEVENT
DTSTART;TZID=America/New_York:20280625T090000
DTEND;TZID=America/New_York:20280625T100000
DTSTAMP:20260423T134255
CREATED:20241110T182654Z
LAST-MODIFIED:20260329T183928Z
UID:10004617-1845536400-1845540000@ccoley.com
SUMMARY:Sunday Bible Study
DESCRIPTION:Oskars Rieksts will be studying through the book of Psalms.
URL:https://ccoley.com/event/sunday-bible-study-17/2028-06-25/
LOCATION:Oley Fairgrounds\, 26 Jefferson St\, Oley\, PA\, 19547\, United States
CATEGORIES:Sunday Bible Study
ORGANIZER;CN="Oskars Rieksts":MAILTO:rieksts385@yahoo.com
GEO:40.3866624;-75.7846798
X-APPLE-STRUCTURED-LOCATION;VALUE=URI;X-ADDRESS=Oley Fairgrounds 26 Jefferson St Oley PA 19547 United States;X-APPLE-RADIUS=500;X-TITLE=26 Jefferson St:geo:-75.7846798,40.3866624
END:VEVENT
BEGIN:VEVENT
DTSTART;TZID=America/New_York:20280702T090000
DTEND;TZID=America/New_York:20280702T100000
DTSTAMP:20260423T134255
CREATED:20241110T182654Z
LAST-MODIFIED:20260329T183928Z
UID:10004618-1846141200-1846144800@ccoley.com
SUMMARY:Sunday Bible Study
DESCRIPTION:Oskars Rieksts will be studying through the book of Psalms.
URL:https://ccoley.com/event/sunday-bible-study-17/2028-07-02/
LOCATION:Oley Fairgrounds\, 26 Jefferson St\, Oley\, PA\, 19547\, United States
CATEGORIES:Sunday Bible Study
ORGANIZER;CN="Oskars Rieksts":MAILTO:rieksts385@yahoo.com
GEO:40.3866624;-75.7846798
X-APPLE-STRUCTURED-LOCATION;VALUE=URI;X-ADDRESS=Oley Fairgrounds 26 Jefferson St Oley PA 19547 United States;X-APPLE-RADIUS=500;X-TITLE=26 Jefferson St:geo:-75.7846798,40.3866624
END:VEVENT
BEGIN:VEVENT
DTSTART;TZID=America/New_York:20280709T090000
DTEND;TZID=America/New_York:20280709T100000
DTSTAMP:20260423T134255
CREATED:20241110T182654Z
LAST-MODIFIED:20260329T183928Z
UID:10004619-1846746000-1846749600@ccoley.com
SUMMARY:Sunday Bible Study
DESCRIPTION:Oskars Rieksts will be studying through the book of Psalms.
URL:https://ccoley.com/event/sunday-bible-study-17/2028-07-09/
LOCATION:Oley Fairgrounds\, 26 Jefferson St\, Oley\, PA\, 19547\, United States
CATEGORIES:Sunday Bible Study
ORGANIZER;CN="Oskars Rieksts":MAILTO:rieksts385@yahoo.com
GEO:40.3866624;-75.7846798
X-APPLE-STRUCTURED-LOCATION;VALUE=URI;X-ADDRESS=Oley Fairgrounds 26 Jefferson St Oley PA 19547 United States;X-APPLE-RADIUS=500;X-TITLE=26 Jefferson St:geo:-75.7846798,40.3866624
END:VEVENT
BEGIN:VEVENT
DTSTART;TZID=America/New_York:20280716T090000
DTEND;TZID=America/New_York:20280716T100000
DTSTAMP:20260423T134255
CREATED:20241110T182654Z
LAST-MODIFIED:20260329T183928Z
UID:10004620-1847350800-1847354400@ccoley.com
SUMMARY:Sunday Bible Study
DESCRIPTION:Oskars Rieksts will be studying through the book of Psalms.
URL:https://ccoley.com/event/sunday-bible-study-17/2028-07-16/
LOCATION:Oley Fairgrounds\, 26 Jefferson St\, Oley\, PA\, 19547\, United States
CATEGORIES:Sunday Bible Study
ORGANIZER;CN="Oskars Rieksts":MAILTO:rieksts385@yahoo.com
GEO:40.3866624;-75.7846798
X-APPLE-STRUCTURED-LOCATION;VALUE=URI;X-ADDRESS=Oley Fairgrounds 26 Jefferson St Oley PA 19547 United States;X-APPLE-RADIUS=500;X-TITLE=26 Jefferson St:geo:-75.7846798,40.3866624
END:VEVENT
BEGIN:VEVENT
DTSTART;TZID=America/New_York:20280723T090000
DTEND;TZID=America/New_York:20280723T100000
DTSTAMP:20260423T134255
CREATED:20241110T182654Z
LAST-MODIFIED:20260329T183928Z
UID:10004621-1847955600-1847959200@ccoley.com
SUMMARY:Sunday Bible Study
DESCRIPTION:Oskars Rieksts will be studying through the book of Psalms.
URL:https://ccoley.com/event/sunday-bible-study-17/2028-07-23/
LOCATION:Oley Fairgrounds\, 26 Jefferson St\, Oley\, PA\, 19547\, United States
CATEGORIES:Sunday Bible Study
ORGANIZER;CN="Oskars Rieksts":MAILTO:rieksts385@yahoo.com
GEO:40.3866624;-75.7846798
X-APPLE-STRUCTURED-LOCATION;VALUE=URI;X-ADDRESS=Oley Fairgrounds 26 Jefferson St Oley PA 19547 United States;X-APPLE-RADIUS=500;X-TITLE=26 Jefferson St:geo:-75.7846798,40.3866624
END:VEVENT
BEGIN:VEVENT
DTSTART;TZID=America/New_York:20280730T090000
DTEND;TZID=America/New_York:20280730T100000
DTSTAMP:20260423T134255
CREATED:20241110T182654Z
LAST-MODIFIED:20260329T183928Z
UID:10004622-1848560400-1848564000@ccoley.com
SUMMARY:Sunday Bible Study
DESCRIPTION:Oskars Rieksts will be studying through the book of Psalms.
URL:https://ccoley.com/event/sunday-bible-study-17/2028-07-30/
LOCATION:Oley Fairgrounds\, 26 Jefferson St\, Oley\, PA\, 19547\, United States
CATEGORIES:Sunday Bible Study
ORGANIZER;CN="Oskars Rieksts":MAILTO:rieksts385@yahoo.com
GEO:40.3866624;-75.7846798
X-APPLE-STRUCTURED-LOCATION;VALUE=URI;X-ADDRESS=Oley Fairgrounds 26 Jefferson St Oley PA 19547 United States;X-APPLE-RADIUS=500;X-TITLE=26 Jefferson St:geo:-75.7846798,40.3866624
END:VEVENT
BEGIN:VEVENT
DTSTART;TZID=America/New_York:20280806T090000
DTEND;TZID=America/New_York:20280806T100000
DTSTAMP:20260423T134255
CREATED:20241110T182654Z
LAST-MODIFIED:20260329T183928Z
UID:10004623-1849165200-1849168800@ccoley.com
SUMMARY:Sunday Bible Study
DESCRIPTION:Oskars Rieksts will be studying through the book of Psalms.
URL:https://ccoley.com/event/sunday-bible-study-17/2028-08-06/
LOCATION:Oley Fairgrounds\, 26 Jefferson St\, Oley\, PA\, 19547\, United States
CATEGORIES:Sunday Bible Study
ORGANIZER;CN="Oskars Rieksts":MAILTO:rieksts385@yahoo.com
GEO:40.3866624;-75.7846798
X-APPLE-STRUCTURED-LOCATION;VALUE=URI;X-ADDRESS=Oley Fairgrounds 26 Jefferson St Oley PA 19547 United States;X-APPLE-RADIUS=500;X-TITLE=26 Jefferson St:geo:-75.7846798,40.3866624
END:VEVENT
BEGIN:VEVENT
DTSTART;TZID=America/New_York:20280813T090000
DTEND;TZID=America/New_York:20280813T100000
DTSTAMP:20260423T134255
CREATED:20241110T182654Z
LAST-MODIFIED:20260329T183928Z
UID:10004624-1849770000-1849773600@ccoley.com
SUMMARY:Sunday Bible Study
DESCRIPTION:Oskars Rieksts will be studying through the book of Psalms.
URL:https://ccoley.com/event/sunday-bible-study-17/2028-08-13/
LOCATION:Oley Fairgrounds\, 26 Jefferson St\, Oley\, PA\, 19547\, United States
CATEGORIES:Sunday Bible Study
ORGANIZER;CN="Oskars Rieksts":MAILTO:rieksts385@yahoo.com
GEO:40.3866624;-75.7846798
X-APPLE-STRUCTURED-LOCATION;VALUE=URI;X-ADDRESS=Oley Fairgrounds 26 Jefferson St Oley PA 19547 United States;X-APPLE-RADIUS=500;X-TITLE=26 Jefferson St:geo:-75.7846798,40.3866624
END:VEVENT
BEGIN:VEVENT
DTSTART;TZID=America/New_York:20280820T090000
DTEND;TZID=America/New_York:20280820T100000
DTSTAMP:20260423T134255
CREATED:20241110T182654Z
LAST-MODIFIED:20260329T183928Z
UID:10004625-1850374800-1850378400@ccoley.com
SUMMARY:Sunday Bible Study
DESCRIPTION:Oskars Rieksts will be studying through the book of Psalms.
URL:https://ccoley.com/event/sunday-bible-study-17/2028-08-20/
LOCATION:Oley Fairgrounds\, 26 Jefferson St\, Oley\, PA\, 19547\, United States
CATEGORIES:Sunday Bible Study
ORGANIZER;CN="Oskars Rieksts":MAILTO:rieksts385@yahoo.com
GEO:40.3866624;-75.7846798
X-APPLE-STRUCTURED-LOCATION;VALUE=URI;X-ADDRESS=Oley Fairgrounds 26 Jefferson St Oley PA 19547 United States;X-APPLE-RADIUS=500;X-TITLE=26 Jefferson St:geo:-75.7846798,40.3866624
END:VEVENT
BEGIN:VEVENT
DTSTART;TZID=America/New_York:20280827T090000
DTEND;TZID=America/New_York:20280827T100000
DTSTAMP:20260423T134255
CREATED:20241110T182654Z
LAST-MODIFIED:20260329T183928Z
UID:10004626-1850979600-1850983200@ccoley.com
SUMMARY:Sunday Bible Study
DESCRIPTION:Oskars Rieksts will be studying through the book of Psalms.
URL:https://ccoley.com/event/sunday-bible-study-17/2028-08-27/
LOCATION:Oley Fairgrounds\, 26 Jefferson St\, Oley\, PA\, 19547\, United States
CATEGORIES:Sunday Bible Study
ORGANIZER;CN="Oskars Rieksts":MAILTO:rieksts385@yahoo.com
GEO:40.3866624;-75.7846798
X-APPLE-STRUCTURED-LOCATION;VALUE=URI;X-ADDRESS=Oley Fairgrounds 26 Jefferson St Oley PA 19547 United States;X-APPLE-RADIUS=500;X-TITLE=26 Jefferson St:geo:-75.7846798,40.3866624
END:VEVENT
BEGIN:VEVENT
DTSTART;TZID=America/New_York:20280903T090000
DTEND;TZID=America/New_York:20280903T100000
DTSTAMP:20260423T134255
CREATED:20241110T182654Z
LAST-MODIFIED:20260329T183928Z
UID:10004627-1851584400-1851588000@ccoley.com
SUMMARY:Sunday Bible Study
DESCRIPTION:Oskars Rieksts will be studying through the book of Psalms.
URL:https://ccoley.com/event/sunday-bible-study-17/2028-09-03/
LOCATION:Oley Fairgrounds\, 26 Jefferson St\, Oley\, PA\, 19547\, United States
CATEGORIES:Sunday Bible Study
ORGANIZER;CN="Oskars Rieksts":MAILTO:rieksts385@yahoo.com
GEO:40.3866624;-75.7846798
X-APPLE-STRUCTURED-LOCATION;VALUE=URI;X-ADDRESS=Oley Fairgrounds 26 Jefferson St Oley PA 19547 United States;X-APPLE-RADIUS=500;X-TITLE=26 Jefferson St:geo:-75.7846798,40.3866624
END:VEVENT
BEGIN:VEVENT
DTSTART;TZID=America/New_York:20280910T090000
DTEND;TZID=America/New_York:20280910T100000
DTSTAMP:20260423T134255
CREATED:20241110T182654Z
LAST-MODIFIED:20260329T183928Z
UID:10004628-1852189200-1852192800@ccoley.com
SUMMARY:Sunday Bible Study
DESCRIPTION:Oskars Rieksts will be studying through the book of Psalms.
URL:https://ccoley.com/event/sunday-bible-study-17/2028-09-10/
LOCATION:Oley Fairgrounds\, 26 Jefferson St\, Oley\, PA\, 19547\, United States
CATEGORIES:Sunday Bible Study
ORGANIZER;CN="Oskars Rieksts":MAILTO:rieksts385@yahoo.com
GEO:40.3866624;-75.7846798
X-APPLE-STRUCTURED-LOCATION;VALUE=URI;X-ADDRESS=Oley Fairgrounds 26 Jefferson St Oley PA 19547 United States;X-APPLE-RADIUS=500;X-TITLE=26 Jefferson St:geo:-75.7846798,40.3866624
END:VEVENT
BEGIN:VEVENT
DTSTART;TZID=America/New_York:20280917T090000
DTEND;TZID=America/New_York:20280917T100000
DTSTAMP:20260423T134255
CREATED:20241110T182654Z
LAST-MODIFIED:20260329T183928Z
UID:10004629-1852794000-1852797600@ccoley.com
SUMMARY:Sunday Bible Study
DESCRIPTION:Oskars Rieksts will be studying through the book of Psalms.
URL:https://ccoley.com/event/sunday-bible-study-17/2028-09-17/
LOCATION:Oley Fairgrounds\, 26 Jefferson St\, Oley\, PA\, 19547\, United States
CATEGORIES:Sunday Bible Study
ORGANIZER;CN="Oskars Rieksts":MAILTO:rieksts385@yahoo.com
GEO:40.3866624;-75.7846798
X-APPLE-STRUCTURED-LOCATION;VALUE=URI;X-ADDRESS=Oley Fairgrounds 26 Jefferson St Oley PA 19547 United States;X-APPLE-RADIUS=500;X-TITLE=26 Jefferson St:geo:-75.7846798,40.3866624
END:VEVENT
BEGIN:VEVENT
DTSTART;TZID=America/New_York:20280924T090000
DTEND;TZID=America/New_York:20280924T100000
DTSTAMP:20260423T134255
CREATED:20241110T182654Z
LAST-MODIFIED:20260329T183928Z
UID:10004630-1853398800-1853402400@ccoley.com
SUMMARY:Sunday Bible Study
DESCRIPTION:Oskars Rieksts will be studying through the book of Psalms.
URL:https://ccoley.com/event/sunday-bible-study-17/2028-09-24/
LOCATION:Oley Fairgrounds\, 26 Jefferson St\, Oley\, PA\, 19547\, United States
CATEGORIES:Sunday Bible Study
ORGANIZER;CN="Oskars Rieksts":MAILTO:rieksts385@yahoo.com
GEO:40.3866624;-75.7846798
X-APPLE-STRUCTURED-LOCATION;VALUE=URI;X-ADDRESS=Oley Fairgrounds 26 Jefferson St Oley PA 19547 United States;X-APPLE-RADIUS=500;X-TITLE=26 Jefferson St:geo:-75.7846798,40.3866624
END:VEVENT
BEGIN:VEVENT
DTSTART;TZID=America/New_York:20281001T090000
DTEND;TZID=America/New_York:20281001T100000
DTSTAMP:20260423T134255
CREATED:20241110T182654Z
LAST-MODIFIED:20260329T183928Z
UID:10004631-1854003600-1854007200@ccoley.com
SUMMARY:Sunday Bible Study
DESCRIPTION:Oskars Rieksts will be studying through the book of Psalms.
URL:https://ccoley.com/event/sunday-bible-study-17/2028-10-01/
LOCATION:Oley Fairgrounds\, 26 Jefferson St\, Oley\, PA\, 19547\, United States
CATEGORIES:Sunday Bible Study
ORGANIZER;CN="Oskars Rieksts":MAILTO:rieksts385@yahoo.com
GEO:40.3866624;-75.7846798
X-APPLE-STRUCTURED-LOCATION;VALUE=URI;X-ADDRESS=Oley Fairgrounds 26 Jefferson St Oley PA 19547 United States;X-APPLE-RADIUS=500;X-TITLE=26 Jefferson St:geo:-75.7846798,40.3866624
END:VEVENT
BEGIN:VEVENT
DTSTART;TZID=America/New_York:20281008T090000
DTEND;TZID=America/New_York:20281008T100000
DTSTAMP:20260423T134255
CREATED:20241110T182654Z
LAST-MODIFIED:20260329T183928Z
UID:10004632-1854608400-1854612000@ccoley.com
SUMMARY:Sunday Bible Study
DESCRIPTION:Oskars Rieksts will be studying through the book of Psalms.
URL:https://ccoley.com/event/sunday-bible-study-17/2028-10-08/
LOCATION:Oley Fairgrounds\, 26 Jefferson St\, Oley\, PA\, 19547\, United States
CATEGORIES:Sunday Bible Study
ORGANIZER;CN="Oskars Rieksts":MAILTO:rieksts385@yahoo.com
GEO:40.3866624;-75.7846798
X-APPLE-STRUCTURED-LOCATION;VALUE=URI;X-ADDRESS=Oley Fairgrounds 26 Jefferson St Oley PA 19547 United States;X-APPLE-RADIUS=500;X-TITLE=26 Jefferson St:geo:-75.7846798,40.3866624
END:VEVENT
BEGIN:VEVENT
DTSTART;TZID=America/New_York:20281015T090000
DTEND;TZID=America/New_York:20281015T100000
DTSTAMP:20260423T134255
CREATED:20241110T182654Z
LAST-MODIFIED:20260329T183928Z
UID:10004633-1855213200-1855216800@ccoley.com
SUMMARY:Sunday Bible Study
DESCRIPTION:Oskars Rieksts will be studying through the book of Psalms.
URL:https://ccoley.com/event/sunday-bible-study-17/2028-10-15/
LOCATION:Oley Fairgrounds\, 26 Jefferson St\, Oley\, PA\, 19547\, United States
CATEGORIES:Sunday Bible Study
ORGANIZER;CN="Oskars Rieksts":MAILTO:rieksts385@yahoo.com
GEO:40.3866624;-75.7846798
X-APPLE-STRUCTURED-LOCATION;VALUE=URI;X-ADDRESS=Oley Fairgrounds 26 Jefferson St Oley PA 19547 United States;X-APPLE-RADIUS=500;X-TITLE=26 Jefferson St:geo:-75.7846798,40.3866624
END:VEVENT
BEGIN:VEVENT
DTSTART;TZID=America/New_York:20281022T090000
DTEND;TZID=America/New_York:20281022T100000
DTSTAMP:20260423T134255
CREATED:20241110T182654Z
LAST-MODIFIED:20260329T183928Z
UID:10004634-1855818000-1855821600@ccoley.com
SUMMARY:Sunday Bible Study
DESCRIPTION:Oskars Rieksts will be studying through the book of Psalms.
URL:https://ccoley.com/event/sunday-bible-study-17/2028-10-22/
LOCATION:Oley Fairgrounds\, 26 Jefferson St\, Oley\, PA\, 19547\, United States
CATEGORIES:Sunday Bible Study
ORGANIZER;CN="Oskars Rieksts":MAILTO:rieksts385@yahoo.com
GEO:40.3866624;-75.7846798
X-APPLE-STRUCTURED-LOCATION;VALUE=URI;X-ADDRESS=Oley Fairgrounds 26 Jefferson St Oley PA 19547 United States;X-APPLE-RADIUS=500;X-TITLE=26 Jefferson St:geo:-75.7846798,40.3866624
END:VEVENT
BEGIN:VEVENT
DTSTART;TZID=America/New_York:20281029T090000
DTEND;TZID=America/New_York:20281029T100000
DTSTAMP:20260423T134255
CREATED:20241110T182654Z
LAST-MODIFIED:20260329T183928Z
UID:10004635-1856422800-1856426400@ccoley.com
SUMMARY:Sunday Bible Study
DESCRIPTION:Oskars Rieksts will be studying through the book of Psalms.
URL:https://ccoley.com/event/sunday-bible-study-17/2028-10-29/
LOCATION:Oley Fairgrounds\, 26 Jefferson St\, Oley\, PA\, 19547\, United States
CATEGORIES:Sunday Bible Study
ORGANIZER;CN="Oskars Rieksts":MAILTO:rieksts385@yahoo.com
GEO:40.3866624;-75.7846798
X-APPLE-STRUCTURED-LOCATION;VALUE=URI;X-ADDRESS=Oley Fairgrounds 26 Jefferson St Oley PA 19547 United States;X-APPLE-RADIUS=500;X-TITLE=26 Jefferson St:geo:-75.7846798,40.3866624
END:VEVENT
BEGIN:VEVENT
DTSTART;TZID=America/New_York:20281105T090000
DTEND;TZID=America/New_York:20281105T100000
DTSTAMP:20260423T134255
CREATED:20241110T182654Z
LAST-MODIFIED:20260329T183928Z
UID:10004636-1857027600-1857031200@ccoley.com
SUMMARY:Sunday Bible Study
DESCRIPTION:Oskars Rieksts will be studying through the book of Psalms.
URL:https://ccoley.com/event/sunday-bible-study-17/2028-11-05/
LOCATION:Oley Fairgrounds\, 26 Jefferson St\, Oley\, PA\, 19547\, United States
CATEGORIES:Sunday Bible Study
ORGANIZER;CN="Oskars Rieksts":MAILTO:rieksts385@yahoo.com
GEO:40.3866624;-75.7846798
X-APPLE-STRUCTURED-LOCATION;VALUE=URI;X-ADDRESS=Oley Fairgrounds 26 Jefferson St Oley PA 19547 United States;X-APPLE-RADIUS=500;X-TITLE=26 Jefferson St:geo:-75.7846798,40.3866624
END:VEVENT
BEGIN:VEVENT
DTSTART;TZID=America/New_York:20281112T090000
DTEND;TZID=America/New_York:20281112T100000
DTSTAMP:20260423T134255
CREATED:20241110T182654Z
LAST-MODIFIED:20260329T183928Z
UID:10004637-1857632400-1857636000@ccoley.com
SUMMARY:Sunday Bible Study
DESCRIPTION:Oskars Rieksts will be studying through the book of Psalms.
URL:https://ccoley.com/event/sunday-bible-study-17/2028-11-12/
LOCATION:Oley Fairgrounds\, 26 Jefferson St\, Oley\, PA\, 19547\, United States
CATEGORIES:Sunday Bible Study
ORGANIZER;CN="Oskars Rieksts":MAILTO:rieksts385@yahoo.com
GEO:40.3866624;-75.7846798
X-APPLE-STRUCTURED-LOCATION;VALUE=URI;X-ADDRESS=Oley Fairgrounds 26 Jefferson St Oley PA 19547 United States;X-APPLE-RADIUS=500;X-TITLE=26 Jefferson St:geo:-75.7846798,40.3866624
END:VEVENT
BEGIN:VEVENT
DTSTART;TZID=America/New_York:20281119T090000
DTEND;TZID=America/New_York:20281119T100000
DTSTAMP:20260423T134255
CREATED:20241110T182654Z
LAST-MODIFIED:20260329T183928Z
UID:10004638-1858237200-1858240800@ccoley.com
SUMMARY:Sunday Bible Study
DESCRIPTION:Oskars Rieksts will be studying through the book of Psalms.
URL:https://ccoley.com/event/sunday-bible-study-17/2028-11-19/
LOCATION:Oley Fairgrounds\, 26 Jefferson St\, Oley\, PA\, 19547\, United States
CATEGORIES:Sunday Bible Study
ORGANIZER;CN="Oskars Rieksts":MAILTO:rieksts385@yahoo.com
GEO:40.3866624;-75.7846798
X-APPLE-STRUCTURED-LOCATION;VALUE=URI;X-ADDRESS=Oley Fairgrounds 26 Jefferson St Oley PA 19547 United States;X-APPLE-RADIUS=500;X-TITLE=26 Jefferson St:geo:-75.7846798,40.3866624
END:VEVENT
BEGIN:VEVENT
DTSTART;TZID=America/New_York:20281126T090000
DTEND;TZID=America/New_York:20281126T100000
DTSTAMP:20260423T134255
CREATED:20241110T182654Z
LAST-MODIFIED:20260329T183928Z
UID:10004639-1858842000-1858845600@ccoley.com
SUMMARY:Sunday Bible Study
DESCRIPTION:Oskars Rieksts will be studying through the book of Psalms.
URL:https://ccoley.com/event/sunday-bible-study-17/2028-11-26/
LOCATION:Oley Fairgrounds\, 26 Jefferson St\, Oley\, PA\, 19547\, United States
CATEGORIES:Sunday Bible Study
ORGANIZER;CN="Oskars Rieksts":MAILTO:rieksts385@yahoo.com
GEO:40.3866624;-75.7846798
X-APPLE-STRUCTURED-LOCATION;VALUE=URI;X-ADDRESS=Oley Fairgrounds 26 Jefferson St Oley PA 19547 United States;X-APPLE-RADIUS=500;X-TITLE=26 Jefferson St:geo:-75.7846798,40.3866624
END:VEVENT
BEGIN:VEVENT
DTSTART;TZID=America/New_York:20281203T090000
DTEND;TZID=America/New_York:20281203T100000
DTSTAMP:20260423T134255
CREATED:20241110T182654Z
LAST-MODIFIED:20260329T183928Z
UID:10004640-1859446800-1859450400@ccoley.com
SUMMARY:Sunday Bible Study
DESCRIPTION:Oskars Rieksts will be studying through the book of Psalms.
URL:https://ccoley.com/event/sunday-bible-study-17/2028-12-03/
LOCATION:Oley Fairgrounds\, 26 Jefferson St\, Oley\, PA\, 19547\, United States
CATEGORIES:Sunday Bible Study
ORGANIZER;CN="Oskars Rieksts":MAILTO:rieksts385@yahoo.com
GEO:40.3866624;-75.7846798
X-APPLE-STRUCTURED-LOCATION;VALUE=URI;X-ADDRESS=Oley Fairgrounds 26 Jefferson St Oley PA 19547 United States;X-APPLE-RADIUS=500;X-TITLE=26 Jefferson St:geo:-75.7846798,40.3866624
END:VEVENT
BEGIN:VEVENT
DTSTART;TZID=America/New_York:20281210T090000
DTEND;TZID=America/New_York:20281210T100000
DTSTAMP:20260423T134255
CREATED:20241110T182654Z
LAST-MODIFIED:20260329T183928Z
UID:10004641-1860051600-1860055200@ccoley.com
SUMMARY:Sunday Bible Study
DESCRIPTION:Oskars Rieksts will be studying through the book of Psalms.
URL:https://ccoley.com/event/sunday-bible-study-17/2028-12-10/
LOCATION:Oley Fairgrounds\, 26 Jefferson St\, Oley\, PA\, 19547\, United States
CATEGORIES:Sunday Bible Study
ORGANIZER;CN="Oskars Rieksts":MAILTO:rieksts385@yahoo.com
GEO:40.3866624;-75.7846798
X-APPLE-STRUCTURED-LOCATION;VALUE=URI;X-ADDRESS=Oley Fairgrounds 26 Jefferson St Oley PA 19547 United States;X-APPLE-RADIUS=500;X-TITLE=26 Jefferson St:geo:-75.7846798,40.3866624
END:VEVENT
BEGIN:VEVENT
DTSTART;TZID=America/New_York:20281217T090000
DTEND;TZID=America/New_York:20281217T100000
DTSTAMP:20260423T134255
CREATED:20241110T182654Z
LAST-MODIFIED:20260329T183928Z
UID:10004642-1860656400-1860660000@ccoley.com
SUMMARY:Sunday Bible Study
DESCRIPTION:Oskars Rieksts will be studying through the book of Psalms.
URL:https://ccoley.com/event/sunday-bible-study-17/2028-12-17/
LOCATION:Oley Fairgrounds\, 26 Jefferson St\, Oley\, PA\, 19547\, United States
CATEGORIES:Sunday Bible Study
ORGANIZER;CN="Oskars Rieksts":MAILTO:rieksts385@yahoo.com
GEO:40.3866624;-75.7846798
X-APPLE-STRUCTURED-LOCATION;VALUE=URI;X-ADDRESS=Oley Fairgrounds 26 Jefferson St Oley PA 19547 United States;X-APPLE-RADIUS=500;X-TITLE=26 Jefferson St:geo:-75.7846798,40.3866624
END:VEVENT
BEGIN:VEVENT
DTSTART;TZID=America/New_York:20281224T090000
DTEND;TZID=America/New_York:20281224T100000
DTSTAMP:20260423T134255
CREATED:20241110T182654Z
LAST-MODIFIED:20260329T183928Z
UID:10004643-1861261200-1861264800@ccoley.com
SUMMARY:Sunday Bible Study
DESCRIPTION:Oskars Rieksts will be studying through the book of Psalms.
URL:https://ccoley.com/event/sunday-bible-study-17/2028-12-24/
LOCATION:Oley Fairgrounds\, 26 Jefferson St\, Oley\, PA\, 19547\, United States
CATEGORIES:Sunday Bible Study
ORGANIZER;CN="Oskars Rieksts":MAILTO:rieksts385@yahoo.com
GEO:40.3866624;-75.7846798
X-APPLE-STRUCTURED-LOCATION;VALUE=URI;X-ADDRESS=Oley Fairgrounds 26 Jefferson St Oley PA 19547 United States;X-APPLE-RADIUS=500;X-TITLE=26 Jefferson St:geo:-75.7846798,40.3866624
END:VEVENT
END:VCALENDAR