BEGIN:VCALENDAR
VERSION:2.0
PRODID:-//Calvary Chapel of the Oley Valley - ECPv6.15.20//NONSGML v1.0//EN
CALSCALE:GREGORIAN
METHOD:PUBLISH
X-ORIGINAL-URL:https://ccoley.com
X-WR-CALDESC:Events for Calvary Chapel of the Oley Valley
REFRESH-INTERVAL;VALUE=DURATION:PT1H
X-Robots-Tag:noindex
X-PUBLISHED-TTL:PT1H
BEGIN:VTIMEZONE
TZID:America/New_York
BEGIN:DAYLIGHT
TZOFFSETFROM:-0500
TZOFFSETTO:-0400
TZNAME:EDT
DTSTART:20170312T070000
END:DAYLIGHT
BEGIN:STANDARD
TZOFFSETFROM:-0400
TZOFFSETTO:-0500
TZNAME:EST
DTSTART:20171105T060000
END:STANDARD
BEGIN:DAYLIGHT
TZOFFSETFROM:-0500
TZOFFSETTO:-0400
TZNAME:EDT
DTSTART:20180311T070000
END:DAYLIGHT
BEGIN:STANDARD
TZOFFSETFROM:-0400
TZOFFSETTO:-0500
TZNAME:EST
DTSTART:20181104T060000
END:STANDARD
BEGIN:DAYLIGHT
TZOFFSETFROM:-0500
TZOFFSETTO:-0400
TZNAME:EDT
DTSTART:20190310T070000
END:DAYLIGHT
BEGIN:STANDARD
TZOFFSETFROM:-0400
TZOFFSETTO:-0500
TZNAME:EST
DTSTART:20191103T060000
END:STANDARD
BEGIN:DAYLIGHT
TZOFFSETFROM:-0500
TZOFFSETTO:-0400
TZNAME:EDT
DTSTART:20200308T070000
END:DAYLIGHT
BEGIN:STANDARD
TZOFFSETFROM:-0400
TZOFFSETTO:-0500
TZNAME:EST
DTSTART:20201101T060000
END:STANDARD
END:VTIMEZONE
BEGIN:VEVENT
DTSTART;TZID=America/New_York:20181017T190000
DTEND;TZID=America/New_York:20181017T203000
DTSTAMP:20260423T002918
CREATED:20181002T150929Z
LAST-MODIFIED:20190603T013405Z
UID:10001095-1539802800-1539808200@ccoley.com
SUMMARY:Adult Bible Study
DESCRIPTION:We will be studying through the Book of Exodus
URL:https://ccoley.com/event/adult-bible-study-3/2018-10-17/
LOCATION:Dave & Alice Coult\, 38 Heiligs School Road\, Oley\, PA\, 19547\, United States
CATEGORIES:Evening Bible Study
ORGANIZER;CN="Pastor Fred Bell":MAILTO:pastorfred@ccoley.com
GEO:40.420843;-75.707817
X-APPLE-STRUCTURED-LOCATION;VALUE=URI;X-ADDRESS=Dave & Alice Coult 38 Heiligs School Road Oley PA 19547 United States;X-APPLE-RADIUS=500;X-TITLE=38 Heiligs School Road:geo:-75.707817,40.420843
END:VEVENT
BEGIN:VEVENT
DTSTART;TZID=America/New_York:20181024T190000
DTEND;TZID=America/New_York:20181024T203000
DTSTAMP:20260423T002918
CREATED:20181002T150929Z
LAST-MODIFIED:20190603T013405Z
UID:10001096-1540407600-1540413000@ccoley.com
SUMMARY:Adult Bible Study
DESCRIPTION:We will be studying through the Book of Exodus
URL:https://ccoley.com/event/adult-bible-study-3/2018-10-24/
LOCATION:Dave & Alice Coult\, 38 Heiligs School Road\, Oley\, PA\, 19547\, United States
CATEGORIES:Evening Bible Study
ORGANIZER;CN="Pastor Fred Bell":MAILTO:pastorfred@ccoley.com
GEO:40.420843;-75.707817
X-APPLE-STRUCTURED-LOCATION;VALUE=URI;X-ADDRESS=Dave & Alice Coult 38 Heiligs School Road Oley PA 19547 United States;X-APPLE-RADIUS=500;X-TITLE=38 Heiligs School Road:geo:-75.707817,40.420843
END:VEVENT
BEGIN:VEVENT
DTSTART;TZID=America/New_York:20181031T190000
DTEND;TZID=America/New_York:20181031T203000
DTSTAMP:20260423T002918
CREATED:20181002T150929Z
LAST-MODIFIED:20190603T013405Z
UID:10001097-1541012400-1541017800@ccoley.com
SUMMARY:Adult Bible Study
DESCRIPTION:We will be studying through the Book of Exodus
URL:https://ccoley.com/event/adult-bible-study-3/2018-10-31/
LOCATION:Dave & Alice Coult\, 38 Heiligs School Road\, Oley\, PA\, 19547\, United States
CATEGORIES:Evening Bible Study
ORGANIZER;CN="Pastor Fred Bell":MAILTO:pastorfred@ccoley.com
GEO:40.420843;-75.707817
X-APPLE-STRUCTURED-LOCATION;VALUE=URI;X-ADDRESS=Dave & Alice Coult 38 Heiligs School Road Oley PA 19547 United States;X-APPLE-RADIUS=500;X-TITLE=38 Heiligs School Road:geo:-75.707817,40.420843
END:VEVENT
BEGIN:VEVENT
DTSTART;TZID=America/New_York:20181107T190000
DTEND;TZID=America/New_York:20181107T203000
DTSTAMP:20260423T002918
CREATED:20181002T150929Z
LAST-MODIFIED:20190603T013405Z
UID:10001098-1541617200-1541622600@ccoley.com
SUMMARY:Adult Bible Study
DESCRIPTION:We will be studying through the Book of Exodus
URL:https://ccoley.com/event/adult-bible-study-3/2018-11-07/
LOCATION:Dave & Alice Coult\, 38 Heiligs School Road\, Oley\, PA\, 19547\, United States
CATEGORIES:Evening Bible Study
ORGANIZER;CN="Pastor Fred Bell":MAILTO:pastorfred@ccoley.com
GEO:40.420843;-75.707817
X-APPLE-STRUCTURED-LOCATION;VALUE=URI;X-ADDRESS=Dave & Alice Coult 38 Heiligs School Road Oley PA 19547 United States;X-APPLE-RADIUS=500;X-TITLE=38 Heiligs School Road:geo:-75.707817,40.420843
END:VEVENT
BEGIN:VEVENT
DTSTART;TZID=America/New_York:20181114T190000
DTEND;TZID=America/New_York:20181114T203000
DTSTAMP:20260423T002918
CREATED:20181002T150929Z
LAST-MODIFIED:20190603T013405Z
UID:10001099-1542222000-1542227400@ccoley.com
SUMMARY:Adult Bible Study
DESCRIPTION:We will be studying through the Book of Exodus
URL:https://ccoley.com/event/adult-bible-study-3/2018-11-14/
LOCATION:Dave & Alice Coult\, 38 Heiligs School Road\, Oley\, PA\, 19547\, United States
CATEGORIES:Evening Bible Study
ORGANIZER;CN="Pastor Fred Bell":MAILTO:pastorfred@ccoley.com
GEO:40.420843;-75.707817
X-APPLE-STRUCTURED-LOCATION;VALUE=URI;X-ADDRESS=Dave & Alice Coult 38 Heiligs School Road Oley PA 19547 United States;X-APPLE-RADIUS=500;X-TITLE=38 Heiligs School Road:geo:-75.707817,40.420843
END:VEVENT
BEGIN:VEVENT
DTSTART;TZID=America/New_York:20181121T190000
DTEND;TZID=America/New_York:20181121T203000
DTSTAMP:20260423T002918
CREATED:20181002T150929Z
LAST-MODIFIED:20190603T013405Z
UID:10001100-1542826800-1542832200@ccoley.com
SUMMARY:Adult Bible Study
DESCRIPTION:We will be studying through the Book of Exodus
URL:https://ccoley.com/event/adult-bible-study-3/2018-11-21/
LOCATION:Dave & Alice Coult\, 38 Heiligs School Road\, Oley\, PA\, 19547\, United States
CATEGORIES:Evening Bible Study
ORGANIZER;CN="Pastor Fred Bell":MAILTO:pastorfred@ccoley.com
GEO:40.420843;-75.707817
X-APPLE-STRUCTURED-LOCATION;VALUE=URI;X-ADDRESS=Dave & Alice Coult 38 Heiligs School Road Oley PA 19547 United States;X-APPLE-RADIUS=500;X-TITLE=38 Heiligs School Road:geo:-75.707817,40.420843
END:VEVENT
BEGIN:VEVENT
DTSTART;TZID=America/New_York:20181128T190000
DTEND;TZID=America/New_York:20181128T203000
DTSTAMP:20260423T002918
CREATED:20181002T150929Z
LAST-MODIFIED:20190603T013405Z
UID:10001101-1543431600-1543437000@ccoley.com
SUMMARY:Adult Bible Study
DESCRIPTION:We will be studying through the Book of Exodus
URL:https://ccoley.com/event/adult-bible-study-3/2018-11-28/
LOCATION:Dave & Alice Coult\, 38 Heiligs School Road\, Oley\, PA\, 19547\, United States
CATEGORIES:Evening Bible Study
ORGANIZER;CN="Pastor Fred Bell":MAILTO:pastorfred@ccoley.com
GEO:40.420843;-75.707817
X-APPLE-STRUCTURED-LOCATION;VALUE=URI;X-ADDRESS=Dave & Alice Coult 38 Heiligs School Road Oley PA 19547 United States;X-APPLE-RADIUS=500;X-TITLE=38 Heiligs School Road:geo:-75.707817,40.420843
END:VEVENT
BEGIN:VEVENT
DTSTART;TZID=America/New_York:20181205T190000
DTEND;TZID=America/New_York:20181205T203000
DTSTAMP:20260423T002918
CREATED:20181002T150929Z
LAST-MODIFIED:20190603T013405Z
UID:10001102-1544036400-1544041800@ccoley.com
SUMMARY:Adult Bible Study
DESCRIPTION:We will be studying through the Book of Exodus
URL:https://ccoley.com/event/adult-bible-study-3/2018-12-05/
LOCATION:Dave & Alice Coult\, 38 Heiligs School Road\, Oley\, PA\, 19547\, United States
CATEGORIES:Evening Bible Study
ORGANIZER;CN="Pastor Fred Bell":MAILTO:pastorfred@ccoley.com
GEO:40.420843;-75.707817
X-APPLE-STRUCTURED-LOCATION;VALUE=URI;X-ADDRESS=Dave & Alice Coult 38 Heiligs School Road Oley PA 19547 United States;X-APPLE-RADIUS=500;X-TITLE=38 Heiligs School Road:geo:-75.707817,40.420843
END:VEVENT
BEGIN:VEVENT
DTSTART;TZID=America/New_York:20181212T190000
DTEND;TZID=America/New_York:20181212T203000
DTSTAMP:20260423T002918
CREATED:20181002T150929Z
LAST-MODIFIED:20190603T013405Z
UID:10001103-1544641200-1544646600@ccoley.com
SUMMARY:Adult Bible Study
DESCRIPTION:We will be studying through the Book of Exodus
URL:https://ccoley.com/event/adult-bible-study-3/2018-12-12/
LOCATION:Dave & Alice Coult\, 38 Heiligs School Road\, Oley\, PA\, 19547\, United States
CATEGORIES:Evening Bible Study
ORGANIZER;CN="Pastor Fred Bell":MAILTO:pastorfred@ccoley.com
GEO:40.420843;-75.707817
X-APPLE-STRUCTURED-LOCATION;VALUE=URI;X-ADDRESS=Dave & Alice Coult 38 Heiligs School Road Oley PA 19547 United States;X-APPLE-RADIUS=500;X-TITLE=38 Heiligs School Road:geo:-75.707817,40.420843
END:VEVENT
BEGIN:VEVENT
DTSTART;TZID=America/New_York:20181219T190000
DTEND;TZID=America/New_York:20181219T203000
DTSTAMP:20260423T002918
CREATED:20181002T150929Z
LAST-MODIFIED:20190603T013405Z
UID:10001104-1545246000-1545251400@ccoley.com
SUMMARY:Adult Bible Study
DESCRIPTION:We will be studying through the Book of Exodus
URL:https://ccoley.com/event/adult-bible-study-3/2018-12-19/
LOCATION:Dave & Alice Coult\, 38 Heiligs School Road\, Oley\, PA\, 19547\, United States
CATEGORIES:Evening Bible Study
ORGANIZER;CN="Pastor Fred Bell":MAILTO:pastorfred@ccoley.com
GEO:40.420843;-75.707817
X-APPLE-STRUCTURED-LOCATION;VALUE=URI;X-ADDRESS=Dave & Alice Coult 38 Heiligs School Road Oley PA 19547 United States;X-APPLE-RADIUS=500;X-TITLE=38 Heiligs School Road:geo:-75.707817,40.420843
END:VEVENT
BEGIN:VEVENT
DTSTART;TZID=America/New_York:20190109T190000
DTEND;TZID=America/New_York:20190109T203000
DTSTAMP:20260423T002918
CREATED:20181002T150929Z
LAST-MODIFIED:20190603T013405Z
UID:10001105-1547060400-1547065800@ccoley.com
SUMMARY:Adult Bible Study
DESCRIPTION:We will be studying through the Book of Exodus
URL:https://ccoley.com/event/adult-bible-study-3/2019-01-09/
LOCATION:Dave & Alice Coult\, 38 Heiligs School Road\, Oley\, PA\, 19547\, United States
CATEGORIES:Evening Bible Study
ORGANIZER;CN="Pastor Fred Bell":MAILTO:pastorfred@ccoley.com
GEO:40.420843;-75.707817
X-APPLE-STRUCTURED-LOCATION;VALUE=URI;X-ADDRESS=Dave & Alice Coult 38 Heiligs School Road Oley PA 19547 United States;X-APPLE-RADIUS=500;X-TITLE=38 Heiligs School Road:geo:-75.707817,40.420843
END:VEVENT
BEGIN:VEVENT
DTSTART;TZID=America/New_York:20190116T190000
DTEND;TZID=America/New_York:20190116T203000
DTSTAMP:20260423T002918
CREATED:20181002T150929Z
LAST-MODIFIED:20190603T013405Z
UID:10001106-1547665200-1547670600@ccoley.com
SUMMARY:Adult Bible Study
DESCRIPTION:We will be studying through the Book of Exodus
URL:https://ccoley.com/event/adult-bible-study-3/2019-01-16/
LOCATION:Dave & Alice Coult\, 38 Heiligs School Road\, Oley\, PA\, 19547\, United States
CATEGORIES:Evening Bible Study
ORGANIZER;CN="Pastor Fred Bell":MAILTO:pastorfred@ccoley.com
GEO:40.420843;-75.707817
X-APPLE-STRUCTURED-LOCATION;VALUE=URI;X-ADDRESS=Dave & Alice Coult 38 Heiligs School Road Oley PA 19547 United States;X-APPLE-RADIUS=500;X-TITLE=38 Heiligs School Road:geo:-75.707817,40.420843
END:VEVENT
BEGIN:VEVENT
DTSTART;TZID=America/New_York:20190123T190000
DTEND;TZID=America/New_York:20190123T203000
DTSTAMP:20260423T002918
CREATED:20181002T150929Z
LAST-MODIFIED:20190603T013405Z
UID:10001107-1548270000-1548275400@ccoley.com
SUMMARY:Adult Bible Study
DESCRIPTION:We will be studying through the Book of Exodus
URL:https://ccoley.com/event/adult-bible-study-3/2019-01-23/
LOCATION:Dave & Alice Coult\, 38 Heiligs School Road\, Oley\, PA\, 19547\, United States
CATEGORIES:Evening Bible Study
ORGANIZER;CN="Pastor Fred Bell":MAILTO:pastorfred@ccoley.com
GEO:40.420843;-75.707817
X-APPLE-STRUCTURED-LOCATION;VALUE=URI;X-ADDRESS=Dave & Alice Coult 38 Heiligs School Road Oley PA 19547 United States;X-APPLE-RADIUS=500;X-TITLE=38 Heiligs School Road:geo:-75.707817,40.420843
END:VEVENT
BEGIN:VEVENT
DTSTART;TZID=America/New_York:20190130T190000
DTEND;TZID=America/New_York:20190130T203000
DTSTAMP:20260423T002918
CREATED:20181002T150929Z
LAST-MODIFIED:20190603T013405Z
UID:10001108-1548874800-1548880200@ccoley.com
SUMMARY:Adult Bible Study
DESCRIPTION:We will be studying through the Book of Exodus
URL:https://ccoley.com/event/adult-bible-study-3/2019-01-30/
LOCATION:Dave & Alice Coult\, 38 Heiligs School Road\, Oley\, PA\, 19547\, United States
CATEGORIES:Evening Bible Study
ORGANIZER;CN="Pastor Fred Bell":MAILTO:pastorfred@ccoley.com
GEO:40.420843;-75.707817
X-APPLE-STRUCTURED-LOCATION;VALUE=URI;X-ADDRESS=Dave & Alice Coult 38 Heiligs School Road Oley PA 19547 United States;X-APPLE-RADIUS=500;X-TITLE=38 Heiligs School Road:geo:-75.707817,40.420843
END:VEVENT
BEGIN:VEVENT
DTSTART;TZID=America/New_York:20190206T190000
DTEND;TZID=America/New_York:20190206T203000
DTSTAMP:20260423T002918
CREATED:20181002T150929Z
LAST-MODIFIED:20190603T013405Z
UID:10001109-1549479600-1549485000@ccoley.com
SUMMARY:Adult Bible Study
DESCRIPTION:We will be studying through the Book of Exodus
URL:https://ccoley.com/event/adult-bible-study-3/2019-02-06/
LOCATION:Dave & Alice Coult\, 38 Heiligs School Road\, Oley\, PA\, 19547\, United States
CATEGORIES:Evening Bible Study
ORGANIZER;CN="Pastor Fred Bell":MAILTO:pastorfred@ccoley.com
GEO:40.420843;-75.707817
X-APPLE-STRUCTURED-LOCATION;VALUE=URI;X-ADDRESS=Dave & Alice Coult 38 Heiligs School Road Oley PA 19547 United States;X-APPLE-RADIUS=500;X-TITLE=38 Heiligs School Road:geo:-75.707817,40.420843
END:VEVENT
BEGIN:VEVENT
DTSTART;TZID=America/New_York:20190213T190000
DTEND;TZID=America/New_York:20190213T203000
DTSTAMP:20260423T002918
CREATED:20181002T150929Z
LAST-MODIFIED:20190603T013405Z
UID:10001110-1550084400-1550089800@ccoley.com
SUMMARY:Adult Bible Study
DESCRIPTION:We will be studying through the Book of Exodus
URL:https://ccoley.com/event/adult-bible-study-3/2019-02-13/
LOCATION:Dave & Alice Coult\, 38 Heiligs School Road\, Oley\, PA\, 19547\, United States
CATEGORIES:Evening Bible Study
ORGANIZER;CN="Pastor Fred Bell":MAILTO:pastorfred@ccoley.com
GEO:40.420843;-75.707817
X-APPLE-STRUCTURED-LOCATION;VALUE=URI;X-ADDRESS=Dave & Alice Coult 38 Heiligs School Road Oley PA 19547 United States;X-APPLE-RADIUS=500;X-TITLE=38 Heiligs School Road:geo:-75.707817,40.420843
END:VEVENT
BEGIN:VEVENT
DTSTART;TZID=America/New_York:20190220T190000
DTEND;TZID=America/New_York:20190220T203000
DTSTAMP:20260423T002918
CREATED:20181002T150929Z
LAST-MODIFIED:20190603T013405Z
UID:10001111-1550689200-1550694600@ccoley.com
SUMMARY:Adult Bible Study
DESCRIPTION:We will be studying through the Book of Exodus
URL:https://ccoley.com/event/adult-bible-study-3/2019-02-20/
LOCATION:Dave & Alice Coult\, 38 Heiligs School Road\, Oley\, PA\, 19547\, United States
CATEGORIES:Evening Bible Study
ORGANIZER;CN="Pastor Fred Bell":MAILTO:pastorfred@ccoley.com
GEO:40.420843;-75.707817
X-APPLE-STRUCTURED-LOCATION;VALUE=URI;X-ADDRESS=Dave & Alice Coult 38 Heiligs School Road Oley PA 19547 United States;X-APPLE-RADIUS=500;X-TITLE=38 Heiligs School Road:geo:-75.707817,40.420843
END:VEVENT
BEGIN:VEVENT
DTSTART;TZID=America/New_York:20190227T190000
DTEND;TZID=America/New_York:20190227T203000
DTSTAMP:20260423T002918
CREATED:20181002T150929Z
LAST-MODIFIED:20190603T013405Z
UID:10001112-1551294000-1551299400@ccoley.com
SUMMARY:Adult Bible Study
DESCRIPTION:We will be studying through the Book of Exodus
URL:https://ccoley.com/event/adult-bible-study-3/2019-02-27/
LOCATION:Dave & Alice Coult\, 38 Heiligs School Road\, Oley\, PA\, 19547\, United States
CATEGORIES:Evening Bible Study
ORGANIZER;CN="Pastor Fred Bell":MAILTO:pastorfred@ccoley.com
GEO:40.420843;-75.707817
X-APPLE-STRUCTURED-LOCATION;VALUE=URI;X-ADDRESS=Dave & Alice Coult 38 Heiligs School Road Oley PA 19547 United States;X-APPLE-RADIUS=500;X-TITLE=38 Heiligs School Road:geo:-75.707817,40.420843
END:VEVENT
BEGIN:VEVENT
DTSTART;TZID=America/New_York:20190306T190000
DTEND;TZID=America/New_York:20190306T203000
DTSTAMP:20260423T002918
CREATED:20181002T150929Z
LAST-MODIFIED:20190603T013405Z
UID:10001113-1551898800-1551904200@ccoley.com
SUMMARY:Adult Bible Study
DESCRIPTION:We will be studying through the Book of Exodus
URL:https://ccoley.com/event/adult-bible-study-3/2019-03-06/
LOCATION:Dave & Alice Coult\, 38 Heiligs School Road\, Oley\, PA\, 19547\, United States
CATEGORIES:Evening Bible Study
ORGANIZER;CN="Pastor Fred Bell":MAILTO:pastorfred@ccoley.com
GEO:40.420843;-75.707817
X-APPLE-STRUCTURED-LOCATION;VALUE=URI;X-ADDRESS=Dave & Alice Coult 38 Heiligs School Road Oley PA 19547 United States;X-APPLE-RADIUS=500;X-TITLE=38 Heiligs School Road:geo:-75.707817,40.420843
END:VEVENT
BEGIN:VEVENT
DTSTART;TZID=America/New_York:20190313T190000
DTEND;TZID=America/New_York:20190313T203000
DTSTAMP:20260423T002918
CREATED:20181002T150929Z
LAST-MODIFIED:20190603T013405Z
UID:10001114-1552503600-1552509000@ccoley.com
SUMMARY:Adult Bible Study
DESCRIPTION:We will be studying through the Book of Exodus
URL:https://ccoley.com/event/adult-bible-study-3/2019-03-13/
LOCATION:Dave & Alice Coult\, 38 Heiligs School Road\, Oley\, PA\, 19547\, United States
CATEGORIES:Evening Bible Study
ORGANIZER;CN="Pastor Fred Bell":MAILTO:pastorfred@ccoley.com
GEO:40.420843;-75.707817
X-APPLE-STRUCTURED-LOCATION;VALUE=URI;X-ADDRESS=Dave & Alice Coult 38 Heiligs School Road Oley PA 19547 United States;X-APPLE-RADIUS=500;X-TITLE=38 Heiligs School Road:geo:-75.707817,40.420843
END:VEVENT
BEGIN:VEVENT
DTSTART;TZID=America/New_York:20190320T190000
DTEND;TZID=America/New_York:20190320T203000
DTSTAMP:20260423T002918
CREATED:20181002T150929Z
LAST-MODIFIED:20190603T013405Z
UID:10001115-1553108400-1553113800@ccoley.com
SUMMARY:Adult Bible Study
DESCRIPTION:We will be studying through the Book of Exodus
URL:https://ccoley.com/event/adult-bible-study-3/2019-03-20/
LOCATION:Dave & Alice Coult\, 38 Heiligs School Road\, Oley\, PA\, 19547\, United States
CATEGORIES:Evening Bible Study
ORGANIZER;CN="Pastor Fred Bell":MAILTO:pastorfred@ccoley.com
GEO:40.420843;-75.707817
X-APPLE-STRUCTURED-LOCATION;VALUE=URI;X-ADDRESS=Dave & Alice Coult 38 Heiligs School Road Oley PA 19547 United States;X-APPLE-RADIUS=500;X-TITLE=38 Heiligs School Road:geo:-75.707817,40.420843
END:VEVENT
BEGIN:VEVENT
DTSTART;TZID=America/New_York:20190327T190000
DTEND;TZID=America/New_York:20190327T203000
DTSTAMP:20260423T002918
CREATED:20181002T150929Z
LAST-MODIFIED:20190603T013405Z
UID:10001116-1553713200-1553718600@ccoley.com
SUMMARY:Adult Bible Study
DESCRIPTION:We will be studying through the Book of Exodus
URL:https://ccoley.com/event/adult-bible-study-3/2019-03-27/
LOCATION:Dave & Alice Coult\, 38 Heiligs School Road\, Oley\, PA\, 19547\, United States
CATEGORIES:Evening Bible Study
ORGANIZER;CN="Pastor Fred Bell":MAILTO:pastorfred@ccoley.com
GEO:40.420843;-75.707817
X-APPLE-STRUCTURED-LOCATION;VALUE=URI;X-ADDRESS=Dave & Alice Coult 38 Heiligs School Road Oley PA 19547 United States;X-APPLE-RADIUS=500;X-TITLE=38 Heiligs School Road:geo:-75.707817,40.420843
END:VEVENT
BEGIN:VEVENT
DTSTART;TZID=America/New_York:20190403T190000
DTEND;TZID=America/New_York:20190403T203000
DTSTAMP:20260423T002918
CREATED:20181002T150929Z
LAST-MODIFIED:20190603T013405Z
UID:10001117-1554318000-1554323400@ccoley.com
SUMMARY:Adult Bible Study
DESCRIPTION:We will be studying through the Book of Exodus
URL:https://ccoley.com/event/adult-bible-study-3/2019-04-03/
LOCATION:Dave & Alice Coult\, 38 Heiligs School Road\, Oley\, PA\, 19547\, United States
CATEGORIES:Evening Bible Study
ORGANIZER;CN="Pastor Fred Bell":MAILTO:pastorfred@ccoley.com
GEO:40.420843;-75.707817
X-APPLE-STRUCTURED-LOCATION;VALUE=URI;X-ADDRESS=Dave & Alice Coult 38 Heiligs School Road Oley PA 19547 United States;X-APPLE-RADIUS=500;X-TITLE=38 Heiligs School Road:geo:-75.707817,40.420843
END:VEVENT
BEGIN:VEVENT
DTSTART;TZID=America/New_York:20190410T190000
DTEND;TZID=America/New_York:20190410T203000
DTSTAMP:20260423T002918
CREATED:20181002T150929Z
LAST-MODIFIED:20190603T013405Z
UID:10001118-1554922800-1554928200@ccoley.com
SUMMARY:Adult Bible Study
DESCRIPTION:We will be studying through the Book of Exodus
URL:https://ccoley.com/event/adult-bible-study-3/2019-04-10/
LOCATION:Dave & Alice Coult\, 38 Heiligs School Road\, Oley\, PA\, 19547\, United States
CATEGORIES:Evening Bible Study
ORGANIZER;CN="Pastor Fred Bell":MAILTO:pastorfred@ccoley.com
GEO:40.420843;-75.707817
X-APPLE-STRUCTURED-LOCATION;VALUE=URI;X-ADDRESS=Dave & Alice Coult 38 Heiligs School Road Oley PA 19547 United States;X-APPLE-RADIUS=500;X-TITLE=38 Heiligs School Road:geo:-75.707817,40.420843
END:VEVENT
BEGIN:VEVENT
DTSTART;TZID=America/New_York:20190417T190000
DTEND;TZID=America/New_York:20190417T203000
DTSTAMP:20260423T002918
CREATED:20181002T150929Z
LAST-MODIFIED:20190603T013405Z
UID:10001119-1555527600-1555533000@ccoley.com
SUMMARY:Adult Bible Study
DESCRIPTION:We will be studying through the Book of Exodus
URL:https://ccoley.com/event/adult-bible-study-3/2019-04-17/
LOCATION:Dave & Alice Coult\, 38 Heiligs School Road\, Oley\, PA\, 19547\, United States
CATEGORIES:Evening Bible Study
ORGANIZER;CN="Pastor Fred Bell":MAILTO:pastorfred@ccoley.com
GEO:40.420843;-75.707817
X-APPLE-STRUCTURED-LOCATION;VALUE=URI;X-ADDRESS=Dave & Alice Coult 38 Heiligs School Road Oley PA 19547 United States;X-APPLE-RADIUS=500;X-TITLE=38 Heiligs School Road:geo:-75.707817,40.420843
END:VEVENT
BEGIN:VEVENT
DTSTART;TZID=America/New_York:20190424T190000
DTEND;TZID=America/New_York:20190424T203000
DTSTAMP:20260423T002918
CREATED:20181002T150929Z
LAST-MODIFIED:20190603T013405Z
UID:10001120-1556132400-1556137800@ccoley.com
SUMMARY:Adult Bible Study
DESCRIPTION:We will be studying through the Book of Exodus
URL:https://ccoley.com/event/adult-bible-study-3/2019-04-24/
LOCATION:Dave & Alice Coult\, 38 Heiligs School Road\, Oley\, PA\, 19547\, United States
CATEGORIES:Evening Bible Study
ORGANIZER;CN="Pastor Fred Bell":MAILTO:pastorfred@ccoley.com
GEO:40.420843;-75.707817
X-APPLE-STRUCTURED-LOCATION;VALUE=URI;X-ADDRESS=Dave & Alice Coult 38 Heiligs School Road Oley PA 19547 United States;X-APPLE-RADIUS=500;X-TITLE=38 Heiligs School Road:geo:-75.707817,40.420843
END:VEVENT
BEGIN:VEVENT
DTSTART;TZID=America/New_York:20190501T190000
DTEND;TZID=America/New_York:20190501T203000
DTSTAMP:20260423T002918
CREATED:20181002T150929Z
LAST-MODIFIED:20190603T013405Z
UID:10001121-1556737200-1556742600@ccoley.com
SUMMARY:Adult Bible Study
DESCRIPTION:We will be studying through the Book of Exodus
URL:https://ccoley.com/event/adult-bible-study-3/2019-05-01/
LOCATION:Dave & Alice Coult\, 38 Heiligs School Road\, Oley\, PA\, 19547\, United States
CATEGORIES:Evening Bible Study
ORGANIZER;CN="Pastor Fred Bell":MAILTO:pastorfred@ccoley.com
GEO:40.420843;-75.707817
X-APPLE-STRUCTURED-LOCATION;VALUE=URI;X-ADDRESS=Dave & Alice Coult 38 Heiligs School Road Oley PA 19547 United States;X-APPLE-RADIUS=500;X-TITLE=38 Heiligs School Road:geo:-75.707817,40.420843
END:VEVENT
BEGIN:VEVENT
DTSTART;TZID=America/New_York:20190508T190000
DTEND;TZID=America/New_York:20190508T203000
DTSTAMP:20260423T002918
CREATED:20181002T150929Z
LAST-MODIFIED:20190603T013405Z
UID:10001122-1557342000-1557347400@ccoley.com
SUMMARY:Adult Bible Study
DESCRIPTION:We will be studying through the Book of Exodus
URL:https://ccoley.com/event/adult-bible-study-3/2019-05-08/
LOCATION:Dave & Alice Coult\, 38 Heiligs School Road\, Oley\, PA\, 19547\, United States
CATEGORIES:Evening Bible Study
ORGANIZER;CN="Pastor Fred Bell":MAILTO:pastorfred@ccoley.com
GEO:40.420843;-75.707817
X-APPLE-STRUCTURED-LOCATION;VALUE=URI;X-ADDRESS=Dave & Alice Coult 38 Heiligs School Road Oley PA 19547 United States;X-APPLE-RADIUS=500;X-TITLE=38 Heiligs School Road:geo:-75.707817,40.420843
END:VEVENT
BEGIN:VEVENT
DTSTART;TZID=America/New_York:20190515T190000
DTEND;TZID=America/New_York:20190515T203000
DTSTAMP:20260423T002918
CREATED:20181002T150929Z
LAST-MODIFIED:20190603T013405Z
UID:10001123-1557946800-1557952200@ccoley.com
SUMMARY:Adult Bible Study
DESCRIPTION:We will be studying through the Book of Exodus
URL:https://ccoley.com/event/adult-bible-study-3/2019-05-15/
LOCATION:Dave & Alice Coult\, 38 Heiligs School Road\, Oley\, PA\, 19547\, United States
CATEGORIES:Evening Bible Study
ORGANIZER;CN="Pastor Fred Bell":MAILTO:pastorfred@ccoley.com
GEO:40.420843;-75.707817
X-APPLE-STRUCTURED-LOCATION;VALUE=URI;X-ADDRESS=Dave & Alice Coult 38 Heiligs School Road Oley PA 19547 United States;X-APPLE-RADIUS=500;X-TITLE=38 Heiligs School Road:geo:-75.707817,40.420843
END:VEVENT
BEGIN:VEVENT
DTSTART;TZID=America/New_York:20190522T190000
DTEND;TZID=America/New_York:20190522T203000
DTSTAMP:20260423T002918
CREATED:20181002T150929Z
LAST-MODIFIED:20190603T013405Z
UID:10001124-1558551600-1558557000@ccoley.com
SUMMARY:Adult Bible Study
DESCRIPTION:We will be studying through the Book of Exodus
URL:https://ccoley.com/event/adult-bible-study-3/2019-05-22/
LOCATION:Dave & Alice Coult\, 38 Heiligs School Road\, Oley\, PA\, 19547\, United States
CATEGORIES:Evening Bible Study
ORGANIZER;CN="Pastor Fred Bell":MAILTO:pastorfred@ccoley.com
GEO:40.420843;-75.707817
X-APPLE-STRUCTURED-LOCATION;VALUE=URI;X-ADDRESS=Dave & Alice Coult 38 Heiligs School Road Oley PA 19547 United States;X-APPLE-RADIUS=500;X-TITLE=38 Heiligs School Road:geo:-75.707817,40.420843
END:VEVENT
END:VCALENDAR